{"text_format":"1","workbook":"xlsx","n_sheets":10,"sheets":["SQL","Instructions","Master Assortment","Executive Dashboard","Buyer View","Settings","Ad Week Dates","WEEKLY_DATA","Location Lists","BrandList"],"not_rendered":{"charts":0,"images":0,"macros":1,"external_links":0,"defined_names":23,"comments":2,"pivot_tables":0},"unopened":[],"bounds":{"document_bytes":16777216,"sheet_cells":100000,"rows_first":2000,"rows_last":500,"rows_between":2000,"halvings":0,"cell_chars":16384,"cell_head_chars":4096},"cells_cut":0,"cells_raw":0,"read":"whole","date_system":"1900"}

{"sheet":"SQL","index":0,"n_rows":1,"n_cols":2,"rows_kept":1,"cut":false,"hidden":false,"merged":[]}
["RMS QUERY","SELECT im.item \"Trans RIN\", im.item_parent \"Parent RIN\", src.\"UPC\", im.item_desc \"Description\", \n       src.\"Supplier Information\", src.\"VPN\", src.\"Cost\", src.\"Retail\", \n       To_Char(im.mfg_rec_retail,'FM99,999.00') \"MSRP\", isc.supp_pack_size \"Case Pack\", isc.inner_pack_size \"Inner Pack\" \nFROM ( \n  SELECT * FROM item_master im1 \n  WHERE im1.item IN (SELECT im2.item_parent FROM item_master im2 WHERE im2.item_number_type IN ('UCC14','UPC-A','EAN13') AND im2.item IN ('ITEMS')) \n  UNION \n  SELECT * FROM item_master im3 \n  WHERE (im3.item IN ('ITEMS') OR im3.item_parent IN ('ITEMS')) \n  AND im3.tran_level = im3.item_level \n) im \nLEFT JOIN ( \n  SELECT isu.item, isu.supplier, isu.primary_supp_ind, isu.vpn, \n  (SELECT im2.item FROM item_master im2 WHERE im2.item_parent=isu.item AND (im2.item_number_type = 'UCC14' OR im2.item_number_type = 'UPC-A' OR im2.item_number_type = 'EAN13') AND primary_ref_item_ind = 'Y') \"UPC\", \n  isu.supplier||':'||(SELECT sup_name FROM RMS.sups WHERE sups.supplier = isu.supplier) \"Supplier Information\", \n  (SELECT selling_unit_retail FROM item_loc il WHERE il.item = isu.item AND loc IN ('10','650','781','9840','9850') AND rownum = 1) \"Retail\", \n  (SELECT unit_cost FROM item_supp_country isc WHERE isc.item=isu.item AND isc.supplier=isu.supplier AND isu.primary_supp_ind='Y' AND rownum = 1) \"Cost\" \n  FROM RMS.item_supplier isu \n) src ON im.item = src.item AND src.primary_supp_ind = 'Y' \nLEFT JOIN RMS.item_supp_country isc ON im.item = isc.item AND src.supplier = isc.supplier AND isc.primary_supp_ind = 'Y' AND isc.primary_country_ind = 'Y' \nWHERE im.item_number_type='ITEM' AND im.item IN ('ITEMS')"]

{"sheet":"Instructions","index":1,"n_rows":38,"n_cols":3,"rows_kept":38,"cut":false,"hidden":false,"merged":[[30,1,30,2],[0,0,0,2],[1,1,1,2],[8,1,8,2],[15,1,15,2],[21,1,21,2]]}
["📋  COMPUTERS & ACCESSORIES MSA 2026 — FILE INSTRUCTIONS"]
[null,"⚠️  UNIVERSAL RULES — EVERYONE MUST READ"]
[null,"❌  Never sort a single column","Always select ALL columns before sorting, or use the filter arrows in row 4"]
[null,"❌  Never paste over a green cell","Green cells auto-calculate from the weekly data pull — typing over them breaks the lookup"]
[null,"❌  Never rename or delete a tab","All tabs are linked. Any tab rename breaks formulas"]
[null,"❌  Never insert or delete rows","Add new SKUs at the bottom of Master Assortment only"]
[null,"❌  If something breaks — stop","Save the file, note the issue, contact the file owner"]
[]
[null,"📅  WEEKLY WORKFLOW"]
[null,"STEP 1 — Load weekly data","Click 🔄 Load Weekly Data button. Select the latest My Groups MSA Weekly Data Pull file. All green cells (SOH, Sales, WOS) update automatically."]
[null,"STEP 2 — Load Cost & Retail","Click the Oracle button (UpdateButton) to pull Cost and Retail from RMS for any new or updated items."]
[null,"STEP 3 — Review WOS Status","Filter column U (WOS Status) for 🔴 Critical and 🟡 Low. These are your action items."]
[null,"STEP 4 — Enter order quantities","Type order quantities in column Y (Order Qty). Yellow cells only."]
[null,"STEP 5 — Add new SKUs","Paste Trans RIN in column A at the bottom. Run Oracle button to populate Cost/Retail. Green cells populate on next weekly refresh."]
[]
[null,"✅  WHAT YOU CAN EDIT  vs  ❌  CANNOT"]
[null,"🟢  Green cells — do not edit","SOH, On Order, LW/4W/13W/26W Sales, WOS, Avg $/Unit — auto from weekly data pull. Cost & Retail — auto from Oracle VBA."]
[null,"✅  Yellow cells — buyer maintained","# Stores, Location List, Target WOS, Order Qty, Fact Tags, Notes, all Promo columns"]
[null,"❌  Margin % — do not edit","Calculates automatically from Cost and Retail"]
[null,"❌  WOS Status — do not edit","Calculates automatically from WOS and Status"]
[]
[null,"📋  TAB GUIDE"]
[null,"🖥  Master Assortment","Main daily working tab. All live data, buyer inputs, and planning fields."]
[null,"📊  Executive Dashboard","Auto-calculated summary — SKU counts, WOS flags by brand."]
[null,"👁  Buyer View","Vendor-safe — no cost or margin. Safe to share with vendor partners."]
[null,"⚙️  Settings","Lead times, target WOS, and seasonal weights by brand."]
[null,"📅  Ad Week Dates","Promotional week code reference. Do not edit."]
[null,"🗄️  SQL","Oracle RMS query reference. Do not edit."]
[null,"📥  WEEKLY_DATA (hidden)","Weekly data feed. Loaded via refresh button. Do not edit."]
[]
[null,"📊  COLUMN GUIDE — Master Assortment"]
[null,"A–D  Product Identity","Trans RIN, Parent RIN, VPN, UPC — from Oracle VBA"]
[null,"E–G  Pricing","Cost, Retail (from Oracle VBA), Margin % (calculated)"]
[null,"H–L  Product Info","Description, Brand, Category, Status, Comparable RIN"]
[null,"M–T  Live Data (green)","SOH, On Order, LW/4W/13W/26W Sales, WOS, Avg $/Unit — from weekly pull"]
[null,"U  WOS Status","Auto-calculated flag — EOL, New, Critical, Low, Healthy, Overstock"]
[null,"V–AA  Planning (yellow)","# Stores, Location List, Target WOS, Order Qty, Fact Tags, Notes"]
[null,"AB–AH  Promo (yellow)","On Promo, Current Promo, Adv Retail, Savings, Next Promo Date/Name, Notes"]

{"sheet":"Master Assortment","index":2,"n_rows":635,"n_cols":49,"rows_kept":635,"cut":false,"hidden":false,"merged":[[2,45,2,48],[0,0,0,37],[2,0,2,10],[2,24,2,30],[2,31,2,37],[2,15,2,23],[1,0,1,6]]}
["🖥  COMPUTERS & ACCESSORIES — MASTER STOCK ASSORTMENT  |  2026"]
["HOW TO USE: (1) Click 🔄 Load Weekly Data to refresh green cells  (2) Yellow = buyer editable  (3) Green = auto from weekly data pull — do not type over  (4) Cost & Retail load via Oracle VBA button  (5) Never sort a single column"]
["🔒  PRODUCT IDENTITY  (A–L)",null,null,null,null,null,null,null,null,null,null,null,null,null,null,"🟢  LIVE DATA  (auto from weekly data pull)",null,null,null,null,null,null,null,null,"📋  PLANNING  (buyer maintained)",null,null,null,null,null,null,"📢  PROMO  (buyer maintained) - WIP",null,null,null,null,null,null,null,null,null,"⚙️ Expanded Specifications",null,null,null,"Dimension"]
["Trans\nRIN","Parent RIN","VPN","UPC","Cost","Retail","Description","Brand","Category","Status","Comp\nRIN","Case Pack","Dept","Class","Subclass","IMU%","SOH","On\nOrder","LW Sales\nUnits","4-Wk Sales","13-Wk Sales","26-Wk Sales","WOS\n(calc)","Avg\n$/Unit","WOS\nStatus","Location List","Stores","Target\nWOS","Order\nQty","Fact Tags","Notes","On Promo?","Current\nPromo","Adv\nRetail","Savings","Next Promo\nDate","Next Promo\nName","Promo\nNotes","Color","Memory","Storage","Processor","Screen Size","Graphics","Graphics","Width","Height","Length","Net Weight"]
[null,null,null,null,null,null,null,{"$f":"IFERROR(INDEX(BrandList!$A$2:$A$50,MATCH(TRUE,ISNUMBER(SEARCH(BrandList!$A$2:$A$50,G5)),0)),\"\")","v":""},{"$f":"IFERROR(INDEX(BrandList!$B$2:$B$200,MATCH(TRUE,ISNUMBER(SEARCH(BrandList!$B$2:$B$200,G5)),0)),\"\")","v":""},null,null,null,null,null,null,{"$f":"IFERROR(IF(OR(E5=\"\",F5=\"\",F5=0),\"\",(F5-E5)/F5),\"\")","v":""},{"$f":"IFERROR(VLOOKUP(VALUE(A5),WEEKLY_DATA!$A:$H,2,0),0)","v":0},{"$f":"IFERROR(VLOOKUP(VALUE(A5),WEEKLY_DATA!$A:$H,3,0),0)","v":0},{"$f":"IFERROR(VLOOKUP(VALUE(A5),WEEKLY_DATA!$A:$H,4,0),0)","v":0},{"$f":"IFERROR(VLOOKUP(VALUE(A5),WEEKLY_DATA!$A:$H,5,0),0)","v":0},{"$f":"IFERROR(VLOOKUP(VALUE(A5),WEEKLY_DATA!$A:$H,6,0),0)","v":0},{"$f":"IFERROR(VLOOKUP(VALUE(A5),WEEKLY_DATA!$A:$H,7,0),0)","v":0},{"$f":"IFERROR(IF(OR(Q5=\"\",Q5=0),\"\",IF(VLOOKUP(VALUE($A5),WEEKLY_DATA!$A:$H,6,0)=0,\"No Sales\",Q5/(VLOOKUP(VALUE($A5),WEEKLY_DATA!$A:$H,6,0)/13))),\"\")","v":""},{"$f":"IFERROR(VLOOKUP(VALUE(A5),WEEKLY_DATA!$A:$H,8,0),0)","v":0},{"$f":"IFERROR(\nIF(J5=\"Discontinued\",\"🔴 EOL\",\nIF(J5=\"Drop Ship\",\"📦 Drop Ship\",\nIF(J5=\"New\",\"🆕 New\",\nIF(W5=\"\",\"—\",\nIF(W5<2,\"🔴 Critical\",\nIF(W5<4,\"🟡 Low\",\nIF(W5>26,\"🔵 Overstock\",\"🟢 Healthy\")\n)))))),\"\")","v":"—"},null,null,null,null,null,null,null,null,null,null,null,null,null,{"$f":"IFERROR(LOOKUP(2, 1/SEARCH({\"Black\",\"White\",\"Grey\",\"Blue\",\"Silver\",\"Brown\",\"Green\",\"Blue\",\"Purple\",\"Red\",\"Pink\",\"Yellow\",\"Gold\"}, G5), {\"Black\",\"White\",\"Grey\",\"Blue\",\"Silver\",\"Brown\",\"Green\",\"Blue\",\"Purple\",\"Red\",\"Pink\",\"Yellow\",\"Gold\"}), \"\")","v":""}]
[null,null,null,null,null,null,null,{"$f":"IFERROR(INDEX(BrandList!$A$2:$A$50,MATCH(TRUE,ISNUMBER(SEARCH(BrandList!$A$2:$A$50,G6)),0)),\"\")","v":""},{"$f":"IFERROR(INDEX(BrandList!$B$2:$B$200,MATCH(TRUE,ISNUMBER(SEARCH(BrandList!$B$2:$B$200,G6)),0)),\"\")","v":""},null,null,null,null,null,null,{"$f":"IFERROR(IF(OR(E6=\"\",F6=\"\",F6=0),\"\",(F6-E6)/F6),\"\")","v":""},{"$f":"IFERROR(VLOOKUP(VALUE(A6),WEEKLY_DATA!$A:$H,2,0),0)","v":0},{"$f":"IFERROR(VLOOKUP(VALUE(A6),WEEKLY_DATA!$A:$H,3,0),0)","v":0},{"$f":"IFERROR(VLOOKUP(VALUE(A6),WEEKLY_DATA!$A:$H,4,0),0)","v":0},{"$f":"IFERROR(VLOOKUP(VALUE(A6),WEEKLY_DATA!$A:$H,5,0),0)","v":0},{"$f":"IFERROR(VLOOKUP(VALUE(A6),WEEKLY_DATA!$A:$H,6,0),0)","v":0},{"$f":"IFERROR(VLOOKUP(VALUE(A6),WEEKLY_DATA!$A:$H,7,0),0)","v":0},{"$f":"IFERROR(IF(OR(Q6=\"\",Q6=0),\"\",IF(VLOOKUP(VALUE($A6),WEEKLY_DATA!$A:$H,6,0)=0,\"No Sales\",Q6/(VLOOKUP(VALUE($A6),WEEKLY_DATA!$A:$H,6,0)/13))),\"\")","v":""},{"$f":"IFERROR(VLOOKUP(VALUE(A6),WEEKLY_DATA!$A:$H,8,0),0)","v":0},{"$f":"IFERROR(\nIF(J6=\"Discontinued\",\"🔴 EOL\",\nIF(J6=\"Drop Ship\",\"📦 Drop Ship\",\nIF(J6=\"New\",\"🆕 New\",\nIF(W6=\"\",\"—\",\nIF(W6<2,\"🔴 Critical\",\nIF(W6<4,\"🟡 Low\",\nIF(W6>26,\"🔵 Overstock\",\"🟢 Healthy\")\n)))))),\"\")","v":"—"},null,null,null,null,null,null,null,null,null,null,null,null,null,{"$f":"IFERROR(LOOKUP(2, 1/SEARCH({\"Black\",\"White\",\"Grey\",\"Blue\",\"Silver\",\"Brown\",\"Green\",\"Blue\",\"Purple\",\"Red\",\"Pink\",\"Yellow\",\"Gold\"}, G6), {\"Black\",\"White\",\"Grey\",\"Blue\",\"Silver\",\"Brown\",\"Green\",\"Blue\",\"Purple\",\"Red\",\"Pink\",\"Yellow\",\"Gold\"}), \"\")","v":""}]
[null,null,null,null,null,null,null,{"$f":"IFERROR(INDEX(BrandList!$A$2:$A$50,MATCH(TRUE,ISNUMBER(SEARCH(BrandList!$A$2:$A$50,G7)),0)),\"\")","v":""},{"$f":"IFERROR(INDEX(BrandList!$B$2:$B$200,MATCH(TRUE,ISNUMBER(SEARCH(BrandList!$B$2:$B$200,G7)),0)),\"\")","v":""},null,null,null,null,null,null,{"$f":"IFERROR(IF(OR(E7=\"\",F7=\"\",F7=0),\"\",(F7-E7)/F7),\"\")","v":""},{"$f":"IFERROR(VLOOKUP(VALUE(A7),WEEKLY_DATA!$A:$H,2,0),0)","v":0},{"$f":"IFERROR(VLOOKUP(VALUE(A7),WEEKLY_DATA!$A:$H,3,0),0)","v":0},{"$f":"IFERROR(VLOOKUP(VALUE(A7),WEEKLY_DATA!$A:$H,4,0),0)","v":0},{"$f":"IFERROR(VLOOKUP(VALUE(A7),WEEKLY_DATA!$A:$H,5,0),0)","v":0},{"$f":"IFERROR(VLOOKUP(VALUE(A7),WEEKLY_DATA!$A:$H,6,0),0)","v":0},{"$f":"IFERROR(VLOOKUP(VALUE(A7),WEEKLY_DATA!$A:$H,7,0),0)","v":0},{"$f":"IFERROR(IF(OR(Q7=\"\",Q7=0),\"\",IF(VLOOKUP(VALUE($A7),WEEKLY_DATA!$A:$H,6,0)=0,\"No Sales\",Q7/(VLOOKUP(VALUE($A7),WEEKLY_DATA!$A:$H,6,0)/13))),\"\")","v":""},{"$f":"IFERROR(VLOOKUP(VALUE(A7),WEEKLY_DATA!$A:$H,8,0),0)","v":0},"—",null,null,null,null,null,null,"—",null,null,null,"—","—",null,{"$f":"IFERROR(LOOKUP(2, 1/SEARCH({\"Black\",\"White\",\"Grey\",\"Blue\",\"Silver\",\"Brown\",\"Green\",\"Blue\",\"Purple\",\"Red\",\"Pink\",\"Yellow\",\"Gold\"}, G7), {\"Black\",\"White\",\"Grey\",\"Blue\",\"Silver\",\"Brown\",\"Green\",\"Blue\",\"Purple\",\"Red\",\"Pink\",\"Yellow\",\"Gold\"}), \"\")","v":""},{"$f":"IFERROR(LOOKUP(2, 1/SEARCH({\"8GB\",\"16GB\",\"32GB\",\"64GB\"}, G7), {\"8GB\",\"16GB\",\"32GB\",\"64GB\"}), \"\")","v":""},{"$f":"IFERROR(LOOKUP(2, 1/SEARCH({\"1TB\",\"2TB\",\"128GB\",\"512GB\",\"256GB\"}, G7), {\"1TB\",\"2TB\",\"128GB\",\"512GB\",\"256GB\"}), \"\")","v":""},null,{"$f":"IFERROR(LOOKUP(2, 1/SEARCH({\"16-Inch\",\"15-Inch\",\"15.6-Inch\",\"18-Inch\",\"15.3-Inch\",\"13-Inch\",\"13.4-Inch\",\"13.8-Inch\",\"14-Inch\",\"17-Inch\",\"45-Inch\",\"27-Inch\",\"34-Inch\",\"32-Inch\",\"21.5-Inch\"}, G7), {\"16-Inch\",\"15-Inch\",\"15.6-Inch\",\"18-Inch\",\"15.3-Inch\",\"13-Inch\",\"13.4-Inch\",\"13.8-Inch\",\"14-Inch\",\"17-Inch\",\"45-Inch\",\"27-Inch\",\"34-Inch\",\"32-Inch\",\"21.5-Inch\"}), \"\")","v":""}]
[null,null,null,null,null,null,null,{"$f":"IFERROR(INDEX(BrandList!$A$2:$A$50,MATCH(TRUE,ISNUMBER(SEARCH(BrandList!$A$2:$A$50,G8)),0)),\"\")","v":""},{"$f":"IFERROR(INDEX(BrandList!$B$2:$B$200,MATCH(TRUE,ISNUMBER(SEARCH(BrandList!$B$2:$B$200,G8)),0)),\"\")","v":""},null,null,null,null,null,null,"",{"$f":"IFERROR(VLOOKUP(VALUE(A8),WEEKLY_DATA!$A:$H,2,0),0)","v":0},{"$f":"IFERROR(VLOOKUP(VALUE(A8),WEEKLY_DATA!$A:$H,3,0),0)","v":0},{"$f":"IFERROR(VLOOKUP(VALUE(A8),WEEKLY_DATA!$A:$H,4,0),0)","v":0},{"$f":"IFERROR(VLOOKUP(VALUE(A8),WEEKLY_DATA!$A:$H,5,0),0)","v":0},{"$f":"IFERROR(VLOOKUP(VALUE(A8),WEEKLY_DATA!$A:$H,6,0),0)","v":0},{"$f":"IFERROR(VLOOKUP(VALUE(A8),WEEKLY_DATA!$A:$H,7,0),0)","v":0},{"$f":"IFERROR(IF(OR(Q8=\"\",Q8=0),\"\",IF(VLOOKUP(VALUE($A8),WEEKLY_DATA!$A:$H,6,0)=0,\"No Sales\",Q8/(VLOOKUP(VALUE($A8),WEEKLY_DATA!$A:$H,6,0)/13))),\"\")","v":""},{"$f":"IFERROR(VLOOKUP(VALUE(A8),WEEKLY_DATA!$A:$H,8,0),0)","v":0},"—",null,null,null,null,null,null,"—",null,null,null,"—","—",null,{"$f":"IFERROR(LOOKUP(2, 1/SEARCH({\"Black\",\"White\",\"Grey\",\"Blue\",\"Silver\",\"Brown\",\"Green\",\"Blue\",\"Purple\",\"Red\",\"Pink\",\"Yellow\",\"Gold\"}, G8), {\"Black\",\"White\",\"Grey\",\"Blue\",\"Silver\",\"Brown\",\"Green\",\"Blue\",\"Purple\",\"Red\",\"Pink\",\"Yellow\",\"Gold\"}), \"\")","v":""},{"$f":"IFERROR(LOOKUP(2, 1/SEARCH({\"8GB\",\"16GB\",\"32GB\",\"64GB\"}, G8), {\"8GB\",\"16GB\",\"32GB\",\"64GB\"}), \"\")","v":""},{"$f":"IFERROR(LOOKUP(2, 1/SEARCH({\"1TB\",\"2TB\",\"128GB\",\"512GB\",\"256GB\"}, G8), {\"1TB\",\"2TB\",\"128GB\",\"512GB\",\"256GB\"}), \"\")","v":""},null,{"$f":"IFERROR(LOOKUP(2, 1/SEARCH({\"16-Inch\",\"15-Inch\",\"15.6-Inch\",\"18-Inch\",\"15.3-Inch\",\"13-Inch\",\"13.4-Inch\",\"13.8-Inch\",\"14-Inch\",\"17-Inch\",\"45-Inch\",\"27-Inch\",\"34-Inch\",\"32-Inch\",\"21.5-Inch\"}, G8), {\"16-Inch\",\"15-Inch\",\"15.6-Inch\",\"18-Inch\",\"15.3-Inch\",\"13-Inch\",\"13.4-Inch\",\"13.8-Inch\",\"14-Inch\",\"17-Inch\",\"45-Inch\",\"27-Inch\",\"34-Inch\",\"32-Inch\",\"21.5-Inch\"}), \"\")","v":""}]
[null,null,null,null,null,null,null,{"$f":"IFERROR(INDEX(BrandList!$A$2:$A$50,MATCH(TRUE,ISNUMBER(SEARCH(BrandList!$A$2:$A$50,G9)),0)),\"\")","v":""},{"$f":"IFERROR(INDEX(BrandList!$B$2:$B$200,MATCH(TRUE,ISNUMBER(SEARCH(BrandList!$B$2:$B$200,G9)),0)),\"\")","v":""},null,null,null,null,null,null,"",{"$f":"IFERROR(VLOOKUP(VALUE(A9),WEEKLY_DATA!$A:$H,2,0),0)","v":0},{"$f":"IFERROR(VLOOKUP(VALUE(A9),WEEKLY_DATA!$A:$H,3,0),0)","v":0},{"$f":"IFERROR(VLOOKUP(VALUE(A9),WEEKLY_DATA!$A:$H,4,0),0)","v":0},{"$f":"IFERROR(VLOOKUP(VALUE(A9),WEEKLY_DATA!$A:$H,5,0),0)","v":0},{"$f":"IFERROR(VLOOKUP(VALUE(A9),WEEKLY_DATA!$A:$H,6,0),0)","v":0},{"$f":"IFERROR(VLOOKUP(VALUE(A9),WEEKLY_DATA!$A:$H,7,0),0)","v":0},{"$f":"IFERROR(IF(OR(Q9=\"\",Q9=0),\"\",IF(VLOOKUP(VALUE($A9),WEEKLY_DATA!$A:$H,6,0)=0,\"No Sales\",Q9/(VLOOKUP(VALUE($A9),WEEKLY_DATA!$A:$H,6,0)/13))),\"\")","v":""},{"$f":"IFERROR(VLOOKUP(VALUE(A9),WEEKLY_DATA!$A:$H,8,0),0)","v":0},"—",null,null,null,null,null,null,"—",null,null,null,"—","—",null,{"$f":"IFERROR(LOOKUP(2, 1/SEARCH({\"Black\",\"White\",\"Grey\",\"Blue\",\"Silver\",\"Brown\",\"Green\",\"Blue\",\"Purple\",\"Red\",\"Pink\",\"Yellow\",\"Gold\"}, G9), {\"Black\",\"White\",\"Grey\",\"Blue\",\"Silver\",\"Brown\",\"Green\",\"Blue\",\"Purple\",\"Red\",\"Pink\",\"Yellow\",\"Gold\"}), \"\")","v":""},{"$f":"IFERROR(LOOKUP(2, 1/SEARCH({\"8GB\",\"16GB\",\"32GB\",\"64GB\"}, G9), {\"8GB\",\"16GB\",\"32GB\",\"64GB\"}), \"\")","v":""},{"$f":"IFERROR(LOOKUP(2, 1/SEARCH({\"1TB\",\"2TB\",\"128GB\",\"512GB\",\"256GB\"}, G9), {\"1TB\",\"2TB\",\"128GB\",\"512GB\",\"256GB\"}), \"\")","v":""},null,{"$f":"IFERROR(LOOKUP(2, 1/SEARCH({\"16-Inch\",\"15-Inch\",\"15.6-Inch\",\"18-Inch\",\"15.3-Inch\",\"13-Inch\",\"13.4-Inch\",\"13.8-Inch\",\"14-Inch\",\"17-Inch\",\"45-Inch\",\"27-Inch\",\"34-Inch\",\"32-Inch\",\"21.5-Inch\"}, G9), {\"16-Inch\",\"15-Inch\",\"15.6-Inch\",\"18-Inch\",\"15.3-Inch\",\"13-Inch\",\"13.4-Inch\",\"13.8-Inch\",\"14-Inch\",\"17-Inch\",\"45-Inch\",\"27-Inch\",\"34-Inch\",\"32-Inch\",\"21.5-Inch\"}), \"\")","v":""}]
[null,null,null,null,null,null,null,{"$f":"IFERROR(INDEX(BrandList!$A$2:$A$50,MATCH(TRUE,ISNUMBER(SEARCH(BrandList!$A$2:$A$50,G10)),0)),\"\")","v":""},{"$f":"IFERROR(INDEX(BrandList!$B$2:$B$200,MATCH(TRUE,ISNUMBER(SEARCH(BrandList!$B$2:$B$200,G10)),0)),\"\")","v":""},null,null,null,null,null,null,"",{"$f":"IFERROR(VLOOKUP(VALUE(A10),WEEKLY_DATA!$A:$H,2,0),0)","v":0},{"$f":"IFERROR(VLOOKUP(VALUE(A10),WEEKLY_DATA!$A:$H,3,0),0)","v":0},{"$f":"IFERROR(VLOOKUP(VALUE(A10),WEEKLY_DATA!$A:$H,4,0),0)","v":0},{"$f":"IFERROR(VLOOKUP(VALUE(A10),WEEKLY_DATA!$A:$H,5,0),0)","v":0},{"$f":"IFERROR(VLOOKUP(VALUE(A10),WEEKLY_DATA!$A:$H,6,0),0)","v":0},{"$f":"IFERROR(VLOOKUP(VALUE(A10),WEEKLY_DATA!$A:$H,7,0),0)","v":0},{"$f":"IFERROR(IF(OR(Q10=\"\",Q10=0),\"\",IF(VLOOKUP(VALUE($A10),WEEKLY_DATA!$A:$H,6,0)=0,\"No Sales\",Q10/(VLOOKUP(VALUE($A10),WEEKLY_DATA!$A:$H,6,0)/13))),\"\")","v":""},{"$f":"IFERROR(VLOOKUP(VALUE(A10),WEEKLY_DATA!$A:$H,8,0),0)","v":0},"—",null,null,null,null,null,null,"—",null,null,null,"—","—",null,{"$f":"IFERROR(LOOKUP(2, 1/SEARCH({\"Black\",\"White\",\"Grey\",\"Blue\",\"Silver\",\"Brown\",\"Green\",\"Blue\",\"Purple\",\"Red\",\"Pink\",\"Yellow\",\"Gold\"}, G10), {\"Black\",\"White\",\"Grey\",\"Blue\",\"Silver\",\"Brown\",\"Green\",\"Blue\",\"Purple\",\"Red\",\"Pink\",\"Yellow\",\"Gold\"}), \"\")","v":""},{"$f":"IFERROR(LOOKUP(2, 1/SEARCH({\"8GB\",\"16GB\",\"32GB\",\"64GB\"}, G10), {\"8GB\",\"16GB\",\"32GB\",\"64GB\"}), \"\")","v":""},{"$f":"IFERROR(LOOKUP(2, 1/SEARCH({\"1TB\",\"2TB\",\"128GB\",\"512GB\",\"256GB\"}, G10), {\"1TB\",\"2TB\",\"128GB\",\"512GB\",\"256GB\"}), \"\")","v":""},null,{"$f":"IFERROR(LOOKUP(2, 1/SEARCH({\"16-Inch\",\"15-Inch\",\"15.6-Inch\",\"18-Inch\",\"15.3-Inch\",\"13-Inch\",\"13.4-Inch\",\"13.8-Inch\",\"14-Inch\",\"17-Inch\",\"45-Inch\",\"27-Inch\",\"34-Inch\",\"32-Inch\",\"21.5-Inch\"}, G10), {\"16-Inch\",\"15-Inch\",\"15.6-Inch\",\"18-Inch\",\"15.3-Inch\",\"13-Inch\",\"13.4-Inch\",\"13.8-Inch\",\"14-Inch\",\"17-Inch\",\"45-Inch\",\"27-Inch\",\"34-Inch\",\"32-Inch\",\"21.5-Inch\"}), \"\")","v":""}]
[null,null,null,null,null,null,null,{"$f":"IFERROR(INDEX(BrandList!$A$2:$A$50,MATCH(TRUE,ISNUMBER(SEARCH(BrandList!$A$2:$A$50,G11)),0)),\"\")","v":""},{"$f":"IFERROR(INDEX(BrandList!$B$2:$B$200,MATCH(TRUE,ISNUMBER(SEARCH(BrandList!$B$2:$B$200,G11)),0)),\"\")","v":""},null,null,null,null,null,null,"",{"$f":"IFERROR(VLOOKUP(VALUE(A11),WEEKLY_DATA!$A:$H,2,0),0)","v":0},{"$f":"IFERROR(VLOOKUP(VALUE(A11),WEEKLY_DATA!$A:$H,3,0),0)","v":0},{"$f":"IFERROR(VLOOKUP(VALUE(A11),WEEKLY_DATA!$A:$H,4,0),0)","v":0},{"$f":"IFERROR(VLOOKUP(VALUE(A11),WEEKLY_DATA!$A:$H,5,0),0)","v":0},{"$f":"IFERROR(VLOOKUP(VALUE(A11),WEEKLY_DATA!$A:$H,6,0),0)","v":0},{"$f":"IFERROR(VLOOKUP(VALUE(A11),WEEKLY_DATA!$A:$H,7,0),0)","v":0},{"$f":"IFERROR(IF(OR(Q11=\"\",Q11=0),\"\",IF(VLOOKUP(VALUE($A11),WEEKLY_DATA!$A:$H,6,0)=0,\"No Sales\",Q11/(VLOOKUP(VALUE($A11),WEEKLY_DATA!$A:$H,6,0)/13))),\"\")","v":""},{"$f":"IFERROR(VLOOKUP(VALUE(A11),WEEKLY_DATA!$A:$H,8,0),0)","v":0},"—",null,null,null,null,null,null,"—",null,null,null,"—","—",null,{"$f":"IFERROR(LOOKUP(2, 1/SEARCH({\"Black\",\"White\",\"Grey\",\"Blue\",\"Silver\",\"Brown\",\"Green\",\"Blue\",\"Purple\",\"Red\",\"Pink\",\"Yellow\",\"Gold\"}, G11), {\"Black\",\"White\",\"Grey\",\"Blue\",\"Silver\",\"Brown\",\"Green\",\"Blue\",\"Purple\",\"Red\",\"Pink\",\"Yellow\",\"Gold\"}), \"\")","v":""},{"$f":"IFERROR(LOOKUP(2, 1/SEARCH({\"8GB\",\"16GB\",\"32GB\",\"64GB\"}, G11), {\"8GB\",\"16GB\",\"32GB\",\"64GB\"}), \"\")","v":""},{"$f":"IFERROR(LOOKUP(2, 1/SEARCH({\"1TB\",\"2TB\",\"128GB\",\"512GB\",\"256GB\"}, G11), {\"1TB\",\"2TB\",\"128GB\",\"512GB\",\"256GB\"}), \"\")","v":""},null,{"$f":"IFERROR(LOOKUP(2, 1/SEARCH({\"16-Inch\",\"15-Inch\",\"15.6-Inch\",\"18-Inch\",\"15.3-Inch\",\"13-Inch\",\"13.4-Inch\",\"13.8-Inch\",\"14-Inch\",\"17-Inch\",\"45-Inch\",\"27-Inch\",\"34-Inch\",\"32-Inch\",\"21.5-Inch\"}, G11), {\"16-Inch\",\"15-Inch\",\"15.6-Inch\",\"18-Inch\",\"15.3-Inch\",\"13-Inch\",\"13.4-Inch\",\"13.8-Inch\",\"14-Inch\",\"17-Inch\",\"45-Inch\",\"27-Inch\",\"34-Inch\",\"32-Inch\",\"21.5-Inch\"}), \"\")","v":""}]
[null,null,null,null,null,null,null,{"$f":"IFERROR(INDEX(BrandList!$A$2:$A$50,MATCH(TRUE,ISNUMBER(SEARCH(BrandList!$A$2:$A$50,G12)),0)),\"\")","v":""},{"$f":"IFERROR(INDEX(BrandList!$B$2:$B$200,MATCH(TRUE,ISNUMBER(SEARCH(BrandList!$B$2:$B$200,G12)),0)),\"\")","v":""},null,null,null,null,null,null,"",{"$f":"IFERROR(VLOOKUP(VALUE(A12),WEEKLY_DATA!$A:$H,2,0),0)","v":0},{"$f":"IFERROR(VLOOKUP(VALUE(A12),WEEKLY_DATA!$A:$H,3,0),0)","v":0},{"$f":"IFERROR(VLOOKUP(VALUE(A12),WEEKLY_DATA!$A:$H,4,0),0)","v":0},{"$f":"IFERROR(VLOOKUP(VALUE(A12),WEEKLY_DATA!$A:$H,5,0),0)","v":0},{"$f":"IFERROR(VLOOKUP(VALUE(A12),WEEKLY_DATA!$A:$H,6,0),0)","v":0},{"$f":"IFERROR(VLOOKUP(VALUE(A12),WEEKLY_DATA!$A:$H,7,0),0)","v":0},{"$f":"IFERROR(IF(OR(Q12=\"\",Q12=0),\"\",IF(VLOOKUP(VALUE($A12),WEEKLY_DATA!$A:$H,6,0)=0,\"No Sales\",Q12/(VLOOKUP(VALUE($A12),WEEKLY_DATA!$A:$H,6,0)/13))),\"\")","v":""},{"$f":"IFERROR(VLOOKUP(VALUE(A12),WEEKLY_DATA!$A:$H,8,0),0)","v":0},"—",null,null,null,null,null,null,"—",null,null,null,"—","—",null,{"$f":"IFERROR(LOOKUP(2, 1/SEARCH({\"Black\",\"White\",\"Grey\",\"Blue\",\"Silver\",\"Brown\",\"Green\",\"Blue\",\"Purple\",\"Red\",\"Pink\",\"Yellow\",\"Gold\"}, G12), {\"Black\",\"White\",\"Grey\",\"Blue\",\"Silver\",\"Brown\",\"Green\",\"Blue\",\"Purple\",\"Red\",\"Pink\",\"Yellow\",\"Gold\"}), \"\")","v":""},{"$f":"IFERROR(LOOKUP(2, 1/SEARCH({\"8GB\",\"16GB\",\"32GB\",\"64GB\"}, G12), {\"8GB\",\"16GB\",\"32GB\",\"64GB\"}), \"\")","v":""},{"$f":"IFERROR(LOOKUP(2, 1/SEARCH({\"1TB\",\"2TB\",\"128GB\",\"512GB\",\"256GB\"}, G12), {\"1TB\",\"2TB\",\"128GB\",\"512GB\",\"256GB\"}), \"\")","v":""},null,{"$f":"IFERROR(LOOKUP(2, 1/SEARCH({\"16-Inch\",\"15-Inch\",\"15.6-Inch\",\"18-Inch\",\"15.3-Inch\",\"13-Inch\",\"13.4-Inch\",\"13.8-Inch\",\"14-Inch\",\"17-Inch\",\"45-Inch\",\"27-Inch\",\"34-Inch\",\"32-Inch\",\"21.5-Inch\"}, G12), {\"16-Inch\",\"15-Inch\",\"15.6-Inch\",\"18-Inch\",\"15.3-Inch\",\"13-Inch\",\"13.4-Inch\",\"13.8-Inch\",\"14-Inch\",\"17-Inch\",\"45-Inch\",\"27-Inch\",\"34-Inch\",\"32-Inch\",\"21.5-Inch\"}), \"\")","v":""}]
[null,null,null,null,null,null,null,{"$f":"IFERROR(INDEX(BrandList!$A$2:$A$50,MATCH(TRUE,ISNUMBER(SEARCH(BrandList!$A$2:$A$50,G13)),0)),\"\")","v":""},{"$f":"IFERROR(INDEX(BrandList!$B$2:$B$200,MATCH(TRUE,ISNUMBER(SEARCH(BrandList!$B$2:$B$200,G13)),0)),\"\")","v":""},null,null,null,null,null,null,"",{"$f":"IFERROR(VLOOKUP(VALUE(A13),WEEKLY_DATA!$A:$H,2,0),0)","v":0},{"$f":"IFERROR(VLOOKUP(VALUE(A13),WEEKLY_DATA!$A:$H,3,0),0)","v":0},{"$f":"IFERROR(VLOOKUP(VALUE(A13),WEEKLY_DATA!$A:$H,4,0),0)","v":0},{"$f":"IFERROR(VLOOKUP(VALUE(A13),WEEKLY_DATA!$A:$H,5,0),0)","v":0},{"$f":"IFERROR(VLOOKUP(VALUE(A13),WEEKLY_DATA!$A:$H,6,0),0)","v":0},{"$f":"IFERROR(VLOOKUP(VALUE(A13),WEEKLY_DATA!$A:$H,7,0),0)","v":0},{"$f":"IFERROR(IF(OR(Q13=\"\",Q13=0),\"\",IF(VLOOKUP(VALUE($A13),WEEKLY_DATA!$A:$H,6,0)=0,\"No Sales\",Q13/(VLOOKUP(VALUE($A13),WEEKLY_DATA!$A:$H,6,0)/13))),\"\")","v":""},{"$f":"IFERROR(VLOOKUP(VALUE(A13),WEEKLY_DATA!$A:$H,8,0),0)","v":0},"—",null,null,null,null,null,null,"—",null,null,null,"—","—",null,{"$f":"IFERROR(LOOKUP(2, 1/SEARCH({\"Black\",\"White\",\"Grey\",\"Blue\",\"Silver\",\"Brown\",\"Green\",\"Blue\",\"Purple\",\"Red\",\"Pink\",\"Yellow\",\"Gold\"}, G13), {\"Black\",\"White\",\"Grey\",\"Blue\",\"Silver\",\"Brown\",\"Green\",\"Blue\",\"Purple\",\"Red\",\"Pink\",\"Yellow\",\"Gold\"}), \"\")","v":""},{"$f":"IFERROR(LOOKUP(2, 1/SEARCH({\"8GB\",\"16GB\",\"32GB\",\"64GB\"}, G13), {\"8GB\",\"16GB\",\"32GB\",\"64GB\"}), \"\")","v":""},{"$f":"IFERROR(LOOKUP(2, 1/SEARCH({\"1TB\",\"2TB\",\"128GB\",\"512GB\",\"256GB\"}, G13), {\"1TB\",\"2TB\",\"128GB\",\"512GB\",\"256GB\"}), \"\")","v":""},null,{"$f":"IFERROR(LOOKUP(2, 1/SEARCH({\"16-Inch\",\"15-Inch\",\"15.6-Inch\",\"18-Inch\",\"15.3-Inch\",\"13-Inch\",\"13.4-Inch\",\"13.8-Inch\",\"14-Inch\",\"17-Inch\",\"45-Inch\",\"27-Inch\",\"34-Inch\",\"32-Inch\",\"21.5-Inch\"}, G13), {\"16-Inch\",\"15-Inch\",\"15.6-Inch\",\"18-Inch\",\"15.3-Inch\",\"13-Inch\",\"13.4-Inch\",\"13.8-Inch\",\"14-Inch\",\"17-Inch\",\"45-Inch\",\"27-Inch\",\"34-Inch\",\"32-Inch\",\"21.5-Inch\"}), \"\")","v":""}]
[null,null,null,null,null,null,null,{"$f":"IFERROR(INDEX(BrandList!$A$2:$A$50,MATCH(TRUE,ISNUMBER(SEARCH(BrandList!$A$2:$A$50,G14)),0)),\"\")","v":""},{"$f":"IFERROR(INDEX(BrandList!$B$2:$B$200,MATCH(TRUE,ISNUMBER(SEARCH(BrandList!$B$2:$B$200,G14)),0)),\"\")","v":""},null,null,null,null,null,null,"",{"$f":"IFERROR(VLOOKUP(VALUE(A14),WEEKLY_DATA!$A:$H,2,0),0)","v":0},{"$f":"IFERROR(VLOOKUP(VALUE(A14),WEEKLY_DATA!$A:$H,3,0),0)","v":0},{"$f":"IFERROR(VLOOKUP(VALUE(A14),WEEKLY_DATA!$A:$H,4,0),0)","v":0},{"$f":"IFERROR(VLOOKUP(VALUE(A14),WEEKLY_DATA!$A:$H,5,0),0)","v":0},{"$f":"IFERROR(VLOOKUP(VALUE(A14),WEEKLY_DATA!$A:$H,6,0),0)","v":0},{"$f":"IFERROR(VLOOKUP(VALUE(A14),WEEKLY_DATA!$A:$H,7,0),0)","v":0},{"$f":"IFERROR(IF(OR(Q14=\"\",Q14=0),\"\",IF(VLOOKUP(VALUE($A14),WEEKLY_DATA!$A:$H,6,0)=0,\"No Sales\",Q14/(VLOOKUP(VALUE($A14),WEEKLY_DATA!$A:$H,6,0)/13))),\"\")","v":""},{"$f":"IFERROR(VLOOKUP(VALUE(A14),WEEKLY_DATA!$A:$H,8,0),0)","v":0},"—",null,null,null,null,null,null,"—",null,null,null,"—","—",null,{"$f":"IFERROR(LOOKUP(2, 1/SEARCH({\"Black\",\"White\",\"Grey\",\"Blue\",\"Silver\",\"Brown\",\"Green\",\"Blue\",\"Purple\",\"Red\",\"Pink\",\"Yellow\",\"Gold\"}, G14), {\"Black\",\"White\",\"Grey\",\"Blue\",\"Silver\",\"Brown\",\"Green\",\"Blue\",\"Purple\",\"Red\",\"Pink\",\"Yellow\",\"Gold\"}), \"\")","v":""},{"$f":"IFERROR(LOOKUP(2, 1/SEARCH({\"8GB\",\"16GB\",\"32GB\",\"64GB\"}, G14), {\"8GB\",\"16GB\",\"32GB\",\"64GB\"}), \"\")","v":""},{"$f":"IFERROR(LOOKUP(2, 1/SEARCH({\"1TB\",\"2TB\",\"128GB\",\"512GB\",\"256GB\"}, G14), {\"1TB\",\"2TB\",\"128GB\",\"512GB\",\"256GB\"}), \"\")","v":""},null,{"$f":"IFERROR(LOOKUP(2, 1/SEARCH({\"16-Inch\",\"15-Inch\",\"15.6-Inch\",\"18-Inch\",\"15.3-Inch\",\"13-Inch\",\"13.4-Inch\",\"13.8-Inch\",\"14-Inch\",\"17-Inch\",\"45-Inch\",\"27-Inch\",\"34-Inch\",\"32-Inch\",\"21.5-Inch\"}, G14), {\"16-Inch\",\"15-Inch\",\"15.6-Inch\",\"18-Inch\",\"15.3-Inch\",\"13-Inch\",\"13.4-Inch\",\"13.8-Inch\",\"14-Inch\",\"17-Inch\",\"45-Inch\",\"27-Inch\",\"34-Inch\",\"32-Inch\",\"21.5-Inch\"}), \"\")","v":""}]
[null,null,null,null,null,null,null,{"$f":"IFERROR(INDEX(BrandList!$A$2:$A$50,MATCH(TRUE,ISNUMBER(SEARCH(BrandList!$A$2:$A$50,G15)),0)),\"\")","v":""},{"$f":"IFERROR(INDEX(BrandList!$B$2:$B$200,MATCH(TRUE,ISNUMBER(SEARCH(BrandList!$B$2:$B$200,G15)),0)),\"\")","v":""},null,null,null,null,null,null,"",{"$f":"IFERROR(VLOOKUP(VALUE(A15),WEEKLY_DATA!$A:$H,2,0),0)","v":0},{"$f":"IFERROR(VLOOKUP(VALUE(A15),WEEKLY_DATA!$A:$H,3,0),0)","v":0},{"$f":"IFERROR(VLOOKUP(VALUE(A15),WEEKLY_DATA!$A:$H,4,0),0)","v":0},{"$f":"IFERROR(VLOOKUP(VALUE(A15),WEEKLY_DATA!$A:$H,5,0),0)","v":0},{"$f":"IFERROR(VLOOKUP(VALUE(A15),WEEKLY_DATA!$A:$H,6,0),0)","v":0},{"$f":"IFERROR(VLOOKUP(VALUE(A15),WEEKLY_DATA!$A:$H,7,0),0)","v":0},{"$f":"IFERROR(IF(OR(Q15=\"\",Q15=0),\"\",IF(VLOOKUP(VALUE($A15),WEEKLY_DATA!$A:$H,6,0)=0,\"No Sales\",Q15/(VLOOKUP(VALUE($A15),WEEKLY_DATA!$A:$H,6,0)/13))),\"\")","v":""},{"$f":"IFERROR(VLOOKUP(VALUE(A15),WEEKLY_DATA!$A:$H,8,0),0)","v":0},"—",null,null,null,null,null,null,"—",null,null,null,"—","—",null,{"$f":"IFERROR(LOOKUP(2, 1/SEARCH({\"Black\",\"White\",\"Grey\",\"Blue\",\"Silver\",\"Brown\",\"Green\",\"Blue\",\"Purple\",\"Red\",\"Pink\",\"Yellow\",\"Gold\"}, G15), {\"Black\",\"White\",\"Grey\",\"Blue\",\"Silver\",\"Brown\",\"Green\",\"Blue\",\"Purple\",\"Red\",\"Pink\",\"Yellow\",\"Gold\"}), \"\")","v":""},{"$f":"IFERROR(LOOKUP(2, 1/SEARCH({\"8GB\",\"16GB\",\"32GB\",\"64GB\"}, G15), {\"8GB\",\"16GB\",\"32GB\",\"64GB\"}), \"\")","v":""},{"$f":"IFERROR(LOOKUP(2, 1/SEARCH({\"1TB\",\"2TB\",\"128GB\",\"512GB\",\"256GB\"}, G15), {\"1TB\",\"2TB\",\"128GB\",\"512GB\",\"256GB\"}), \"\")","v":""},null,{"$f":"IFERROR(LOOKUP(2, 1/SEARCH({\"16-Inch\",\"15-Inch\",\"15.6-Inch\",\"18-Inch\",\"15.3-Inch\",\"13-Inch\",\"13.4-Inch\",\"13.8-Inch\",\"14-Inch\",\"17-Inch\",\"45-Inch\",\"27-Inch\",\"34-Inch\",\"32-Inch\",\"21.5-Inch\"}, G15), {\"16-Inch\",\"15-Inch\",\"15.6-Inch\",\"18-Inch\",\"15.3-Inch\",\"13-Inch\",\"13.4-Inch\",\"13.8-Inch\",\"14-Inch\",\"17-Inch\",\"45-Inch\",\"27-Inch\",\"34-Inch\",\"32-Inch\",\"21.5-Inch\"}), \"\")","v":""}]
[null,null,null,null,null,null,null,{"$f":"IFERROR(INDEX(BrandList!$A$2:$A$50,MATCH(TRUE,ISNUMBER(SEARCH(BrandList!$A$2:$A$50,G16)),0)),\"\")","v":""},{"$f":"IFERROR(INDEX(BrandList!$B$2:$B$200,MATCH(TRUE,ISNUMBER(SEARCH(BrandList!$B$2:$B$200,G16)),0)),\"\")","v":""},null,null,null,null,null,null,"",{"$f":"IFERROR(VLOOKUP(VALUE(A16),WEEKLY_DATA!$A:$H,2,0),0)","v":0},{"$f":"IFERROR(VLOOKUP(VALUE(A16),WEEKLY_DATA!$A:$H,3,0),0)","v":0},{"$f":"IFERROR(VLOOKUP(VALUE(A16),WEEKLY_DATA!$A:$H,4,0),0)","v":0},{"$f":"IFERROR(VLOOKUP(VALUE(A16),WEEKLY_DATA!$A:$H,5,0),0)","v":0},{"$f":"IFERROR(VLOOKUP(VALUE(A16),WEEKLY_DATA!$A:$H,6,0),0)","v":0},{"$f":"IFERROR(VLOOKUP(VALUE(A16),WEEKLY_DATA!$A:$H,7,0),0)","v":0},{"$f":"IFERROR(IF(OR(Q16=\"\",Q16=0),\"\",IF(VLOOKUP(VALUE($A16),WEEKLY_DATA!$A:$H,6,0)=0,\"No Sales\",Q16/(VLOOKUP(VALUE($A16),WEEKLY_DATA!$A:$H,6,0)/13))),\"\")","v":""},{"$f":"IFERROR(VLOOKUP(VALUE(A16),WEEKLY_DATA!$A:$H,8,0),0)","v":0},"—",null,null,null,null,null,null,"—",null,null,null,"—","—",null,{"$f":"IFERROR(LOOKUP(2, 1/SEARCH({\"Black\",\"White\",\"Grey\",\"Blue\",\"Silver\",\"Brown\",\"Green\",\"Blue\",\"Purple\",\"Red\",\"Pink\",\"Yellow\",\"Gold\"}, G16), {\"Black\",\"White\",\"Grey\",\"Blue\",\"Silver\",\"Brown\",\"Green\",\"Blue\",\"Purple\",\"Red\",\"Pink\",\"Yellow\",\"Gold\"}), \"\")","v":""},{"$f":"IFERROR(LOOKUP(2, 1/SEARCH({\"8GB\",\"16GB\",\"32GB\",\"64GB\"}, G16), {\"8GB\",\"16GB\",\"32GB\",\"64GB\"}), \"\")","v":""},{"$f":"IFERROR(LOOKUP(2, 1/SEARCH({\"1TB\",\"2TB\",\"128GB\",\"512GB\",\"256GB\"}, G16), {\"1TB\",\"2TB\",\"128GB\",\"512GB\",\"256GB\"}), \"\")","v":""},null,{"$f":"IFERROR(LOOKUP(2, 1/SEARCH({\"16-Inch\",\"15-Inch\",\"15.6-Inch\",\"18-Inch\",\"15.3-Inch\",\"13-Inch\",\"13.4-Inch\",\"13.8-Inch\",\"14-Inch\",\"17-Inch\",\"45-Inch\",\"27-Inch\",\"34-Inch\",\"32-Inch\",\"21.5-Inch\"}, G16), {\"16-Inch\",\"15-Inch\",\"15.6-Inch\",\"18-Inch\",\"15.3-Inch\",\"13-Inch\",\"13.4-Inch\",\"13.8-Inch\",\"14-Inch\",\"17-Inch\",\"45-Inch\",\"27-Inch\",\"34-Inch\",\"32-Inch\",\"21.5-Inch\"}), \"\")","v":""}]
[null,null,null,null,null,null,null,{"$f":"IFERROR(INDEX(BrandList!$A$2:$A$50,MATCH(TRUE,ISNUMBER(SEARCH(BrandList!$A$2:$A$50,G17)),0)),\"\")","v":""},{"$f":"IFERROR(INDEX(BrandList!$B$2:$B$200,MATCH(TRUE,ISNUMBER(SEARCH(BrandList!$B$2:$B$200,G17)),0)),\"\")","v":""},null,null,null,null,null,null,"",{"$f":"IFERROR(VLOOKUP(VALUE(A17),WEEKLY_DATA!$A:$H,2,0),0)","v":0},{"$f":"IFERROR(VLOOKUP(VALUE(A17),WEEKLY_DATA!$A:$H,3,0),0)","v":0},{"$f":"IFERROR(VLOOKUP(VALUE(A17),WEEKLY_DATA!$A:$H,4,0),0)","v":0},{"$f":"IFERROR(VLOOKUP(VALUE(A17),WEEKLY_DATA!$A:$H,5,0),0)","v":0},{"$f":"IFERROR(VLOOKUP(VALUE(A17),WEEKLY_DATA!$A:$H,6,0),0)","v":0},{"$f":"IFERROR(VLOOKUP(VALUE(A17),WEEKLY_DATA!$A:$H,7,0),0)","v":0},{"$f":"IFERROR(IF(OR(Q17=\"\",Q17=0),\"\",IF(VLOOKUP(VALUE($A17),WEEKLY_DATA!$A:$H,6,0)=0,\"No Sales\",Q17/(VLOOKUP(VALUE($A17),WEEKLY_DATA!$A:$H,6,0)/13))),\"\")","v":""},{"$f":"IFERROR(VLOOKUP(VALUE(A17),WEEKLY_DATA!$A:$H,8,0),0)","v":0},"—",null,null,null,null,null,null,"—",null,null,null,"—","—",null,{"$f":"IFERROR(LOOKUP(2, 1/SEARCH({\"Black\",\"White\",\"Grey\",\"Blue\",\"Silver\",\"Brown\",\"Green\",\"Blue\",\"Purple\",\"Red\",\"Pink\",\"Yellow\",\"Gold\"}, G17), {\"Black\",\"White\",\"Grey\",\"Blue\",\"Silver\",\"Brown\",\"Green\",\"Blue\",\"Purple\",\"Red\",\"Pink\",\"Yellow\",\"Gold\"}), \"\")","v":""},{"$f":"IFERROR(LOOKUP(2, 1/SEARCH({\"8GB\",\"16GB\",\"32GB\",\"64GB\"}, G17), {\"8GB\",\"16GB\",\"32GB\",\"64GB\"}), \"\")","v":""},{"$f":"IFERROR(LOOKUP(2, 1/SEARCH({\"1TB\",\"2TB\",\"128GB\",\"512GB\",\"256GB\"}, G17), {\"1TB\",\"2TB\",\"128GB\",\"512GB\",\"256GB\"}), \"\")","v":""},null,{"$f":"IFERROR(LOOKUP(2, 1/SEARCH({\"16-Inch\",\"15-Inch\",\"15.6-Inch\",\"18-Inch\",\"15.3-Inch\",\"13-Inch\",\"13.4-Inch\",\"13.8-Inch\",\"14-Inch\",\"17-Inch\",\"45-Inch\",\"27-Inch\",\"34-Inch\",\"32-Inch\",\"21.5-Inch\"}, G17), {\"16-Inch\",\"15-Inch\",\"15.6-Inch\",\"18-Inch\",\"15.3-Inch\",\"13-Inch\",\"13.4-Inch\",\"13.8-Inch\",\"14-Inch\",\"17-Inch\",\"45-Inch\",\"27-Inch\",\"34-Inch\",\"32-Inch\",\"21.5-Inch\"}), \"\")","v":""}]
[null,null,null,null,null,null,null,{"$f":"IFERROR(INDEX(BrandList!$A$2:$A$50,MATCH(TRUE,ISNUMBER(SEARCH(BrandList!$A$2:$A$50,G18)),0)),\"\")","v":""},{"$f":"IFERROR(INDEX(BrandList!$B$2:$B$200,MATCH(TRUE,ISNUMBER(SEARCH(BrandList!$B$2:$B$200,G18)),0)),\"\")","v":""},null,null,null,null,null,null,"",{"$f":"IFERROR(VLOOKUP(VALUE(A18),WEEKLY_DATA!$A:$H,2,0),0)","v":0},{"$f":"IFERROR(VLOOKUP(VALUE(A18),WEEKLY_DATA!$A:$H,3,0),0)","v":0},{"$f":"IFERROR(VLOOKUP(VALUE(A18),WEEKLY_DATA!$A:$H,4,0),0)","v":0},{"$f":"IFERROR(VLOOKUP(VALUE(A18),WEEKLY_DATA!$A:$H,5,0),0)","v":0},{"$f":"IFERROR(VLOOKUP(VALUE(A18),WEEKLY_DATA!$A:$H,6,0),0)","v":0},{"$f":"IFERROR(VLOOKUP(VALUE(A18),WEEKLY_DATA!$A:$H,7,0),0)","v":0},{"$f":"IFERROR(IF(OR(Q18=\"\",Q18=0),\"\",IF(VLOOKUP(VALUE($A18),WEEKLY_DATA!$A:$H,6,0)=0,\"No Sales\",Q18/(VLOOKUP(VALUE($A18),WEEKLY_DATA!$A:$H,6,0)/13))),\"\")","v":""},{"$f":"IFERROR(VLOOKUP(VALUE(A18),WEEKLY_DATA!$A:$H,8,0),0)","v":0},"—",null,null,null,null,null,null,"—",null,null,null,"—","—",null,{"$f":"IFERROR(LOOKUP(2, 1/SEARCH({\"Black\",\"White\",\"Grey\",\"Blue\",\"Silver\",\"Brown\",\"Green\",\"Blue\",\"Purple\",\"Red\",\"Pink\",\"Yellow\",\"Gold\"}, G18), {\"Black\",\"White\",\"Grey\",\"Blue\",\"Silver\",\"Brown\",\"Green\",\"Blue\",\"Purple\",\"Red\",\"Pink\",\"Yellow\",\"Gold\"}), \"\")","v":""},{"$f":"IFERROR(LOOKUP(2, 1/SEARCH({\"8GB\",\"16GB\",\"32GB\",\"64GB\"}, G18), {\"8GB\",\"16GB\",\"32GB\",\"64GB\"}), \"\")","v":""},{"$f":"IFERROR(LOOKUP(2, 1/SEARCH({\"1TB\",\"2TB\",\"128GB\",\"512GB\",\"256GB\"}, G18), {\"1TB\",\"2TB\",\"128GB\",\"512GB\",\"256GB\"}), \"\")","v":""},null,{"$f":"IFERROR(LOOKUP(2, 1/SEARCH({\"16-Inch\",\"15-Inch\",\"15.6-Inch\",\"18-Inch\",\"15.3-Inch\",\"13-Inch\",\"13.4-Inch\",\"13.8-Inch\",\"14-Inch\",\"17-Inch\",\"45-Inch\",\"27-Inch\",\"34-Inch\",\"32-Inch\",\"21.5-Inch\"}, G18), {\"16-Inch\",\"15-Inch\",\"15.6-Inch\",\"18-Inch\",\"15.3-Inch\",\"13-Inch\",\"13.4-Inch\",\"13.8-Inch\",\"14-Inch\",\"17-Inch\",\"45-Inch\",\"27-Inch\",\"34-Inch\",\"32-Inch\",\"21.5-Inch\"}), \"\")","v":""}]
[null,null,null,null,null,null,null,{"$f":"IFERROR(INDEX(BrandList!$A$2:$A$50,MATCH(TRUE,ISNUMBER(SEARCH(BrandList!$A$2:$A$50,G19)),0)),\"\")","v":""},{"$f":"IFERROR(INDEX(BrandList!$B$2:$B$200,MATCH(TRUE,ISNUMBER(SEARCH(BrandList!$B$2:$B$200,G19)),0)),\"\")","v":""},null,null,null,null,null,null,"",{"$f":"IFERROR(VLOOKUP(VALUE(A19),WEEKLY_DATA!$A:$H,2,0),0)","v":0},{"$f":"IFERROR(VLOOKUP(VALUE(A19),WEEKLY_DATA!$A:$H,3,0),0)","v":0},{"$f":"IFERROR(VLOOKUP(VALUE(A19),WEEKLY_DATA!$A:$H,4,0),0)","v":0},{"$f":"IFERROR(VLOOKUP(VALUE(A19),WEEKLY_DATA!$A:$H,5,0),0)","v":0},{"$f":"IFERROR(VLOOKUP(VALUE(A19),WEEKLY_DATA!$A:$H,6,0),0)","v":0},{"$f":"IFERROR(VLOOKUP(VALUE(A19),WEEKLY_DATA!$A:$H,7,0),0)","v":0},{"$f":"IFERROR(IF(OR(Q19=\"\",Q19=0),\"\",IF(VLOOKUP(VALUE($A19),WEEKLY_DATA!$A:$H,6,0)=0,\"No Sales\",Q19/(VLOOKUP(VALUE($A19),WEEKLY_DATA!$A:$H,6,0)/13))),\"\")","v":""},{"$f":"IFERROR(VLOOKUP(VALUE(A19),WEEKLY_DATA!$A:$H,8,0),0)","v":0},"—",null,null,null,null,null,null,"—",null,null,null,"—","—",null,{"$f":"IFERROR(LOOKUP(2, 1/SEARCH({\"Black\",\"White\",\"Grey\",\"Blue\",\"Silver\",\"Brown\",\"Green\",\"Blue\",\"Purple\",\"Red\",\"Pink\",\"Yellow\",\"Gold\"}, G19), {\"Black\",\"White\",\"Grey\",\"Blue\",\"Silver\",\"Brown\",\"Green\",\"Blue\",\"Purple\",\"Red\",\"Pink\",\"Yellow\",\"Gold\"}), \"\")","v":""},{"$f":"IFERROR(LOOKUP(2, 1/SEARCH({\"8GB\",\"16GB\",\"32GB\",\"64GB\"}, G19), {\"8GB\",\"16GB\",\"32GB\",\"64GB\"}), \"\")","v":""},{"$f":"IFERROR(LOOKUP(2, 1/SEARCH({\"1TB\",\"2TB\",\"128GB\",\"512GB\",\"256GB\"}, G19), {\"1TB\",\"2TB\",\"128GB\",\"512GB\",\"256GB\"}), \"\")","v":""},null,{"$f":"IFERROR(LOOKUP(2, 1/SEARCH({\"16-Inch\",\"15-Inch\",\"15.6-Inch\",\"18-Inch\",\"15.3-Inch\",\"13-Inch\",\"13.4-Inch\",\"13.8-Inch\",\"14-Inch\",\"17-Inch\",\"45-Inch\",\"27-Inch\",\"34-Inch\",\"32-Inch\",\"21.5-Inch\"}, G19), {\"16-Inch\",\"15-Inch\",\"15.6-Inch\",\"18-Inch\",\"15.3-Inch\",\"13-Inch\",\"13.4-Inch\",\"13.8-Inch\",\"14-Inch\",\"17-Inch\",\"45-Inch\",\"27-Inch\",\"34-Inch\",\"32-Inch\",\"21.5-Inch\"}), \"\")","v":""}]
[null,null,null,null,null,null,null,{"$f":"IFERROR(INDEX(BrandList!$A$2:$A$50,MATCH(TRUE,ISNUMBER(SEARCH(BrandList!$A$2:$A$50,G20)),0)),\"\")","v":""},{"$f":"IFERROR(INDEX(BrandList!$B$2:$B$200,MATCH(TRUE,ISNUMBER(SEARCH(BrandList!$B$2:$B$200,G20)),0)),\"\")","v":""},null,null,null,null,null,null,"",{"$f":"IFERROR(VLOOKUP(VALUE(A20),WEEKLY_DATA!$A:$H,2,0),0)","v":0},{"$f":"IFERROR(VLOOKUP(VALUE(A20),WEEKLY_DATA!$A:$H,3,0),0)","v":0},{"$f":"IFERROR(VLOOKUP(VALUE(A20),WEEKLY_DATA!$A:$H,4,0),0)","v":0},{"$f":"IFERROR(VLOOKUP(VALUE(A20),WEEKLY_DATA!$A:$H,5,0),0)","v":0},{"$f":"IFERROR(VLOOKUP(VALUE(A20),WEEKLY_DATA!$A:$H,6,0),0)","v":0},{"$f":"IFERROR(VLOOKUP(VALUE(A20),WEEKLY_DATA!$A:$H,7,0),0)","v":0},{"$f":"IFERROR(IF(OR(Q20=\"\",Q20=0),\"\",IF(VLOOKUP(VALUE($A20),WEEKLY_DATA!$A:$H,6,0)=0,\"No Sales\",Q20/(VLOOKUP(VALUE($A20),WEEKLY_DATA!$A:$H,6,0)/13))),\"\")","v":""},{"$f":"IFERROR(VLOOKUP(VALUE(A20),WEEKLY_DATA!$A:$H,8,0),0)","v":0},"—",null,null,null,null,null,null,"—",null,null,null,"—","—",null,{"$f":"IFERROR(LOOKUP(2, 1/SEARCH({\"Black\",\"White\",\"Grey\",\"Blue\",\"Silver\",\"Brown\",\"Green\",\"Blue\",\"Purple\",\"Red\",\"Pink\",\"Yellow\",\"Gold\"}, G20), {\"Black\",\"White\",\"Grey\",\"Blue\",\"Silver\",\"Brown\",\"Green\",\"Blue\",\"Purple\",\"Red\",\"Pink\",\"Yellow\",\"Gold\"}), \"\")","v":""},{"$f":"IFERROR(LOOKUP(2, 1/SEARCH({\"8GB\",\"16GB\",\"32GB\",\"64GB\"}, G20), {\"8GB\",\"16GB\",\"32GB\",\"64GB\"}), \"\")","v":""},{"$f":"IFERROR(LOOKUP(2, 1/SEARCH({\"1TB\",\"2TB\",\"128GB\",\"512GB\",\"256GB\"}, G20), {\"1TB\",\"2TB\",\"128GB\",\"512GB\",\"256GB\"}), \"\")","v":""},null,{"$f":"IFERROR(LOOKUP(2, 1/SEARCH({\"16-Inch\",\"15-Inch\",\"15.6-Inch\",\"18-Inch\",\"15.3-Inch\",\"13-Inch\",\"13.4-Inch\",\"13.8-Inch\",\"14-Inch\",\"17-Inch\",\"45-Inch\",\"27-Inch\",\"34-Inch\",\"32-Inch\",\"21.5-Inch\"}, G20), {\"16-Inch\",\"15-Inch\",\"15.6-Inch\",\"18-Inch\",\"15.3-Inch\",\"13-Inch\",\"13.4-Inch\",\"13.8-Inch\",\"14-Inch\",\"17-Inch\",\"45-Inch\",\"27-Inch\",\"34-Inch\",\"32-Inch\",\"21.5-Inch\"}), \"\")","v":""}]
[null,null,null,null,null,null,null,{"$f":"IFERROR(INDEX(BrandList!$A$2:$A$50,MATCH(TRUE,ISNUMBER(SEARCH(BrandList!$A$2:$A$50,G21)),0)),\"\")","v":""},{"$f":"IFERROR(INDEX(BrandList!$B$2:$B$200,MATCH(TRUE,ISNUMBER(SEARCH(BrandList!$B$2:$B$200,G21)),0)),\"\")","v":""},null,null,null,null,null,null,"",{"$f":"IFERROR(VLOOKUP(VALUE(A21),WEEKLY_DATA!$A:$H,2,0),0)","v":0},{"$f":"IFERROR(VLOOKUP(VALUE(A21),WEEKLY_DATA!$A:$H,3,0),0)","v":0},{"$f":"IFERROR(VLOOKUP(VALUE(A21),WEEKLY_DATA!$A:$H,4,0),0)","v":0},{"$f":"IFERROR(VLOOKUP(VALUE(A21),WEEKLY_DATA!$A:$H,5,0),0)","v":0},{"$f":"IFERROR(VLOOKUP(VALUE(A21),WEEKLY_DATA!$A:$H,6,0),0)","v":0},{"$f":"IFERROR(VLOOKUP(VALUE(A21),WEEKLY_DATA!$A:$H,7,0),0)","v":0},{"$f":"IFERROR(IF(OR(Q21=\"\",Q21=0),\"\",IF(VLOOKUP(VALUE($A21),WEEKLY_DATA!$A:$H,6,0)=0,\"No Sales\",Q21/(VLOOKUP(VALUE($A21),WEEKLY_DATA!$A:$H,6,0)/13))),\"\")","v":""},{"$f":"IFERROR(VLOOKUP(VALUE(A21),WEEKLY_DATA!$A:$H,8,0),0)","v":0},"—",null,null,null,null,null,null,"—",null,null,null,"—","—",null,{"$f":"IFERROR(LOOKUP(2, 1/SEARCH({\"Black\",\"White\",\"Grey\",\"Blue\",\"Silver\",\"Brown\",\"Green\",\"Blue\",\"Purple\",\"Red\",\"Pink\",\"Yellow\",\"Gold\"}, G21), {\"Black\",\"White\",\"Grey\",\"Blue\",\"Silver\",\"Brown\",\"Green\",\"Blue\",\"Purple\",\"Red\",\"Pink\",\"Yellow\",\"Gold\"}), \"\")","v":""},{"$f":"IFERROR(LOOKUP(2, 1/SEARCH({\"8GB\",\"16GB\",\"32GB\",\"64GB\"}, G21), {\"8GB\",\"16GB\",\"32GB\",\"64GB\"}), \"\")","v":""},{"$f":"IFERROR(LOOKUP(2, 1/SEARCH({\"1TB\",\"2TB\",\"128GB\",\"512GB\",\"256GB\"}, G21), {\"1TB\",\"2TB\",\"128GB\",\"512GB\",\"256GB\"}), \"\")","v":""},null,{"$f":"IFERROR(LOOKUP(2, 1/SEARCH({\"16-Inch\",\"15-Inch\",\"15.6-Inch\",\"18-Inch\",\"15.3-Inch\",\"13-Inch\",\"13.4-Inch\",\"13.8-Inch\",\"14-Inch\",\"17-Inch\",\"45-Inch\",\"27-Inch\",\"34-Inch\",\"32-Inch\",\"21.5-Inch\"}, G21), {\"16-Inch\",\"15-Inch\",\"15.6-Inch\",\"18-Inch\",\"15.3-Inch\",\"13-Inch\",\"13.4-Inch\",\"13.8-Inch\",\"14-Inch\",\"17-Inch\",\"45-Inch\",\"27-Inch\",\"34-Inch\",\"32-Inch\",\"21.5-Inch\"}), \"\")","v":""}]
[null,null,null,null,null,null,null,{"$f":"IFERROR(INDEX(BrandList!$A$2:$A$50,MATCH(TRUE,ISNUMBER(SEARCH(BrandList!$A$2:$A$50,G22)),0)),\"\")","v":""},{"$f":"IFERROR(INDEX(BrandList!$B$2:$B$200,MATCH(TRUE,ISNUMBER(SEARCH(BrandList!$B$2:$B$200,G22)),0)),\"\")","v":""},null,null,null,null,null,null,"",{"$f":"IFERROR(VLOOKUP(VALUE(A22),WEEKLY_DATA!$A:$H,2,0),0)","v":0},{"$f":"IFERROR(VLOOKUP(VALUE(A22),WEEKLY_DATA!$A:$H,3,0),0)","v":0},{"$f":"IFERROR(VLOOKUP(VALUE(A22),WEEKLY_DATA!$A:$H,4,0),0)","v":0},{"$f":"IFERROR(VLOOKUP(VALUE(A22),WEEKLY_DATA!$A:$H,5,0),0)","v":0},{"$f":"IFERROR(VLOOKUP(VALUE(A22),WEEKLY_DATA!$A:$H,6,0),0)","v":0},{"$f":"IFERROR(VLOOKUP(VALUE(A22),WEEKLY_DATA!$A:$H,7,0),0)","v":0},{"$f":"IFERROR(IF(OR(Q22=\"\",Q22=0),\"\",IF(VLOOKUP(VALUE($A22),WEEKLY_DATA!$A:$H,6,0)=0,\"No Sales\",Q22/(VLOOKUP(VALUE($A22),WEEKLY_DATA!$A:$H,6,0)/13))),\"\")","v":""},{"$f":"IFERROR(VLOOKUP(VALUE(A22),WEEKLY_DATA!$A:$H,8,0),0)","v":0},"—",null,null,null,null,null,null,"—",null,null,null,"—","—",null,{"$f":"IFERROR(LOOKUP(2, 1/SEARCH({\"Black\",\"White\",\"Grey\",\"Blue\",\"Silver\",\"Brown\",\"Green\",\"Blue\",\"Purple\",\"Red\",\"Pink\",\"Yellow\",\"Gold\"}, G22), {\"Black\",\"White\",\"Grey\",\"Blue\",\"Silver\",\"Brown\",\"Green\",\"Blue\",\"Purple\",\"Red\",\"Pink\",\"Yellow\",\"Gold\"}), \"\")","v":""},{"$f":"IFERROR(LOOKUP(2, 1/SEARCH({\"8GB\",\"16GB\",\"32GB\",\"64GB\"}, G22), {\"8GB\",\"16GB\",\"32GB\",\"64GB\"}), \"\")","v":""},{"$f":"IFERROR(LOOKUP(2, 1/SEARCH({\"1TB\",\"2TB\",\"128GB\",\"512GB\",\"256GB\"}, G22), {\"1TB\",\"2TB\",\"128GB\",\"512GB\",\"256GB\"}), \"\")","v":""},null,{"$f":"IFERROR(LOOKUP(2, 1/SEARCH({\"16-Inch\",\"15-Inch\",\"15.6-Inch\",\"18-Inch\",\"15.3-Inch\",\"13-Inch\",\"13.4-Inch\",\"13.8-Inch\",\"14-Inch\",\"17-Inch\",\"45-Inch\",\"27-Inch\",\"34-Inch\",\"32-Inch\",\"21.5-Inch\"}, G22), {\"16-Inch\",\"15-Inch\",\"15.6-Inch\",\"18-Inch\",\"15.3-Inch\",\"13-Inch\",\"13.4-Inch\",\"13.8-Inch\",\"14-Inch\",\"17-Inch\",\"45-Inch\",\"27-Inch\",\"34-Inch\",\"32-Inch\",\"21.5-Inch\"}), \"\")","v":""}]
[null,null,null,null,null,null,null,{"$f":"IFERROR(INDEX(BrandList!$A$2:$A$50,MATCH(TRUE,ISNUMBER(SEARCH(BrandList!$A$2:$A$50,G23)),0)),\"\")","v":""},{"$f":"IFERROR(INDEX(BrandList!$B$2:$B$200,MATCH(TRUE,ISNUMBER(SEARCH(BrandList!$B$2:$B$200,G23)),0)),\"\")","v":""},null,null,null,null,null,null,"",{"$f":"IFERROR(VLOOKUP(VALUE(A23),WEEKLY_DATA!$A:$H,2,0),0)","v":0},{"$f":"IFERROR(VLOOKUP(VALUE(A23),WEEKLY_DATA!$A:$H,3,0),0)","v":0},{"$f":"IFERROR(VLOOKUP(VALUE(A23),WEEKLY_DATA!$A:$H,4,0),0)","v":0},{"$f":"IFERROR(VLOOKUP(VALUE(A23),WEEKLY_DATA!$A:$H,5,0),0)","v":0},{"$f":"IFERROR(VLOOKUP(VALUE(A23),WEEKLY_DATA!$A:$H,6,0),0)","v":0},{"$f":"IFERROR(VLOOKUP(VALUE(A23),WEEKLY_DATA!$A:$H,7,0),0)","v":0},{"$f":"IFERROR(IF(OR(Q23=\"\",Q23=0),\"\",IF(VLOOKUP(VALUE($A23),WEEKLY_DATA!$A:$H,6,0)=0,\"No Sales\",Q23/(VLOOKUP(VALUE($A23),WEEKLY_DATA!$A:$H,6,0)/13))),\"\")","v":""},{"$f":"IFERROR(VLOOKUP(VALUE(A23),WEEKLY_DATA!$A:$H,8,0),0)","v":0},"—",null,null,null,null,null,null,"—",null,null,null,"—","—",null,{"$f":"IFERROR(LOOKUP(2, 1/SEARCH({\"Black\",\"White\",\"Grey\",\"Blue\",\"Silver\",\"Brown\",\"Green\",\"Blue\",\"Purple\",\"Red\",\"Pink\",\"Yellow\",\"Gold\"}, G23), {\"Black\",\"White\",\"Grey\",\"Blue\",\"Silver\",\"Brown\",\"Green\",\"Blue\",\"Purple\",\"Red\",\"Pink\",\"Yellow\",\"Gold\"}), \"\")","v":""},{"$f":"IFERROR(LOOKUP(2, 1/SEARCH({\"8GB\",\"16GB\",\"32GB\",\"64GB\"}, G23), {\"8GB\",\"16GB\",\"32GB\",\"64GB\"}), \"\")","v":""},{"$f":"IFERROR(LOOKUP(2, 1/SEARCH({\"1TB\",\"2TB\",\"128GB\",\"512GB\",\"256GB\"}, G23), {\"1TB\",\"2TB\",\"128GB\",\"512GB\",\"256GB\"}), \"\")","v":""},null,{"$f":"IFERROR(LOOKUP(2, 1/SEARCH({\"16-Inch\",\"15-Inch\",\"15.6-Inch\",\"18-Inch\",\"15.3-Inch\",\"13-Inch\",\"13.4-Inch\",\"13.8-Inch\",\"14-Inch\",\"17-Inch\",\"45-Inch\",\"27-Inch\",\"34-Inch\",\"32-Inch\",\"21.5-Inch\"}, G23), {\"16-Inch\",\"15-Inch\",\"15.6-Inch\",\"18-Inch\",\"15.3-Inch\",\"13-Inch\",\"13.4-Inch\",\"13.8-Inch\",\"14-Inch\",\"17-Inch\",\"45-Inch\",\"27-Inch\",\"34-Inch\",\"32-Inch\",\"21.5-Inch\"}), \"\")","v":""}]
[null,null,null,null,null,null,null,{"$f":"IFERROR(INDEX(BrandList!$A$2:$A$50,MATCH(TRUE,ISNUMBER(SEARCH(BrandList!$A$2:$A$50,G24)),0)),\"\")","v":""},{"$f":"IFERROR(INDEX(BrandList!$B$2:$B$200,MATCH(TRUE,ISNUMBER(SEARCH(BrandList!$B$2:$B$200,G24)),0)),\"\")","v":""},null,null,null,null,null,null,"",{"$f":"IFERROR(VLOOKUP(VALUE(A24),WEEKLY_DATA!$A:$H,2,0),0)","v":0},{"$f":"IFERROR(VLOOKUP(VALUE(A24),WEEKLY_DATA!$A:$H,3,0),0)","v":0},{"$f":"IFERROR(VLOOKUP(VALUE(A24),WEEKLY_DATA!$A:$H,4,0),0)","v":0},{"$f":"IFERROR(VLOOKUP(VALUE(A24),WEEKLY_DATA!$A:$H,5,0),0)","v":0},{"$f":"IFERROR(VLOOKUP(VALUE(A24),WEEKLY_DATA!$A:$H,6,0),0)","v":0},{"$f":"IFERROR(VLOOKUP(VALUE(A24),WEEKLY_DATA!$A:$H,7,0),0)","v":0},{"$f":"IFERROR(IF(OR(Q24=\"\",Q24=0),\"\",IF(VLOOKUP(VALUE($A24),WEEKLY_DATA!$A:$H,6,0)=0,\"No Sales\",Q24/(VLOOKUP(VALUE($A24),WEEKLY_DATA!$A:$H,6,0)/13))),\"\")","v":""},{"$f":"IFERROR(VLOOKUP(VALUE(A24),WEEKLY_DATA!$A:$H,8,0),0)","v":0},"—",null,null,null,null,null,null,null,null,null,null,null,null,null,{"$f":"IFERROR(LOOKUP(2, 1/SEARCH({\"Black\",\"White\",\"Grey\",\"Blue\",\"Silver\",\"Brown\",\"Green\",\"Blue\",\"Purple\",\"Red\",\"Pink\",\"Yellow\",\"Gold\"}, G24), {\"Black\",\"White\",\"Grey\",\"Blue\",\"Silver\",\"Brown\",\"Green\",\"Blue\",\"Purple\",\"Red\",\"Pink\",\"Yellow\",\"Gold\"}), \"\")","v":""},{"$f":"IFERROR(LOOKUP(2, 1/SEARCH({\"8GB\",\"16GB\",\"32GB\",\"64GB\"}, G24), {\"8GB\",\"16GB\",\"32GB\",\"64GB\"}), \"\")","v":""},{"$f":"IFERROR(LOOKUP(2, 1/SEARCH({\"1TB\",\"2TB\",\"128GB\",\"512GB\",\"256GB\"}, G24), {\"1TB\",\"2TB\",\"128GB\",\"512GB\",\"256GB\"}), \"\")","v":""}]
[null,null,null,null,null,null,null,{"$f":"IFERROR(INDEX(BrandList!$A$2:$A$50,MATCH(TRUE,ISNUMBER(SEARCH(BrandList!$A$2:$A$50,G25)),0)),\"\")","v":""},{"$f":"IFERROR(INDEX(BrandList!$B$2:$B$200,MATCH(TRUE,ISNUMBER(SEARCH(BrandList!$B$2:$B$200,G25)),0)),\"\")","v":""},null,null,null,null,null,null,"",{"$f":"IFERROR(VLOOKUP(VALUE(A25),WEEKLY_DATA!$A:$H,2,0),0)","v":0},{"$f":"IFERROR(VLOOKUP(VALUE(A25),WEEKLY_DATA!$A:$H,3,0),0)","v":0},{"$f":"IFERROR(VLOOKUP(VALUE(A25),WEEKLY_DATA!$A:$H,4,0),0)","v":0},{"$f":"IFERROR(VLOOKUP(VALUE(A25),WEEKLY_DATA!$A:$H,5,0),0)","v":0},{"$f":"IFERROR(VLOOKUP(VALUE(A25),WEEKLY_DATA!$A:$H,6,0),0)","v":0},{"$f":"IFERROR(VLOOKUP(VALUE(A25),WEEKLY_DATA!$A:$H,7,0),0)","v":0},{"$f":"IFERROR(IF(OR(Q25=\"\",Q25=0),\"\",IF(VLOOKUP(VALUE($A25),WEEKLY_DATA!$A:$H,6,0)=0,\"No Sales\",Q25/(VLOOKUP(VALUE($A25),WEEKLY_DATA!$A:$H,6,0)/13))),\"\")","v":""},{"$f":"IFERROR(VLOOKUP(VALUE(A25),WEEKLY_DATA!$A:$H,8,0),0)","v":0},"—",null,null,null,null,null,null,null,null,null,null,null,null,null,{"$f":"IFERROR(LOOKUP(2, 1/SEARCH({\"Black\",\"White\",\"Grey\",\"Blue\",\"Silver\",\"Brown\",\"Green\",\"Blue\",\"Purple\",\"Red\",\"Pink\",\"Yellow\",\"Gold\"}, G25), {\"Black\",\"White\",\"Grey\",\"Blue\",\"Silver\",\"Brown\",\"Green\",\"Blue\",\"Purple\",\"Red\",\"Pink\",\"Yellow\",\"Gold\"}), \"\")","v":""},{"$f":"IFERROR(LOOKUP(2, 1/SEARCH({\"8GB\",\"16GB\",\"32GB\",\"64GB\"}, G25), {\"8GB\",\"16GB\",\"32GB\",\"64GB\"}), \"\")","v":""},{"$f":"IFERROR(LOOKUP(2, 1/SEARCH({\"1TB\",\"2TB\",\"128GB\",\"512GB\",\"256GB\"}, G25), {\"1TB\",\"2TB\",\"128GB\",\"512GB\",\"256GB\"}), \"\")","v":""}]
[null,null,null,null,null,null,null,{"$f":"IFERROR(INDEX(BrandList!$A$2:$A$50,MATCH(TRUE,ISNUMBER(SEARCH(BrandList!$A$2:$A$50,G26)),0)),\"\")","v":""},{"$f":"IFERROR(INDEX(BrandList!$B$2:$B$200,MATCH(TRUE,ISNUMBER(SEARCH(BrandList!$B$2:$B$200,G26)),0)),\"\")","v":""},null,null,null,null,null,null,"",{"$f":"IFERROR(VLOOKUP(VALUE(A26),WEEKLY_DATA!$A:$H,2,0),0)","v":0},{"$f":"IFERROR(VLOOKUP(VALUE(A26),WEEKLY_DATA!$A:$H,3,0),0)","v":0},{"$f":"IFERROR(VLOOKUP(VALUE(A26),WEEKLY_DATA!$A:$H,4,0),0)","v":0},{"$f":"IFERROR(VLOOKUP(VALUE(A26),WEEKLY_DATA!$A:$H,5,0),0)","v":0},{"$f":"IFERROR(VLOOKUP(VALUE(A26),WEEKLY_DATA!$A:$H,6,0),0)","v":0},{"$f":"IFERROR(VLOOKUP(VALUE(A26),WEEKLY_DATA!$A:$H,7,0),0)","v":0},{"$f":"IFERROR(IF(OR(Q26=\"\",Q26=0),\"\",IF(VLOOKUP(VALUE($A26),WEEKLY_DATA!$A:$H,6,0)=0,\"No Sales\",Q26/(VLOOKUP(VALUE($A26),WEEKLY_DATA!$A:$H,6,0)/13))),\"\")","v":""},{"$f":"IFERROR(VLOOKUP(VALUE(A26),WEEKLY_DATA!$A:$H,8,0),0)","v":0},"—",null,null,null,null,null,null,null,null,null,null,null,null,null,{"$f":"IFERROR(LOOKUP(2, 1/SEARCH({\"Black\",\"White\",\"Grey\",\"Blue\",\"Silver\",\"Brown\",\"Green\",\"Blue\",\"Purple\",\"Red\",\"Pink\",\"Yellow\",\"Gold\"}, G26), {\"Black\",\"White\",\"Grey\",\"Blue\",\"Silver\",\"Brown\",\"Green\",\"Blue\",\"Purple\",\"Red\",\"Pink\",\"Yellow\",\"Gold\"}), \"\")","v":""},{"$f":"IFERROR(LOOKUP(2, 1/SEARCH({\"8GB\",\"16GB\",\"32GB\",\"64GB\"}, G26), {\"8GB\",\"16GB\",\"32GB\",\"64GB\"}), \"\")","v":""},{"$f":"IFERROR(LOOKUP(2, 1/SEARCH({\"1TB\",\"2TB\",\"128GB\",\"512GB\",\"256GB\"}, G26), {\"1TB\",\"2TB\",\"128GB\",\"512GB\",\"256GB\"}), \"\")","v":""}]
[null,null,null,null,null,null,null,{"$f":"IFERROR(INDEX(BrandList!$A$2:$A$50,MATCH(TRUE,ISNUMBER(SEARCH(BrandList!$A$2:$A$50,G27)),0)),\"\")","v":""},{"$f":"IFERROR(INDEX(BrandList!$B$2:$B$200,MATCH(TRUE,ISNUMBER(SEARCH(BrandList!$B$2:$B$200,G27)),0)),\"\")","v":""},null,null,null,null,null,null,"",{"$f":"IFERROR(VLOOKUP(VALUE(A27),WEEKLY_DATA!$A:$H,2,0),0)","v":0},{"$f":"IFERROR(VLOOKUP(VALUE(A27),WEEKLY_DATA!$A:$H,3,0),0)","v":0},{"$f":"IFERROR(VLOOKUP(VALUE(A27),WEEKLY_DATA!$A:$H,4,0),0)","v":0},{"$f":"IFERROR(VLOOKUP(VALUE(A27),WEEKLY_DATA!$A:$H,5,0),0)","v":0},{"$f":"IFERROR(VLOOKUP(VALUE(A27),WEEKLY_DATA!$A:$H,6,0),0)","v":0},{"$f":"IFERROR(VLOOKUP(VALUE(A27),WEEKLY_DATA!$A:$H,7,0),0)","v":0},{"$f":"IFERROR(IF(OR(Q27=\"\",Q27=0),\"\",IF(VLOOKUP(VALUE($A27),WEEKLY_DATA!$A:$H,6,0)=0,\"No Sales\",Q27/(VLOOKUP(VALUE($A27),WEEKLY_DATA!$A:$H,6,0)/13))),\"\")","v":""},{"$f":"IFERROR(VLOOKUP(VALUE(A27),WEEKLY_DATA!$A:$H,8,0),0)","v":0},"—",null,null,{"$f":"IFERROR(IF(A27=\"\",\"\",VLOOKUP(G27,Settings!$A:$D,4,0)),\"\")","v":""},null,null,null,"—",null,null,null,"—","—",null,{"$f":"IFERROR(LOOKUP(2, 1/SEARCH({\"Black\",\"White\",\"Grey\",\"Blue\",\"Silver\",\"Brown\",\"Green\",\"Blue\",\"Purple\",\"Red\",\"Pink\",\"Yellow\",\"Gold\"}, G27), {\"Black\",\"White\",\"Grey\",\"Blue\",\"Silver\",\"Brown\",\"Green\",\"Blue\",\"Purple\",\"Red\",\"Pink\",\"Yellow\",\"Gold\"}), \"\")","v":""},{"$f":"IFERROR(LOOKUP(2, 1/SEARCH({\"8GB\",\"16GB\",\"32GB\",\"64GB\"}, G27), {\"8GB\",\"16GB\",\"32GB\",\"64GB\"}), \"\")","v":""},{"$f":"IFERROR(LOOKUP(2, 1/SEARCH({\"1TB\",\"2TB\",\"128GB\",\"512GB\",\"256GB\"}, G27), {\"1TB\",\"2TB\",\"128GB\",\"512GB\",\"256GB\"}), \"\")","v":""},null,{"$f":"IFERROR(LOOKUP(2, 1/SEARCH({\"16-Inch\",\"15-Inch\",\"15.6-Inch\",\"18-Inch\",\"15.3-Inch\",\"13-Inch\",\"13.4-Inch\",\"13.8-Inch\",\"14-Inch\",\"17-Inch\",\"45-Inch\",\"27-Inch\",\"34-Inch\",\"32-Inch\",\"21.5-Inch\"}, G27), {\"16-Inch\",\"15-Inch\",\"15.6-Inch\",\"18-Inch\",\"15.3-Inch\",\"13-Inch\",\"13.4-Inch\",\"13.8-Inch\",\"14-Inch\",\"17-Inch\",\"45-Inch\",\"27-Inch\",\"34-Inch\",\"32-Inch\",\"21.5-Inch\"}), \"\")","v":""}]
[null,null,null,null,null,null,null,{"$f":"IFERROR(INDEX(BrandList!$A$2:$A$50,MATCH(TRUE,ISNUMBER(SEARCH(BrandList!$A$2:$A$50,G28)),0)),\"\")","v":""},{"$f":"IFERROR(INDEX(BrandList!$B$2:$B$200,MATCH(TRUE,ISNUMBER(SEARCH(BrandList!$B$2:$B$200,G28)),0)),\"\")","v":""},null,null,null,null,null,null,"",{"$f":"IFERROR(VLOOKUP(VALUE(A28),WEEKLY_DATA!$A:$H,2,0),0)","v":0},{"$f":"IFERROR(VLOOKUP(VALUE(A28),WEEKLY_DATA!$A:$H,3,0),0)","v":0},{"$f":"IFERROR(VLOOKUP(VALUE(A28),WEEKLY_DATA!$A:$H,4,0),0)","v":0},{"$f":"IFERROR(VLOOKUP(VALUE(A28),WEEKLY_DATA!$A:$H,5,0),0)","v":0},{"$f":"IFERROR(VLOOKUP(VALUE(A28),WEEKLY_DATA!$A:$H,6,0),0)","v":0},{"$f":"IFERROR(VLOOKUP(VALUE(A28),WEEKLY_DATA!$A:$H,7,0),0)","v":0},{"$f":"IFERROR(IF(OR(Q28=\"\",Q28=0),\"\",IF(VLOOKUP(VALUE($A28),WEEKLY_DATA!$A:$H,6,0)=0,\"No Sales\",Q28/(VLOOKUP(VALUE($A28),WEEKLY_DATA!$A:$H,6,0)/13))),\"\")","v":""},{"$f":"IFERROR(VLOOKUP(VALUE(A28),WEEKLY_DATA!$A:$H,8,0),0)","v":0},"—",null,null,{"$f":"IFERROR(IF(A28=\"\",\"\",VLOOKUP(G28,Settings!$A:$D,4,0)),\"\")","v":""},null,null,null,"—",null,null,null,"—","—",null,{"$f":"IFERROR(LOOKUP(2, 1/SEARCH({\"Black\",\"White\",\"Grey\",\"Blue\",\"Silver\",\"Brown\",\"Green\",\"Blue\",\"Purple\",\"Red\",\"Pink\",\"Yellow\",\"Gold\"}, G28), {\"Black\",\"White\",\"Grey\",\"Blue\",\"Silver\",\"Brown\",\"Green\",\"Blue\",\"Purple\",\"Red\",\"Pink\",\"Yellow\",\"Gold\"}), \"\")","v":""},{"$f":"IFERROR(LOOKUP(2, 1/SEARCH({\"8GB\",\"16GB\",\"32GB\",\"64GB\"}, G28), {\"8GB\",\"16GB\",\"32GB\",\"64GB\"}), \"\")","v":""},{"$f":"IFERROR(LOOKUP(2, 1/SEARCH({\"1TB\",\"2TB\",\"128GB\",\"512GB\",\"256GB\"}, G28), {\"1TB\",\"2TB\",\"128GB\",\"512GB\",\"256GB\"}), \"\")","v":""},null,{"$f":"IFERROR(LOOKUP(2, 1/SEARCH({\"16-Inch\",\"15-Inch\",\"15.6-Inch\",\"18-Inch\",\"15.3-Inch\",\"13-Inch\",\"13.4-Inch\",\"13.8-Inch\",\"14-Inch\",\"17-Inch\",\"45-Inch\",\"27-Inch\",\"34-Inch\",\"32-Inch\",\"21.5-Inch\"}, G28), {\"16-Inch\",\"15-Inch\",\"15.6-Inch\",\"18-Inch\",\"15.3-Inch\",\"13-Inch\",\"13.4-Inch\",\"13.8-Inch\",\"14-Inch\",\"17-Inch\",\"45-Inch\",\"27-Inch\",\"34-Inch\",\"32-Inch\",\"21.5-Inch\"}), \"\")","v":""}]
[null,null,null,null,null,null,null,{"$f":"IFERROR(INDEX(BrandList!$A$2:$A$50,MATCH(TRUE,ISNUMBER(SEARCH(BrandList!$A$2:$A$50,G29)),0)),\"\")","v":""},{"$f":"IFERROR(INDEX(BrandList!$B$2:$B$200,MATCH(TRUE,ISNUMBER(SEARCH(BrandList!$B$2:$B$200,G29)),0)),\"\")","v":""},null,null,null,null,null,null,"",{"$f":"IFERROR(VLOOKUP(VALUE(A29),WEEKLY_DATA!$A:$H,2,0),0)","v":0},{"$f":"IFERROR(VLOOKUP(VALUE(A29),WEEKLY_DATA!$A:$H,3,0),0)","v":0},{"$f":"IFERROR(VLOOKUP(VALUE(A29),WEEKLY_DATA!$A:$H,4,0),0)","v":0},{"$f":"IFERROR(VLOOKUP(VALUE(A29),WEEKLY_DATA!$A:$H,5,0),0)","v":0},{"$f":"IFERROR(VLOOKUP(VALUE(A29),WEEKLY_DATA!$A:$H,6,0),0)","v":0},{"$f":"IFERROR(VLOOKUP(VALUE(A29),WEEKLY_DATA!$A:$H,7,0),0)","v":0},{"$f":"IFERROR(IF(OR(Q29=\"\",Q29=0),\"\",IF(VLOOKUP(VALUE($A29),WEEKLY_DATA!$A:$H,6,0)=0,\"No Sales\",Q29/(VLOOKUP(VALUE($A29),WEEKLY_DATA!$A:$H,6,0)/13))),\"\")","v":""},{"$f":"IFERROR(VLOOKUP(VALUE(A29),WEEKLY_DATA!$A:$H,8,0),0)","v":0},"—",null,null,{"$f":"IFERROR(IF(A29=\"\",\"\",VLOOKUP(G29,Settings!$A:$D,4,0)),\"\")","v":""},null,null,null,"—",null,null,null,"—","—",null,{"$f":"IFERROR(LOOKUP(2, 1/SEARCH({\"Black\",\"White\",\"Grey\",\"Blue\",\"Silver\",\"Brown\",\"Green\",\"Blue\",\"Purple\",\"Red\",\"Pink\",\"Yellow\",\"Gold\"}, G29), {\"Black\",\"White\",\"Grey\",\"Blue\",\"Silver\",\"Brown\",\"Green\",\"Blue\",\"Purple\",\"Red\",\"Pink\",\"Yellow\",\"Gold\"}), \"\")","v":""},{"$f":"IFERROR(LOOKUP(2, 1/SEARCH({\"8GB\",\"16GB\",\"32GB\",\"64GB\"}, G29), {\"8GB\",\"16GB\",\"32GB\",\"64GB\"}), \"\")","v":""},{"$f":"IFERROR(LOOKUP(2, 1/SEARCH({\"1TB\",\"2TB\",\"128GB\",\"512GB\",\"256GB\"}, G29), {\"1TB\",\"2TB\",\"128GB\",\"512GB\",\"256GB\"}), \"\")","v":""},null,{"$f":"IFERROR(LOOKUP(2, 1/SEARCH({\"16-Inch\",\"15-Inch\",\"15.6-Inch\",\"18-Inch\",\"15.3-Inch\",\"13-Inch\",\"13.4-Inch\",\"13.8-Inch\",\"14-Inch\",\"17-Inch\",\"45-Inch\",\"27-Inch\",\"34-Inch\",\"32-Inch\",\"21.5-Inch\"}, G29), {\"16-Inch\",\"15-Inch\",\"15.6-Inch\",\"18-Inch\",\"15.3-Inch\",\"13-Inch\",\"13.4-Inch\",\"13.8-Inch\",\"14-Inch\",\"17-Inch\",\"45-Inch\",\"27-Inch\",\"34-Inch\",\"32-Inch\",\"21.5-Inch\"}), \"\")","v":""}]
[null,null,null,null,null,null,null,{"$f":"IFERROR(INDEX(BrandList!$A$2:$A$50,MATCH(TRUE,ISNUMBER(SEARCH(BrandList!$A$2:$A$50,G30)),0)),\"\")","v":""},{"$f":"IFERROR(INDEX(BrandList!$B$2:$B$200,MATCH(TRUE,ISNUMBER(SEARCH(BrandList!$B$2:$B$200,G30)),0)),\"\")","v":""},null,null,null,null,null,null,"",{"$f":"IFERROR(VLOOKUP(VALUE(A30),WEEKLY_DATA!$A:$H,2,0),0)","v":0},{"$f":"IFERROR(VLOOKUP(VALUE(A30),WEEKLY_DATA!$A:$H,3,0),0)","v":0},{"$f":"IFERROR(VLOOKUP(VALUE(A30),WEEKLY_DATA!$A:$H,4,0),0)","v":0},{"$f":"IFERROR(VLOOKUP(VALUE(A30),WEEKLY_DATA!$A:$H,5,0),0)","v":0},{"$f":"IFERROR(VLOOKUP(VALUE(A30),WEEKLY_DATA!$A:$H,6,0),0)","v":0},{"$f":"IFERROR(VLOOKUP(VALUE(A30),WEEKLY_DATA!$A:$H,7,0),0)","v":0},{"$f":"IFERROR(IF(OR(Q30=\"\",Q30=0),\"\",IF(VLOOKUP(VALUE($A30),WEEKLY_DATA!$A:$H,6,0)=0,\"No Sales\",Q30/(VLOOKUP(VALUE($A30),WEEKLY_DATA!$A:$H,6,0)/13))),\"\")","v":""},{"$f":"IFERROR(VLOOKUP(VALUE(A30),WEEKLY_DATA!$A:$H,8,0),0)","v":0},"—",null,null,{"$f":"IFERROR(IF(A30=\"\",\"\",VLOOKUP(G30,Settings!$A:$D,4,0)),\"\")","v":""},null,null,null,"—",null,null,null,"—","—",null,{"$f":"IFERROR(LOOKUP(2, 1/SEARCH({\"Black\",\"White\",\"Grey\",\"Blue\",\"Silver\",\"Brown\",\"Green\",\"Blue\",\"Purple\",\"Red\",\"Pink\",\"Yellow\",\"Gold\"}, G30), {\"Black\",\"White\",\"Grey\",\"Blue\",\"Silver\",\"Brown\",\"Green\",\"Blue\",\"Purple\",\"Red\",\"Pink\",\"Yellow\",\"Gold\"}), \"\")","v":""},{"$f":"IFERROR(LOOKUP(2, 1/SEARCH({\"8GB\",\"16GB\",\"32GB\",\"64GB\"}, G30), {\"8GB\",\"16GB\",\"32GB\",\"64GB\"}), \"\")","v":""},{"$f":"IFERROR(LOOKUP(2, 1/SEARCH({\"1TB\",\"2TB\",\"128GB\",\"512GB\",\"256GB\"}, G30), {\"1TB\",\"2TB\",\"128GB\",\"512GB\",\"256GB\"}), \"\")","v":""},null,{"$f":"IFERROR(LOOKUP(2, 1/SEARCH({\"16-Inch\",\"15-Inch\",\"15.6-Inch\",\"18-Inch\",\"15.3-Inch\",\"13-Inch\",\"13.4-Inch\",\"13.8-Inch\",\"14-Inch\",\"17-Inch\",\"45-Inch\",\"27-Inch\",\"34-Inch\",\"32-Inch\",\"21.5-Inch\"}, G30), {\"16-Inch\",\"15-Inch\",\"15.6-Inch\",\"18-Inch\",\"15.3-Inch\",\"13-Inch\",\"13.4-Inch\",\"13.8-Inch\",\"14-Inch\",\"17-Inch\",\"45-Inch\",\"27-Inch\",\"34-Inch\",\"32-Inch\",\"21.5-Inch\"}), \"\")","v":""}]
[null,null,null,null,null,null,null,{"$f":"IFERROR(INDEX(BrandList!$A$2:$A$50,MATCH(TRUE,ISNUMBER(SEARCH(BrandList!$A$2:$A$50,G31)),0)),\"\")","v":""},{"$f":"IFERROR(INDEX(BrandList!$B$2:$B$200,MATCH(TRUE,ISNUMBER(SEARCH(BrandList!$B$2:$B$200,G31)),0)),\"\")","v":""},null,null,null,null,null,null,"",{"$f":"IFERROR(VLOOKUP(VALUE(A31),WEEKLY_DATA!$A:$H,2,0),0)","v":0},{"$f":"IFERROR(VLOOKUP(VALUE(A31),WEEKLY_DATA!$A:$H,3,0),0)","v":0},{"$f":"IFERROR(VLOOKUP(VALUE(A31),WEEKLY_DATA!$A:$H,4,0),0)","v":0},{"$f":"IFERROR(VLOOKUP(VALUE(A31),WEEKLY_DATA!$A:$H,5,0),0)","v":0},{"$f":"IFERROR(VLOOKUP(VALUE(A31),WEEKLY_DATA!$A:$H,6,0),0)","v":0},{"$f":"IFERROR(VLOOKUP(VALUE(A31),WEEKLY_DATA!$A:$H,7,0),0)","v":0},{"$f":"IFERROR(IF(OR(Q31=\"\",Q31=0),\"\",IF(VLOOKUP(VALUE($A31),WEEKLY_DATA!$A:$H,6,0)=0,\"No Sales\",Q31/(VLOOKUP(VALUE($A31),WEEKLY_DATA!$A:$H,6,0)/13))),\"\")","v":""},{"$f":"IFERROR(VLOOKUP(VALUE(A31),WEEKLY_DATA!$A:$H,8,0),0)","v":0},"—",null,null,{"$f":"IFERROR(IF(A31=\"\",\"\",VLOOKUP(G31,Settings!$A:$D,4,0)),\"\")","v":""},null,null,null,"—",null,null,null,"—","—",null,{"$f":"IFERROR(LOOKUP(2, 1/SEARCH({\"Black\",\"White\",\"Grey\",\"Blue\",\"Silver\",\"Brown\",\"Green\",\"Blue\",\"Purple\",\"Red\",\"Pink\",\"Yellow\",\"Gold\"}, G31), {\"Black\",\"White\",\"Grey\",\"Blue\",\"Silver\",\"Brown\",\"Green\",\"Blue\",\"Purple\",\"Red\",\"Pink\",\"Yellow\",\"Gold\"}), \"\")","v":""},{"$f":"IFERROR(LOOKUP(2, 1/SEARCH({\"8GB\",\"16GB\",\"32GB\",\"64GB\"}, G31), {\"8GB\",\"16GB\",\"32GB\",\"64GB\"}), \"\")","v":""},{"$f":"IFERROR(LOOKUP(2, 1/SEARCH({\"1TB\",\"2TB\",\"128GB\",\"512GB\",\"256GB\"}, G31), {\"1TB\",\"2TB\",\"128GB\",\"512GB\",\"256GB\"}), \"\")","v":""},null,{"$f":"IFERROR(LOOKUP(2, 1/SEARCH({\"16-Inch\",\"15-Inch\",\"15.6-Inch\",\"18-Inch\",\"15.3-Inch\",\"13-Inch\",\"13.4-Inch\",\"13.8-Inch\",\"14-Inch\",\"17-Inch\",\"45-Inch\",\"27-Inch\",\"34-Inch\",\"32-Inch\",\"21.5-Inch\"}, G31), {\"16-Inch\",\"15-Inch\",\"15.6-Inch\",\"18-Inch\",\"15.3-Inch\",\"13-Inch\",\"13.4-Inch\",\"13.8-Inch\",\"14-Inch\",\"17-Inch\",\"45-Inch\",\"27-Inch\",\"34-Inch\",\"32-Inch\",\"21.5-Inch\"}), \"\")","v":""}]
[null,null,null,null,null,null,null,{"$f":"IFERROR(INDEX(BrandList!$A$2:$A$50,MATCH(TRUE,ISNUMBER(SEARCH(BrandList!$A$2:$A$50,G32)),0)),\"\")","v":""},{"$f":"IFERROR(INDEX(BrandList!$B$2:$B$200,MATCH(TRUE,ISNUMBER(SEARCH(BrandList!$B$2:$B$200,G32)),0)),\"\")","v":""},null,null,null,null,null,null,"",{"$f":"IFERROR(VLOOKUP(VALUE(A32),WEEKLY_DATA!$A:$H,2,0),0)","v":0},{"$f":"IFERROR(VLOOKUP(VALUE(A32),WEEKLY_DATA!$A:$H,3,0),0)","v":0},{"$f":"IFERROR(VLOOKUP(VALUE(A32),WEEKLY_DATA!$A:$H,4,0),0)","v":0},{"$f":"IFERROR(VLOOKUP(VALUE(A32),WEEKLY_DATA!$A:$H,5,0),0)","v":0},{"$f":"IFERROR(VLOOKUP(VALUE(A32),WEEKLY_DATA!$A:$H,6,0),0)","v":0},{"$f":"IFERROR(VLOOKUP(VALUE(A32),WEEKLY_DATA!$A:$H,7,0),0)","v":0},{"$f":"IFERROR(IF(OR(Q32=\"\",Q32=0),\"\",IF(VLOOKUP(VALUE($A32),WEEKLY_DATA!$A:$H,6,0)=0,\"No Sales\",Q32/(VLOOKUP(VALUE($A32),WEEKLY_DATA!$A:$H,6,0)/13))),\"\")","v":""},{"$f":"IFERROR(VLOOKUP(VALUE(A32),WEEKLY_DATA!$A:$H,8,0),0)","v":0},"—",null,null,{"$f":"IFERROR(IF(A32=\"\",\"\",VLOOKUP(G32,Settings!$A:$D,4,0)),\"\")","v":""},null,null,null,"—",null,null,null,"—","—",null,{"$f":"IFERROR(LOOKUP(2, 1/SEARCH({\"Black\",\"White\",\"Grey\",\"Blue\",\"Silver\",\"Brown\",\"Green\",\"Blue\",\"Purple\",\"Red\",\"Pink\",\"Yellow\",\"Gold\"}, G32), {\"Black\",\"White\",\"Grey\",\"Blue\",\"Silver\",\"Brown\",\"Green\",\"Blue\",\"Purple\",\"Red\",\"Pink\",\"Yellow\",\"Gold\"}), \"\")","v":""},{"$f":"IFERROR(LOOKUP(2, 1/SEARCH({\"8GB\",\"16GB\",\"32GB\",\"64GB\"}, G32), {\"8GB\",\"16GB\",\"32GB\",\"64GB\"}), \"\")","v":""},{"$f":"IFERROR(LOOKUP(2, 1/SEARCH({\"1TB\",\"2TB\",\"128GB\",\"512GB\",\"256GB\"}, G32), {\"1TB\",\"2TB\",\"128GB\",\"512GB\",\"256GB\"}), \"\")","v":""},null,{"$f":"IFERROR(LOOKUP(2, 1/SEARCH({\"16-Inch\",\"15-Inch\",\"15.6-Inch\",\"18-Inch\",\"15.3-Inch\",\"13-Inch\",\"13.4-Inch\",\"13.8-Inch\",\"14-Inch\",\"17-Inch\",\"45-Inch\",\"27-Inch\",\"34-Inch\",\"32-Inch\",\"21.5-Inch\"}, G32), {\"16-Inch\",\"15-Inch\",\"15.6-Inch\",\"18-Inch\",\"15.3-Inch\",\"13-Inch\",\"13.4-Inch\",\"13.8-Inch\",\"14-Inch\",\"17-Inch\",\"45-Inch\",\"27-Inch\",\"34-Inch\",\"32-Inch\",\"21.5-Inch\"}), \"\")","v":""}]
[null,null,null,null,null,null,null,{"$f":"IFERROR(INDEX(BrandList!$A$2:$A$50,MATCH(TRUE,ISNUMBER(SEARCH(BrandList!$A$2:$A$50,G33)),0)),\"\")","v":""},{"$f":"IFERROR(INDEX(BrandList!$B$2:$B$200,MATCH(TRUE,ISNUMBER(SEARCH(BrandList!$B$2:$B$200,G33)),0)),\"\")","v":""},null,null,null,null,null,null,"",{"$f":"IFERROR(VLOOKUP(VALUE(A33),WEEKLY_DATA!$A:$H,2,0),0)","v":0},{"$f":"IFERROR(VLOOKUP(VALUE(A33),WEEKLY_DATA!$A:$H,3,0),0)","v":0},{"$f":"IFERROR(VLOOKUP(VALUE(A33),WEEKLY_DATA!$A:$H,4,0),0)","v":0},{"$f":"IFERROR(VLOOKUP(VALUE(A33),WEEKLY_DATA!$A:$H,5,0),0)","v":0},{"$f":"IFERROR(VLOOKUP(VALUE(A33),WEEKLY_DATA!$A:$H,6,0),0)","v":0},{"$f":"IFERROR(VLOOKUP(VALUE(A33),WEEKLY_DATA!$A:$H,7,0),0)","v":0},{"$f":"IFERROR(IF(OR(Q33=\"\",Q33=0),\"\",IF(VLOOKUP(VALUE($A33),WEEKLY_DATA!$A:$H,6,0)=0,\"No Sales\",Q33/(VLOOKUP(VALUE($A33),WEEKLY_DATA!$A:$H,6,0)/13))),\"\")","v":""},{"$f":"IFERROR(VLOOKUP(VALUE(A33),WEEKLY_DATA!$A:$H,8,0),0)","v":0},"—",null,null,{"$f":"IFERROR(IF(A33=\"\",\"\",VLOOKUP(G33,Settings!$A:$D,4,0)),\"\")","v":""},null,null,null,"—",null,null,null,"—","—",null,{"$f":"IFERROR(LOOKUP(2, 1/SEARCH({\"Black\",\"White\",\"Grey\",\"Blue\",\"Silver\",\"Brown\",\"Green\",\"Blue\",\"Purple\",\"Red\",\"Pink\",\"Yellow\",\"Gold\"}, G33), {\"Black\",\"White\",\"Grey\",\"Blue\",\"Silver\",\"Brown\",\"Green\",\"Blue\",\"Purple\",\"Red\",\"Pink\",\"Yellow\",\"Gold\"}), \"\")","v":""},{"$f":"IFERROR(LOOKUP(2, 1/SEARCH({\"8GB\",\"16GB\",\"32GB\",\"64GB\"}, G33), {\"8GB\",\"16GB\",\"32GB\",\"64GB\"}), \"\")","v":""},{"$f":"IFERROR(LOOKUP(2, 1/SEARCH({\"1TB\",\"2TB\",\"128GB\",\"512GB\",\"256GB\"}, G33), {\"1TB\",\"2TB\",\"128GB\",\"512GB\",\"256GB\"}), \"\")","v":""},null,{"$f":"IFERROR(LOOKUP(2, 1/SEARCH({\"16-Inch\",\"15-Inch\",\"15.6-Inch\",\"18-Inch\",\"15.3-Inch\",\"13-Inch\",\"13.4-Inch\",\"13.8-Inch\",\"14-Inch\",\"17-Inch\",\"45-Inch\",\"27-Inch\",\"34-Inch\",\"32-Inch\",\"21.5-Inch\"}, G33), {\"16-Inch\",\"15-Inch\",\"15.6-Inch\",\"18-Inch\",\"15.3-Inch\",\"13-Inch\",\"13.4-Inch\",\"13.8-Inch\",\"14-Inch\",\"17-Inch\",\"45-Inch\",\"27-Inch\",\"34-Inch\",\"32-Inch\",\"21.5-Inch\"}), \"\")","v":""}]
[null,null,null,null,null,null,null,{"$f":"IFERROR(INDEX(BrandList!$A$2:$A$50,MATCH(TRUE,ISNUMBER(SEARCH(BrandList!$A$2:$A$50,G34)),0)),\"\")","v":""},{"$f":"IFERROR(INDEX(BrandList!$B$2:$B$200,MATCH(TRUE,ISNUMBER(SEARCH(BrandList!$B$2:$B$200,G34)),0)),\"\")","v":""},null,null,null,null,null,null,"",{"$f":"IFERROR(VLOOKUP(VALUE(A34),WEEKLY_DATA!$A:$H,2,0),0)","v":0},{"$f":"IFERROR(VLOOKUP(VALUE(A34),WEEKLY_DATA!$A:$H,3,0),0)","v":0},{"$f":"IFERROR(VLOOKUP(VALUE(A34),WEEKLY_DATA!$A:$H,4,0),0)","v":0},{"$f":"IFERROR(VLOOKUP(VALUE(A34),WEEKLY_DATA!$A:$H,5,0),0)","v":0},{"$f":"IFERROR(VLOOKUP(VALUE(A34),WEEKLY_DATA!$A:$H,6,0),0)","v":0},{"$f":"IFERROR(VLOOKUP(VALUE(A34),WEEKLY_DATA!$A:$H,7,0),0)","v":0},{"$f":"IFERROR(IF(OR(Q34=\"\",Q34=0),\"\",IF(VLOOKUP(VALUE($A34),WEEKLY_DATA!$A:$H,6,0)=0,\"No Sales\",Q34/(VLOOKUP(VALUE($A34),WEEKLY_DATA!$A:$H,6,0)/13))),\"\")","v":""},{"$f":"IFERROR(VLOOKUP(VALUE(A34),WEEKLY_DATA!$A:$H,8,0),0)","v":0},"—",null,null,{"$f":"IFERROR(IF(A34=\"\",\"\",VLOOKUP(G34,Settings!$A:$D,4,0)),\"\")","v":""},null,null,null,"—",null,null,null,"—","—",null,{"$f":"IFERROR(LOOKUP(2, 1/SEARCH({\"Black\",\"White\",\"Grey\",\"Blue\",\"Silver\",\"Brown\",\"Green\",\"Blue\",\"Purple\",\"Red\",\"Pink\",\"Yellow\",\"Gold\"}, G34), {\"Black\",\"White\",\"Grey\",\"Blue\",\"Silver\",\"Brown\",\"Green\",\"Blue\",\"Purple\",\"Red\",\"Pink\",\"Yellow\",\"Gold\"}), \"\")","v":""},{"$f":"IFERROR(LOOKUP(2, 1/SEARCH({\"8GB\",\"16GB\",\"32GB\",\"64GB\"}, G34), {\"8GB\",\"16GB\",\"32GB\",\"64GB\"}), \"\")","v":""},{"$f":"IFERROR(LOOKUP(2, 1/SEARCH({\"1TB\",\"2TB\",\"128GB\",\"512GB\",\"256GB\"}, G34), {\"1TB\",\"2TB\",\"128GB\",\"512GB\",\"256GB\"}), \"\")","v":""},null,{"$f":"IFERROR(LOOKUP(2, 1/SEARCH({\"16-Inch\",\"15-Inch\",\"15.6-Inch\",\"18-Inch\",\"15.3-Inch\",\"13-Inch\",\"13.4-Inch\",\"13.8-Inch\",\"14-Inch\",\"17-Inch\",\"45-Inch\",\"27-Inch\",\"34-Inch\",\"32-Inch\",\"21.5-Inch\"}, G34), {\"16-Inch\",\"15-Inch\",\"15.6-Inch\",\"18-Inch\",\"15.3-Inch\",\"13-Inch\",\"13.4-Inch\",\"13.8-Inch\",\"14-Inch\",\"17-Inch\",\"45-Inch\",\"27-Inch\",\"34-Inch\",\"32-Inch\",\"21.5-Inch\"}), \"\")","v":""}]
[null,null,null,null,null,null,null,{"$f":"IFERROR(INDEX(BrandList!$A$2:$A$50,MATCH(TRUE,ISNUMBER(SEARCH(BrandList!$A$2:$A$50,G35)),0)),\"\")","v":""},{"$f":"IFERROR(INDEX(BrandList!$B$2:$B$200,MATCH(TRUE,ISNUMBER(SEARCH(BrandList!$B$2:$B$200,G35)),0)),\"\")","v":""},null,null,null,null,null,null,"",{"$f":"IFERROR(VLOOKUP(VALUE(A35),WEEKLY_DATA!$A:$H,2,0),0)","v":0},{"$f":"IFERROR(VLOOKUP(VALUE(A35),WEEKLY_DATA!$A:$H,3,0),0)","v":0},{"$f":"IFERROR(VLOOKUP(VALUE(A35),WEEKLY_DATA!$A:$H,4,0),0)","v":0},{"$f":"IFERROR(VLOOKUP(VALUE(A35),WEEKLY_DATA!$A:$H,5,0),0)","v":0},{"$f":"IFERROR(VLOOKUP(VALUE(A35),WEEKLY_DATA!$A:$H,6,0),0)","v":0},{"$f":"IFERROR(VLOOKUP(VALUE(A35),WEEKLY_DATA!$A:$H,7,0),0)","v":0},{"$f":"IFERROR(IF(OR(Q35=\"\",Q35=0),\"\",IF(VLOOKUP(VALUE($A35),WEEKLY_DATA!$A:$H,6,0)=0,\"No Sales\",Q35/(VLOOKUP(VALUE($A35),WEEKLY_DATA!$A:$H,6,0)/13))),\"\")","v":""},{"$f":"IFERROR(VLOOKUP(VALUE(A35),WEEKLY_DATA!$A:$H,8,0),0)","v":0},"—",null,null,{"$f":"IFERROR(IF(A35=\"\",\"\",VLOOKUP(G35,Settings!$A:$D,4,0)),\"\")","v":""},null,null,null,"—",null,null,null,"—","—",null,{"$f":"IFERROR(LOOKUP(2, 1/SEARCH({\"Black\",\"White\",\"Grey\",\"Blue\",\"Silver\",\"Brown\",\"Green\",\"Blue\",\"Purple\",\"Red\",\"Pink\",\"Yellow\",\"Gold\"}, G35), {\"Black\",\"White\",\"Grey\",\"Blue\",\"Silver\",\"Brown\",\"Green\",\"Blue\",\"Purple\",\"Red\",\"Pink\",\"Yellow\",\"Gold\"}), \"\")","v":""},{"$f":"IFERROR(LOOKUP(2, 1/SEARCH({\"8GB\",\"16GB\",\"32GB\",\"64GB\"}, G35), {\"8GB\",\"16GB\",\"32GB\",\"64GB\"}), \"\")","v":""},{"$f":"IFERROR(LOOKUP(2, 1/SEARCH({\"1TB\",\"2TB\",\"128GB\",\"512GB\",\"256GB\"}, G35), {\"1TB\",\"2TB\",\"128GB\",\"512GB\",\"256GB\"}), \"\")","v":""},null,{"$f":"IFERROR(LOOKUP(2, 1/SEARCH({\"16-Inch\",\"15-Inch\",\"15.6-Inch\",\"18-Inch\",\"15.3-Inch\",\"13-Inch\",\"13.4-Inch\",\"13.8-Inch\",\"14-Inch\",\"17-Inch\",\"45-Inch\",\"27-Inch\",\"34-Inch\",\"32-Inch\",\"21.5-Inch\"}, G35), {\"16-Inch\",\"15-Inch\",\"15.6-Inch\",\"18-Inch\",\"15.3-Inch\",\"13-Inch\",\"13.4-Inch\",\"13.8-Inch\",\"14-Inch\",\"17-Inch\",\"45-Inch\",\"27-Inch\",\"34-Inch\",\"32-Inch\",\"21.5-Inch\"}), \"\")","v":""}]
[null,null,null,null,null,null,null,{"$f":"IFERROR(INDEX(BrandList!$A$2:$A$50,MATCH(TRUE,ISNUMBER(SEARCH(BrandList!$A$2:$A$50,G36)),0)),\"\")","v":""},{"$f":"IFERROR(INDEX(BrandList!$B$2:$B$200,MATCH(TRUE,ISNUMBER(SEARCH(BrandList!$B$2:$B$200,G36)),0)),\"\")","v":""},null,null,null,null,null,null,"",{"$f":"IFERROR(VLOOKUP(VALUE(A36),WEEKLY_DATA!$A:$H,2,0),0)","v":0},{"$f":"IFERROR(VLOOKUP(VALUE(A36),WEEKLY_DATA!$A:$H,3,0),0)","v":0},{"$f":"IFERROR(VLOOKUP(VALUE(A36),WEEKLY_DATA!$A:$H,4,0),0)","v":0},{"$f":"IFERROR(VLOOKUP(VALUE(A36),WEEKLY_DATA!$A:$H,5,0),0)","v":0},{"$f":"IFERROR(VLOOKUP(VALUE(A36),WEEKLY_DATA!$A:$H,6,0),0)","v":0},{"$f":"IFERROR(VLOOKUP(VALUE(A36),WEEKLY_DATA!$A:$H,7,0),0)","v":0},{"$f":"IFERROR(IF(OR(Q36=\"\",Q36=0),\"\",IF(VLOOKUP(VALUE($A36),WEEKLY_DATA!$A:$H,6,0)=0,\"No Sales\",Q36/(VLOOKUP(VALUE($A36),WEEKLY_DATA!$A:$H,6,0)/13))),\"\")","v":""},{"$f":"IFERROR(VLOOKUP(VALUE(A36),WEEKLY_DATA!$A:$H,8,0),0)","v":0},"—",null,null,{"$f":"IFERROR(IF(A36=\"\",\"\",VLOOKUP(G36,Settings!$A:$D,4,0)),\"\")","v":""},null,null,null,"—",null,null,null,"—","—",null,{"$f":"IFERROR(LOOKUP(2, 1/SEARCH({\"Black\",\"White\",\"Grey\",\"Blue\",\"Silver\",\"Brown\",\"Green\",\"Blue\",\"Purple\",\"Red\",\"Pink\",\"Yellow\",\"Gold\"}, G36), {\"Black\",\"White\",\"Grey\",\"Blue\",\"Silver\",\"Brown\",\"Green\",\"Blue\",\"Purple\",\"Red\",\"Pink\",\"Yellow\",\"Gold\"}), \"\")","v":""},{"$f":"IFERROR(LOOKUP(2, 1/SEARCH({\"8GB\",\"16GB\",\"32GB\",\"64GB\"}, G36), {\"8GB\",\"16GB\",\"32GB\",\"64GB\"}), \"\")","v":""},{"$f":"IFERROR(LOOKUP(2, 1/SEARCH({\"1TB\",\"2TB\",\"128GB\",\"512GB\",\"256GB\"}, G36), {\"1TB\",\"2TB\",\"128GB\",\"512GB\",\"256GB\"}), \"\")","v":""},null,{"$f":"IFERROR(LOOKUP(2, 1/SEARCH({\"16-Inch\",\"15-Inch\",\"15.6-Inch\",\"18-Inch\",\"15.3-Inch\",\"13-Inch\",\"13.4-Inch\",\"13.8-Inch\",\"14-Inch\",\"17-Inch\",\"45-Inch\",\"27-Inch\",\"34-Inch\",\"32-Inch\",\"21.5-Inch\"}, G36), {\"16-Inch\",\"15-Inch\",\"15.6-Inch\",\"18-Inch\",\"15.3-Inch\",\"13-Inch\",\"13.4-Inch\",\"13.8-Inch\",\"14-Inch\",\"17-Inch\",\"45-Inch\",\"27-Inch\",\"34-Inch\",\"32-Inch\",\"21.5-Inch\"}), \"\")","v":""}]
[null,null,null,null,null,null,null,{"$f":"IFERROR(INDEX(BrandList!$A$2:$A$50,MATCH(TRUE,ISNUMBER(SEARCH(BrandList!$A$2:$A$50,G37)),0)),\"\")","v":""},{"$f":"IFERROR(INDEX(BrandList!$B$2:$B$200,MATCH(TRUE,ISNUMBER(SEARCH(BrandList!$B$2:$B$200,G37)),0)),\"\")","v":""},null,null,null,null,null,null,"",{"$f":"IFERROR(VLOOKUP(VALUE(A37),WEEKLY_DATA!$A:$H,2,0),0)","v":0},{"$f":"IFERROR(VLOOKUP(VALUE(A37),WEEKLY_DATA!$A:$H,3,0),0)","v":0},{"$f":"IFERROR(VLOOKUP(VALUE(A37),WEEKLY_DATA!$A:$H,4,0),0)","v":0},{"$f":"IFERROR(VLOOKUP(VALUE(A37),WEEKLY_DATA!$A:$H,5,0),0)","v":0},{"$f":"IFERROR(VLOOKUP(VALUE(A37),WEEKLY_DATA!$A:$H,6,0),0)","v":0},{"$f":"IFERROR(VLOOKUP(VALUE(A37),WEEKLY_DATA!$A:$H,7,0),0)","v":0},{"$f":"IFERROR(IF(OR(Q37=\"\",Q37=0),\"\",IF(VLOOKUP(VALUE($A37),WEEKLY_DATA!$A:$H,6,0)=0,\"No Sales\",Q37/(VLOOKUP(VALUE($A37),WEEKLY_DATA!$A:$H,6,0)/13))),\"\")","v":""},{"$f":"IFERROR(VLOOKUP(VALUE(A37),WEEKLY_DATA!$A:$H,8,0),0)","v":0},"—",null,null,{"$f":"IFERROR(IF(A37=\"\",\"\",VLOOKUP(G37,Settings!$A:$D,4,0)),\"\")","v":""},null,null,null,"—",null,null,null,"—","—",null,{"$f":"IFERROR(LOOKUP(2, 1/SEARCH({\"Black\",\"White\",\"Grey\",\"Blue\",\"Silver\",\"Brown\",\"Green\",\"Blue\",\"Purple\",\"Red\",\"Pink\",\"Yellow\",\"Gold\"}, G37), {\"Black\",\"White\",\"Grey\",\"Blue\",\"Silver\",\"Brown\",\"Green\",\"Blue\",\"Purple\",\"Red\",\"Pink\",\"Yellow\",\"Gold\"}), \"\")","v":""},{"$f":"IFERROR(LOOKUP(2, 1/SEARCH({\"8GB\",\"16GB\",\"32GB\",\"64GB\"}, G37), {\"8GB\",\"16GB\",\"32GB\",\"64GB\"}), \"\")","v":""},{"$f":"IFERROR(LOOKUP(2, 1/SEARCH({\"1TB\",\"2TB\",\"128GB\",\"512GB\",\"256GB\"}, G37), {\"1TB\",\"2TB\",\"128GB\",\"512GB\",\"256GB\"}), \"\")","v":""},null,{"$f":"IFERROR(LOOKUP(2, 1/SEARCH({\"16-Inch\",\"15-Inch\",\"15.6-Inch\",\"18-Inch\",\"15.3-Inch\",\"13-Inch\",\"13.4-Inch\",\"13.8-Inch\",\"14-Inch\",\"17-Inch\",\"45-Inch\",\"27-Inch\",\"34-Inch\",\"32-Inch\",\"21.5-Inch\"}, G37), {\"16-Inch\",\"15-Inch\",\"15.6-Inch\",\"18-Inch\",\"15.3-Inch\",\"13-Inch\",\"13.4-Inch\",\"13.8-Inch\",\"14-Inch\",\"17-Inch\",\"45-Inch\",\"27-Inch\",\"34-Inch\",\"32-Inch\",\"21.5-Inch\"}), \"\")","v":""}]
[null,null,null,null,null,null,null,{"$f":"IFERROR(INDEX(BrandList!$A$2:$A$50,MATCH(TRUE,ISNUMBER(SEARCH(BrandList!$A$2:$A$50,G38)),0)),\"\")","v":""},{"$f":"IFERROR(INDEX(BrandList!$B$2:$B$200,MATCH(TRUE,ISNUMBER(SEARCH(BrandList!$B$2:$B$200,G38)),0)),\"\")","v":""},null,null,null,null,null,null,"",{"$f":"IFERROR(VLOOKUP(VALUE(A38),WEEKLY_DATA!$A:$H,2,0),0)","v":0},{"$f":"IFERROR(VLOOKUP(VALUE(A38),WEEKLY_DATA!$A:$H,3,0),0)","v":0},{"$f":"IFERROR(VLOOKUP(VALUE(A38),WEEKLY_DATA!$A:$H,4,0),0)","v":0},{"$f":"IFERROR(VLOOKUP(VALUE(A38),WEEKLY_DATA!$A:$H,5,0),0)","v":0},{"$f":"IFERROR(VLOOKUP(VALUE(A38),WEEKLY_DATA!$A:$H,6,0),0)","v":0},{"$f":"IFERROR(VLOOKUP(VALUE(A38),WEEKLY_DATA!$A:$H,7,0),0)","v":0},{"$f":"IFERROR(IF(OR(Q38=\"\",Q38=0),\"\",IF(VLOOKUP(VALUE($A38),WEEKLY_DATA!$A:$H,6,0)=0,\"No Sales\",Q38/(VLOOKUP(VALUE($A38),WEEKLY_DATA!$A:$H,6,0)/13))),\"\")","v":""},{"$f":"IFERROR(VLOOKUP(VALUE(A38),WEEKLY_DATA!$A:$H,8,0),0)","v":0},"—",null,null,{"$f":"IFERROR(IF(A38=\"\",\"\",VLOOKUP(G38,Settings!$A:$D,4,0)),\"\")","v":""},null,null,null,"—",null,null,null,"—","—",null,{"$f":"IFERROR(LOOKUP(2, 1/SEARCH({\"Black\",\"White\",\"Grey\",\"Blue\",\"Silver\",\"Brown\",\"Green\",\"Blue\",\"Purple\",\"Red\",\"Pink\",\"Yellow\",\"Gold\"}, G38), {\"Black\",\"White\",\"Grey\",\"Blue\",\"Silver\",\"Brown\",\"Green\",\"Blue\",\"Purple\",\"Red\",\"Pink\",\"Yellow\",\"Gold\"}), \"\")","v":""},{"$f":"IFERROR(LOOKUP(2, 1/SEARCH({\"8GB\",\"16GB\",\"32GB\",\"64GB\"}, G38), {\"8GB\",\"16GB\",\"32GB\",\"64GB\"}), \"\")","v":""},{"$f":"IFERROR(LOOKUP(2, 1/SEARCH({\"1TB\",\"2TB\",\"128GB\",\"512GB\",\"256GB\"}, G38), {\"1TB\",\"2TB\",\"128GB\",\"512GB\",\"256GB\"}), \"\")","v":""},null,{"$f":"IFERROR(LOOKUP(2, 1/SEARCH({\"16-Inch\",\"15-Inch\",\"15.6-Inch\",\"18-Inch\",\"15.3-Inch\",\"13-Inch\",\"13.4-Inch\",\"13.8-Inch\",\"14-Inch\",\"17-Inch\",\"45-Inch\",\"27-Inch\",\"34-Inch\",\"32-Inch\",\"21.5-Inch\"}, G38), {\"16-Inch\",\"15-Inch\",\"15.6-Inch\",\"18-Inch\",\"15.3-Inch\",\"13-Inch\",\"13.4-Inch\",\"13.8-Inch\",\"14-Inch\",\"17-Inch\",\"45-Inch\",\"27-Inch\",\"34-Inch\",\"32-Inch\",\"21.5-Inch\"}), \"\")","v":""}]
[null,null,null,null,null,null,null,{"$f":"IFERROR(INDEX(BrandList!$A$2:$A$50,MATCH(TRUE,ISNUMBER(SEARCH(BrandList!$A$2:$A$50,G39)),0)),\"\")","v":""},{"$f":"IFERROR(INDEX(BrandList!$B$2:$B$200,MATCH(TRUE,ISNUMBER(SEARCH(BrandList!$B$2:$B$200,G39)),0)),\"\")","v":""},null,null,null,null,null,null,"",{"$f":"IFERROR(VLOOKUP(VALUE(A39),WEEKLY_DATA!$A:$H,2,0),0)","v":0},{"$f":"IFERROR(VLOOKUP(VALUE(A39),WEEKLY_DATA!$A:$H,3,0),0)","v":0},{"$f":"IFERROR(VLOOKUP(VALUE(A39),WEEKLY_DATA!$A:$H,4,0),0)","v":0},{"$f":"IFERROR(VLOOKUP(VALUE(A39),WEEKLY_DATA!$A:$H,5,0),0)","v":0},{"$f":"IFERROR(VLOOKUP(VALUE(A39),WEEKLY_DATA!$A:$H,6,0),0)","v":0},{"$f":"IFERROR(VLOOKUP(VALUE(A39),WEEKLY_DATA!$A:$H,7,0),0)","v":0},{"$f":"IFERROR(IF(OR(Q39=\"\",Q39=0),\"\",IF(VLOOKUP(VALUE($A39),WEEKLY_DATA!$A:$H,6,0)=0,\"No Sales\",Q39/(VLOOKUP(VALUE($A39),WEEKLY_DATA!$A:$H,6,0)/13))),\"\")","v":""},{"$f":"IFERROR(VLOOKUP(VALUE(A39),WEEKLY_DATA!$A:$H,8,0),0)","v":0},"—",null,null,{"$f":"IFERROR(IF(A39=\"\",\"\",VLOOKUP(G39,Settings!$A:$D,4,0)),\"\")","v":""},null,null,null,"—",null,null,null,"—","—",null,{"$f":"IFERROR(LOOKUP(2, 1/SEARCH({\"Black\",\"White\",\"Grey\",\"Blue\",\"Silver\",\"Brown\",\"Green\",\"Blue\",\"Purple\",\"Red\",\"Pink\",\"Yellow\",\"Gold\"}, G39), {\"Black\",\"White\",\"Grey\",\"Blue\",\"Silver\",\"Brown\",\"Green\",\"Blue\",\"Purple\",\"Red\",\"Pink\",\"Yellow\",\"Gold\"}), \"\")","v":""},{"$f":"IFERROR(LOOKUP(2, 1/SEARCH({\"8GB\",\"16GB\",\"32GB\",\"64GB\"}, G39), {\"8GB\",\"16GB\",\"32GB\",\"64GB\"}), \"\")","v":""},{"$f":"IFERROR(LOOKUP(2, 1/SEARCH({\"1TB\",\"2TB\",\"128GB\",\"512GB\",\"256GB\"}, G39), {\"1TB\",\"2TB\",\"128GB\",\"512GB\",\"256GB\"}), \"\")","v":""},null,{"$f":"IFERROR(LOOKUP(2, 1/SEARCH({\"16-Inch\",\"15-Inch\",\"15.6-Inch\",\"18-Inch\",\"15.3-Inch\",\"13-Inch\",\"13.4-Inch\",\"13.8-Inch\",\"14-Inch\",\"17-Inch\",\"45-Inch\",\"27-Inch\",\"34-Inch\",\"32-Inch\",\"21.5-Inch\"}, G39), {\"16-Inch\",\"15-Inch\",\"15.6-Inch\",\"18-Inch\",\"15.3-Inch\",\"13-Inch\",\"13.4-Inch\",\"13.8-Inch\",\"14-Inch\",\"17-Inch\",\"45-Inch\",\"27-Inch\",\"34-Inch\",\"32-Inch\",\"21.5-Inch\"}), \"\")","v":""}]
[null,null,null,null,null,null,null,{"$f":"IFERROR(INDEX(BrandList!$A$2:$A$50,MATCH(TRUE,ISNUMBER(SEARCH(BrandList!$A$2:$A$50,G40)),0)),\"\")","v":""},{"$f":"IFERROR(INDEX(BrandList!$B$2:$B$200,MATCH(TRUE,ISNUMBER(SEARCH(BrandList!$B$2:$B$200,G40)),0)),\"\")","v":""},null,null,null,null,null,null,"",{"$f":"IFERROR(VLOOKUP(VALUE(A40),WEEKLY_DATA!$A:$H,2,0),0)","v":0},{"$f":"IFERROR(VLOOKUP(VALUE(A40),WEEKLY_DATA!$A:$H,3,0),0)","v":0},{"$f":"IFERROR(VLOOKUP(VALUE(A40),WEEKLY_DATA!$A:$H,4,0),0)","v":0},{"$f":"IFERROR(VLOOKUP(VALUE(A40),WEEKLY_DATA!$A:$H,5,0),0)","v":0},{"$f":"IFERROR(VLOOKUP(VALUE(A40),WEEKLY_DATA!$A:$H,6,0),0)","v":0},{"$f":"IFERROR(VLOOKUP(VALUE(A40),WEEKLY_DATA!$A:$H,7,0),0)","v":0},{"$f":"IFERROR(IF(OR(Q40=\"\",Q40=0),\"\",IF(VLOOKUP(VALUE($A40),WEEKLY_DATA!$A:$H,6,0)=0,\"No Sales\",Q40/(VLOOKUP(VALUE($A40),WEEKLY_DATA!$A:$H,6,0)/13))),\"\")","v":""},{"$f":"IFERROR(VLOOKUP(VALUE(A40),WEEKLY_DATA!$A:$H,8,0),0)","v":0},"—",{"$f":"LEN(A42)","v":0},null,{"$f":"IFERROR(IF(A40=\"\",\"\",VLOOKUP(G40,Settings!$A:$D,4,0)),\"\")","v":""},null,null,null,"—",null,null,null,"—","—",null,{"$f":"IFERROR(LOOKUP(2, 1/SEARCH({\"Black\",\"White\",\"Grey\",\"Blue\",\"Silver\",\"Brown\",\"Green\",\"Blue\",\"Purple\",\"Red\",\"Pink\",\"Yellow\",\"Gold\"}, G40), {\"Black\",\"White\",\"Grey\",\"Blue\",\"Silver\",\"Brown\",\"Green\",\"Blue\",\"Purple\",\"Red\",\"Pink\",\"Yellow\",\"Gold\"}), \"\")","v":""},{"$f":"IFERROR(LOOKUP(2, 1/SEARCH({\"8GB\",\"16GB\",\"32GB\",\"64GB\"}, G40), {\"8GB\",\"16GB\",\"32GB\",\"64GB\"}), \"\")","v":""},{"$f":"IFERROR(LOOKUP(2, 1/SEARCH({\"1TB\",\"2TB\",\"128GB\",\"512GB\",\"256GB\"}, G40), {\"1TB\",\"2TB\",\"128GB\",\"512GB\",\"256GB\"}), \"\")","v":""},null,{"$f":"IFERROR(LOOKUP(2, 1/SEARCH({\"16-Inch\",\"15-Inch\",\"15.6-Inch\",\"18-Inch\",\"15.3-Inch\",\"13-Inch\",\"13.4-Inch\",\"13.8-Inch\",\"14-Inch\",\"17-Inch\",\"45-Inch\",\"27-Inch\",\"34-Inch\",\"32-Inch\",\"21.5-Inch\"}, G40), {\"16-Inch\",\"15-Inch\",\"15.6-Inch\",\"18-Inch\",\"15.3-Inch\",\"13-Inch\",\"13.4-Inch\",\"13.8-Inch\",\"14-Inch\",\"17-Inch\",\"45-Inch\",\"27-Inch\",\"34-Inch\",\"32-Inch\",\"21.5-Inch\"}), \"\")","v":""}]
[null,null,null,null,null,null,null,{"$f":"IFERROR(INDEX(BrandList!$A$2:$A$50,MATCH(TRUE,ISNUMBER(SEARCH(BrandList!$A$2:$A$50,G41)),0)),\"\")","v":""},{"$f":"IFERROR(INDEX(BrandList!$B$2:$B$200,MATCH(TRUE,ISNUMBER(SEARCH(BrandList!$B$2:$B$200,G41)),0)),\"\")","v":""},null,null,null,null,null,null,"",{"$f":"IFERROR(VLOOKUP(VALUE(A41),WEEKLY_DATA!$A:$H,2,0),0)","v":0},{"$f":"IFERROR(VLOOKUP(VALUE(A41),WEEKLY_DATA!$A:$H,3,0),0)","v":0},{"$f":"IFERROR(VLOOKUP(VALUE(A41),WEEKLY_DATA!$A:$H,4,0),0)","v":0},{"$f":"IFERROR(VLOOKUP(VALUE(A41),WEEKLY_DATA!$A:$H,5,0),0)","v":0},{"$f":"IFERROR(VLOOKUP(VALUE(A41),WEEKLY_DATA!$A:$H,6,0),0)","v":0},{"$f":"IFERROR(VLOOKUP(VALUE(A41),WEEKLY_DATA!$A:$H,7,0),0)","v":0},{"$f":"IFERROR(IF(OR(Q41=\"\",Q41=0),\"\",IF(VLOOKUP(VALUE($A41),WEEKLY_DATA!$A:$H,6,0)=0,\"No Sales\",Q41/(VLOOKUP(VALUE($A41),WEEKLY_DATA!$A:$H,6,0)/13))),\"\")","v":""},{"$f":"IFERROR(VLOOKUP(VALUE(A41),WEEKLY_DATA!$A:$H,8,0),0)","v":0},"—",null,null,{"$f":"IFERROR(IF(A41=\"\",\"\",VLOOKUP(G41,Settings!$A:$D,4,0)),\"\")","v":""},null,null,null,"—",null,null,null,"—","—",null,{"$f":"IFERROR(LOOKUP(2, 1/SEARCH({\"Black\",\"White\",\"Grey\",\"Blue\",\"Silver\",\"Brown\",\"Green\",\"Blue\",\"Purple\",\"Red\",\"Pink\",\"Yellow\",\"Gold\"}, G41), {\"Black\",\"White\",\"Grey\",\"Blue\",\"Silver\",\"Brown\",\"Green\",\"Blue\",\"Purple\",\"Red\",\"Pink\",\"Yellow\",\"Gold\"}), \"\")","v":""},{"$f":"IFERROR(LOOKUP(2, 1/SEARCH({\"8GB\",\"16GB\",\"32GB\",\"64GB\"}, G41), {\"8GB\",\"16GB\",\"32GB\",\"64GB\"}), \"\")","v":""},{"$f":"IFERROR(LOOKUP(2, 1/SEARCH({\"1TB\",\"2TB\",\"128GB\",\"512GB\",\"256GB\"}, G41), {\"1TB\",\"2TB\",\"128GB\",\"512GB\",\"256GB\"}), \"\")","v":""},null,{"$f":"IFERROR(LOOKUP(2, 1/SEARCH({\"16-Inch\",\"15-Inch\",\"15.6-Inch\",\"18-Inch\",\"15.3-Inch\",\"13-Inch\",\"13.4-Inch\",\"13.8-Inch\",\"14-Inch\",\"17-Inch\",\"45-Inch\",\"27-Inch\",\"34-Inch\",\"32-Inch\",\"21.5-Inch\"}, G41), {\"16-Inch\",\"15-Inch\",\"15.6-Inch\",\"18-Inch\",\"15.3-Inch\",\"13-Inch\",\"13.4-Inch\",\"13.8-Inch\",\"14-Inch\",\"17-Inch\",\"45-Inch\",\"27-Inch\",\"34-Inch\",\"32-Inch\",\"21.5-Inch\"}), \"\")","v":""}]
[null,null,null,null,null,null,null,{"$f":"IFERROR(INDEX(BrandList!$A$2:$A$50,MATCH(TRUE,ISNUMBER(SEARCH(BrandList!$A$2:$A$50,G42)),0)),\"\")","v":""},{"$f":"IFERROR(INDEX(BrandList!$B$2:$B$200,MATCH(TRUE,ISNUMBER(SEARCH(BrandList!$B$2:$B$200,G42)),0)),\"\")","v":""},null,null,null,null,null,null,"",{"$f":"IFERROR(VLOOKUP(VALUE(A42),WEEKLY_DATA!$A:$H,2,0),0)","v":0},{"$f":"IFERROR(VLOOKUP(VALUE(A42),WEEKLY_DATA!$A:$H,3,0),0)","v":0},{"$f":"IFERROR(VLOOKUP(VALUE(A42),WEEKLY_DATA!$A:$H,4,0),0)","v":0},{"$f":"IFERROR(VLOOKUP(VALUE(A42),WEEKLY_DATA!$A:$H,5,0),0)","v":0},{"$f":"IFERROR(VLOOKUP(VALUE(A42),WEEKLY_DATA!$A:$H,6,0),0)","v":0},{"$f":"IFERROR(VLOOKUP(VALUE(A42),WEEKLY_DATA!$A:$H,7,0),0)","v":0},{"$f":"IFERROR(IF(OR(Q42=\"\",Q42=0),\"\",IF(VLOOKUP(VALUE($A42),WEEKLY_DATA!$A:$H,6,0)=0,\"No Sales\",Q42/(VLOOKUP(VALUE($A42),WEEKLY_DATA!$A:$H,6,0)/13))),\"\")","v":""},{"$f":"IFERROR(VLOOKUP(VALUE(A42),WEEKLY_DATA!$A:$H,8,0),0)","v":0},"—",null,null,null,null,null,null,"—",null,null,null,"—","—",null,{"$f":"IFERROR(LOOKUP(2, 1/SEARCH({\"Black\",\"White\",\"Grey\",\"Blue\",\"Silver\",\"Brown\",\"Green\",\"Blue\",\"Purple\",\"Red\",\"Pink\",\"Yellow\",\"Gold\"}, G42), {\"Black\",\"White\",\"Grey\",\"Blue\",\"Silver\",\"Brown\",\"Green\",\"Blue\",\"Purple\",\"Red\",\"Pink\",\"Yellow\",\"Gold\"}), \"\")","v":""},{"$f":"IFERROR(LOOKUP(2, 1/SEARCH({\"8GB\",\"16GB\",\"32GB\",\"64GB\"}, G42), {\"8GB\",\"16GB\",\"32GB\",\"64GB\"}), \"\")","v":""},{"$f":"IFERROR(LOOKUP(2, 1/SEARCH({\"1TB\",\"2TB\",\"128GB\",\"512GB\",\"256GB\"}, G42), {\"1TB\",\"2TB\",\"128GB\",\"512GB\",\"256GB\"}), \"\")","v":""},null,{"$f":"IFERROR(LOOKUP(2, 1/SEARCH({\"16-Inch\",\"15-Inch\",\"15.6-Inch\",\"18-Inch\",\"15.3-Inch\",\"13-Inch\",\"13.4-Inch\",\"13.8-Inch\",\"14-Inch\",\"17-Inch\",\"45-Inch\",\"27-Inch\",\"34-Inch\",\"32-Inch\",\"21.5-Inch\"}, G42), {\"16-Inch\",\"15-Inch\",\"15.6-Inch\",\"18-Inch\",\"15.3-Inch\",\"13-Inch\",\"13.4-Inch\",\"13.8-Inch\",\"14-Inch\",\"17-Inch\",\"45-Inch\",\"27-Inch\",\"34-Inch\",\"32-Inch\",\"21.5-Inch\"}), \"\")","v":""}]
[null,null,null,null,null,null,null,{"$f":"IFERROR(INDEX(BrandList!$A$2:$A$50,MATCH(TRUE,ISNUMBER(SEARCH(BrandList!$A$2:$A$50,G43)),0)),\"\")","v":""},{"$f":"IFERROR(INDEX(BrandList!$B$2:$B$200,MATCH(TRUE,ISNUMBER(SEARCH(BrandList!$B$2:$B$200,G43)),0)),\"\")","v":""},null,null,null,null,null,null,"",{"$f":"IFERROR(VLOOKUP(VALUE(A43),WEEKLY_DATA!$A:$H,2,0),0)","v":0},{"$f":"IFERROR(VLOOKUP(VALUE(A43),WEEKLY_DATA!$A:$H,3,0),0)","v":0},{"$f":"IFERROR(VLOOKUP(VALUE(A43),WEEKLY_DATA!$A:$H,4,0),0)","v":0},{"$f":"IFERROR(VLOOKUP(VALUE(A43),WEEKLY_DATA!$A:$H,5,0),0)","v":0},{"$f":"IFERROR(VLOOKUP(VALUE(A43),WEEKLY_DATA!$A:$H,6,0),0)","v":0},{"$f":"IFERROR(VLOOKUP(VALUE(A43),WEEKLY_DATA!$A:$H,7,0),0)","v":0},{"$f":"IFERROR(IF(OR(Q43=\"\",Q43=0),\"\",IF(VLOOKUP(VALUE($A43),WEEKLY_DATA!$A:$H,6,0)=0,\"No Sales\",Q43/(VLOOKUP(VALUE($A43),WEEKLY_DATA!$A:$H,6,0)/13))),\"\")","v":""},{"$f":"IFERROR(VLOOKUP(VALUE(A43),WEEKLY_DATA!$A:$H,8,0),0)","v":0},"—",null,null,null,null,null,null,"—",null,null,null,"—","—",null,{"$f":"IFERROR(LOOKUP(2, 1/SEARCH({\"Black\",\"White\",\"Grey\",\"Blue\",\"Silver\",\"Brown\",\"Green\",\"Blue\",\"Purple\",\"Red\",\"Pink\",\"Yellow\",\"Gold\"}, G43), {\"Black\",\"White\",\"Grey\",\"Blue\",\"Silver\",\"Brown\",\"Green\",\"Blue\",\"Purple\",\"Red\",\"Pink\",\"Yellow\",\"Gold\"}), \"\")","v":""},{"$f":"IFERROR(LOOKUP(2, 1/SEARCH({\"8GB\",\"16GB\",\"32GB\",\"64GB\"}, G43), {\"8GB\",\"16GB\",\"32GB\",\"64GB\"}), \"\")","v":""},{"$f":"IFERROR(LOOKUP(2, 1/SEARCH({\"1TB\",\"2TB\",\"128GB\",\"512GB\",\"256GB\"}, G43), {\"1TB\",\"2TB\",\"128GB\",\"512GB\",\"256GB\"}), \"\")","v":""},null,{"$f":"IFERROR(LOOKUP(2, 1/SEARCH({\"16-Inch\",\"15-Inch\",\"15.6-Inch\",\"18-Inch\",\"15.3-Inch\",\"13-Inch\",\"13.4-Inch\",\"13.8-Inch\",\"14-Inch\",\"17-Inch\",\"45-Inch\",\"27-Inch\",\"34-Inch\",\"32-Inch\",\"21.5-Inch\"}, G43), {\"16-Inch\",\"15-Inch\",\"15.6-Inch\",\"18-Inch\",\"15.3-Inch\",\"13-Inch\",\"13.4-Inch\",\"13.8-Inch\",\"14-Inch\",\"17-Inch\",\"45-Inch\",\"27-Inch\",\"34-Inch\",\"32-Inch\",\"21.5-Inch\"}), \"\")","v":""}]
[null,null,null,null,null,null,null,{"$f":"IFERROR(INDEX(BrandList!$A$2:$A$50,MATCH(TRUE,ISNUMBER(SEARCH(BrandList!$A$2:$A$50,G44)),0)),\"\")","v":""},{"$f":"IFERROR(INDEX(BrandList!$B$2:$B$200,MATCH(TRUE,ISNUMBER(SEARCH(BrandList!$B$2:$B$200,G44)),0)),\"\")","v":""},null,null,null,null,null,null,"",{"$f":"IFERROR(VLOOKUP(VALUE(A44),WEEKLY_DATA!$A:$H,2,0),0)","v":0},{"$f":"IFERROR(VLOOKUP(VALUE(A44),WEEKLY_DATA!$A:$H,3,0),0)","v":0},{"$f":"IFERROR(VLOOKUP(VALUE(A44),WEEKLY_DATA!$A:$H,4,0),0)","v":0},{"$f":"IFERROR(VLOOKUP(VALUE(A44),WEEKLY_DATA!$A:$H,5,0),0)","v":0},{"$f":"IFERROR(VLOOKUP(VALUE(A44),WEEKLY_DATA!$A:$H,6,0),0)","v":0},{"$f":"IFERROR(VLOOKUP(VALUE(A44),WEEKLY_DATA!$A:$H,7,0),0)","v":0},{"$f":"IFERROR(IF(OR(Q44=\"\",Q44=0),\"\",IF(VLOOKUP(VALUE($A44),WEEKLY_DATA!$A:$H,6,0)=0,\"No Sales\",Q44/(VLOOKUP(VALUE($A44),WEEKLY_DATA!$A:$H,6,0)/13))),\"\")","v":""},{"$f":"IFERROR(VLOOKUP(VALUE(A44),WEEKLY_DATA!$A:$H,8,0),0)","v":0},"—",null,null,null,null,null,null,"—",null,null,null,"—","—",null,{"$f":"IFERROR(LOOKUP(2, 1/SEARCH({\"Black\",\"White\",\"Grey\",\"Blue\",\"Silver\",\"Brown\",\"Green\",\"Blue\",\"Purple\",\"Red\",\"Pink\",\"Yellow\",\"Gold\"}, G44), {\"Black\",\"White\",\"Grey\",\"Blue\",\"Silver\",\"Brown\",\"Green\",\"Blue\",\"Purple\",\"Red\",\"Pink\",\"Yellow\",\"Gold\"}), \"\")","v":""},{"$f":"IFERROR(LOOKUP(2, 1/SEARCH({\"8GB\",\"16GB\",\"32GB\",\"64GB\"}, G44), {\"8GB\",\"16GB\",\"32GB\",\"64GB\"}), \"\")","v":""},{"$f":"IFERROR(LOOKUP(2, 1/SEARCH({\"1TB\",\"2TB\",\"128GB\",\"512GB\",\"256GB\"}, G44), {\"1TB\",\"2TB\",\"128GB\",\"512GB\",\"256GB\"}), \"\")","v":""},null,{"$f":"IFERROR(LOOKUP(2, 1/SEARCH({\"16-Inch\",\"15-Inch\",\"15.6-Inch\",\"18-Inch\",\"15.3-Inch\",\"13-Inch\",\"13.4-Inch\",\"13.8-Inch\",\"14-Inch\",\"17-Inch\",\"45-Inch\",\"27-Inch\",\"34-Inch\",\"32-Inch\",\"21.5-Inch\"}, G44), {\"16-Inch\",\"15-Inch\",\"15.6-Inch\",\"18-Inch\",\"15.3-Inch\",\"13-Inch\",\"13.4-Inch\",\"13.8-Inch\",\"14-Inch\",\"17-Inch\",\"45-Inch\",\"27-Inch\",\"34-Inch\",\"32-Inch\",\"21.5-Inch\"}), \"\")","v":""}]
[null,null,null,null,null,null,null,{"$f":"IFERROR(INDEX(BrandList!$A$2:$A$50,MATCH(TRUE,ISNUMBER(SEARCH(BrandList!$A$2:$A$50,G45)),0)),\"\")","v":""},{"$f":"IFERROR(INDEX(BrandList!$B$2:$B$200,MATCH(TRUE,ISNUMBER(SEARCH(BrandList!$B$2:$B$200,G45)),0)),\"\")","v":""},null,null,null,null,null,null,"",{"$f":"IFERROR(VLOOKUP(VALUE(A45),WEEKLY_DATA!$A:$H,2,0),0)","v":0},{"$f":"IFERROR(VLOOKUP(VALUE(A45),WEEKLY_DATA!$A:$H,3,0),0)","v":0},{"$f":"IFERROR(VLOOKUP(VALUE(A45),WEEKLY_DATA!$A:$H,4,0),0)","v":0},{"$f":"IFERROR(VLOOKUP(VALUE(A45),WEEKLY_DATA!$A:$H,5,0),0)","v":0},{"$f":"IFERROR(VLOOKUP(VALUE(A45),WEEKLY_DATA!$A:$H,6,0),0)","v":0},{"$f":"IFERROR(VLOOKUP(VALUE(A45),WEEKLY_DATA!$A:$H,7,0),0)","v":0},{"$f":"IFERROR(IF(OR(Q45=\"\",Q45=0),\"\",IF(VLOOKUP(VALUE($A45),WEEKLY_DATA!$A:$H,6,0)=0,\"No Sales\",Q45/(VLOOKUP(VALUE($A45),WEEKLY_DATA!$A:$H,6,0)/13))),\"\")","v":""},{"$f":"IFERROR(VLOOKUP(VALUE(A45),WEEKLY_DATA!$A:$H,8,0),0)","v":0},"—",null,null,null,null,null,null,"—",null,null,null,"—","—",null,{"$f":"IFERROR(LOOKUP(2, 1/SEARCH({\"Black\",\"White\",\"Grey\",\"Blue\",\"Silver\",\"Brown\",\"Green\",\"Blue\",\"Purple\",\"Red\",\"Pink\",\"Yellow\",\"Gold\"}, G45), {\"Black\",\"White\",\"Grey\",\"Blue\",\"Silver\",\"Brown\",\"Green\",\"Blue\",\"Purple\",\"Red\",\"Pink\",\"Yellow\",\"Gold\"}), \"\")","v":""},{"$f":"IFERROR(LOOKUP(2, 1/SEARCH({\"8GB\",\"16GB\",\"32GB\",\"64GB\"}, G45), {\"8GB\",\"16GB\",\"32GB\",\"64GB\"}), \"\")","v":""},{"$f":"IFERROR(LOOKUP(2, 1/SEARCH({\"1TB\",\"2TB\",\"128GB\",\"512GB\",\"256GB\"}, G45), {\"1TB\",\"2TB\",\"128GB\",\"512GB\",\"256GB\"}), \"\")","v":""},null,{"$f":"IFERROR(LOOKUP(2, 1/SEARCH({\"16-Inch\",\"15-Inch\",\"15.6-Inch\",\"18-Inch\",\"15.3-Inch\",\"13-Inch\",\"13.4-Inch\",\"13.8-Inch\",\"14-Inch\",\"17-Inch\",\"45-Inch\",\"27-Inch\",\"34-Inch\",\"32-Inch\",\"21.5-Inch\"}, G45), {\"16-Inch\",\"15-Inch\",\"15.6-Inch\",\"18-Inch\",\"15.3-Inch\",\"13-Inch\",\"13.4-Inch\",\"13.8-Inch\",\"14-Inch\",\"17-Inch\",\"45-Inch\",\"27-Inch\",\"34-Inch\",\"32-Inch\",\"21.5-Inch\"}), \"\")","v":""}]
[null,null,null,null,null,null,null,{"$f":"IFERROR(INDEX(BrandList!$A$2:$A$50,MATCH(TRUE,ISNUMBER(SEARCH(BrandList!$A$2:$A$50,G46)),0)),\"\")","v":""},{"$f":"IFERROR(INDEX(BrandList!$B$2:$B$200,MATCH(TRUE,ISNUMBER(SEARCH(BrandList!$B$2:$B$200,G46)),0)),\"\")","v":""},null,null,null,null,null,null,"",{"$f":"IFERROR(VLOOKUP(VALUE(A46),WEEKLY_DATA!$A:$H,2,0),0)","v":0},{"$f":"IFERROR(VLOOKUP(VALUE(A46),WEEKLY_DATA!$A:$H,3,0),0)","v":0},{"$f":"IFERROR(VLOOKUP(VALUE(A46),WEEKLY_DATA!$A:$H,4,0),0)","v":0},{"$f":"IFERROR(VLOOKUP(VALUE(A46),WEEKLY_DATA!$A:$H,5,0),0)","v":0},{"$f":"IFERROR(VLOOKUP(VALUE(A46),WEEKLY_DATA!$A:$H,6,0),0)","v":0},{"$f":"IFERROR(VLOOKUP(VALUE(A46),WEEKLY_DATA!$A:$H,7,0),0)","v":0},{"$f":"IFERROR(IF(OR(Q46=\"\",Q46=0),\"\",IF(VLOOKUP(VALUE($A46),WEEKLY_DATA!$A:$H,6,0)=0,\"No Sales\",Q46/(VLOOKUP(VALUE($A46),WEEKLY_DATA!$A:$H,6,0)/13))),\"\")","v":""},{"$f":"IFERROR(VLOOKUP(VALUE(A46),WEEKLY_DATA!$A:$H,8,0),0)","v":0},"—",null,null,null,null,null,null,"—",null,null,null,"—","—",null,{"$f":"IFERROR(LOOKUP(2, 1/SEARCH({\"Black\",\"White\",\"Grey\",\"Blue\",\"Silver\",\"Brown\",\"Green\",\"Blue\",\"Purple\",\"Red\",\"Pink\",\"Yellow\",\"Gold\"}, G46), {\"Black\",\"White\",\"Grey\",\"Blue\",\"Silver\",\"Brown\",\"Green\",\"Blue\",\"Purple\",\"Red\",\"Pink\",\"Yellow\",\"Gold\"}), \"\")","v":""},{"$f":"IFERROR(LOOKUP(2, 1/SEARCH({\"8GB\",\"16GB\",\"32GB\",\"64GB\"}, G46), {\"8GB\",\"16GB\",\"32GB\",\"64GB\"}), \"\")","v":""},{"$f":"IFERROR(LOOKUP(2, 1/SEARCH({\"1TB\",\"2TB\",\"128GB\",\"512GB\",\"256GB\"}, G46), {\"1TB\",\"2TB\",\"128GB\",\"512GB\",\"256GB\"}), \"\")","v":""},null,{"$f":"IFERROR(LOOKUP(2, 1/SEARCH({\"16-Inch\",\"15-Inch\",\"15.6-Inch\",\"18-Inch\",\"15.3-Inch\",\"13-Inch\",\"13.4-Inch\",\"13.8-Inch\",\"14-Inch\",\"17-Inch\",\"45-Inch\",\"27-Inch\",\"34-Inch\",\"32-Inch\",\"21.5-Inch\"}, G46), {\"16-Inch\",\"15-Inch\",\"15.6-Inch\",\"18-Inch\",\"15.3-Inch\",\"13-Inch\",\"13.4-Inch\",\"13.8-Inch\",\"14-Inch\",\"17-Inch\",\"45-Inch\",\"27-Inch\",\"34-Inch\",\"32-Inch\",\"21.5-Inch\"}), \"\")","v":""}]
[null,null,null,null,null,null,null,{"$f":"IFERROR(INDEX(BrandList!$A$2:$A$50,MATCH(TRUE,ISNUMBER(SEARCH(BrandList!$A$2:$A$50,G47)),0)),\"\")","v":""},{"$f":"IFERROR(INDEX(BrandList!$B$2:$B$200,MATCH(TRUE,ISNUMBER(SEARCH(BrandList!$B$2:$B$200,G47)),0)),\"\")","v":""},null,null,null,null,null,null,"",{"$f":"IFERROR(VLOOKUP(VALUE(A47),WEEKLY_DATA!$A:$H,2,0),0)","v":0},{"$f":"IFERROR(VLOOKUP(VALUE(A47),WEEKLY_DATA!$A:$H,3,0),0)","v":0},{"$f":"IFERROR(VLOOKUP(VALUE(A47),WEEKLY_DATA!$A:$H,4,0),0)","v":0},{"$f":"IFERROR(VLOOKUP(VALUE(A47),WEEKLY_DATA!$A:$H,5,0),0)","v":0},{"$f":"IFERROR(VLOOKUP(VALUE(A47),WEEKLY_DATA!$A:$H,6,0),0)","v":0},{"$f":"IFERROR(VLOOKUP(VALUE(A47),WEEKLY_DATA!$A:$H,7,0),0)","v":0},{"$f":"IFERROR(IF(OR(Q47=\"\",Q47=0),\"\",IF(VLOOKUP(VALUE($A47),WEEKLY_DATA!$A:$H,6,0)=0,\"No Sales\",Q47/(VLOOKUP(VALUE($A47),WEEKLY_DATA!$A:$H,6,0)/13))),\"\")","v":""},{"$f":"IFERROR(VLOOKUP(VALUE(A47),WEEKLY_DATA!$A:$H,8,0),0)","v":0},"—",null,null,null,null,null,null,"—",null,null,null,"—","—",null,{"$f":"IFERROR(LOOKUP(2, 1/SEARCH({\"Black\",\"White\",\"Grey\",\"Blue\",\"Silver\",\"Brown\",\"Green\",\"Blue\",\"Purple\",\"Red\",\"Pink\",\"Yellow\",\"Gold\"}, G47), {\"Black\",\"White\",\"Grey\",\"Blue\",\"Silver\",\"Brown\",\"Green\",\"Blue\",\"Purple\",\"Red\",\"Pink\",\"Yellow\",\"Gold\"}), \"\")","v":""},{"$f":"IFERROR(LOOKUP(2, 1/SEARCH({\"8GB\",\"16GB\",\"32GB\",\"64GB\"}, G47), {\"8GB\",\"16GB\",\"32GB\",\"64GB\"}), \"\")","v":""},{"$f":"IFERROR(LOOKUP(2, 1/SEARCH({\"1TB\",\"2TB\",\"128GB\",\"512GB\",\"256GB\"}, G47), {\"1TB\",\"2TB\",\"128GB\",\"512GB\",\"256GB\"}), \"\")","v":""},null,{"$f":"IFERROR(LOOKUP(2, 1/SEARCH({\"16-Inch\",\"15-Inch\",\"15.6-Inch\",\"18-Inch\",\"15.3-Inch\",\"13-Inch\",\"13.4-Inch\",\"13.8-Inch\",\"14-Inch\",\"17-Inch\",\"45-Inch\",\"27-Inch\",\"34-Inch\",\"32-Inch\",\"21.5-Inch\"}, G47), {\"16-Inch\",\"15-Inch\",\"15.6-Inch\",\"18-Inch\",\"15.3-Inch\",\"13-Inch\",\"13.4-Inch\",\"13.8-Inch\",\"14-Inch\",\"17-Inch\",\"45-Inch\",\"27-Inch\",\"34-Inch\",\"32-Inch\",\"21.5-Inch\"}), \"\")","v":""}]
[null,null,null,null,null,null,null,{"$f":"IFERROR(INDEX(BrandList!$A$2:$A$50,MATCH(TRUE,ISNUMBER(SEARCH(BrandList!$A$2:$A$50,G48)),0)),\"\")","v":""},{"$f":"IFERROR(INDEX(BrandList!$B$2:$B$200,MATCH(TRUE,ISNUMBER(SEARCH(BrandList!$B$2:$B$200,G48)),0)),\"\")","v":""},null,null,null,null,null,null,"",{"$f":"IFERROR(VLOOKUP(VALUE(A48),WEEKLY_DATA!$A:$H,2,0),0)","v":0},{"$f":"IFERROR(VLOOKUP(VALUE(A48),WEEKLY_DATA!$A:$H,3,0),0)","v":0},{"$f":"IFERROR(VLOOKUP(VALUE(A48),WEEKLY_DATA!$A:$H,4,0),0)","v":0},{"$f":"IFERROR(VLOOKUP(VALUE(A48),WEEKLY_DATA!$A:$H,5,0),0)","v":0},{"$f":"IFERROR(VLOOKUP(VALUE(A48),WEEKLY_DATA!$A:$H,6,0),0)","v":0},{"$f":"IFERROR(VLOOKUP(VALUE(A48),WEEKLY_DATA!$A:$H,7,0),0)","v":0},{"$f":"IFERROR(IF(OR(Q48=\"\",Q48=0),\"\",IF(VLOOKUP(VALUE($A48),WEEKLY_DATA!$A:$H,6,0)=0,\"No Sales\",Q48/(VLOOKUP(VALUE($A48),WEEKLY_DATA!$A:$H,6,0)/13))),\"\")","v":""},{"$f":"IFERROR(VLOOKUP(VALUE(A48),WEEKLY_DATA!$A:$H,8,0),0)","v":0},"—",null,null,null,null,null,null,"—",null,null,null,"—","—",null,{"$f":"IFERROR(LOOKUP(2, 1/SEARCH({\"Black\",\"White\",\"Grey\",\"Blue\",\"Silver\",\"Brown\",\"Green\",\"Blue\",\"Purple\",\"Red\",\"Pink\",\"Yellow\",\"Gold\"}, G48), {\"Black\",\"White\",\"Grey\",\"Blue\",\"Silver\",\"Brown\",\"Green\",\"Blue\",\"Purple\",\"Red\",\"Pink\",\"Yellow\",\"Gold\"}), \"\")","v":""},{"$f":"IFERROR(LOOKUP(2, 1/SEARCH({\"8GB\",\"16GB\",\"32GB\",\"64GB\"}, G48), {\"8GB\",\"16GB\",\"32GB\",\"64GB\"}), \"\")","v":""},{"$f":"IFERROR(LOOKUP(2, 1/SEARCH({\"1TB\",\"2TB\",\"128GB\",\"512GB\",\"256GB\"}, G48), {\"1TB\",\"2TB\",\"128GB\",\"512GB\",\"256GB\"}), \"\")","v":""},null,{"$f":"IFERROR(LOOKUP(2, 1/SEARCH({\"16-Inch\",\"15-Inch\",\"15.6-Inch\",\"18-Inch\",\"15.3-Inch\",\"13-Inch\",\"13.4-Inch\",\"13.8-Inch\",\"14-Inch\",\"17-Inch\",\"45-Inch\",\"27-Inch\",\"34-Inch\",\"32-Inch\",\"21.5-Inch\"}, G48), {\"16-Inch\",\"15-Inch\",\"15.6-Inch\",\"18-Inch\",\"15.3-Inch\",\"13-Inch\",\"13.4-Inch\",\"13.8-Inch\",\"14-Inch\",\"17-Inch\",\"45-Inch\",\"27-Inch\",\"34-Inch\",\"32-Inch\",\"21.5-Inch\"}), \"\")","v":""}]
[null,null,null,null,null,null,null,{"$f":"IFERROR(INDEX(BrandList!$A$2:$A$50,MATCH(TRUE,ISNUMBER(SEARCH(BrandList!$A$2:$A$50,G49)),0)),\"\")","v":""},{"$f":"IFERROR(INDEX(BrandList!$B$2:$B$200,MATCH(TRUE,ISNUMBER(SEARCH(BrandList!$B$2:$B$200,G49)),0)),\"\")","v":""},null,null,null,null,null,null,"",{"$f":"IFERROR(VLOOKUP(VALUE(A49),WEEKLY_DATA!$A:$H,2,0),0)","v":0},{"$f":"IFERROR(VLOOKUP(VALUE(A49),WEEKLY_DATA!$A:$H,3,0),0)","v":0},{"$f":"IFERROR(VLOOKUP(VALUE(A49),WEEKLY_DATA!$A:$H,4,0),0)","v":0},{"$f":"IFERROR(VLOOKUP(VALUE(A49),WEEKLY_DATA!$A:$H,5,0),0)","v":0},{"$f":"IFERROR(VLOOKUP(VALUE(A49),WEEKLY_DATA!$A:$H,6,0),0)","v":0},{"$f":"IFERROR(VLOOKUP(VALUE(A49),WEEKLY_DATA!$A:$H,7,0),0)","v":0},{"$f":"IFERROR(IF(OR(Q49=\"\",Q49=0),\"\",IF(VLOOKUP(VALUE($A49),WEEKLY_DATA!$A:$H,6,0)=0,\"No Sales\",Q49/(VLOOKUP(VALUE($A49),WEEKLY_DATA!$A:$H,6,0)/13))),\"\")","v":""},{"$f":"IFERROR(VLOOKUP(VALUE(A49),WEEKLY_DATA!$A:$H,8,0),0)","v":0},"—",null,null,null,null,null,null,"—",null,null,null,"—","—",null,{"$f":"IFERROR(LOOKUP(2, 1/SEARCH({\"Black\",\"White\",\"Grey\",\"Blue\",\"Silver\",\"Brown\",\"Green\",\"Blue\",\"Purple\",\"Red\",\"Pink\",\"Yellow\",\"Gold\"}, G49), {\"Black\",\"White\",\"Grey\",\"Blue\",\"Silver\",\"Brown\",\"Green\",\"Blue\",\"Purple\",\"Red\",\"Pink\",\"Yellow\",\"Gold\"}), \"\")","v":""},{"$f":"IFERROR(LOOKUP(2, 1/SEARCH({\"8GB\",\"16GB\",\"32GB\",\"64GB\"}, G49), {\"8GB\",\"16GB\",\"32GB\",\"64GB\"}), \"\")","v":""},{"$f":"IFERROR(LOOKUP(2, 1/SEARCH({\"1TB\",\"2TB\",\"128GB\",\"512GB\",\"256GB\"}, G49), {\"1TB\",\"2TB\",\"128GB\",\"512GB\",\"256GB\"}), \"\")","v":""},null,{"$f":"IFERROR(LOOKUP(2, 1/SEARCH({\"16-Inch\",\"15-Inch\",\"15.6-Inch\",\"18-Inch\",\"15.3-Inch\",\"13-Inch\",\"13.4-Inch\",\"13.8-Inch\",\"14-Inch\",\"17-Inch\",\"45-Inch\",\"27-Inch\",\"34-Inch\",\"32-Inch\",\"21.5-Inch\"}, G49), {\"16-Inch\",\"15-Inch\",\"15.6-Inch\",\"18-Inch\",\"15.3-Inch\",\"13-Inch\",\"13.4-Inch\",\"13.8-Inch\",\"14-Inch\",\"17-Inch\",\"45-Inch\",\"27-Inch\",\"34-Inch\",\"32-Inch\",\"21.5-Inch\"}), \"\")","v":""}]
[null,null,null,null,null,null,null,{"$f":"IFERROR(INDEX(BrandList!$A$2:$A$50,MATCH(TRUE,ISNUMBER(SEARCH(BrandList!$A$2:$A$50,G50)),0)),\"\")","v":""},{"$f":"IFERROR(INDEX(BrandList!$B$2:$B$200,MATCH(TRUE,ISNUMBER(SEARCH(BrandList!$B$2:$B$200,G50)),0)),\"\")","v":""},null,null,null,null,null,null,"",{"$f":"IFERROR(VLOOKUP(VALUE(A50),WEEKLY_DATA!$A:$H,2,0),0)","v":0},{"$f":"IFERROR(VLOOKUP(VALUE(A50),WEEKLY_DATA!$A:$H,3,0),0)","v":0},{"$f":"IFERROR(VLOOKUP(VALUE(A50),WEEKLY_DATA!$A:$H,4,0),0)","v":0},{"$f":"IFERROR(VLOOKUP(VALUE(A50),WEEKLY_DATA!$A:$H,5,0),0)","v":0},{"$f":"IFERROR(VLOOKUP(VALUE(A50),WEEKLY_DATA!$A:$H,6,0),0)","v":0},{"$f":"IFERROR(VLOOKUP(VALUE(A50),WEEKLY_DATA!$A:$H,7,0),0)","v":0},{"$f":"IFERROR(IF(OR(Q50=\"\",Q50=0),\"\",IF(VLOOKUP(VALUE($A50),WEEKLY_DATA!$A:$H,6,0)=0,\"No Sales\",Q50/(VLOOKUP(VALUE($A50),WEEKLY_DATA!$A:$H,6,0)/13))),\"\")","v":""},{"$f":"IFERROR(VLOOKUP(VALUE(A50),WEEKLY_DATA!$A:$H,8,0),0)","v":0},"—",null,null,null,null,null,null,"—",null,null,null,"—","—",null,{"$f":"IFERROR(LOOKUP(2, 1/SEARCH({\"Black\",\"White\",\"Grey\",\"Blue\",\"Silver\",\"Brown\",\"Green\",\"Blue\",\"Purple\",\"Red\",\"Pink\",\"Yellow\",\"Gold\"}, G50), {\"Black\",\"White\",\"Grey\",\"Blue\",\"Silver\",\"Brown\",\"Green\",\"Blue\",\"Purple\",\"Red\",\"Pink\",\"Yellow\",\"Gold\"}), \"\")","v":""},{"$f":"IFERROR(LOOKUP(2, 1/SEARCH({\"8GB\",\"16GB\",\"32GB\",\"64GB\"}, G50), {\"8GB\",\"16GB\",\"32GB\",\"64GB\"}), \"\")","v":""},{"$f":"IFERROR(LOOKUP(2, 1/SEARCH({\"1TB\",\"2TB\",\"128GB\",\"512GB\",\"256GB\"}, G50), {\"1TB\",\"2TB\",\"128GB\",\"512GB\",\"256GB\"}), \"\")","v":""},null,{"$f":"IFERROR(LOOKUP(2, 1/SEARCH({\"16-Inch\",\"15-Inch\",\"15.6-Inch\",\"18-Inch\",\"15.3-Inch\",\"13-Inch\",\"13.4-Inch\",\"13.8-Inch\",\"14-Inch\",\"17-Inch\",\"45-Inch\",\"27-Inch\",\"34-Inch\",\"32-Inch\",\"21.5-Inch\"}, G50), {\"16-Inch\",\"15-Inch\",\"15.6-Inch\",\"18-Inch\",\"15.3-Inch\",\"13-Inch\",\"13.4-Inch\",\"13.8-Inch\",\"14-Inch\",\"17-Inch\",\"45-Inch\",\"27-Inch\",\"34-Inch\",\"32-Inch\",\"21.5-Inch\"}), \"\")","v":""}]
[null,null,null,null,null,null,null,{"$f":"IFERROR(INDEX(BrandList!$A$2:$A$50,MATCH(TRUE,ISNUMBER(SEARCH(BrandList!$A$2:$A$50,G51)),0)),\"\")","v":""},{"$f":"IFERROR(INDEX(BrandList!$B$2:$B$200,MATCH(TRUE,ISNUMBER(SEARCH(BrandList!$B$2:$B$200,G51)),0)),\"\")","v":""},null,null,null,null,null,null,"",{"$f":"IFERROR(VLOOKUP(VALUE(A51),WEEKLY_DATA!$A:$H,2,0),0)","v":0},{"$f":"IFERROR(VLOOKUP(VALUE(A51),WEEKLY_DATA!$A:$H,3,0),0)","v":0},{"$f":"IFERROR(VLOOKUP(VALUE(A51),WEEKLY_DATA!$A:$H,4,0),0)","v":0},{"$f":"IFERROR(VLOOKUP(VALUE(A51),WEEKLY_DATA!$A:$H,5,0),0)","v":0},{"$f":"IFERROR(VLOOKUP(VALUE(A51),WEEKLY_DATA!$A:$H,6,0),0)","v":0},{"$f":"IFERROR(VLOOKUP(VALUE(A51),WEEKLY_DATA!$A:$H,7,0),0)","v":0},{"$f":"IFERROR(IF(OR(Q51=\"\",Q51=0),\"\",IF(VLOOKUP(VALUE($A51),WEEKLY_DATA!$A:$H,6,0)=0,\"No Sales\",Q51/(VLOOKUP(VALUE($A51),WEEKLY_DATA!$A:$H,6,0)/13))),\"\")","v":""},{"$f":"IFERROR(VLOOKUP(VALUE(A51),WEEKLY_DATA!$A:$H,8,0),0)","v":0},"—",null,null,null,null,null,null,"—",null,null,null,"—","—",null,{"$f":"IFERROR(LOOKUP(2, 1/SEARCH({\"Black\",\"White\",\"Grey\",\"Blue\",\"Silver\",\"Brown\",\"Green\",\"Blue\",\"Purple\",\"Red\",\"Pink\",\"Yellow\",\"Gold\"}, G51), {\"Black\",\"White\",\"Grey\",\"Blue\",\"Silver\",\"Brown\",\"Green\",\"Blue\",\"Purple\",\"Red\",\"Pink\",\"Yellow\",\"Gold\"}), \"\")","v":""},{"$f":"IFERROR(LOOKUP(2, 1/SEARCH({\"8GB\",\"16GB\",\"32GB\",\"64GB\"}, G51), {\"8GB\",\"16GB\",\"32GB\",\"64GB\"}), \"\")","v":""},{"$f":"IFERROR(LOOKUP(2, 1/SEARCH({\"1TB\",\"2TB\",\"128GB\",\"512GB\",\"256GB\"}, G51), {\"1TB\",\"2TB\",\"128GB\",\"512GB\",\"256GB\"}), \"\")","v":""},null,{"$f":"IFERROR(LOOKUP(2, 1/SEARCH({\"16-Inch\",\"15-Inch\",\"15.6-Inch\",\"18-Inch\",\"15.3-Inch\",\"13-Inch\",\"13.4-Inch\",\"13.8-Inch\",\"14-Inch\",\"17-Inch\",\"45-Inch\",\"27-Inch\",\"34-Inch\",\"32-Inch\",\"21.5-Inch\"}, G51), {\"16-Inch\",\"15-Inch\",\"15.6-Inch\",\"18-Inch\",\"15.3-Inch\",\"13-Inch\",\"13.4-Inch\",\"13.8-Inch\",\"14-Inch\",\"17-Inch\",\"45-Inch\",\"27-Inch\",\"34-Inch\",\"32-Inch\",\"21.5-Inch\"}), \"\")","v":""}]
[null,null,null,null,null,null,null,{"$f":"IFERROR(INDEX(BrandList!$A$2:$A$50,MATCH(TRUE,ISNUMBER(SEARCH(BrandList!$A$2:$A$50,G52)),0)),\"\")","v":""},{"$f":"IFERROR(INDEX(BrandList!$B$2:$B$200,MATCH(TRUE,ISNUMBER(SEARCH(BrandList!$B$2:$B$200,G52)),0)),\"\")","v":""},null,null,null,null,null,null,"",{"$f":"IFERROR(VLOOKUP(VALUE(A52),WEEKLY_DATA!$A:$H,2,0),0)","v":0},{"$f":"IFERROR(VLOOKUP(VALUE(A52),WEEKLY_DATA!$A:$H,3,0),0)","v":0},{"$f":"IFERROR(VLOOKUP(VALUE(A52),WEEKLY_DATA!$A:$H,4,0),0)","v":0},{"$f":"IFERROR(VLOOKUP(VALUE(A52),WEEKLY_DATA!$A:$H,5,0),0)","v":0},{"$f":"IFERROR(VLOOKUP(VALUE(A52),WEEKLY_DATA!$A:$H,6,0),0)","v":0},{"$f":"IFERROR(VLOOKUP(VALUE(A52),WEEKLY_DATA!$A:$H,7,0),0)","v":0},{"$f":"IFERROR(IF(OR(Q52=\"\",Q52=0),\"\",IF(VLOOKUP(VALUE($A52),WEEKLY_DATA!$A:$H,6,0)=0,\"No Sales\",Q52/(VLOOKUP(VALUE($A52),WEEKLY_DATA!$A:$H,6,0)/13))),\"\")","v":""},{"$f":"IFERROR(VLOOKUP(VALUE(A52),WEEKLY_DATA!$A:$H,8,0),0)","v":0},"—",null,null,null,null,null,null,"—",null,null,null,"—","—",null,{"$f":"IFERROR(LOOKUP(2, 1/SEARCH({\"Black\",\"White\",\"Grey\",\"Blue\",\"Silver\",\"Brown\",\"Green\",\"Blue\",\"Purple\",\"Red\",\"Pink\",\"Yellow\",\"Gold\"}, G52), {\"Black\",\"White\",\"Grey\",\"Blue\",\"Silver\",\"Brown\",\"Green\",\"Blue\",\"Purple\",\"Red\",\"Pink\",\"Yellow\",\"Gold\"}), \"\")","v":""},{"$f":"IFERROR(LOOKUP(2, 1/SEARCH({\"8GB\",\"16GB\",\"32GB\",\"64GB\"}, G52), {\"8GB\",\"16GB\",\"32GB\",\"64GB\"}), \"\")","v":""},{"$f":"IFERROR(LOOKUP(2, 1/SEARCH({\"1TB\",\"2TB\",\"128GB\",\"512GB\",\"256GB\"}, G52), {\"1TB\",\"2TB\",\"128GB\",\"512GB\",\"256GB\"}), \"\")","v":""},null,{"$f":"IFERROR(LOOKUP(2, 1/SEARCH({\"16-Inch\",\"15-Inch\",\"15.6-Inch\",\"18-Inch\",\"15.3-Inch\",\"13-Inch\",\"13.4-Inch\",\"13.8-Inch\",\"14-Inch\",\"17-Inch\",\"45-Inch\",\"27-Inch\",\"34-Inch\",\"32-Inch\",\"21.5-Inch\"}, G52), {\"16-Inch\",\"15-Inch\",\"15.6-Inch\",\"18-Inch\",\"15.3-Inch\",\"13-Inch\",\"13.4-Inch\",\"13.8-Inch\",\"14-Inch\",\"17-Inch\",\"45-Inch\",\"27-Inch\",\"34-Inch\",\"32-Inch\",\"21.5-Inch\"}), \"\")","v":""}]
[null,null,null,null,null,null,null,{"$f":"IFERROR(INDEX(BrandList!$A$2:$A$50,MATCH(TRUE,ISNUMBER(SEARCH(BrandList!$A$2:$A$50,G53)),0)),\"\")","v":""},{"$f":"IFERROR(INDEX(BrandList!$B$2:$B$200,MATCH(TRUE,ISNUMBER(SEARCH(BrandList!$B$2:$B$200,G53)),0)),\"\")","v":""},null,null,null,null,null,null,"",{"$f":"IFERROR(VLOOKUP(VALUE(A53),WEEKLY_DATA!$A:$H,2,0),0)","v":0},{"$f":"IFERROR(VLOOKUP(VALUE(A53),WEEKLY_DATA!$A:$H,3,0),0)","v":0},{"$f":"IFERROR(VLOOKUP(VALUE(A53),WEEKLY_DATA!$A:$H,4,0),0)","v":0},{"$f":"IFERROR(VLOOKUP(VALUE(A53),WEEKLY_DATA!$A:$H,5,0),0)","v":0},{"$f":"IFERROR(VLOOKUP(VALUE(A53),WEEKLY_DATA!$A:$H,6,0),0)","v":0},{"$f":"IFERROR(VLOOKUP(VALUE(A53),WEEKLY_DATA!$A:$H,7,0),0)","v":0},{"$f":"IFERROR(IF(OR(Q53=\"\",Q53=0),\"\",IF(VLOOKUP(VALUE($A53),WEEKLY_DATA!$A:$H,6,0)=0,\"No Sales\",Q53/(VLOOKUP(VALUE($A53),WEEKLY_DATA!$A:$H,6,0)/13))),\"\")","v":""},{"$f":"IFERROR(VLOOKUP(VALUE(A53),WEEKLY_DATA!$A:$H,8,0),0)","v":0},"—",null,null,null,null,null,null,"—",null,null,null,"—","—",null,{"$f":"IFERROR(LOOKUP(2, 1/SEARCH({\"Black\",\"White\",\"Grey\",\"Blue\",\"Silver\",\"Brown\",\"Green\",\"Blue\",\"Purple\",\"Red\",\"Pink\",\"Yellow\",\"Gold\"}, G53), {\"Black\",\"White\",\"Grey\",\"Blue\",\"Silver\",\"Brown\",\"Green\",\"Blue\",\"Purple\",\"Red\",\"Pink\",\"Yellow\",\"Gold\"}), \"\")","v":""},{"$f":"IFERROR(LOOKUP(2, 1/SEARCH({\"8GB\",\"16GB\",\"32GB\",\"64GB\"}, G53), {\"8GB\",\"16GB\",\"32GB\",\"64GB\"}), \"\")","v":""},{"$f":"IFERROR(LOOKUP(2, 1/SEARCH({\"1TB\",\"2TB\",\"128GB\",\"512GB\",\"256GB\"}, G53), {\"1TB\",\"2TB\",\"128GB\",\"512GB\",\"256GB\"}), \"\")","v":""},null,{"$f":"IFERROR(LOOKUP(2, 1/SEARCH({\"16-Inch\",\"15-Inch\",\"15.6-Inch\",\"18-Inch\",\"15.3-Inch\",\"13-Inch\",\"13.4-Inch\",\"13.8-Inch\",\"14-Inch\",\"17-Inch\",\"45-Inch\",\"27-Inch\",\"34-Inch\",\"32-Inch\",\"21.5-Inch\"}, G53), {\"16-Inch\",\"15-Inch\",\"15.6-Inch\",\"18-Inch\",\"15.3-Inch\",\"13-Inch\",\"13.4-Inch\",\"13.8-Inch\",\"14-Inch\",\"17-Inch\",\"45-Inch\",\"27-Inch\",\"34-Inch\",\"32-Inch\",\"21.5-Inch\"}), \"\")","v":""}]
[null,null,null,null,null,null,null,{"$f":"IFERROR(INDEX(BrandList!$A$2:$A$50,MATCH(TRUE,ISNUMBER(SEARCH(BrandList!$A$2:$A$50,G54)),0)),\"\")","v":""},{"$f":"IFERROR(INDEX(BrandList!$B$2:$B$200,MATCH(TRUE,ISNUMBER(SEARCH(BrandList!$B$2:$B$200,G54)),0)),\"\")","v":""},null,null,null,null,null,null,"",{"$f":"IFERROR(VLOOKUP(VALUE(A54),WEEKLY_DATA!$A:$H,2,0),0)","v":0},{"$f":"IFERROR(VLOOKUP(VALUE(A54),WEEKLY_DATA!$A:$H,3,0),0)","v":0},{"$f":"IFERROR(VLOOKUP(VALUE(A54),WEEKLY_DATA!$A:$H,4,0),0)","v":0},{"$f":"IFERROR(VLOOKUP(VALUE(A54),WEEKLY_DATA!$A:$H,5,0),0)","v":0},{"$f":"IFERROR(VLOOKUP(VALUE(A54),WEEKLY_DATA!$A:$H,6,0),0)","v":0},{"$f":"IFERROR(VLOOKUP(VALUE(A54),WEEKLY_DATA!$A:$H,7,0),0)","v":0},{"$f":"IFERROR(IF(OR(Q54=\"\",Q54=0),\"\",IF(VLOOKUP(VALUE($A54),WEEKLY_DATA!$A:$H,6,0)=0,\"No Sales\",Q54/(VLOOKUP(VALUE($A54),WEEKLY_DATA!$A:$H,6,0)/13))),\"\")","v":""},{"$f":"IFERROR(VLOOKUP(VALUE(A54),WEEKLY_DATA!$A:$H,8,0),0)","v":0},"—",null,null,null,null,null,null,null,null,null,null,null,null,null,{"$f":"IFERROR(LOOKUP(2, 1/SEARCH({\"Black\",\"White\",\"Grey\",\"Blue\",\"Silver\",\"Brown\",\"Green\",\"Blue\",\"Purple\",\"Red\",\"Pink\",\"Yellow\",\"Gold\"}, G54), {\"Black\",\"White\",\"Grey\",\"Blue\",\"Silver\",\"Brown\",\"Green\",\"Blue\",\"Purple\",\"Red\",\"Pink\",\"Yellow\",\"Gold\"}), \"\")","v":""},{"$f":"IFERROR(LOOKUP(2, 1/SEARCH({\"8GB\",\"16GB\",\"32GB\",\"64GB\"}, G54), {\"8GB\",\"16GB\",\"32GB\",\"64GB\"}), \"\")","v":""},{"$f":"IFERROR(LOOKUP(2, 1/SEARCH({\"1TB\",\"2TB\",\"128GB\",\"512GB\",\"256GB\"}, G54), {\"1TB\",\"2TB\",\"128GB\",\"512GB\",\"256GB\"}), \"\")","v":""},null,{"$f":"IFERROR(LOOKUP(2, 1/SEARCH({\"16-Inch\",\"15-Inch\",\"15.6-Inch\",\"18-Inch\",\"15.3-Inch\",\"13-Inch\",\"13.4-Inch\",\"13.8-Inch\",\"14-Inch\",\"17-Inch\",\"45-Inch\",\"27-Inch\",\"34-Inch\",\"32-Inch\",\"21.5-Inch\"}, G54), {\"16-Inch\",\"15-Inch\",\"15.6-Inch\",\"18-Inch\",\"15.3-Inch\",\"13-Inch\",\"13.4-Inch\",\"13.8-Inch\",\"14-Inch\",\"17-Inch\",\"45-Inch\",\"27-Inch\",\"34-Inch\",\"32-Inch\",\"21.5-Inch\"}), \"\")","v":""}]
[null,null,null,null,null,null,null,{"$f":"IFERROR(INDEX(BrandList!$A$2:$A$50,MATCH(TRUE,ISNUMBER(SEARCH(BrandList!$A$2:$A$50,G55)),0)),\"\")","v":""},{"$f":"IFERROR(INDEX(BrandList!$B$2:$B$200,MATCH(TRUE,ISNUMBER(SEARCH(BrandList!$B$2:$B$200,G55)),0)),\"\")","v":""},null,null,null,null,null,null,"",{"$f":"IFERROR(VLOOKUP(VALUE(A55),WEEKLY_DATA!$A:$H,2,0),0)","v":0},{"$f":"IFERROR(VLOOKUP(VALUE(A55),WEEKLY_DATA!$A:$H,3,0),0)","v":0},{"$f":"IFERROR(VLOOKUP(VALUE(A55),WEEKLY_DATA!$A:$H,4,0),0)","v":0},{"$f":"IFERROR(VLOOKUP(VALUE(A55),WEEKLY_DATA!$A:$H,5,0),0)","v":0},{"$f":"IFERROR(VLOOKUP(VALUE(A55),WEEKLY_DATA!$A:$H,6,0),0)","v":0},{"$f":"IFERROR(VLOOKUP(VALUE(A55),WEEKLY_DATA!$A:$H,7,0),0)","v":0},{"$f":"IFERROR(IF(OR(Q55=\"\",Q55=0),\"\",IF(VLOOKUP(VALUE($A55),WEEKLY_DATA!$A:$H,6,0)=0,\"No Sales\",Q55/(VLOOKUP(VALUE($A55),WEEKLY_DATA!$A:$H,6,0)/13))),\"\")","v":""},{"$f":"IFERROR(VLOOKUP(VALUE(A55),WEEKLY_DATA!$A:$H,8,0),0)","v":0},"—",null,null,null,null,null,null,null,null,null,null,null,null,null,{"$f":"IFERROR(LOOKUP(2, 1/SEARCH({\"Black\",\"White\",\"Grey\",\"Blue\",\"Silver\",\"Brown\",\"Green\",\"Blue\",\"Purple\",\"Red\",\"Pink\",\"Yellow\",\"Gold\"}, G55), {\"Black\",\"White\",\"Grey\",\"Blue\",\"Silver\",\"Brown\",\"Green\",\"Blue\",\"Purple\",\"Red\",\"Pink\",\"Yellow\",\"Gold\"}), \"\")","v":""},{"$f":"IFERROR(LOOKUP(2, 1/SEARCH({\"8GB\",\"16GB\",\"32GB\",\"64GB\"}, G55), {\"8GB\",\"16GB\",\"32GB\",\"64GB\"}), \"\")","v":""},{"$f":"IFERROR(LOOKUP(2, 1/SEARCH({\"1TB\",\"2TB\",\"128GB\",\"512GB\",\"256GB\"}, G55), {\"1TB\",\"2TB\",\"128GB\",\"512GB\",\"256GB\"}), \"\")","v":""},null,{"$f":"IFERROR(LOOKUP(2, 1/SEARCH({\"16-Inch\",\"15-Inch\",\"15.6-Inch\",\"18-Inch\",\"15.3-Inch\",\"13-Inch\",\"13.4-Inch\",\"13.8-Inch\",\"14-Inch\",\"17-Inch\",\"45-Inch\",\"27-Inch\",\"34-Inch\",\"32-Inch\",\"21.5-Inch\"}, G55), {\"16-Inch\",\"15-Inch\",\"15.6-Inch\",\"18-Inch\",\"15.3-Inch\",\"13-Inch\",\"13.4-Inch\",\"13.8-Inch\",\"14-Inch\",\"17-Inch\",\"45-Inch\",\"27-Inch\",\"34-Inch\",\"32-Inch\",\"21.5-Inch\"}), \"\")","v":""}]
[null,null,null,null,null,null,null,{"$f":"IFERROR(INDEX(BrandList!$A$2:$A$50,MATCH(TRUE,ISNUMBER(SEARCH(BrandList!$A$2:$A$50,G56)),0)),\"\")","v":""},{"$f":"IFERROR(INDEX(BrandList!$B$2:$B$200,MATCH(TRUE,ISNUMBER(SEARCH(BrandList!$B$2:$B$200,G56)),0)),\"\")","v":""},null,null,null,null,null,null,"",{"$f":"IFERROR(VLOOKUP(VALUE(A56),WEEKLY_DATA!$A:$H,2,0),0)","v":0},{"$f":"IFERROR(VLOOKUP(VALUE(A56),WEEKLY_DATA!$A:$H,3,0),0)","v":0},{"$f":"IFERROR(VLOOKUP(VALUE(A56),WEEKLY_DATA!$A:$H,4,0),0)","v":0},{"$f":"IFERROR(VLOOKUP(VALUE(A56),WEEKLY_DATA!$A:$H,5,0),0)","v":0},{"$f":"IFERROR(VLOOKUP(VALUE(A56),WEEKLY_DATA!$A:$H,6,0),0)","v":0},{"$f":"IFERROR(VLOOKUP(VALUE(A56),WEEKLY_DATA!$A:$H,7,0),0)","v":0},{"$f":"IFERROR(IF(OR(Q56=\"\",Q56=0),\"\",IF(VLOOKUP(VALUE($A56),WEEKLY_DATA!$A:$H,6,0)=0,\"No Sales\",Q56/(VLOOKUP(VALUE($A56),WEEKLY_DATA!$A:$H,6,0)/13))),\"\")","v":""},{"$f":"IFERROR(VLOOKUP(VALUE(A56),WEEKLY_DATA!$A:$H,8,0),0)","v":0},"—",null,null,null,null,null,null,"—",null,null,null,"—","—",null,{"$f":"IFERROR(LOOKUP(2, 1/SEARCH({\"Black\",\"White\",\"Grey\",\"Blue\",\"Silver\",\"Brown\",\"Green\",\"Blue\",\"Purple\",\"Red\",\"Pink\",\"Yellow\",\"Gold\"}, G56), {\"Black\",\"White\",\"Grey\",\"Blue\",\"Silver\",\"Brown\",\"Green\",\"Blue\",\"Purple\",\"Red\",\"Pink\",\"Yellow\",\"Gold\"}), \"\")","v":""},{"$f":"IFERROR(LOOKUP(2, 1/SEARCH({\"8GB\",\"16GB\",\"32GB\",\"64GB\"}, G56), {\"8GB\",\"16GB\",\"32GB\",\"64GB\"}), \"\")","v":""},{"$f":"IFERROR(LOOKUP(2, 1/SEARCH({\"1TB\",\"2TB\",\"128GB\",\"512GB\",\"256GB\"}, G56), {\"1TB\",\"2TB\",\"128GB\",\"512GB\",\"256GB\"}), \"\")","v":""},null,{"$f":"IFERROR(LOOKUP(2, 1/SEARCH({\"16-Inch\",\"15-Inch\",\"15.6-Inch\",\"18-Inch\",\"15.3-Inch\",\"13-Inch\",\"13.4-Inch\",\"13.8-Inch\",\"14-Inch\",\"17-Inch\",\"45-Inch\",\"27-Inch\",\"34-Inch\",\"32-Inch\",\"21.5-Inch\"}, G56), {\"16-Inch\",\"15-Inch\",\"15.6-Inch\",\"18-Inch\",\"15.3-Inch\",\"13-Inch\",\"13.4-Inch\",\"13.8-Inch\",\"14-Inch\",\"17-Inch\",\"45-Inch\",\"27-Inch\",\"34-Inch\",\"32-Inch\",\"21.5-Inch\"}), \"\")","v":""}]
[null,null,null,null,null,null,null,{"$f":"IFERROR(INDEX(BrandList!$A$2:$A$50,MATCH(TRUE,ISNUMBER(SEARCH(BrandList!$A$2:$A$50,G57)),0)),\"\")","v":""},{"$f":"IFERROR(INDEX(BrandList!$B$2:$B$200,MATCH(TRUE,ISNUMBER(SEARCH(BrandList!$B$2:$B$200,G57)),0)),\"\")","v":""},null,null,null,null,null,null,"",{"$f":"IFERROR(VLOOKUP(VALUE(A57),WEEKLY_DATA!$A:$H,2,0),0)","v":0},{"$f":"IFERROR(VLOOKUP(VALUE(A57),WEEKLY_DATA!$A:$H,3,0),0)","v":0},{"$f":"IFERROR(VLOOKUP(VALUE(A57),WEEKLY_DATA!$A:$H,4,0),0)","v":0},{"$f":"IFERROR(VLOOKUP(VALUE(A57),WEEKLY_DATA!$A:$H,5,0),0)","v":0},{"$f":"IFERROR(VLOOKUP(VALUE(A57),WEEKLY_DATA!$A:$H,6,0),0)","v":0},{"$f":"IFERROR(VLOOKUP(VALUE(A57),WEEKLY_DATA!$A:$H,7,0),0)","v":0},{"$f":"IFERROR(IF(OR(Q57=\"\",Q57=0),\"\",IF(VLOOKUP(VALUE($A57),WEEKLY_DATA!$A:$H,6,0)=0,\"No Sales\",Q57/(VLOOKUP(VALUE($A57),WEEKLY_DATA!$A:$H,6,0)/13))),\"\")","v":""},{"$f":"IFERROR(VLOOKUP(VALUE(A57),WEEKLY_DATA!$A:$H,8,0),0)","v":0},"—",null,null,null,null,null,null,"—",null,null,null,"—","—",null,{"$f":"IFERROR(LOOKUP(2, 1/SEARCH({\"Black\",\"White\",\"Grey\",\"Blue\",\"Silver\",\"Brown\",\"Green\",\"Blue\",\"Purple\",\"Red\",\"Pink\",\"Yellow\",\"Gold\"}, G57), {\"Black\",\"White\",\"Grey\",\"Blue\",\"Silver\",\"Brown\",\"Green\",\"Blue\",\"Purple\",\"Red\",\"Pink\",\"Yellow\",\"Gold\"}), \"\")","v":""},{"$f":"IFERROR(LOOKUP(2, 1/SEARCH({\"8GB\",\"16GB\",\"32GB\",\"64GB\"}, G57), {\"8GB\",\"16GB\",\"32GB\",\"64GB\"}), \"\")","v":""},{"$f":"IFERROR(LOOKUP(2, 1/SEARCH({\"1TB\",\"2TB\",\"128GB\",\"512GB\",\"256GB\"}, G57), {\"1TB\",\"2TB\",\"128GB\",\"512GB\",\"256GB\"}), \"\")","v":""},null,{"$f":"IFERROR(LOOKUP(2, 1/SEARCH({\"16-Inch\",\"15-Inch\",\"15.6-Inch\",\"18-Inch\",\"15.3-Inch\",\"13-Inch\",\"13.4-Inch\",\"13.8-Inch\",\"14-Inch\",\"17-Inch\",\"45-Inch\",\"27-Inch\",\"34-Inch\",\"32-Inch\",\"21.5-Inch\"}, G57), {\"16-Inch\",\"15-Inch\",\"15.6-Inch\",\"18-Inch\",\"15.3-Inch\",\"13-Inch\",\"13.4-Inch\",\"13.8-Inch\",\"14-Inch\",\"17-Inch\",\"45-Inch\",\"27-Inch\",\"34-Inch\",\"32-Inch\",\"21.5-Inch\"}), \"\")","v":""}]
[null,null,null,null,null,null,null,{"$f":"IFERROR(INDEX(BrandList!$A$2:$A$50,MATCH(TRUE,ISNUMBER(SEARCH(BrandList!$A$2:$A$50,G58)),0)),\"\")","v":""},{"$f":"IFERROR(INDEX(BrandList!$B$2:$B$200,MATCH(TRUE,ISNUMBER(SEARCH(BrandList!$B$2:$B$200,G58)),0)),\"\")","v":""},null,null,null,null,null,null,"",{"$f":"IFERROR(VLOOKUP(VALUE(A58),WEEKLY_DATA!$A:$H,2,0),0)","v":0},{"$f":"IFERROR(VLOOKUP(VALUE(A58),WEEKLY_DATA!$A:$H,3,0),0)","v":0},{"$f":"IFERROR(VLOOKUP(VALUE(A58),WEEKLY_DATA!$A:$H,4,0),0)","v":0},{"$f":"IFERROR(VLOOKUP(VALUE(A58),WEEKLY_DATA!$A:$H,5,0),0)","v":0},{"$f":"IFERROR(VLOOKUP(VALUE(A58),WEEKLY_DATA!$A:$H,6,0),0)","v":0},{"$f":"IFERROR(VLOOKUP(VALUE(A58),WEEKLY_DATA!$A:$H,7,0),0)","v":0},{"$f":"IFERROR(IF(OR(Q58=\"\",Q58=0),\"\",IF(VLOOKUP(VALUE($A58),WEEKLY_DATA!$A:$H,6,0)=0,\"No Sales\",Q58/(VLOOKUP(VALUE($A58),WEEKLY_DATA!$A:$H,6,0)/13))),\"\")","v":""},{"$f":"IFERROR(VLOOKUP(VALUE(A58),WEEKLY_DATA!$A:$H,8,0),0)","v":0},"—",null,null,null,null,null,null,"—",null,null,null,"—","—",null,{"$f":"IFERROR(LOOKUP(2, 1/SEARCH({\"Black\",\"White\",\"Grey\",\"Blue\",\"Silver\",\"Brown\",\"Green\",\"Blue\",\"Purple\",\"Red\",\"Pink\",\"Yellow\",\"Gold\"}, G58), {\"Black\",\"White\",\"Grey\",\"Blue\",\"Silver\",\"Brown\",\"Green\",\"Blue\",\"Purple\",\"Red\",\"Pink\",\"Yellow\",\"Gold\"}), \"\")","v":""},{"$f":"IFERROR(LOOKUP(2, 1/SEARCH({\"8GB\",\"16GB\",\"32GB\",\"64GB\"}, G58), {\"8GB\",\"16GB\",\"32GB\",\"64GB\"}), \"\")","v":""},{"$f":"IFERROR(LOOKUP(2, 1/SEARCH({\"1TB\",\"2TB\",\"128GB\",\"512GB\",\"256GB\"}, G58), {\"1TB\",\"2TB\",\"128GB\",\"512GB\",\"256GB\"}), \"\")","v":""},null,{"$f":"IFERROR(LOOKUP(2, 1/SEARCH({\"16-Inch\",\"15-Inch\",\"15.6-Inch\",\"18-Inch\",\"15.3-Inch\",\"13-Inch\",\"13.4-Inch\",\"13.8-Inch\",\"14-Inch\",\"17-Inch\",\"45-Inch\",\"27-Inch\",\"34-Inch\",\"32-Inch\",\"21.5-Inch\"}, G58), {\"16-Inch\",\"15-Inch\",\"15.6-Inch\",\"18-Inch\",\"15.3-Inch\",\"13-Inch\",\"13.4-Inch\",\"13.8-Inch\",\"14-Inch\",\"17-Inch\",\"45-Inch\",\"27-Inch\",\"34-Inch\",\"32-Inch\",\"21.5-Inch\"}), \"\")","v":""}]
[null,null,null,null,null,null,null,{"$f":"IFERROR(INDEX(BrandList!$A$2:$A$50,MATCH(TRUE,ISNUMBER(SEARCH(BrandList!$A$2:$A$50,G59)),0)),\"\")","v":""},{"$f":"IFERROR(INDEX(BrandList!$B$2:$B$200,MATCH(TRUE,ISNUMBER(SEARCH(BrandList!$B$2:$B$200,G59)),0)),\"\")","v":""},null,null,null,null,null,null,"",{"$f":"IFERROR(VLOOKUP(VALUE(A59),WEEKLY_DATA!$A:$H,2,0),0)","v":0},{"$f":"IFERROR(VLOOKUP(VALUE(A59),WEEKLY_DATA!$A:$H,3,0),0)","v":0},{"$f":"IFERROR(VLOOKUP(VALUE(A59),WEEKLY_DATA!$A:$H,4,0),0)","v":0},{"$f":"IFERROR(VLOOKUP(VALUE(A59),WEEKLY_DATA!$A:$H,5,0),0)","v":0},{"$f":"IFERROR(VLOOKUP(VALUE(A59),WEEKLY_DATA!$A:$H,6,0),0)","v":0},{"$f":"IFERROR(VLOOKUP(VALUE(A59),WEEKLY_DATA!$A:$H,7,0),0)","v":0},{"$f":"IFERROR(IF(OR(Q59=\"\",Q59=0),\"\",IF(VLOOKUP(VALUE($A59),WEEKLY_DATA!$A:$H,6,0)=0,\"No Sales\",Q59/(VLOOKUP(VALUE($A59),WEEKLY_DATA!$A:$H,6,0)/13))),\"\")","v":""},{"$f":"IFERROR(VLOOKUP(VALUE(A59),WEEKLY_DATA!$A:$H,8,0),0)","v":0},"—",null,null,null,null,null,null,"—",null,null,null,"—","—",null,{"$f":"IFERROR(LOOKUP(2, 1/SEARCH({\"Black\",\"White\",\"Grey\",\"Blue\",\"Silver\",\"Brown\",\"Green\",\"Blue\",\"Purple\",\"Red\",\"Pink\",\"Yellow\",\"Gold\"}, G59), {\"Black\",\"White\",\"Grey\",\"Blue\",\"Silver\",\"Brown\",\"Green\",\"Blue\",\"Purple\",\"Red\",\"Pink\",\"Yellow\",\"Gold\"}), \"\")","v":""},{"$f":"IFERROR(LOOKUP(2, 1/SEARCH({\"8GB\",\"16GB\",\"32GB\",\"64GB\"}, G59), {\"8GB\",\"16GB\",\"32GB\",\"64GB\"}), \"\")","v":""},{"$f":"IFERROR(LOOKUP(2, 1/SEARCH({\"1TB\",\"2TB\",\"128GB\",\"512GB\",\"256GB\"}, G59), {\"1TB\",\"2TB\",\"128GB\",\"512GB\",\"256GB\"}), \"\")","v":""},null,{"$f":"IFERROR(LOOKUP(2, 1/SEARCH({\"16-Inch\",\"15-Inch\",\"15.6-Inch\",\"18-Inch\",\"15.3-Inch\",\"13-Inch\",\"13.4-Inch\",\"13.8-Inch\",\"14-Inch\",\"17-Inch\",\"45-Inch\",\"27-Inch\",\"34-Inch\",\"32-Inch\",\"21.5-Inch\"}, G59), {\"16-Inch\",\"15-Inch\",\"15.6-Inch\",\"18-Inch\",\"15.3-Inch\",\"13-Inch\",\"13.4-Inch\",\"13.8-Inch\",\"14-Inch\",\"17-Inch\",\"45-Inch\",\"27-Inch\",\"34-Inch\",\"32-Inch\",\"21.5-Inch\"}), \"\")","v":""}]
[null,null,null,null,null,null,null,{"$f":"IFERROR(INDEX(BrandList!$A$2:$A$50,MATCH(TRUE,ISNUMBER(SEARCH(BrandList!$A$2:$A$50,G60)),0)),\"\")","v":""},{"$f":"IFERROR(INDEX(BrandList!$B$2:$B$200,MATCH(TRUE,ISNUMBER(SEARCH(BrandList!$B$2:$B$200,G60)),0)),\"\")","v":""},null,null,null,null,null,null,"",{"$f":"IFERROR(VLOOKUP(VALUE(A60),WEEKLY_DATA!$A:$H,2,0),0)","v":0},{"$f":"IFERROR(VLOOKUP(VALUE(A60),WEEKLY_DATA!$A:$H,3,0),0)","v":0},{"$f":"IFERROR(VLOOKUP(VALUE(A60),WEEKLY_DATA!$A:$H,4,0),0)","v":0},{"$f":"IFERROR(VLOOKUP(VALUE(A60),WEEKLY_DATA!$A:$H,5,0),0)","v":0},{"$f":"IFERROR(VLOOKUP(VALUE(A60),WEEKLY_DATA!$A:$H,6,0),0)","v":0},{"$f":"IFERROR(VLOOKUP(VALUE(A60),WEEKLY_DATA!$A:$H,7,0),0)","v":0},{"$f":"IFERROR(IF(OR(Q60=\"\",Q60=0),\"\",IF(VLOOKUP(VALUE($A60),WEEKLY_DATA!$A:$H,6,0)=0,\"No Sales\",Q60/(VLOOKUP(VALUE($A60),WEEKLY_DATA!$A:$H,6,0)/13))),\"\")","v":""},{"$f":"IFERROR(VLOOKUP(VALUE(A60),WEEKLY_DATA!$A:$H,8,0),0)","v":0},"—",null,null,null,null,null,null,"—",null,null,null,"—","—",null,{"$f":"IFERROR(LOOKUP(2, 1/SEARCH({\"Black\",\"White\",\"Grey\",\"Blue\",\"Silver\",\"Brown\",\"Green\",\"Blue\",\"Purple\",\"Red\",\"Pink\",\"Yellow\",\"Gold\"}, G60), {\"Black\",\"White\",\"Grey\",\"Blue\",\"Silver\",\"Brown\",\"Green\",\"Blue\",\"Purple\",\"Red\",\"Pink\",\"Yellow\",\"Gold\"}), \"\")","v":""},{"$f":"IFERROR(LOOKUP(2, 1/SEARCH({\"8GB\",\"16GB\",\"32GB\",\"64GB\"}, G60), {\"8GB\",\"16GB\",\"32GB\",\"64GB\"}), \"\")","v":""},{"$f":"IFERROR(LOOKUP(2, 1/SEARCH({\"1TB\",\"2TB\",\"128GB\",\"512GB\",\"256GB\"}, G60), {\"1TB\",\"2TB\",\"128GB\",\"512GB\",\"256GB\"}), \"\")","v":""},null,{"$f":"IFERROR(LOOKUP(2, 1/SEARCH({\"16-Inch\",\"15-Inch\",\"15.6-Inch\",\"18-Inch\",\"15.3-Inch\",\"13-Inch\",\"13.4-Inch\",\"13.8-Inch\",\"14-Inch\",\"17-Inch\",\"45-Inch\",\"27-Inch\",\"34-Inch\",\"32-Inch\",\"21.5-Inch\"}, G60), {\"16-Inch\",\"15-Inch\",\"15.6-Inch\",\"18-Inch\",\"15.3-Inch\",\"13-Inch\",\"13.4-Inch\",\"13.8-Inch\",\"14-Inch\",\"17-Inch\",\"45-Inch\",\"27-Inch\",\"34-Inch\",\"32-Inch\",\"21.5-Inch\"}), \"\")","v":""}]
[null,null,null,null,null,null,null,{"$f":"IFERROR(INDEX(BrandList!$A$2:$A$50,MATCH(TRUE,ISNUMBER(SEARCH(BrandList!$A$2:$A$50,G61)),0)),\"\")","v":""},{"$f":"IFERROR(INDEX(BrandList!$B$2:$B$200,MATCH(TRUE,ISNUMBER(SEARCH(BrandList!$B$2:$B$200,G61)),0)),\"\")","v":""},null,null,null,null,null,null,"",{"$f":"IFERROR(VLOOKUP(VALUE(A61),WEEKLY_DATA!$A:$H,2,0),0)","v":0},{"$f":"IFERROR(VLOOKUP(VALUE(A61),WEEKLY_DATA!$A:$H,3,0),0)","v":0},{"$f":"IFERROR(VLOOKUP(VALUE(A61),WEEKLY_DATA!$A:$H,4,0),0)","v":0},{"$f":"IFERROR(VLOOKUP(VALUE(A61),WEEKLY_DATA!$A:$H,5,0),0)","v":0},{"$f":"IFERROR(VLOOKUP(VALUE(A61),WEEKLY_DATA!$A:$H,6,0),0)","v":0},{"$f":"IFERROR(VLOOKUP(VALUE(A61),WEEKLY_DATA!$A:$H,7,0),0)","v":0},{"$f":"IFERROR(IF(OR(Q61=\"\",Q61=0),\"\",IF(VLOOKUP(VALUE($A61),WEEKLY_DATA!$A:$H,6,0)=0,\"No Sales\",Q61/(VLOOKUP(VALUE($A61),WEEKLY_DATA!$A:$H,6,0)/13))),\"\")","v":""},{"$f":"IFERROR(VLOOKUP(VALUE(A61),WEEKLY_DATA!$A:$H,8,0),0)","v":0},"—",null,null,null,null,null,null,"—",null,null,null,"—","—",null,{"$f":"IFERROR(LOOKUP(2, 1/SEARCH({\"Black\",\"White\",\"Grey\",\"Blue\",\"Silver\",\"Brown\",\"Green\",\"Blue\",\"Purple\",\"Red\",\"Pink\",\"Yellow\",\"Gold\"}, G61), {\"Black\",\"White\",\"Grey\",\"Blue\",\"Silver\",\"Brown\",\"Green\",\"Blue\",\"Purple\",\"Red\",\"Pink\",\"Yellow\",\"Gold\"}), \"\")","v":""},{"$f":"IFERROR(LOOKUP(2, 1/SEARCH({\"8GB\",\"16GB\",\"32GB\",\"64GB\"}, G61), {\"8GB\",\"16GB\",\"32GB\",\"64GB\"}), \"\")","v":""},{"$f":"IFERROR(LOOKUP(2, 1/SEARCH({\"1TB\",\"2TB\",\"128GB\",\"512GB\",\"256GB\"}, G61), {\"1TB\",\"2TB\",\"128GB\",\"512GB\",\"256GB\"}), \"\")","v":""},null,{"$f":"IFERROR(LOOKUP(2, 1/SEARCH({\"16-Inch\",\"15-Inch\",\"15.6-Inch\",\"18-Inch\",\"15.3-Inch\",\"13-Inch\",\"13.4-Inch\",\"13.8-Inch\",\"14-Inch\",\"17-Inch\",\"45-Inch\",\"27-Inch\",\"34-Inch\",\"32-Inch\",\"21.5-Inch\"}, G61), {\"16-Inch\",\"15-Inch\",\"15.6-Inch\",\"18-Inch\",\"15.3-Inch\",\"13-Inch\",\"13.4-Inch\",\"13.8-Inch\",\"14-Inch\",\"17-Inch\",\"45-Inch\",\"27-Inch\",\"34-Inch\",\"32-Inch\",\"21.5-Inch\"}), \"\")","v":""}]
[null,null,null,null,null,null,null,{"$f":"IFERROR(INDEX(BrandList!$A$2:$A$50,MATCH(TRUE,ISNUMBER(SEARCH(BrandList!$A$2:$A$50,G62)),0)),\"\")","v":""},{"$f":"IFERROR(INDEX(BrandList!$B$2:$B$200,MATCH(TRUE,ISNUMBER(SEARCH(BrandList!$B$2:$B$200,G62)),0)),\"\")","v":""},null,null,null,null,null,null,"",{"$f":"IFERROR(VLOOKUP(VALUE(A62),WEEKLY_DATA!$A:$H,2,0),0)","v":0},{"$f":"IFERROR(VLOOKUP(VALUE(A62),WEEKLY_DATA!$A:$H,3,0),0)","v":0},{"$f":"IFERROR(VLOOKUP(VALUE(A62),WEEKLY_DATA!$A:$H,4,0),0)","v":0},{"$f":"IFERROR(VLOOKUP(VALUE(A62),WEEKLY_DATA!$A:$H,5,0),0)","v":0},{"$f":"IFERROR(VLOOKUP(VALUE(A62),WEEKLY_DATA!$A:$H,6,0),0)","v":0},{"$f":"IFERROR(VLOOKUP(VALUE(A62),WEEKLY_DATA!$A:$H,7,0),0)","v":0},{"$f":"IFERROR(IF(OR(Q62=\"\",Q62=0),\"\",IF(VLOOKUP(VALUE($A62),WEEKLY_DATA!$A:$H,6,0)=0,\"No Sales\",Q62/(VLOOKUP(VALUE($A62),WEEKLY_DATA!$A:$H,6,0)/13))),\"\")","v":""},{"$f":"IFERROR(VLOOKUP(VALUE(A62),WEEKLY_DATA!$A:$H,8,0),0)","v":0},"—",null,null,null,null,null,null,"—",null,null,null,"—","—",null,{"$f":"IFERROR(LOOKUP(2, 1/SEARCH({\"Black\",\"White\",\"Grey\",\"Blue\",\"Silver\",\"Brown\",\"Green\",\"Blue\",\"Purple\",\"Red\",\"Pink\",\"Yellow\",\"Gold\"}, G62), {\"Black\",\"White\",\"Grey\",\"Blue\",\"Silver\",\"Brown\",\"Green\",\"Blue\",\"Purple\",\"Red\",\"Pink\",\"Yellow\",\"Gold\"}), \"\")","v":""},{"$f":"IFERROR(LOOKUP(2, 1/SEARCH({\"8GB\",\"16GB\",\"32GB\",\"64GB\"}, G62), {\"8GB\",\"16GB\",\"32GB\",\"64GB\"}), \"\")","v":""},{"$f":"IFERROR(LOOKUP(2, 1/SEARCH({\"1TB\",\"2TB\",\"128GB\",\"512GB\",\"256GB\"}, G62), {\"1TB\",\"2TB\",\"128GB\",\"512GB\",\"256GB\"}), \"\")","v":""},null,{"$f":"IFERROR(LOOKUP(2, 1/SEARCH({\"16-Inch\",\"15-Inch\",\"15.6-Inch\",\"18-Inch\",\"15.3-Inch\",\"13-Inch\",\"13.4-Inch\",\"13.8-Inch\",\"14-Inch\",\"17-Inch\",\"45-Inch\",\"27-Inch\",\"34-Inch\",\"32-Inch\",\"21.5-Inch\"}, G62), {\"16-Inch\",\"15-Inch\",\"15.6-Inch\",\"18-Inch\",\"15.3-Inch\",\"13-Inch\",\"13.4-Inch\",\"13.8-Inch\",\"14-Inch\",\"17-Inch\",\"45-Inch\",\"27-Inch\",\"34-Inch\",\"32-Inch\",\"21.5-Inch\"}), \"\")","v":""}]
[null,null,null,null,null,null,null,{"$f":"IFERROR(INDEX(BrandList!$A$2:$A$50,MATCH(TRUE,ISNUMBER(SEARCH(BrandList!$A$2:$A$50,G63)),0)),\"\")","v":""},{"$f":"IFERROR(INDEX(BrandList!$B$2:$B$200,MATCH(TRUE,ISNUMBER(SEARCH(BrandList!$B$2:$B$200,G63)),0)),\"\")","v":""},null,null,null,null,null,null,"",{"$f":"IFERROR(VLOOKUP(VALUE(A63),WEEKLY_DATA!$A:$H,2,0),0)","v":0},{"$f":"IFERROR(VLOOKUP(VALUE(A63),WEEKLY_DATA!$A:$H,3,0),0)","v":0},{"$f":"IFERROR(VLOOKUP(VALUE(A63),WEEKLY_DATA!$A:$H,4,0),0)","v":0},{"$f":"IFERROR(VLOOKUP(VALUE(A63),WEEKLY_DATA!$A:$H,5,0),0)","v":0},{"$f":"IFERROR(VLOOKUP(VALUE(A63),WEEKLY_DATA!$A:$H,6,0),0)","v":0},{"$f":"IFERROR(VLOOKUP(VALUE(A63),WEEKLY_DATA!$A:$H,7,0),0)","v":0},{"$f":"IFERROR(IF(OR(Q63=\"\",Q63=0),\"\",IF(VLOOKUP(VALUE($A63),WEEKLY_DATA!$A:$H,6,0)=0,\"No Sales\",Q63/(VLOOKUP(VALUE($A63),WEEKLY_DATA!$A:$H,6,0)/13))),\"\")","v":""},{"$f":"IFERROR(VLOOKUP(VALUE(A63),WEEKLY_DATA!$A:$H,8,0),0)","v":0},"—",null,null,null,null,null,null,"—",null,null,null,"—","—",null,{"$f":"IFERROR(LOOKUP(2, 1/SEARCH({\"Black\",\"White\",\"Grey\",\"Blue\",\"Silver\",\"Brown\",\"Green\",\"Blue\",\"Purple\",\"Red\",\"Pink\",\"Yellow\",\"Gold\"}, G63), {\"Black\",\"White\",\"Grey\",\"Blue\",\"Silver\",\"Brown\",\"Green\",\"Blue\",\"Purple\",\"Red\",\"Pink\",\"Yellow\",\"Gold\"}), \"\")","v":""},{"$f":"IFERROR(LOOKUP(2, 1/SEARCH({\"8GB\",\"16GB\",\"32GB\",\"64GB\"}, G63), {\"8GB\",\"16GB\",\"32GB\",\"64GB\"}), \"\")","v":""},{"$f":"IFERROR(LOOKUP(2, 1/SEARCH({\"1TB\",\"2TB\",\"128GB\",\"512GB\",\"256GB\"}, G63), {\"1TB\",\"2TB\",\"128GB\",\"512GB\",\"256GB\"}), \"\")","v":""},null,{"$f":"IFERROR(LOOKUP(2, 1/SEARCH({\"16-Inch\",\"15-Inch\",\"15.6-Inch\",\"18-Inch\",\"15.3-Inch\",\"13-Inch\",\"13.4-Inch\",\"13.8-Inch\",\"14-Inch\",\"17-Inch\",\"45-Inch\",\"27-Inch\",\"34-Inch\",\"32-Inch\",\"21.5-Inch\"}, G63), {\"16-Inch\",\"15-Inch\",\"15.6-Inch\",\"18-Inch\",\"15.3-Inch\",\"13-Inch\",\"13.4-Inch\",\"13.8-Inch\",\"14-Inch\",\"17-Inch\",\"45-Inch\",\"27-Inch\",\"34-Inch\",\"32-Inch\",\"21.5-Inch\"}), \"\")","v":""}]
[null,null,null,null,null,null,null,{"$f":"IFERROR(INDEX(BrandList!$A$2:$A$50,MATCH(TRUE,ISNUMBER(SEARCH(BrandList!$A$2:$A$50,G64)),0)),\"\")","v":""},{"$f":"IFERROR(INDEX(BrandList!$B$2:$B$200,MATCH(TRUE,ISNUMBER(SEARCH(BrandList!$B$2:$B$200,G64)),0)),\"\")","v":""},null,null,null,null,null,null,"",{"$f":"IFERROR(VLOOKUP(VALUE(A64),WEEKLY_DATA!$A:$H,2,0),0)","v":0},{"$f":"IFERROR(VLOOKUP(VALUE(A64),WEEKLY_DATA!$A:$H,3,0),0)","v":0},{"$f":"IFERROR(VLOOKUP(VALUE(A64),WEEKLY_DATA!$A:$H,4,0),0)","v":0},{"$f":"IFERROR(VLOOKUP(VALUE(A64),WEEKLY_DATA!$A:$H,5,0),0)","v":0},{"$f":"IFERROR(VLOOKUP(VALUE(A64),WEEKLY_DATA!$A:$H,6,0),0)","v":0},{"$f":"IFERROR(VLOOKUP(VALUE(A64),WEEKLY_DATA!$A:$H,7,0),0)","v":0},{"$f":"IFERROR(IF(OR(Q64=\"\",Q64=0),\"\",IF(VLOOKUP(VALUE($A64),WEEKLY_DATA!$A:$H,6,0)=0,\"No Sales\",Q64/(VLOOKUP(VALUE($A64),WEEKLY_DATA!$A:$H,6,0)/13))),\"\")","v":""},{"$f":"IFERROR(VLOOKUP(VALUE(A64),WEEKLY_DATA!$A:$H,8,0),0)","v":0},"—",null,null,null,null,null,null,"—",null,null,null,"—","—",null,{"$f":"IFERROR(LOOKUP(2, 1/SEARCH({\"Black\",\"White\",\"Grey\",\"Blue\",\"Silver\",\"Brown\",\"Green\",\"Blue\",\"Purple\",\"Red\",\"Pink\",\"Yellow\",\"Gold\"}, G64), {\"Black\",\"White\",\"Grey\",\"Blue\",\"Silver\",\"Brown\",\"Green\",\"Blue\",\"Purple\",\"Red\",\"Pink\",\"Yellow\",\"Gold\"}), \"\")","v":""},{"$f":"IFERROR(LOOKUP(2, 1/SEARCH({\"8GB\",\"16GB\",\"32GB\",\"64GB\"}, G64), {\"8GB\",\"16GB\",\"32GB\",\"64GB\"}), \"\")","v":""},{"$f":"IFERROR(LOOKUP(2, 1/SEARCH({\"1TB\",\"2TB\",\"128GB\",\"512GB\",\"256GB\"}, G64), {\"1TB\",\"2TB\",\"128GB\",\"512GB\",\"256GB\"}), \"\")","v":""},null,{"$f":"IFERROR(LOOKUP(2, 1/SEARCH({\"16-Inch\",\"15-Inch\",\"15.6-Inch\",\"18-Inch\",\"15.3-Inch\",\"13-Inch\",\"13.4-Inch\",\"13.8-Inch\",\"14-Inch\",\"17-Inch\",\"45-Inch\",\"27-Inch\",\"34-Inch\",\"32-Inch\",\"21.5-Inch\"}, G64), {\"16-Inch\",\"15-Inch\",\"15.6-Inch\",\"18-Inch\",\"15.3-Inch\",\"13-Inch\",\"13.4-Inch\",\"13.8-Inch\",\"14-Inch\",\"17-Inch\",\"45-Inch\",\"27-Inch\",\"34-Inch\",\"32-Inch\",\"21.5-Inch\"}), \"\")","v":""}]
[null,null,null,null,null,null,null,{"$f":"IFERROR(INDEX(BrandList!$A$2:$A$50,MATCH(TRUE,ISNUMBER(SEARCH(BrandList!$A$2:$A$50,G65)),0)),\"\")","v":""},{"$f":"IFERROR(INDEX(BrandList!$B$2:$B$200,MATCH(TRUE,ISNUMBER(SEARCH(BrandList!$B$2:$B$200,G65)),0)),\"\")","v":""},null,null,null,null,null,null,"",{"$f":"IFERROR(VLOOKUP(VALUE(A65),WEEKLY_DATA!$A:$H,2,0),0)","v":0},{"$f":"IFERROR(VLOOKUP(VALUE(A65),WEEKLY_DATA!$A:$H,3,0),0)","v":0},{"$f":"IFERROR(VLOOKUP(VALUE(A65),WEEKLY_DATA!$A:$H,4,0),0)","v":0},{"$f":"IFERROR(VLOOKUP(VALUE(A65),WEEKLY_DATA!$A:$H,5,0),0)","v":0},{"$f":"IFERROR(VLOOKUP(VALUE(A65),WEEKLY_DATA!$A:$H,6,0),0)","v":0},{"$f":"IFERROR(VLOOKUP(VALUE(A65),WEEKLY_DATA!$A:$H,7,0),0)","v":0},{"$f":"IFERROR(IF(OR(Q65=\"\",Q65=0),\"\",IF(VLOOKUP(VALUE($A65),WEEKLY_DATA!$A:$H,6,0)=0,\"No Sales\",Q65/(VLOOKUP(VALUE($A65),WEEKLY_DATA!$A:$H,6,0)/13))),\"\")","v":""},{"$f":"IFERROR(VLOOKUP(VALUE(A65),WEEKLY_DATA!$A:$H,8,0),0)","v":0},"—",null,null,null,null,null,null,"—",null,null,null,"—","—",null,{"$f":"IFERROR(LOOKUP(2, 1/SEARCH({\"Black\",\"White\",\"Grey\",\"Blue\",\"Silver\",\"Brown\",\"Green\",\"Blue\",\"Purple\",\"Red\",\"Pink\",\"Yellow\",\"Gold\"}, G65), {\"Black\",\"White\",\"Grey\",\"Blue\",\"Silver\",\"Brown\",\"Green\",\"Blue\",\"Purple\",\"Red\",\"Pink\",\"Yellow\",\"Gold\"}), \"\")","v":""},{"$f":"IFERROR(LOOKUP(2, 1/SEARCH({\"8GB\",\"16GB\",\"32GB\",\"64GB\"}, G65), {\"8GB\",\"16GB\",\"32GB\",\"64GB\"}), \"\")","v":""},{"$f":"IFERROR(LOOKUP(2, 1/SEARCH({\"1TB\",\"2TB\",\"128GB\",\"512GB\",\"256GB\"}, G65), {\"1TB\",\"2TB\",\"128GB\",\"512GB\",\"256GB\"}), \"\")","v":""},null,{"$f":"IFERROR(LOOKUP(2, 1/SEARCH({\"16-Inch\",\"15-Inch\",\"15.6-Inch\",\"18-Inch\",\"15.3-Inch\",\"13-Inch\",\"13.4-Inch\",\"13.8-Inch\",\"14-Inch\",\"17-Inch\",\"45-Inch\",\"27-Inch\",\"34-Inch\",\"32-Inch\",\"21.5-Inch\"}, G65), {\"16-Inch\",\"15-Inch\",\"15.6-Inch\",\"18-Inch\",\"15.3-Inch\",\"13-Inch\",\"13.4-Inch\",\"13.8-Inch\",\"14-Inch\",\"17-Inch\",\"45-Inch\",\"27-Inch\",\"34-Inch\",\"32-Inch\",\"21.5-Inch\"}), \"\")","v":""}]
[null,null,null,null,null,null,null,{"$f":"IFERROR(INDEX(BrandList!$A$2:$A$50,MATCH(TRUE,ISNUMBER(SEARCH(BrandList!$A$2:$A$50,G66)),0)),\"\")","v":""},{"$f":"IFERROR(INDEX(BrandList!$B$2:$B$200,MATCH(TRUE,ISNUMBER(SEARCH(BrandList!$B$2:$B$200,G66)),0)),\"\")","v":""},null,null,null,null,null,null,"",{"$f":"IFERROR(VLOOKUP(VALUE(A66),WEEKLY_DATA!$A:$H,2,0),0)","v":0},{"$f":"IFERROR(VLOOKUP(VALUE(A66),WEEKLY_DATA!$A:$H,3,0),0)","v":0},{"$f":"IFERROR(VLOOKUP(VALUE(A66),WEEKLY_DATA!$A:$H,4,0),0)","v":0},{"$f":"IFERROR(VLOOKUP(VALUE(A66),WEEKLY_DATA!$A:$H,5,0),0)","v":0},{"$f":"IFERROR(VLOOKUP(VALUE(A66),WEEKLY_DATA!$A:$H,6,0),0)","v":0},{"$f":"IFERROR(VLOOKUP(VALUE(A66),WEEKLY_DATA!$A:$H,7,0),0)","v":0},{"$f":"IFERROR(IF(OR(Q66=\"\",Q66=0),\"\",IF(VLOOKUP(VALUE($A66),WEEKLY_DATA!$A:$H,6,0)=0,\"No Sales\",Q66/(VLOOKUP(VALUE($A66),WEEKLY_DATA!$A:$H,6,0)/13))),\"\")","v":""},{"$f":"IFERROR(VLOOKUP(VALUE(A66),WEEKLY_DATA!$A:$H,8,0),0)","v":0},"—",null,null,null,null,null,null,"—",null,null,null,"—","—",null,{"$f":"IFERROR(LOOKUP(2, 1/SEARCH({\"Black\",\"White\",\"Grey\",\"Blue\",\"Silver\",\"Brown\",\"Green\",\"Blue\",\"Purple\",\"Red\",\"Pink\",\"Yellow\",\"Gold\"}, G66), {\"Black\",\"White\",\"Grey\",\"Blue\",\"Silver\",\"Brown\",\"Green\",\"Blue\",\"Purple\",\"Red\",\"Pink\",\"Yellow\",\"Gold\"}), \"\")","v":""},{"$f":"IFERROR(LOOKUP(2, 1/SEARCH({\"8GB\",\"16GB\",\"32GB\",\"64GB\"}, G66), {\"8GB\",\"16GB\",\"32GB\",\"64GB\"}), \"\")","v":""},{"$f":"IFERROR(LOOKUP(2, 1/SEARCH({\"1TB\",\"2TB\",\"128GB\",\"512GB\",\"256GB\"}, G66), {\"1TB\",\"2TB\",\"128GB\",\"512GB\",\"256GB\"}), \"\")","v":""},null,{"$f":"IFERROR(LOOKUP(2, 1/SEARCH({\"16-Inch\",\"15-Inch\",\"15.6-Inch\",\"18-Inch\",\"15.3-Inch\",\"13-Inch\",\"13.4-Inch\",\"13.8-Inch\",\"14-Inch\",\"17-Inch\",\"45-Inch\",\"27-Inch\",\"34-Inch\",\"32-Inch\",\"21.5-Inch\"}, G66), {\"16-Inch\",\"15-Inch\",\"15.6-Inch\",\"18-Inch\",\"15.3-Inch\",\"13-Inch\",\"13.4-Inch\",\"13.8-Inch\",\"14-Inch\",\"17-Inch\",\"45-Inch\",\"27-Inch\",\"34-Inch\",\"32-Inch\",\"21.5-Inch\"}), \"\")","v":""}]
[null,null,null,null,null,null,null,{"$f":"IFERROR(INDEX(BrandList!$A$2:$A$50,MATCH(TRUE,ISNUMBER(SEARCH(BrandList!$A$2:$A$50,G67)),0)),\"\")","v":""},{"$f":"IFERROR(INDEX(BrandList!$B$2:$B$200,MATCH(TRUE,ISNUMBER(SEARCH(BrandList!$B$2:$B$200,G67)),0)),\"\")","v":""},null,null,null,null,null,null,"",{"$f":"IFERROR(VLOOKUP(VALUE(A67),WEEKLY_DATA!$A:$H,2,0),0)","v":0},{"$f":"IFERROR(VLOOKUP(VALUE(A67),WEEKLY_DATA!$A:$H,3,0),0)","v":0},{"$f":"IFERROR(VLOOKUP(VALUE(A67),WEEKLY_DATA!$A:$H,4,0),0)","v":0},{"$f":"IFERROR(VLOOKUP(VALUE(A67),WEEKLY_DATA!$A:$H,5,0),0)","v":0},{"$f":"IFERROR(VLOOKUP(VALUE(A67),WEEKLY_DATA!$A:$H,6,0),0)","v":0},{"$f":"IFERROR(VLOOKUP(VALUE(A67),WEEKLY_DATA!$A:$H,7,0),0)","v":0},{"$f":"IFERROR(IF(OR(Q67=\"\",Q67=0),\"\",IF(VLOOKUP(VALUE($A67),WEEKLY_DATA!$A:$H,6,0)=0,\"No Sales\",Q67/(VLOOKUP(VALUE($A67),WEEKLY_DATA!$A:$H,6,0)/13))),\"\")","v":""},{"$f":"IFERROR(VLOOKUP(VALUE(A67),WEEKLY_DATA!$A:$H,8,0),0)","v":0},"—",null,null,null,null,null,null,"—",null,null,null,"—","—",null,{"$f":"IFERROR(LOOKUP(2, 1/SEARCH({\"Black\",\"White\",\"Grey\",\"Blue\",\"Silver\",\"Brown\",\"Green\",\"Blue\",\"Purple\",\"Red\",\"Pink\",\"Yellow\",\"Gold\"}, G67), {\"Black\",\"White\",\"Grey\",\"Blue\",\"Silver\",\"Brown\",\"Green\",\"Blue\",\"Purple\",\"Red\",\"Pink\",\"Yellow\",\"Gold\"}), \"\")","v":""},{"$f":"IFERROR(LOOKUP(2, 1/SEARCH({\"8GB\",\"16GB\",\"32GB\",\"64GB\"}, G67), {\"8GB\",\"16GB\",\"32GB\",\"64GB\"}), \"\")","v":""},{"$f":"IFERROR(LOOKUP(2, 1/SEARCH({\"1TB\",\"2TB\",\"128GB\",\"512GB\",\"256GB\"}, G67), {\"1TB\",\"2TB\",\"128GB\",\"512GB\",\"256GB\"}), \"\")","v":""},null,{"$f":"IFERROR(LOOKUP(2, 1/SEARCH({\"16-Inch\",\"15-Inch\",\"15.6-Inch\",\"18-Inch\",\"15.3-Inch\",\"13-Inch\",\"13.4-Inch\",\"13.8-Inch\",\"14-Inch\",\"17-Inch\",\"45-Inch\",\"27-Inch\",\"34-Inch\",\"32-Inch\",\"21.5-Inch\"}, G67), {\"16-Inch\",\"15-Inch\",\"15.6-Inch\",\"18-Inch\",\"15.3-Inch\",\"13-Inch\",\"13.4-Inch\",\"13.8-Inch\",\"14-Inch\",\"17-Inch\",\"45-Inch\",\"27-Inch\",\"34-Inch\",\"32-Inch\",\"21.5-Inch\"}), \"\")","v":""}]
[null,null,null,null,null,null,null,{"$f":"IFERROR(INDEX(BrandList!$A$2:$A$50,MATCH(TRUE,ISNUMBER(SEARCH(BrandList!$A$2:$A$50,G68)),0)),\"\")","v":""},{"$f":"IFERROR(INDEX(BrandList!$B$2:$B$200,MATCH(TRUE,ISNUMBER(SEARCH(BrandList!$B$2:$B$200,G68)),0)),\"\")","v":""},null,null,null,null,null,null,"",{"$f":"IFERROR(VLOOKUP(VALUE(A68),WEEKLY_DATA!$A:$H,2,0),0)","v":0},{"$f":"IFERROR(VLOOKUP(VALUE(A68),WEEKLY_DATA!$A:$H,3,0),0)","v":0},{"$f":"IFERROR(VLOOKUP(VALUE(A68),WEEKLY_DATA!$A:$H,4,0),0)","v":0},{"$f":"IFERROR(VLOOKUP(VALUE(A68),WEEKLY_DATA!$A:$H,5,0),0)","v":0},{"$f":"IFERROR(VLOOKUP(VALUE(A68),WEEKLY_DATA!$A:$H,6,0),0)","v":0},{"$f":"IFERROR(VLOOKUP(VALUE(A68),WEEKLY_DATA!$A:$H,7,0),0)","v":0},{"$f":"IFERROR(IF(OR(Q68=\"\",Q68=0),\"\",IF(VLOOKUP(VALUE($A68),WEEKLY_DATA!$A:$H,6,0)=0,\"No Sales\",Q68/(VLOOKUP(VALUE($A68),WEEKLY_DATA!$A:$H,6,0)/13))),\"\")","v":""},{"$f":"IFERROR(VLOOKUP(VALUE(A68),WEEKLY_DATA!$A:$H,8,0),0)","v":0},"—",null,null,null,null,null,null,"—",null,null,null,"—","—",null,{"$f":"IFERROR(LOOKUP(2, 1/SEARCH({\"Black\",\"White\",\"Grey\",\"Blue\",\"Silver\",\"Brown\",\"Green\",\"Blue\",\"Purple\",\"Red\",\"Pink\",\"Yellow\",\"Gold\"}, G68), {\"Black\",\"White\",\"Grey\",\"Blue\",\"Silver\",\"Brown\",\"Green\",\"Blue\",\"Purple\",\"Red\",\"Pink\",\"Yellow\",\"Gold\"}), \"\")","v":""},{"$f":"IFERROR(LOOKUP(2, 1/SEARCH({\"8GB\",\"16GB\",\"32GB\",\"64GB\"}, G68), {\"8GB\",\"16GB\",\"32GB\",\"64GB\"}), \"\")","v":""},{"$f":"IFERROR(LOOKUP(2, 1/SEARCH({\"1TB\",\"2TB\",\"128GB\",\"512GB\",\"256GB\"}, G68), {\"1TB\",\"2TB\",\"128GB\",\"512GB\",\"256GB\"}), \"\")","v":""},null,{"$f":"IFERROR(LOOKUP(2, 1/SEARCH({\"16-Inch\",\"15-Inch\",\"15.6-Inch\",\"18-Inch\",\"15.3-Inch\",\"13-Inch\",\"13.4-Inch\",\"13.8-Inch\",\"14-Inch\",\"17-Inch\",\"45-Inch\",\"27-Inch\",\"34-Inch\",\"32-Inch\",\"21.5-Inch\"}, G68), {\"16-Inch\",\"15-Inch\",\"15.6-Inch\",\"18-Inch\",\"15.3-Inch\",\"13-Inch\",\"13.4-Inch\",\"13.8-Inch\",\"14-Inch\",\"17-Inch\",\"45-Inch\",\"27-Inch\",\"34-Inch\",\"32-Inch\",\"21.5-Inch\"}), \"\")","v":""}]
[null,null,null,null,null,null,null,{"$f":"IFERROR(INDEX(BrandList!$A$2:$A$50,MATCH(TRUE,ISNUMBER(SEARCH(BrandList!$A$2:$A$50,G69)),0)),\"\")","v":""},{"$f":"IFERROR(INDEX(BrandList!$B$2:$B$200,MATCH(TRUE,ISNUMBER(SEARCH(BrandList!$B$2:$B$200,G69)),0)),\"\")","v":""},null,null,null,null,null,null,"",{"$f":"IFERROR(VLOOKUP(VALUE(A69),WEEKLY_DATA!$A:$H,2,0),0)","v":0},{"$f":"IFERROR(VLOOKUP(VALUE(A69),WEEKLY_DATA!$A:$H,3,0),0)","v":0},{"$f":"IFERROR(VLOOKUP(VALUE(A69),WEEKLY_DATA!$A:$H,4,0),0)","v":0},{"$f":"IFERROR(VLOOKUP(VALUE(A69),WEEKLY_DATA!$A:$H,5,0),0)","v":0},{"$f":"IFERROR(VLOOKUP(VALUE(A69),WEEKLY_DATA!$A:$H,6,0),0)","v":0},{"$f":"IFERROR(VLOOKUP(VALUE(A69),WEEKLY_DATA!$A:$H,7,0),0)","v":0},{"$f":"IFERROR(IF(OR(Q69=\"\",Q69=0),\"\",IF(VLOOKUP(VALUE($A69),WEEKLY_DATA!$A:$H,6,0)=0,\"No Sales\",Q69/(VLOOKUP(VALUE($A69),WEEKLY_DATA!$A:$H,6,0)/13))),\"\")","v":""},{"$f":"IFERROR(VLOOKUP(VALUE(A69),WEEKLY_DATA!$A:$H,8,0),0)","v":0},"—",null,null,null,null,null,null,"—",null,null,null,"—","—",null,{"$f":"IFERROR(LOOKUP(2, 1/SEARCH({\"Black\",\"White\",\"Grey\",\"Blue\",\"Silver\",\"Brown\",\"Green\",\"Blue\",\"Purple\",\"Red\",\"Pink\",\"Yellow\",\"Gold\"}, G69), {\"Black\",\"White\",\"Grey\",\"Blue\",\"Silver\",\"Brown\",\"Green\",\"Blue\",\"Purple\",\"Red\",\"Pink\",\"Yellow\",\"Gold\"}), \"\")","v":""},{"$f":"IFERROR(LOOKUP(2, 1/SEARCH({\"8GB\",\"16GB\",\"32GB\",\"64GB\"}, G69), {\"8GB\",\"16GB\",\"32GB\",\"64GB\"}), \"\")","v":""},{"$f":"IFERROR(LOOKUP(2, 1/SEARCH({\"1TB\",\"2TB\",\"128GB\",\"512GB\",\"256GB\"}, G69), {\"1TB\",\"2TB\",\"128GB\",\"512GB\",\"256GB\"}), \"\")","v":""},null,{"$f":"IFERROR(LOOKUP(2, 1/SEARCH({\"16-Inch\",\"15-Inch\",\"15.6-Inch\",\"18-Inch\",\"15.3-Inch\",\"13-Inch\",\"13.4-Inch\",\"13.8-Inch\",\"14-Inch\",\"17-Inch\",\"45-Inch\",\"27-Inch\",\"34-Inch\",\"32-Inch\",\"21.5-Inch\"}, G69), {\"16-Inch\",\"15-Inch\",\"15.6-Inch\",\"18-Inch\",\"15.3-Inch\",\"13-Inch\",\"13.4-Inch\",\"13.8-Inch\",\"14-Inch\",\"17-Inch\",\"45-Inch\",\"27-Inch\",\"34-Inch\",\"32-Inch\",\"21.5-Inch\"}), \"\")","v":""}]
[null,null,null,null,null,null,null,{"$f":"IFERROR(INDEX(BrandList!$A$2:$A$50,MATCH(TRUE,ISNUMBER(SEARCH(BrandList!$A$2:$A$50,G70)),0)),\"\")","v":""},{"$f":"IFERROR(INDEX(BrandList!$B$2:$B$200,MATCH(TRUE,ISNUMBER(SEARCH(BrandList!$B$2:$B$200,G70)),0)),\"\")","v":""},null,null,null,null,null,null,"",{"$f":"IFERROR(VLOOKUP(VALUE(A70),WEEKLY_DATA!$A:$H,2,0),0)","v":0},{"$f":"IFERROR(VLOOKUP(VALUE(A70),WEEKLY_DATA!$A:$H,3,0),0)","v":0},{"$f":"IFERROR(VLOOKUP(VALUE(A70),WEEKLY_DATA!$A:$H,4,0),0)","v":0},{"$f":"IFERROR(VLOOKUP(VALUE(A70),WEEKLY_DATA!$A:$H,5,0),0)","v":0},{"$f":"IFERROR(VLOOKUP(VALUE(A70),WEEKLY_DATA!$A:$H,6,0),0)","v":0},{"$f":"IFERROR(VLOOKUP(VALUE(A70),WEEKLY_DATA!$A:$H,7,0),0)","v":0},{"$f":"IFERROR(IF(OR(Q70=\"\",Q70=0),\"\",IF(VLOOKUP(VALUE($A70),WEEKLY_DATA!$A:$H,6,0)=0,\"No Sales\",Q70/(VLOOKUP(VALUE($A70),WEEKLY_DATA!$A:$H,6,0)/13))),\"\")","v":""},{"$f":"IFERROR(VLOOKUP(VALUE(A70),WEEKLY_DATA!$A:$H,8,0),0)","v":0},{"$f":"IFERROR(\nIF(J70=\"Discontinued\",\"🔴 EOL\",\nIF(J70=\"Drop Ship\",\"📦 Drop Ship\",\nIF(J70=\"New\",\"🆕 New\",\nIF(W70=\"\",\"—\",\nIF(W70<2,\"🔴 Critical\",\nIF(W70<4,\"🟡 Low\",\nIF(W70>26,\"🔵 Overstock\",\"🟢 Healthy\")\n)))))),\"\")","v":"—"},null,null,null,null,null,null,"—",null,"—",null,"—","—",null,{"$f":"IFERROR(LOOKUP(2, 1/SEARCH({\"Black\",\"White\",\"Grey\",\"Blue\",\"Silver\",\"Brown\",\"Green\",\"Blue\",\"Purple\",\"Red\",\"Pink\",\"Yellow\",\"Gold\"}, G70), {\"Black\",\"White\",\"Grey\",\"Blue\",\"Silver\",\"Brown\",\"Green\",\"Blue\",\"Purple\",\"Red\",\"Pink\",\"Yellow\",\"Gold\"}), \"\")","v":""},{"$f":"IFERROR(LOOKUP(2, 1/SEARCH({\"8GB\",\"16GB\",\"32GB\",\"64GB\"}, G70), {\"8GB\",\"16GB\",\"32GB\",\"64GB\"}), \"\")","v":""},{"$f":"IFERROR(LOOKUP(2, 1/SEARCH({\"1TB\",\"2TB\",\"128GB\",\"512GB\",\"256GB\"}, G70), {\"1TB\",\"2TB\",\"128GB\",\"512GB\",\"256GB\"}), \"\")","v":""},null,{"$f":"IFERROR(LOOKUP(2, 1/SEARCH({\"16-Inch\",\"15-Inch\",\"15.6-Inch\",\"18-Inch\",\"15.3-Inch\",\"13-Inch\",\"13.4-Inch\",\"13.8-Inch\",\"14-Inch\",\"17-Inch\",\"45-Inch\",\"27-Inch\",\"34-Inch\",\"32-Inch\",\"21.5-Inch\"}, G70), {\"16-Inch\",\"15-Inch\",\"15.6-Inch\",\"18-Inch\",\"15.3-Inch\",\"13-Inch\",\"13.4-Inch\",\"13.8-Inch\",\"14-Inch\",\"17-Inch\",\"45-Inch\",\"27-Inch\",\"34-Inch\",\"32-Inch\",\"21.5-Inch\"}), \"\")","v":""}]
[null,null,null,null,null,null,null,{"$f":"IFERROR(INDEX(BrandList!$A$2:$A$50,MATCH(TRUE,ISNUMBER(SEARCH(BrandList!$A$2:$A$50,G71)),0)),\"\")","v":""},{"$f":"IFERROR(INDEX(BrandList!$B$2:$B$200,MATCH(TRUE,ISNUMBER(SEARCH(BrandList!$B$2:$B$200,G71)),0)),\"\")","v":""},null,null,null,null,null,null,{"$f":"IFERROR(IF(OR(E71=\"\",F71=\"\",F71=0),\"\",(F71-E71)/F71),\"\")","v":""},{"$f":"IFERROR(VLOOKUP(VALUE(A71),WEEKLY_DATA!$A:$H,2,0),0)","v":0},{"$f":"IFERROR(VLOOKUP(VALUE(A71),WEEKLY_DATA!$A:$H,3,0),0)","v":0},{"$f":"IFERROR(VLOOKUP(VALUE(A71),WEEKLY_DATA!$A:$H,4,0),0)","v":0},{"$f":"IFERROR(VLOOKUP(VALUE(A71),WEEKLY_DATA!$A:$H,5,0),0)","v":0},{"$f":"IFERROR(VLOOKUP(VALUE(A71),WEEKLY_DATA!$A:$H,6,0),0)","v":0},{"$f":"IFERROR(VLOOKUP(VALUE(A71),WEEKLY_DATA!$A:$H,7,0),0)","v":0},{"$f":"IFERROR(IF(OR(Q71=\"\",Q71=0),\"\",IF(VLOOKUP(VALUE($A71),WEEKLY_DATA!$A:$H,6,0)=0,\"No Sales\",Q71/(VLOOKUP(VALUE($A71),WEEKLY_DATA!$A:$H,6,0)/13))),\"\")","v":""},{"$f":"IFERROR(VLOOKUP(VALUE(A71),WEEKLY_DATA!$A:$H,8,0),0)","v":0},"—",null,null,null,null,null,null,"—",null,null,null,"—","—",null,{"$f":"IFERROR(LOOKUP(2, 1/SEARCH({\"Black\",\"White\",\"Grey\",\"Blue\",\"Silver\",\"Brown\",\"Green\",\"Blue\",\"Purple\",\"Red\",\"Pink\",\"Yellow\",\"Gold\"}, G71), {\"Black\",\"White\",\"Grey\",\"Blue\",\"Silver\",\"Brown\",\"Green\",\"Blue\",\"Purple\",\"Red\",\"Pink\",\"Yellow\",\"Gold\"}), \"\")","v":""},{"$f":"IFERROR(LOOKUP(2, 1/SEARCH({\"8GB\",\"16GB\",\"32GB\",\"64GB\"}, G71), {\"8GB\",\"16GB\",\"32GB\",\"64GB\"}), \"\")","v":""},{"$f":"IFERROR(LOOKUP(2, 1/SEARCH({\"1TB\",\"2TB\",\"128GB\",\"512GB\",\"256GB\"}, G71), {\"1TB\",\"2TB\",\"128GB\",\"512GB\",\"256GB\"}), \"\")","v":""},null,{"$f":"IFERROR(LOOKUP(2, 1/SEARCH({\"16-Inch\",\"15-Inch\",\"15.6-Inch\",\"18-Inch\",\"15.3-Inch\",\"13-Inch\",\"13.4-Inch\",\"13.8-Inch\",\"14-Inch\",\"17-Inch\",\"45-Inch\",\"27-Inch\",\"34-Inch\",\"32-Inch\",\"21.5-Inch\"}, G71), {\"16-Inch\",\"15-Inch\",\"15.6-Inch\",\"18-Inch\",\"15.3-Inch\",\"13-Inch\",\"13.4-Inch\",\"13.8-Inch\",\"14-Inch\",\"17-Inch\",\"45-Inch\",\"27-Inch\",\"34-Inch\",\"32-Inch\",\"21.5-Inch\"}), \"\")","v":""}]
[null,null,null,null,null,null,null,{"$f":"IFERROR(INDEX(BrandList!$A$2:$A$50,MATCH(TRUE,ISNUMBER(SEARCH(BrandList!$A$2:$A$50,G72)),0)),\"\")","v":""},{"$f":"IFERROR(INDEX(BrandList!$B$2:$B$200,MATCH(TRUE,ISNUMBER(SEARCH(BrandList!$B$2:$B$200,G72)),0)),\"\")","v":""},null,null,null,null,null,null,"",{"$f":"IFERROR(VLOOKUP(VALUE(A72),WEEKLY_DATA!$A:$H,2,0),0)","v":0},{"$f":"IFERROR(VLOOKUP(VALUE(A72),WEEKLY_DATA!$A:$H,3,0),0)","v":0},{"$f":"IFERROR(VLOOKUP(VALUE(A72),WEEKLY_DATA!$A:$H,4,0),0)","v":0},{"$f":"IFERROR(VLOOKUP(VALUE(A72),WEEKLY_DATA!$A:$H,5,0),0)","v":0},{"$f":"IFERROR(VLOOKUP(VALUE(A72),WEEKLY_DATA!$A:$H,6,0),0)","v":0},{"$f":"IFERROR(VLOOKUP(VALUE(A72),WEEKLY_DATA!$A:$H,7,0),0)","v":0},{"$f":"IFERROR(IF(OR(Q72=\"\",Q72=0),\"\",IF(VLOOKUP(VALUE($A72),WEEKLY_DATA!$A:$H,6,0)=0,\"No Sales\",Q72/(VLOOKUP(VALUE($A72),WEEKLY_DATA!$A:$H,6,0)/13))),\"\")","v":""},{"$f":"IFERROR(VLOOKUP(VALUE(A72),WEEKLY_DATA!$A:$H,8,0),0)","v":0},"—",null,null,null,null,null,null,"—",null,null,null,"—","—",null,{"$f":"IFERROR(LOOKUP(2, 1/SEARCH({\"Black\",\"White\",\"Grey\",\"Blue\",\"Silver\",\"Brown\",\"Green\",\"Blue\",\"Purple\",\"Red\",\"Pink\",\"Yellow\",\"Gold\"}, G72), {\"Black\",\"White\",\"Grey\",\"Blue\",\"Silver\",\"Brown\",\"Green\",\"Blue\",\"Purple\",\"Red\",\"Pink\",\"Yellow\",\"Gold\"}), \"\")","v":""},{"$f":"IFERROR(LOOKUP(2, 1/SEARCH({\"8GB\",\"16GB\",\"32GB\",\"64GB\"}, G72), {\"8GB\",\"16GB\",\"32GB\",\"64GB\"}), \"\")","v":""},{"$f":"IFERROR(LOOKUP(2, 1/SEARCH({\"1TB\",\"2TB\",\"128GB\",\"512GB\",\"256GB\"}, G72), {\"1TB\",\"2TB\",\"128GB\",\"512GB\",\"256GB\"}), \"\")","v":""},null,{"$f":"IFERROR(LOOKUP(2, 1/SEARCH({\"16-Inch\",\"15-Inch\",\"15.6-Inch\",\"18-Inch\",\"15.3-Inch\",\"13-Inch\",\"13.4-Inch\",\"13.8-Inch\",\"14-Inch\",\"17-Inch\",\"45-Inch\",\"27-Inch\",\"34-Inch\",\"32-Inch\",\"21.5-Inch\"}, G72), {\"16-Inch\",\"15-Inch\",\"15.6-Inch\",\"18-Inch\",\"15.3-Inch\",\"13-Inch\",\"13.4-Inch\",\"13.8-Inch\",\"14-Inch\",\"17-Inch\",\"45-Inch\",\"27-Inch\",\"34-Inch\",\"32-Inch\",\"21.5-Inch\"}), \"\")","v":""}]
[null,null,null,null,null,null,null,{"$f":"IFERROR(INDEX(BrandList!$A$2:$A$50,MATCH(TRUE,ISNUMBER(SEARCH(BrandList!$A$2:$A$50,G73)),0)),\"\")","v":""},{"$f":"IFERROR(INDEX(BrandList!$B$2:$B$200,MATCH(TRUE,ISNUMBER(SEARCH(BrandList!$B$2:$B$200,G73)),0)),\"\")","v":""},null,null,null,null,null,null,"",{"$f":"IFERROR(VLOOKUP(VALUE(A73),WEEKLY_DATA!$A:$H,2,0),0)","v":0},{"$f":"IFERROR(VLOOKUP(VALUE(A73),WEEKLY_DATA!$A:$H,3,0),0)","v":0},{"$f":"IFERROR(VLOOKUP(VALUE(A73),WEEKLY_DATA!$A:$H,4,0),0)","v":0},{"$f":"IFERROR(VLOOKUP(VALUE(A73),WEEKLY_DATA!$A:$H,5,0),0)","v":0},{"$f":"IFERROR(VLOOKUP(VALUE(A73),WEEKLY_DATA!$A:$H,6,0),0)","v":0},{"$f":"IFERROR(VLOOKUP(VALUE(A73),WEEKLY_DATA!$A:$H,7,0),0)","v":0},{"$f":"IFERROR(IF(OR(Q73=\"\",Q73=0),\"\",IF(VLOOKUP(VALUE($A73),WEEKLY_DATA!$A:$H,6,0)=0,\"No Sales\",Q73/(VLOOKUP(VALUE($A73),WEEKLY_DATA!$A:$H,6,0)/13))),\"\")","v":""},{"$f":"IFERROR(VLOOKUP(VALUE(A73),WEEKLY_DATA!$A:$H,8,0),0)","v":0},"—",null,null,null,null,null,null,"—",null,"—",null,"—","—",null,{"$f":"IFERROR(LOOKUP(2, 1/SEARCH({\"Black\",\"White\",\"Grey\",\"Blue\",\"Silver\",\"Brown\",\"Green\",\"Blue\",\"Purple\",\"Red\",\"Pink\",\"Yellow\",\"Gold\"}, G73), {\"Black\",\"White\",\"Grey\",\"Blue\",\"Silver\",\"Brown\",\"Green\",\"Blue\",\"Purple\",\"Red\",\"Pink\",\"Yellow\",\"Gold\"}), \"\")","v":""},{"$f":"IFERROR(LOOKUP(2, 1/SEARCH({\"8GB\",\"16GB\",\"32GB\",\"64GB\"}, G73), {\"8GB\",\"16GB\",\"32GB\",\"64GB\"}), \"\")","v":""},{"$f":"IFERROR(LOOKUP(2, 1/SEARCH({\"1TB\",\"2TB\",\"128GB\",\"512GB\",\"256GB\"}, G73), {\"1TB\",\"2TB\",\"128GB\",\"512GB\",\"256GB\"}), \"\")","v":""},null,{"$f":"IFERROR(LOOKUP(2, 1/SEARCH({\"16-Inch\",\"15-Inch\",\"15.6-Inch\",\"18-Inch\",\"15.3-Inch\",\"13-Inch\",\"13.4-Inch\",\"13.8-Inch\",\"14-Inch\",\"17-Inch\",\"45-Inch\",\"27-Inch\",\"34-Inch\",\"32-Inch\",\"21.5-Inch\"}, G73), {\"16-Inch\",\"15-Inch\",\"15.6-Inch\",\"18-Inch\",\"15.3-Inch\",\"13-Inch\",\"13.4-Inch\",\"13.8-Inch\",\"14-Inch\",\"17-Inch\",\"45-Inch\",\"27-Inch\",\"34-Inch\",\"32-Inch\",\"21.5-Inch\"}), \"\")","v":""}]
[null,null,null,null,null,null,null,{"$f":"IFERROR(INDEX(BrandList!$A$2:$A$50,MATCH(TRUE,ISNUMBER(SEARCH(BrandList!$A$2:$A$50,G74)),0)),\"\")","v":""},{"$f":"IFERROR(INDEX(BrandList!$B$2:$B$200,MATCH(TRUE,ISNUMBER(SEARCH(BrandList!$B$2:$B$200,G74)),0)),\"\")","v":""},null,null,null,null,null,null,"",{"$f":"IFERROR(VLOOKUP(VALUE(A74),WEEKLY_DATA!$A:$H,2,0),0)","v":0},{"$f":"IFERROR(VLOOKUP(VALUE(A74),WEEKLY_DATA!$A:$H,3,0),0)","v":0},{"$f":"IFERROR(VLOOKUP(VALUE(A74),WEEKLY_DATA!$A:$H,4,0),0)","v":0},{"$f":"IFERROR(VLOOKUP(VALUE(A74),WEEKLY_DATA!$A:$H,5,0),0)","v":0},{"$f":"IFERROR(VLOOKUP(VALUE(A74),WEEKLY_DATA!$A:$H,6,0),0)","v":0},{"$f":"IFERROR(VLOOKUP(VALUE(A74),WEEKLY_DATA!$A:$H,7,0),0)","v":0},{"$f":"IFERROR(IF(OR(Q74=\"\",Q74=0),\"\",IF(VLOOKUP(VALUE($A74),WEEKLY_DATA!$A:$H,6,0)=0,\"No Sales\",Q74/(VLOOKUP(VALUE($A74),WEEKLY_DATA!$A:$H,6,0)/13))),\"\")","v":""},{"$f":"IFERROR(VLOOKUP(VALUE(A74),WEEKLY_DATA!$A:$H,8,0),0)","v":0},"—",null,null,null,null,null,null,"—",null,null,null,"—","—",null,{"$f":"IFERROR(LOOKUP(2, 1/SEARCH({\"Black\",\"White\",\"Grey\",\"Blue\",\"Silver\",\"Brown\",\"Green\",\"Blue\",\"Purple\",\"Red\",\"Pink\",\"Yellow\",\"Gold\"}, G74), {\"Black\",\"White\",\"Grey\",\"Blue\",\"Silver\",\"Brown\",\"Green\",\"Blue\",\"Purple\",\"Red\",\"Pink\",\"Yellow\",\"Gold\"}), \"\")","v":""},{"$f":"IFERROR(LOOKUP(2, 1/SEARCH({\"8GB\",\"16GB\",\"32GB\",\"64GB\"}, G74), {\"8GB\",\"16GB\",\"32GB\",\"64GB\"}), \"\")","v":""},{"$f":"IFERROR(LOOKUP(2, 1/SEARCH({\"1TB\",\"2TB\",\"128GB\",\"512GB\",\"256GB\"}, G74), {\"1TB\",\"2TB\",\"128GB\",\"512GB\",\"256GB\"}), \"\")","v":""},null,{"$f":"IFERROR(LOOKUP(2, 1/SEARCH({\"16-Inch\",\"15-Inch\",\"15.6-Inch\",\"18-Inch\",\"15.3-Inch\",\"13-Inch\",\"13.4-Inch\",\"13.8-Inch\",\"14-Inch\",\"17-Inch\",\"45-Inch\",\"27-Inch\",\"34-Inch\",\"32-Inch\",\"21.5-Inch\"}, G74), {\"16-Inch\",\"15-Inch\",\"15.6-Inch\",\"18-Inch\",\"15.3-Inch\",\"13-Inch\",\"13.4-Inch\",\"13.8-Inch\",\"14-Inch\",\"17-Inch\",\"45-Inch\",\"27-Inch\",\"34-Inch\",\"32-Inch\",\"21.5-Inch\"}), \"\")","v":""}]
[null,null,null,null,null,null,null,{"$f":"IFERROR(INDEX(BrandList!$A$2:$A$50,MATCH(TRUE,ISNUMBER(SEARCH(BrandList!$A$2:$A$50,G75)),0)),\"\")","v":""},{"$f":"IFERROR(INDEX(BrandList!$B$2:$B$200,MATCH(TRUE,ISNUMBER(SEARCH(BrandList!$B$2:$B$200,G75)),0)),\"\")","v":""},null,null,null,null,null,null,"",{"$f":"IFERROR(VLOOKUP(VALUE(A75),WEEKLY_DATA!$A:$H,2,0),0)","v":0},{"$f":"IFERROR(VLOOKUP(VALUE(A75),WEEKLY_DATA!$A:$H,3,0),0)","v":0},{"$f":"IFERROR(VLOOKUP(VALUE(A75),WEEKLY_DATA!$A:$H,4,0),0)","v":0},{"$f":"IFERROR(VLOOKUP(VALUE(A75),WEEKLY_DATA!$A:$H,5,0),0)","v":0},{"$f":"IFERROR(VLOOKUP(VALUE(A75),WEEKLY_DATA!$A:$H,6,0),0)","v":0},{"$f":"IFERROR(VLOOKUP(VALUE(A75),WEEKLY_DATA!$A:$H,7,0),0)","v":0},{"$f":"IFERROR(IF(OR(Q75=\"\",Q75=0),\"\",IF(VLOOKUP(VALUE($A75),WEEKLY_DATA!$A:$H,6,0)=0,\"No Sales\",Q75/(VLOOKUP(VALUE($A75),WEEKLY_DATA!$A:$H,6,0)/13))),\"\")","v":""},{"$f":"IFERROR(VLOOKUP(VALUE(A75),WEEKLY_DATA!$A:$H,8,0),0)","v":0},"—",null,null,null,null,null,null,"—",null,null,null,"—","—",null,{"$f":"IFERROR(LOOKUP(2, 1/SEARCH({\"Black\",\"White\",\"Grey\",\"Blue\",\"Silver\",\"Brown\",\"Green\",\"Blue\",\"Purple\",\"Red\",\"Pink\",\"Yellow\",\"Gold\"}, G75), {\"Black\",\"White\",\"Grey\",\"Blue\",\"Silver\",\"Brown\",\"Green\",\"Blue\",\"Purple\",\"Red\",\"Pink\",\"Yellow\",\"Gold\"}), \"\")","v":""},{"$f":"IFERROR(LOOKUP(2, 1/SEARCH({\"8GB\",\"16GB\",\"32GB\",\"64GB\"}, G75), {\"8GB\",\"16GB\",\"32GB\",\"64GB\"}), \"\")","v":""},{"$f":"IFERROR(LOOKUP(2, 1/SEARCH({\"1TB\",\"2TB\",\"128GB\",\"512GB\",\"256GB\"}, G75), {\"1TB\",\"2TB\",\"128GB\",\"512GB\",\"256GB\"}), \"\")","v":""},null,{"$f":"IFERROR(LOOKUP(2, 1/SEARCH({\"16-Inch\",\"15-Inch\",\"15.6-Inch\",\"18-Inch\",\"15.3-Inch\",\"13-Inch\",\"13.4-Inch\",\"13.8-Inch\",\"14-Inch\",\"17-Inch\",\"45-Inch\",\"27-Inch\",\"34-Inch\",\"32-Inch\",\"21.5-Inch\"}, G75), {\"16-Inch\",\"15-Inch\",\"15.6-Inch\",\"18-Inch\",\"15.3-Inch\",\"13-Inch\",\"13.4-Inch\",\"13.8-Inch\",\"14-Inch\",\"17-Inch\",\"45-Inch\",\"27-Inch\",\"34-Inch\",\"32-Inch\",\"21.5-Inch\"}), \"\")","v":""}]
[null,null,null,null,null,null,null,{"$f":"IFERROR(INDEX(BrandList!$A$2:$A$50,MATCH(TRUE,ISNUMBER(SEARCH(BrandList!$A$2:$A$50,G76)),0)),\"\")","v":""},{"$f":"IFERROR(INDEX(BrandList!$B$2:$B$200,MATCH(TRUE,ISNUMBER(SEARCH(BrandList!$B$2:$B$200,G76)),0)),\"\")","v":""},null,null,null,null,null,null,"",{"$f":"IFERROR(VLOOKUP(VALUE(A76),WEEKLY_DATA!$A:$H,2,0),0)","v":0},{"$f":"IFERROR(VLOOKUP(VALUE(A76),WEEKLY_DATA!$A:$H,3,0),0)","v":0},{"$f":"IFERROR(VLOOKUP(VALUE(A76),WEEKLY_DATA!$A:$H,4,0),0)","v":0},{"$f":"IFERROR(VLOOKUP(VALUE(A76),WEEKLY_DATA!$A:$H,5,0),0)","v":0},{"$f":"IFERROR(VLOOKUP(VALUE(A76),WEEKLY_DATA!$A:$H,6,0),0)","v":0},{"$f":"IFERROR(VLOOKUP(VALUE(A76),WEEKLY_DATA!$A:$H,7,0),0)","v":0},{"$f":"IFERROR(IF(OR(Q76=\"\",Q76=0),\"\",IF(VLOOKUP(VALUE($A76),WEEKLY_DATA!$A:$H,6,0)=0,\"No Sales\",Q76/(VLOOKUP(VALUE($A76),WEEKLY_DATA!$A:$H,6,0)/13))),\"\")","v":""},{"$f":"IFERROR(VLOOKUP(VALUE(A76),WEEKLY_DATA!$A:$H,8,0),0)","v":0},"—",null,null,null,null,null,null,"—",null,null,null,"—","—",null,{"$f":"IFERROR(LOOKUP(2, 1/SEARCH({\"Black\",\"White\",\"Grey\",\"Blue\",\"Silver\",\"Brown\",\"Green\",\"Blue\",\"Purple\",\"Red\",\"Pink\",\"Yellow\",\"Gold\"}, G76), {\"Black\",\"White\",\"Grey\",\"Blue\",\"Silver\",\"Brown\",\"Green\",\"Blue\",\"Purple\",\"Red\",\"Pink\",\"Yellow\",\"Gold\"}), \"\")","v":""},{"$f":"IFERROR(LOOKUP(2, 1/SEARCH({\"8GB\",\"16GB\",\"32GB\",\"64GB\"}, G76), {\"8GB\",\"16GB\",\"32GB\",\"64GB\"}), \"\")","v":""},{"$f":"IFERROR(LOOKUP(2, 1/SEARCH({\"1TB\",\"2TB\",\"128GB\",\"512GB\",\"256GB\"}, G76), {\"1TB\",\"2TB\",\"128GB\",\"512GB\",\"256GB\"}), \"\")","v":""},null,{"$f":"IFERROR(LOOKUP(2, 1/SEARCH({\"16-Inch\",\"15-Inch\",\"15.6-Inch\",\"18-Inch\",\"15.3-Inch\",\"13-Inch\",\"13.4-Inch\",\"13.8-Inch\",\"14-Inch\",\"17-Inch\",\"45-Inch\",\"27-Inch\",\"34-Inch\",\"32-Inch\",\"21.5-Inch\"}, G76), {\"16-Inch\",\"15-Inch\",\"15.6-Inch\",\"18-Inch\",\"15.3-Inch\",\"13-Inch\",\"13.4-Inch\",\"13.8-Inch\",\"14-Inch\",\"17-Inch\",\"45-Inch\",\"27-Inch\",\"34-Inch\",\"32-Inch\",\"21.5-Inch\"}), \"\")","v":""}]
[null,null,null,null,null,null,null,{"$f":"IFERROR(INDEX(BrandList!$A$2:$A$50,MATCH(TRUE,ISNUMBER(SEARCH(BrandList!$A$2:$A$50,G77)),0)),\"\")","v":""},{"$f":"IFERROR(INDEX(BrandList!$B$2:$B$200,MATCH(TRUE,ISNUMBER(SEARCH(BrandList!$B$2:$B$200,G77)),0)),\"\")","v":""},null,null,null,null,null,null,"",{"$f":"IFERROR(VLOOKUP(VALUE(A77),WEEKLY_DATA!$A:$H,2,0),0)","v":0},{"$f":"IFERROR(VLOOKUP(VALUE(A77),WEEKLY_DATA!$A:$H,3,0),0)","v":0},{"$f":"IFERROR(VLOOKUP(VALUE(A77),WEEKLY_DATA!$A:$H,4,0),0)","v":0},{"$f":"IFERROR(VLOOKUP(VALUE(A77),WEEKLY_DATA!$A:$H,5,0),0)","v":0},{"$f":"IFERROR(VLOOKUP(VALUE(A77),WEEKLY_DATA!$A:$H,6,0),0)","v":0},{"$f":"IFERROR(VLOOKUP(VALUE(A77),WEEKLY_DATA!$A:$H,7,0),0)","v":0},{"$f":"IFERROR(IF(OR(Q77=\"\",Q77=0),\"\",IF(VLOOKUP(VALUE($A77),WEEKLY_DATA!$A:$H,6,0)=0,\"No Sales\",Q77/(VLOOKUP(VALUE($A77),WEEKLY_DATA!$A:$H,6,0)/13))),\"\")","v":""},{"$f":"IFERROR(VLOOKUP(VALUE(A77),WEEKLY_DATA!$A:$H,8,0),0)","v":0},"—",null,null,null,null,null,null,"—",null,null,null,"—","—",null,{"$f":"IFERROR(LOOKUP(2, 1/SEARCH({\"Black\",\"White\",\"Grey\",\"Blue\",\"Silver\",\"Brown\",\"Green\",\"Blue\",\"Purple\",\"Red\",\"Pink\",\"Yellow\",\"Gold\"}, G77), {\"Black\",\"White\",\"Grey\",\"Blue\",\"Silver\",\"Brown\",\"Green\",\"Blue\",\"Purple\",\"Red\",\"Pink\",\"Yellow\",\"Gold\"}), \"\")","v":""},{"$f":"IFERROR(LOOKUP(2, 1/SEARCH({\"8GB\",\"16GB\",\"32GB\",\"64GB\"}, G77), {\"8GB\",\"16GB\",\"32GB\",\"64GB\"}), \"\")","v":""},{"$f":"IFERROR(LOOKUP(2, 1/SEARCH({\"1TB\",\"2TB\",\"128GB\",\"512GB\",\"256GB\"}, G77), {\"1TB\",\"2TB\",\"128GB\",\"512GB\",\"256GB\"}), \"\")","v":""},null,{"$f":"IFERROR(LOOKUP(2, 1/SEARCH({\"16-Inch\",\"15-Inch\",\"15.6-Inch\",\"18-Inch\",\"15.3-Inch\",\"13-Inch\",\"13.4-Inch\",\"13.8-Inch\",\"14-Inch\",\"17-Inch\",\"45-Inch\",\"27-Inch\",\"34-Inch\",\"32-Inch\",\"21.5-Inch\"}, G77), {\"16-Inch\",\"15-Inch\",\"15.6-Inch\",\"18-Inch\",\"15.3-Inch\",\"13-Inch\",\"13.4-Inch\",\"13.8-Inch\",\"14-Inch\",\"17-Inch\",\"45-Inch\",\"27-Inch\",\"34-Inch\",\"32-Inch\",\"21.5-Inch\"}), \"\")","v":""}]
[null,null,null,null,null,null,null,{"$f":"IFERROR(INDEX(BrandList!$A$2:$A$50,MATCH(TRUE,ISNUMBER(SEARCH(BrandList!$A$2:$A$50,G78)),0)),\"\")","v":""},{"$f":"IFERROR(INDEX(BrandList!$B$2:$B$200,MATCH(TRUE,ISNUMBER(SEARCH(BrandList!$B$2:$B$200,G78)),0)),\"\")","v":""},null,null,null,null,null,null,"",{"$f":"IFERROR(VLOOKUP(VALUE(A78),WEEKLY_DATA!$A:$H,2,0),0)","v":0},{"$f":"IFERROR(VLOOKUP(VALUE(A78),WEEKLY_DATA!$A:$H,3,0),0)","v":0},{"$f":"IFERROR(VLOOKUP(VALUE(A78),WEEKLY_DATA!$A:$H,4,0),0)","v":0},{"$f":"IFERROR(VLOOKUP(VALUE(A78),WEEKLY_DATA!$A:$H,5,0),0)","v":0},{"$f":"IFERROR(VLOOKUP(VALUE(A78),WEEKLY_DATA!$A:$H,6,0),0)","v":0},{"$f":"IFERROR(VLOOKUP(VALUE(A78),WEEKLY_DATA!$A:$H,7,0),0)","v":0},{"$f":"IFERROR(IF(OR(Q78=\"\",Q78=0),\"\",IF(VLOOKUP(VALUE($A78),WEEKLY_DATA!$A:$H,6,0)=0,\"No Sales\",Q78/(VLOOKUP(VALUE($A78),WEEKLY_DATA!$A:$H,6,0)/13))),\"\")","v":""},{"$f":"IFERROR(VLOOKUP(VALUE(A78),WEEKLY_DATA!$A:$H,8,0),0)","v":0},"—",null,null,null,null,null,null,"—",null,null,null,"—","—",null,{"$f":"IFERROR(LOOKUP(2, 1/SEARCH({\"Black\",\"White\",\"Grey\",\"Blue\",\"Silver\",\"Brown\",\"Green\",\"Blue\",\"Purple\",\"Red\",\"Pink\",\"Yellow\",\"Gold\"}, G78), {\"Black\",\"White\",\"Grey\",\"Blue\",\"Silver\",\"Brown\",\"Green\",\"Blue\",\"Purple\",\"Red\",\"Pink\",\"Yellow\",\"Gold\"}), \"\")","v":""},{"$f":"IFERROR(LOOKUP(2, 1/SEARCH({\"8GB\",\"16GB\",\"32GB\",\"64GB\"}, G78), {\"8GB\",\"16GB\",\"32GB\",\"64GB\"}), \"\")","v":""},{"$f":"IFERROR(LOOKUP(2, 1/SEARCH({\"1TB\",\"2TB\",\"128GB\",\"512GB\",\"256GB\"}, G78), {\"1TB\",\"2TB\",\"128GB\",\"512GB\",\"256GB\"}), \"\")","v":""},null,{"$f":"IFERROR(LOOKUP(2, 1/SEARCH({\"16-Inch\",\"15-Inch\",\"15.6-Inch\",\"18-Inch\",\"15.3-Inch\",\"13-Inch\",\"13.4-Inch\",\"13.8-Inch\",\"14-Inch\",\"17-Inch\",\"45-Inch\",\"27-Inch\",\"34-Inch\",\"32-Inch\",\"21.5-Inch\"}, G78), {\"16-Inch\",\"15-Inch\",\"15.6-Inch\",\"18-Inch\",\"15.3-Inch\",\"13-Inch\",\"13.4-Inch\",\"13.8-Inch\",\"14-Inch\",\"17-Inch\",\"45-Inch\",\"27-Inch\",\"34-Inch\",\"32-Inch\",\"21.5-Inch\"}), \"\")","v":""}]
[null,null,null,null,null,null,null,{"$f":"IFERROR(INDEX(BrandList!$A$2:$A$50,MATCH(TRUE,ISNUMBER(SEARCH(BrandList!$A$2:$A$50,G79)),0)),\"\")","v":""},{"$f":"IFERROR(INDEX(BrandList!$B$2:$B$200,MATCH(TRUE,ISNUMBER(SEARCH(BrandList!$B$2:$B$200,G79)),0)),\"\")","v":""},null,null,null,null,null,null,"",{"$f":"IFERROR(VLOOKUP(VALUE(A79),WEEKLY_DATA!$A:$H,2,0),0)","v":0},{"$f":"IFERROR(VLOOKUP(VALUE(A79),WEEKLY_DATA!$A:$H,3,0),0)","v":0},{"$f":"IFERROR(VLOOKUP(VALUE(A79),WEEKLY_DATA!$A:$H,4,0),0)","v":0},{"$f":"IFERROR(VLOOKUP(VALUE(A79),WEEKLY_DATA!$A:$H,5,0),0)","v":0},{"$f":"IFERROR(VLOOKUP(VALUE(A79),WEEKLY_DATA!$A:$H,6,0),0)","v":0},{"$f":"IFERROR(VLOOKUP(VALUE(A79),WEEKLY_DATA!$A:$H,7,0),0)","v":0},{"$f":"IFERROR(IF(OR(Q79=\"\",Q79=0),\"\",IF(VLOOKUP(VALUE($A79),WEEKLY_DATA!$A:$H,6,0)=0,\"No Sales\",Q79/(VLOOKUP(VALUE($A79),WEEKLY_DATA!$A:$H,6,0)/13))),\"\")","v":""},{"$f":"IFERROR(VLOOKUP(VALUE(A79),WEEKLY_DATA!$A:$H,8,0),0)","v":0},"—",null,null,null,null,null,null,"—",null,null,null,"—","—",null,{"$f":"IFERROR(LOOKUP(2, 1/SEARCH({\"Black\",\"White\",\"Grey\",\"Blue\",\"Silver\",\"Brown\",\"Green\",\"Blue\",\"Purple\",\"Red\",\"Pink\",\"Yellow\",\"Gold\"}, G79), {\"Black\",\"White\",\"Grey\",\"Blue\",\"Silver\",\"Brown\",\"Green\",\"Blue\",\"Purple\",\"Red\",\"Pink\",\"Yellow\",\"Gold\"}), \"\")","v":""},{"$f":"IFERROR(LOOKUP(2, 1/SEARCH({\"8GB\",\"16GB\",\"32GB\",\"64GB\"}, G79), {\"8GB\",\"16GB\",\"32GB\",\"64GB\"}), \"\")","v":""},{"$f":"IFERROR(LOOKUP(2, 1/SEARCH({\"1TB\",\"2TB\",\"128GB\",\"512GB\",\"256GB\"}, G79), {\"1TB\",\"2TB\",\"128GB\",\"512GB\",\"256GB\"}), \"\")","v":""},null,{"$f":"IFERROR(LOOKUP(2, 1/SEARCH({\"16-Inch\",\"15-Inch\",\"15.6-Inch\",\"18-Inch\",\"15.3-Inch\",\"13-Inch\",\"13.4-Inch\",\"13.8-Inch\",\"14-Inch\",\"17-Inch\",\"45-Inch\",\"27-Inch\",\"34-Inch\",\"32-Inch\",\"21.5-Inch\"}, G79), {\"16-Inch\",\"15-Inch\",\"15.6-Inch\",\"18-Inch\",\"15.3-Inch\",\"13-Inch\",\"13.4-Inch\",\"13.8-Inch\",\"14-Inch\",\"17-Inch\",\"45-Inch\",\"27-Inch\",\"34-Inch\",\"32-Inch\",\"21.5-Inch\"}), \"\")","v":""}]
[null,null,null,null,null,null,null,{"$f":"IFERROR(INDEX(BrandList!$A$2:$A$50,MATCH(TRUE,ISNUMBER(SEARCH(BrandList!$A$2:$A$50,G80)),0)),\"\")","v":""},{"$f":"IFERROR(INDEX(BrandList!$B$2:$B$200,MATCH(TRUE,ISNUMBER(SEARCH(BrandList!$B$2:$B$200,G80)),0)),\"\")","v":""},null,null,null,null,null,null,"",{"$f":"IFERROR(VLOOKUP(VALUE(A80),WEEKLY_DATA!$A:$H,2,0),0)","v":0},{"$f":"IFERROR(VLOOKUP(VALUE(A80),WEEKLY_DATA!$A:$H,3,0),0)","v":0},{"$f":"IFERROR(VLOOKUP(VALUE(A80),WEEKLY_DATA!$A:$H,4,0),0)","v":0},{"$f":"IFERROR(VLOOKUP(VALUE(A80),WEEKLY_DATA!$A:$H,5,0),0)","v":0},{"$f":"IFERROR(VLOOKUP(VALUE(A80),WEEKLY_DATA!$A:$H,6,0),0)","v":0},{"$f":"IFERROR(VLOOKUP(VALUE(A80),WEEKLY_DATA!$A:$H,7,0),0)","v":0},{"$f":"IFERROR(IF(OR(Q80=\"\",Q80=0),\"\",IF(VLOOKUP(VALUE($A80),WEEKLY_DATA!$A:$H,6,0)=0,\"No Sales\",Q80/(VLOOKUP(VALUE($A80),WEEKLY_DATA!$A:$H,6,0)/13))),\"\")","v":""},{"$f":"IFERROR(VLOOKUP(VALUE(A80),WEEKLY_DATA!$A:$H,8,0),0)","v":0},"—",null,null,null,null,null,null,"—",null,null,null,"—","—",null,{"$f":"IFERROR(LOOKUP(2, 1/SEARCH({\"Black\",\"White\",\"Grey\",\"Blue\",\"Silver\",\"Brown\",\"Green\",\"Blue\",\"Purple\",\"Red\",\"Pink\",\"Yellow\",\"Gold\"}, G80), {\"Black\",\"White\",\"Grey\",\"Blue\",\"Silver\",\"Brown\",\"Green\",\"Blue\",\"Purple\",\"Red\",\"Pink\",\"Yellow\",\"Gold\"}), \"\")","v":""},{"$f":"IFERROR(LOOKUP(2, 1/SEARCH({\"8GB\",\"16GB\",\"32GB\",\"64GB\"}, G80), {\"8GB\",\"16GB\",\"32GB\",\"64GB\"}), \"\")","v":""},{"$f":"IFERROR(LOOKUP(2, 1/SEARCH({\"1TB\",\"2TB\",\"128GB\",\"512GB\",\"256GB\"}, G80), {\"1TB\",\"2TB\",\"128GB\",\"512GB\",\"256GB\"}), \"\")","v":""},null,{"$f":"IFERROR(LOOKUP(2, 1/SEARCH({\"16-Inch\",\"15-Inch\",\"15.6-Inch\",\"18-Inch\",\"15.3-Inch\",\"13-Inch\",\"13.4-Inch\",\"13.8-Inch\",\"14-Inch\",\"17-Inch\",\"45-Inch\",\"27-Inch\",\"34-Inch\",\"32-Inch\",\"21.5-Inch\"}, G80), {\"16-Inch\",\"15-Inch\",\"15.6-Inch\",\"18-Inch\",\"15.3-Inch\",\"13-Inch\",\"13.4-Inch\",\"13.8-Inch\",\"14-Inch\",\"17-Inch\",\"45-Inch\",\"27-Inch\",\"34-Inch\",\"32-Inch\",\"21.5-Inch\"}), \"\")","v":""}]
[null,null,null,null,null,null,null,{"$f":"IFERROR(INDEX(BrandList!$A$2:$A$50,MATCH(TRUE,ISNUMBER(SEARCH(BrandList!$A$2:$A$50,G81)),0)),\"\")","v":""},{"$f":"IFERROR(INDEX(BrandList!$B$2:$B$200,MATCH(TRUE,ISNUMBER(SEARCH(BrandList!$B$2:$B$200,G81)),0)),\"\")","v":""},null,null,null,null,null,null,"",{"$f":"IFERROR(VLOOKUP(VALUE(A81),WEEKLY_DATA!$A:$H,2,0),0)","v":0},{"$f":"IFERROR(VLOOKUP(VALUE(A81),WEEKLY_DATA!$A:$H,3,0),0)","v":0},{"$f":"IFERROR(VLOOKUP(VALUE(A81),WEEKLY_DATA!$A:$H,4,0),0)","v":0},{"$f":"IFERROR(VLOOKUP(VALUE(A81),WEEKLY_DATA!$A:$H,5,0),0)","v":0},{"$f":"IFERROR(VLOOKUP(VALUE(A81),WEEKLY_DATA!$A:$H,6,0),0)","v":0},{"$f":"IFERROR(VLOOKUP(VALUE(A81),WEEKLY_DATA!$A:$H,7,0),0)","v":0},{"$f":"IFERROR(IF(OR(Q81=\"\",Q81=0),\"\",IF(VLOOKUP(VALUE($A81),WEEKLY_DATA!$A:$H,6,0)=0,\"No Sales\",Q81/(VLOOKUP(VALUE($A81),WEEKLY_DATA!$A:$H,6,0)/13))),\"\")","v":""},{"$f":"IFERROR(VLOOKUP(VALUE(A81),WEEKLY_DATA!$A:$H,8,0),0)","v":0},"—",null,null,null,null,null,null,"—",null,null,null,"—","—",null,{"$f":"IFERROR(LOOKUP(2, 1/SEARCH({\"Black\",\"White\",\"Grey\",\"Blue\",\"Silver\",\"Brown\",\"Green\",\"Blue\",\"Purple\",\"Red\",\"Pink\",\"Yellow\",\"Gold\"}, G81), {\"Black\",\"White\",\"Grey\",\"Blue\",\"Silver\",\"Brown\",\"Green\",\"Blue\",\"Purple\",\"Red\",\"Pink\",\"Yellow\",\"Gold\"}), \"\")","v":""},{"$f":"IFERROR(LOOKUP(2, 1/SEARCH({\"8GB\",\"16GB\",\"32GB\",\"64GB\"}, G81), {\"8GB\",\"16GB\",\"32GB\",\"64GB\"}), \"\")","v":""},{"$f":"IFERROR(LOOKUP(2, 1/SEARCH({\"1TB\",\"2TB\",\"128GB\",\"512GB\",\"256GB\"}, G81), {\"1TB\",\"2TB\",\"128GB\",\"512GB\",\"256GB\"}), \"\")","v":""},null,{"$f":"IFERROR(LOOKUP(2, 1/SEARCH({\"16-Inch\",\"15-Inch\",\"15.6-Inch\",\"18-Inch\",\"15.3-Inch\",\"13-Inch\",\"13.4-Inch\",\"13.8-Inch\",\"14-Inch\",\"17-Inch\",\"45-Inch\",\"27-Inch\",\"34-Inch\",\"32-Inch\",\"21.5-Inch\"}, G81), {\"16-Inch\",\"15-Inch\",\"15.6-Inch\",\"18-Inch\",\"15.3-Inch\",\"13-Inch\",\"13.4-Inch\",\"13.8-Inch\",\"14-Inch\",\"17-Inch\",\"45-Inch\",\"27-Inch\",\"34-Inch\",\"32-Inch\",\"21.5-Inch\"}), \"\")","v":""}]
[null,null,null,null,null,null,null,{"$f":"IFERROR(INDEX(BrandList!$A$2:$A$50,MATCH(TRUE,ISNUMBER(SEARCH(BrandList!$A$2:$A$50,G82)),0)),\"\")","v":""},{"$f":"IFERROR(INDEX(BrandList!$B$2:$B$200,MATCH(TRUE,ISNUMBER(SEARCH(BrandList!$B$2:$B$200,G82)),0)),\"\")","v":""},null,null,null,null,null,null,"",{"$f":"IFERROR(VLOOKUP(VALUE(A82),WEEKLY_DATA!$A:$H,2,0),0)","v":0},{"$f":"IFERROR(VLOOKUP(VALUE(A82),WEEKLY_DATA!$A:$H,3,0),0)","v":0},{"$f":"IFERROR(VLOOKUP(VALUE(A82),WEEKLY_DATA!$A:$H,4,0),0)","v":0},{"$f":"IFERROR(VLOOKUP(VALUE(A82),WEEKLY_DATA!$A:$H,5,0),0)","v":0},{"$f":"IFERROR(VLOOKUP(VALUE(A82),WEEKLY_DATA!$A:$H,6,0),0)","v":0},{"$f":"IFERROR(VLOOKUP(VALUE(A82),WEEKLY_DATA!$A:$H,7,0),0)","v":0},{"$f":"IFERROR(IF(OR(Q82=\"\",Q82=0),\"\",IF(VLOOKUP(VALUE($A82),WEEKLY_DATA!$A:$H,6,0)=0,\"No Sales\",Q82/(VLOOKUP(VALUE($A82),WEEKLY_DATA!$A:$H,6,0)/13))),\"\")","v":""},{"$f":"IFERROR(VLOOKUP(VALUE(A82),WEEKLY_DATA!$A:$H,8,0),0)","v":0},"—",null,null,null,null,null,null,"—",null,null,null,"—","—",null,{"$f":"IFERROR(LOOKUP(2, 1/SEARCH({\"Black\",\"White\",\"Grey\",\"Blue\",\"Silver\",\"Brown\",\"Green\",\"Blue\",\"Purple\",\"Red\",\"Pink\",\"Yellow\",\"Gold\"}, G82), {\"Black\",\"White\",\"Grey\",\"Blue\",\"Silver\",\"Brown\",\"Green\",\"Blue\",\"Purple\",\"Red\",\"Pink\",\"Yellow\",\"Gold\"}), \"\")","v":""},{"$f":"IFERROR(LOOKUP(2, 1/SEARCH({\"8GB\",\"16GB\",\"32GB\",\"64GB\"}, G82), {\"8GB\",\"16GB\",\"32GB\",\"64GB\"}), \"\")","v":""},{"$f":"IFERROR(LOOKUP(2, 1/SEARCH({\"1TB\",\"2TB\",\"128GB\",\"512GB\",\"256GB\"}, G82), {\"1TB\",\"2TB\",\"128GB\",\"512GB\",\"256GB\"}), \"\")","v":""},null,{"$f":"IFERROR(LOOKUP(2, 1/SEARCH({\"16-Inch\",\"15-Inch\",\"15.6-Inch\",\"18-Inch\",\"15.3-Inch\",\"13-Inch\",\"13.4-Inch\",\"13.8-Inch\",\"14-Inch\",\"17-Inch\",\"45-Inch\",\"27-Inch\",\"34-Inch\",\"32-Inch\",\"21.5-Inch\"}, G82), {\"16-Inch\",\"15-Inch\",\"15.6-Inch\",\"18-Inch\",\"15.3-Inch\",\"13-Inch\",\"13.4-Inch\",\"13.8-Inch\",\"14-Inch\",\"17-Inch\",\"45-Inch\",\"27-Inch\",\"34-Inch\",\"32-Inch\",\"21.5-Inch\"}), \"\")","v":""}]
[null,null,null,null,null,null,null,{"$f":"IFERROR(INDEX(BrandList!$A$2:$A$50,MATCH(TRUE,ISNUMBER(SEARCH(BrandList!$A$2:$A$50,G83)),0)),\"\")","v":""},{"$f":"IFERROR(INDEX(BrandList!$B$2:$B$200,MATCH(TRUE,ISNUMBER(SEARCH(BrandList!$B$2:$B$200,G83)),0)),\"\")","v":""},null,null,null,null,null,null,"",{"$f":"IFERROR(VLOOKUP(VALUE(A83),WEEKLY_DATA!$A:$H,2,0),0)","v":0},{"$f":"IFERROR(VLOOKUP(VALUE(A83),WEEKLY_DATA!$A:$H,3,0),0)","v":0},{"$f":"IFERROR(VLOOKUP(VALUE(A83),WEEKLY_DATA!$A:$H,4,0),0)","v":0},{"$f":"IFERROR(VLOOKUP(VALUE(A83),WEEKLY_DATA!$A:$H,5,0),0)","v":0},{"$f":"IFERROR(VLOOKUP(VALUE(A83),WEEKLY_DATA!$A:$H,6,0),0)","v":0},{"$f":"IFERROR(VLOOKUP(VALUE(A83),WEEKLY_DATA!$A:$H,7,0),0)","v":0},{"$f":"IFERROR(IF(OR(Q83=\"\",Q83=0),\"\",IF(VLOOKUP(VALUE($A83),WEEKLY_DATA!$A:$H,6,0)=0,\"No Sales\",Q83/(VLOOKUP(VALUE($A83),WEEKLY_DATA!$A:$H,6,0)/13))),\"\")","v":""},{"$f":"IFERROR(VLOOKUP(VALUE(A83),WEEKLY_DATA!$A:$H,8,0),0)","v":0},"—",null,null,null,null,null,null,null,null,null,null,null,null,null,{"$f":"IFERROR(LOOKUP(2, 1/SEARCH({\"Black\",\"White\",\"Grey\",\"Blue\",\"Silver\",\"Brown\",\"Green\",\"Blue\",\"Purple\",\"Red\",\"Pink\",\"Yellow\",\"Gold\"}, G83), {\"Black\",\"White\",\"Grey\",\"Blue\",\"Silver\",\"Brown\",\"Green\",\"Blue\",\"Purple\",\"Red\",\"Pink\",\"Yellow\",\"Gold\"}), \"\")","v":""},{"$f":"IFERROR(LOOKUP(2, 1/SEARCH({\"8GB\",\"16GB\",\"32GB\",\"64GB\"}, G83), {\"8GB\",\"16GB\",\"32GB\",\"64GB\"}), \"\")","v":""},{"$f":"IFERROR(LOOKUP(2, 1/SEARCH({\"1TB\",\"2TB\",\"128GB\",\"512GB\",\"256GB\"}, G83), {\"1TB\",\"2TB\",\"128GB\",\"512GB\",\"256GB\"}), \"\")","v":""},null,{"$f":"IFERROR(LOOKUP(2, 1/SEARCH({\"16-Inch\",\"15-Inch\",\"15.6-Inch\",\"18-Inch\",\"15.3-Inch\",\"13-Inch\",\"13.4-Inch\",\"13.8-Inch\",\"14-Inch\",\"17-Inch\",\"45-Inch\",\"27-Inch\",\"34-Inch\",\"32-Inch\",\"21.5-Inch\"}, G83), {\"16-Inch\",\"15-Inch\",\"15.6-Inch\",\"18-Inch\",\"15.3-Inch\",\"13-Inch\",\"13.4-Inch\",\"13.8-Inch\",\"14-Inch\",\"17-Inch\",\"45-Inch\",\"27-Inch\",\"34-Inch\",\"32-Inch\",\"21.5-Inch\"}), \"\")","v":""}]
[null,null,null,null,null,null,null,{"$f":"IFERROR(INDEX(BrandList!$A$2:$A$50,MATCH(TRUE,ISNUMBER(SEARCH(BrandList!$A$2:$A$50,G84)),0)),\"\")","v":""},{"$f":"IFERROR(INDEX(BrandList!$B$2:$B$200,MATCH(TRUE,ISNUMBER(SEARCH(BrandList!$B$2:$B$200,G84)),0)),\"\")","v":""},null,null,null,null,null,null,"",{"$f":"IFERROR(VLOOKUP(VALUE(A84),WEEKLY_DATA!$A:$H,2,0),0)","v":0},{"$f":"IFERROR(VLOOKUP(VALUE(A84),WEEKLY_DATA!$A:$H,3,0),0)","v":0},{"$f":"IFERROR(VLOOKUP(VALUE(A84),WEEKLY_DATA!$A:$H,4,0),0)","v":0},{"$f":"IFERROR(VLOOKUP(VALUE(A84),WEEKLY_DATA!$A:$H,5,0),0)","v":0},{"$f":"IFERROR(VLOOKUP(VALUE(A84),WEEKLY_DATA!$A:$H,6,0),0)","v":0},{"$f":"IFERROR(VLOOKUP(VALUE(A84),WEEKLY_DATA!$A:$H,7,0),0)","v":0},{"$f":"IFERROR(IF(OR(Q84=\"\",Q84=0),\"\",IF(VLOOKUP(VALUE($A84),WEEKLY_DATA!$A:$H,6,0)=0,\"No Sales\",Q84/(VLOOKUP(VALUE($A84),WEEKLY_DATA!$A:$H,6,0)/13))),\"\")","v":""},{"$f":"IFERROR(VLOOKUP(VALUE(A84),WEEKLY_DATA!$A:$H,8,0),0)","v":0},"—",null,null,null,null,null,null,null,null,null,null,null,null,null,{"$f":"IFERROR(LOOKUP(2, 1/SEARCH({\"Black\",\"White\",\"Grey\",\"Blue\",\"Silver\",\"Brown\",\"Green\",\"Blue\",\"Purple\",\"Red\",\"Pink\",\"Yellow\",\"Gold\"}, G84), {\"Black\",\"White\",\"Grey\",\"Blue\",\"Silver\",\"Brown\",\"Green\",\"Blue\",\"Purple\",\"Red\",\"Pink\",\"Yellow\",\"Gold\"}), \"\")","v":""},{"$f":"IFERROR(LOOKUP(2, 1/SEARCH({\"8GB\",\"16GB\",\"32GB\",\"64GB\"}, G84), {\"8GB\",\"16GB\",\"32GB\",\"64GB\"}), \"\")","v":""},{"$f":"IFERROR(LOOKUP(2, 1/SEARCH({\"1TB\",\"2TB\",\"128GB\",\"512GB\",\"256GB\"}, G84), {\"1TB\",\"2TB\",\"128GB\",\"512GB\",\"256GB\"}), \"\")","v":""},null,{"$f":"IFERROR(LOOKUP(2, 1/SEARCH({\"16-Inch\",\"15-Inch\",\"15.6-Inch\",\"18-Inch\",\"15.3-Inch\",\"13-Inch\",\"13.4-Inch\",\"13.8-Inch\",\"14-Inch\",\"17-Inch\",\"45-Inch\",\"27-Inch\",\"34-Inch\",\"32-Inch\",\"21.5-Inch\"}, G84), {\"16-Inch\",\"15-Inch\",\"15.6-Inch\",\"18-Inch\",\"15.3-Inch\",\"13-Inch\",\"13.4-Inch\",\"13.8-Inch\",\"14-Inch\",\"17-Inch\",\"45-Inch\",\"27-Inch\",\"34-Inch\",\"32-Inch\",\"21.5-Inch\"}), \"\")","v":""}]
[null,null,null,null,null,null,null,{"$f":"IFERROR(INDEX(BrandList!$A$2:$A$50,MATCH(TRUE,ISNUMBER(SEARCH(BrandList!$A$2:$A$50,G85)),0)),\"\")","v":""},{"$f":"IFERROR(INDEX(BrandList!$B$2:$B$200,MATCH(TRUE,ISNUMBER(SEARCH(BrandList!$B$2:$B$200,G85)),0)),\"\")","v":""},null,null,null,null,null,null,"",{"$f":"IFERROR(VLOOKUP(VALUE(A85),WEEKLY_DATA!$A:$H,2,0),0)","v":0},{"$f":"IFERROR(VLOOKUP(VALUE(A85),WEEKLY_DATA!$A:$H,3,0),0)","v":0},{"$f":"IFERROR(VLOOKUP(VALUE(A85),WEEKLY_DATA!$A:$H,4,0),0)","v":0},{"$f":"IFERROR(VLOOKUP(VALUE(A85),WEEKLY_DATA!$A:$H,5,0),0)","v":0},{"$f":"IFERROR(VLOOKUP(VALUE(A85),WEEKLY_DATA!$A:$H,6,0),0)","v":0},{"$f":"IFERROR(VLOOKUP(VALUE(A85),WEEKLY_DATA!$A:$H,7,0),0)","v":0},{"$f":"IFERROR(IF(OR(Q85=\"\",Q85=0),\"\",IF(VLOOKUP(VALUE($A85),WEEKLY_DATA!$A:$H,6,0)=0,\"No Sales\",Q85/(VLOOKUP(VALUE($A85),WEEKLY_DATA!$A:$H,6,0)/13))),\"\")","v":""},{"$f":"IFERROR(VLOOKUP(VALUE(A85),WEEKLY_DATA!$A:$H,8,0),0)","v":0},"—",null,null,null,null,null,null,null,null,null,null,null,null,null,{"$f":"IFERROR(LOOKUP(2, 1/SEARCH({\"Black\",\"White\",\"Grey\",\"Blue\",\"Silver\",\"Brown\",\"Green\",\"Blue\",\"Purple\",\"Red\",\"Pink\",\"Yellow\",\"Gold\"}, G85), {\"Black\",\"White\",\"Grey\",\"Blue\",\"Silver\",\"Brown\",\"Green\",\"Blue\",\"Purple\",\"Red\",\"Pink\",\"Yellow\",\"Gold\"}), \"\")","v":""},{"$f":"IFERROR(LOOKUP(2, 1/SEARCH({\"8GB\",\"16GB\",\"32GB\",\"64GB\"}, G85), {\"8GB\",\"16GB\",\"32GB\",\"64GB\"}), \"\")","v":""},{"$f":"IFERROR(LOOKUP(2, 1/SEARCH({\"1TB\",\"2TB\",\"128GB\",\"512GB\",\"256GB\"}, G85), {\"1TB\",\"2TB\",\"128GB\",\"512GB\",\"256GB\"}), \"\")","v":""},null,{"$f":"IFERROR(LOOKUP(2, 1/SEARCH({\"16-Inch\",\"15-Inch\",\"15.6-Inch\",\"18-Inch\",\"15.3-Inch\",\"13-Inch\",\"13.4-Inch\",\"13.8-Inch\",\"14-Inch\",\"17-Inch\",\"45-Inch\",\"27-Inch\",\"34-Inch\",\"32-Inch\",\"21.5-Inch\"}, G85), {\"16-Inch\",\"15-Inch\",\"15.6-Inch\",\"18-Inch\",\"15.3-Inch\",\"13-Inch\",\"13.4-Inch\",\"13.8-Inch\",\"14-Inch\",\"17-Inch\",\"45-Inch\",\"27-Inch\",\"34-Inch\",\"32-Inch\",\"21.5-Inch\"}), \"\")","v":""}]
[null,null,null,null,null,null,null,{"$f":"IFERROR(INDEX(BrandList!$A$2:$A$50,MATCH(TRUE,ISNUMBER(SEARCH(BrandList!$A$2:$A$50,G86)),0)),\"\")","v":""},{"$f":"IFERROR(INDEX(BrandList!$B$2:$B$200,MATCH(TRUE,ISNUMBER(SEARCH(BrandList!$B$2:$B$200,G86)),0)),\"\")","v":""},null,null,null,null,null,null,"",{"$f":"IFERROR(VLOOKUP(VALUE(A86),WEEKLY_DATA!$A:$H,2,0),0)","v":0},{"$f":"IFERROR(VLOOKUP(VALUE(A86),WEEKLY_DATA!$A:$H,3,0),0)","v":0},{"$f":"IFERROR(VLOOKUP(VALUE(A86),WEEKLY_DATA!$A:$H,4,0),0)","v":0},{"$f":"IFERROR(VLOOKUP(VALUE(A86),WEEKLY_DATA!$A:$H,5,0),0)","v":0},{"$f":"IFERROR(VLOOKUP(VALUE(A86),WEEKLY_DATA!$A:$H,6,0),0)","v":0},{"$f":"IFERROR(VLOOKUP(VALUE(A86),WEEKLY_DATA!$A:$H,7,0),0)","v":0},{"$f":"IFERROR(IF(OR(Q86=\"\",Q86=0),\"\",IF(VLOOKUP(VALUE($A86),WEEKLY_DATA!$A:$H,6,0)=0,\"No Sales\",Q86/(VLOOKUP(VALUE($A86),WEEKLY_DATA!$A:$H,6,0)/13))),\"\")","v":""},{"$f":"IFERROR(VLOOKUP(VALUE(A86),WEEKLY_DATA!$A:$H,8,0),0)","v":0},"—",null,null,null,null,null,null,null,null,null,null,null,null,null,{"$f":"IFERROR(LOOKUP(2, 1/SEARCH({\"Black\",\"White\",\"Grey\",\"Blue\",\"Silver\",\"Brown\",\"Green\",\"Blue\",\"Purple\",\"Red\",\"Pink\",\"Yellow\",\"Gold\"}, G86), {\"Black\",\"White\",\"Grey\",\"Blue\",\"Silver\",\"Brown\",\"Green\",\"Blue\",\"Purple\",\"Red\",\"Pink\",\"Yellow\",\"Gold\"}), \"\")","v":""},{"$f":"IFERROR(LOOKUP(2, 1/SEARCH({\"8GB\",\"16GB\",\"32GB\",\"64GB\"}, G86), {\"8GB\",\"16GB\",\"32GB\",\"64GB\"}), \"\")","v":""},{"$f":"IFERROR(LOOKUP(2, 1/SEARCH({\"1TB\",\"2TB\",\"128GB\",\"512GB\",\"256GB\"}, G86), {\"1TB\",\"2TB\",\"128GB\",\"512GB\",\"256GB\"}), \"\")","v":""},null,{"$f":"IFERROR(LOOKUP(2, 1/SEARCH({\"16-Inch\",\"15-Inch\",\"15.6-Inch\",\"18-Inch\",\"15.3-Inch\",\"13-Inch\",\"13.4-Inch\",\"13.8-Inch\",\"14-Inch\",\"17-Inch\",\"45-Inch\",\"27-Inch\",\"34-Inch\",\"32-Inch\",\"21.5-Inch\"}, G86), {\"16-Inch\",\"15-Inch\",\"15.6-Inch\",\"18-Inch\",\"15.3-Inch\",\"13-Inch\",\"13.4-Inch\",\"13.8-Inch\",\"14-Inch\",\"17-Inch\",\"45-Inch\",\"27-Inch\",\"34-Inch\",\"32-Inch\",\"21.5-Inch\"}), \"\")","v":""}]
[null,null,null,null,null,null,null,{"$f":"IFERROR(INDEX(BrandList!$A$2:$A$50,MATCH(TRUE,ISNUMBER(SEARCH(BrandList!$A$2:$A$50,G87)),0)),\"\")","v":""},{"$f":"IFERROR(INDEX(BrandList!$B$2:$B$200,MATCH(TRUE,ISNUMBER(SEARCH(BrandList!$B$2:$B$200,G87)),0)),\"\")","v":""},null,null,null,null,null,null,"",{"$f":"IFERROR(VLOOKUP(VALUE(A87),WEEKLY_DATA!$A:$H,2,0),0)","v":0},{"$f":"IFERROR(VLOOKUP(VALUE(A87),WEEKLY_DATA!$A:$H,3,0),0)","v":0},{"$f":"IFERROR(VLOOKUP(VALUE(A87),WEEKLY_DATA!$A:$H,4,0),0)","v":0},{"$f":"IFERROR(VLOOKUP(VALUE(A87),WEEKLY_DATA!$A:$H,5,0),0)","v":0},{"$f":"IFERROR(VLOOKUP(VALUE(A87),WEEKLY_DATA!$A:$H,6,0),0)","v":0},{"$f":"IFERROR(VLOOKUP(VALUE(A87),WEEKLY_DATA!$A:$H,7,0),0)","v":0},{"$f":"IFERROR(IF(OR(Q87=\"\",Q87=0),\"\",IF(VLOOKUP(VALUE($A87),WEEKLY_DATA!$A:$H,6,0)=0,\"No Sales\",Q87/(VLOOKUP(VALUE($A87),WEEKLY_DATA!$A:$H,6,0)/13))),\"\")","v":""},{"$f":"IFERROR(VLOOKUP(VALUE(A87),WEEKLY_DATA!$A:$H,8,0),0)","v":0},"—",null,null,null,null,null,null,"—",null,null,null,"—","—",null,{"$f":"IFERROR(LOOKUP(2, 1/SEARCH({\"Black\",\"White\",\"Grey\",\"Blue\",\"Silver\",\"Brown\",\"Green\",\"Blue\",\"Purple\",\"Red\",\"Pink\",\"Yellow\",\"Gold\"}, G87), {\"Black\",\"White\",\"Grey\",\"Blue\",\"Silver\",\"Brown\",\"Green\",\"Blue\",\"Purple\",\"Red\",\"Pink\",\"Yellow\",\"Gold\"}), \"\")","v":""},{"$f":"IFERROR(LOOKUP(2, 1/SEARCH({\"8GB\",\"16GB\",\"32GB\",\"64GB\"}, G87), {\"8GB\",\"16GB\",\"32GB\",\"64GB\"}), \"\")","v":""},{"$f":"IFERROR(LOOKUP(2, 1/SEARCH({\"1TB\",\"2TB\",\"128GB\",\"512GB\",\"256GB\"}, G87), {\"1TB\",\"2TB\",\"128GB\",\"512GB\",\"256GB\"}), \"\")","v":""},null,{"$f":"IFERROR(LOOKUP(2, 1/SEARCH({\"16-Inch\",\"15-Inch\",\"15.6-Inch\",\"18-Inch\",\"15.3-Inch\",\"13-Inch\",\"13.4-Inch\",\"13.8-Inch\",\"14-Inch\",\"17-Inch\",\"45-Inch\",\"27-Inch\",\"34-Inch\",\"32-Inch\",\"21.5-Inch\"}, G87), {\"16-Inch\",\"15-Inch\",\"15.6-Inch\",\"18-Inch\",\"15.3-Inch\",\"13-Inch\",\"13.4-Inch\",\"13.8-Inch\",\"14-Inch\",\"17-Inch\",\"45-Inch\",\"27-Inch\",\"34-Inch\",\"32-Inch\",\"21.5-Inch\"}), \"\")","v":""}]
[null,null,null,null,null,null,null,{"$f":"IFERROR(INDEX(BrandList!$A$2:$A$50,MATCH(TRUE,ISNUMBER(SEARCH(BrandList!$A$2:$A$50,G88)),0)),\"\")","v":""},{"$f":"IFERROR(INDEX(BrandList!$B$2:$B$200,MATCH(TRUE,ISNUMBER(SEARCH(BrandList!$B$2:$B$200,G88)),0)),\"\")","v":""},null,null,null,null,null,null,"",{"$f":"IFERROR(VLOOKUP(VALUE(A88),WEEKLY_DATA!$A:$H,2,0),0)","v":0},{"$f":"IFERROR(VLOOKUP(VALUE(A88),WEEKLY_DATA!$A:$H,3,0),0)","v":0},{"$f":"IFERROR(VLOOKUP(VALUE(A88),WEEKLY_DATA!$A:$H,4,0),0)","v":0},{"$f":"IFERROR(VLOOKUP(VALUE(A88),WEEKLY_DATA!$A:$H,5,0),0)","v":0},{"$f":"IFERROR(VLOOKUP(VALUE(A88),WEEKLY_DATA!$A:$H,6,0),0)","v":0},{"$f":"IFERROR(VLOOKUP(VALUE(A88),WEEKLY_DATA!$A:$H,7,0),0)","v":0},{"$f":"IFERROR(IF(OR(Q88=\"\",Q88=0),\"\",IF(VLOOKUP(VALUE($A88),WEEKLY_DATA!$A:$H,6,0)=0,\"No Sales\",Q88/(VLOOKUP(VALUE($A88),WEEKLY_DATA!$A:$H,6,0)/13))),\"\")","v":""},{"$f":"IFERROR(VLOOKUP(VALUE(A88),WEEKLY_DATA!$A:$H,8,0),0)","v":0},"—",null,null,null,null,null,null,"—",null,null,null,"—","—",null,{"$f":"IFERROR(LOOKUP(2, 1/SEARCH({\"Black\",\"White\",\"Grey\",\"Blue\",\"Silver\",\"Brown\",\"Green\",\"Blue\",\"Purple\",\"Red\",\"Pink\",\"Yellow\",\"Gold\"}, G88), {\"Black\",\"White\",\"Grey\",\"Blue\",\"Silver\",\"Brown\",\"Green\",\"Blue\",\"Purple\",\"Red\",\"Pink\",\"Yellow\",\"Gold\"}), \"\")","v":""},{"$f":"IFERROR(LOOKUP(2, 1/SEARCH({\"8GB\",\"16GB\",\"32GB\",\"64GB\"}, G88), {\"8GB\",\"16GB\",\"32GB\",\"64GB\"}), \"\")","v":""},{"$f":"IFERROR(LOOKUP(2, 1/SEARCH({\"1TB\",\"2TB\",\"128GB\",\"512GB\",\"256GB\"}, G88), {\"1TB\",\"2TB\",\"128GB\",\"512GB\",\"256GB\"}), \"\")","v":""},null,{"$f":"IFERROR(LOOKUP(2, 1/SEARCH({\"16-Inch\",\"15-Inch\",\"15.6-Inch\",\"18-Inch\",\"15.3-Inch\",\"13-Inch\",\"13.4-Inch\",\"13.8-Inch\",\"14-Inch\",\"17-Inch\",\"45-Inch\",\"27-Inch\",\"34-Inch\",\"32-Inch\",\"21.5-Inch\"}, G88), {\"16-Inch\",\"15-Inch\",\"15.6-Inch\",\"18-Inch\",\"15.3-Inch\",\"13-Inch\",\"13.4-Inch\",\"13.8-Inch\",\"14-Inch\",\"17-Inch\",\"45-Inch\",\"27-Inch\",\"34-Inch\",\"32-Inch\",\"21.5-Inch\"}), \"\")","v":""}]
[null,null,null,null,null,null,null,{"$f":"IFERROR(INDEX(BrandList!$A$2:$A$50,MATCH(TRUE,ISNUMBER(SEARCH(BrandList!$A$2:$A$50,G89)),0)),\"\")","v":""},{"$f":"IFERROR(INDEX(BrandList!$B$2:$B$200,MATCH(TRUE,ISNUMBER(SEARCH(BrandList!$B$2:$B$200,G89)),0)),\"\")","v":""},null,null,null,null,null,null,"",{"$f":"IFERROR(VLOOKUP(VALUE(A89),WEEKLY_DATA!$A:$H,2,0),0)","v":0},{"$f":"IFERROR(VLOOKUP(VALUE(A89),WEEKLY_DATA!$A:$H,3,0),0)","v":0},{"$f":"IFERROR(VLOOKUP(VALUE(A89),WEEKLY_DATA!$A:$H,4,0),0)","v":0},{"$f":"IFERROR(VLOOKUP(VALUE(A89),WEEKLY_DATA!$A:$H,5,0),0)","v":0},{"$f":"IFERROR(VLOOKUP(VALUE(A89),WEEKLY_DATA!$A:$H,6,0),0)","v":0},{"$f":"IFERROR(VLOOKUP(VALUE(A89),WEEKLY_DATA!$A:$H,7,0),0)","v":0},{"$f":"IFERROR(IF(OR(Q89=\"\",Q89=0),\"\",IF(VLOOKUP(VALUE($A89),WEEKLY_DATA!$A:$H,6,0)=0,\"No Sales\",Q89/(VLOOKUP(VALUE($A89),WEEKLY_DATA!$A:$H,6,0)/13))),\"\")","v":""},{"$f":"IFERROR(VLOOKUP(VALUE(A89),WEEKLY_DATA!$A:$H,8,0),0)","v":0},"—",null,null,null,null,null,null,"—",null,null,null,"—","—",null,{"$f":"IFERROR(LOOKUP(2, 1/SEARCH({\"Black\",\"White\",\"Grey\",\"Blue\",\"Silver\",\"Brown\",\"Green\",\"Blue\",\"Purple\",\"Red\",\"Pink\",\"Yellow\",\"Gold\"}, G89), {\"Black\",\"White\",\"Grey\",\"Blue\",\"Silver\",\"Brown\",\"Green\",\"Blue\",\"Purple\",\"Red\",\"Pink\",\"Yellow\",\"Gold\"}), \"\")","v":""},{"$f":"IFERROR(LOOKUP(2, 1/SEARCH({\"8GB\",\"16GB\",\"32GB\",\"64GB\"}, G89), {\"8GB\",\"16GB\",\"32GB\",\"64GB\"}), \"\")","v":""},{"$f":"IFERROR(LOOKUP(2, 1/SEARCH({\"1TB\",\"2TB\",\"128GB\",\"512GB\",\"256GB\"}, G89), {\"1TB\",\"2TB\",\"128GB\",\"512GB\",\"256GB\"}), \"\")","v":""},null,{"$f":"IFERROR(LOOKUP(2, 1/SEARCH({\"16-Inch\",\"15-Inch\",\"15.6-Inch\",\"18-Inch\",\"15.3-Inch\",\"13-Inch\",\"13.4-Inch\",\"13.8-Inch\",\"14-Inch\",\"17-Inch\",\"45-Inch\",\"27-Inch\",\"34-Inch\",\"32-Inch\",\"21.5-Inch\"}, G89), {\"16-Inch\",\"15-Inch\",\"15.6-Inch\",\"18-Inch\",\"15.3-Inch\",\"13-Inch\",\"13.4-Inch\",\"13.8-Inch\",\"14-Inch\",\"17-Inch\",\"45-Inch\",\"27-Inch\",\"34-Inch\",\"32-Inch\",\"21.5-Inch\"}), \"\")","v":""}]
[null,null,null,null,null,null,null,{"$f":"IFERROR(INDEX(BrandList!$A$2:$A$50,MATCH(TRUE,ISNUMBER(SEARCH(BrandList!$A$2:$A$50,G90)),0)),\"\")","v":""},{"$f":"IFERROR(INDEX(BrandList!$B$2:$B$200,MATCH(TRUE,ISNUMBER(SEARCH(BrandList!$B$2:$B$200,G90)),0)),\"\")","v":""},null,null,null,null,null,null,"",{"$f":"IFERROR(VLOOKUP(VALUE(A90),WEEKLY_DATA!$A:$H,2,0),0)","v":0},{"$f":"IFERROR(VLOOKUP(VALUE(A90),WEEKLY_DATA!$A:$H,3,0),0)","v":0},{"$f":"IFERROR(VLOOKUP(VALUE(A90),WEEKLY_DATA!$A:$H,4,0),0)","v":0},{"$f":"IFERROR(VLOOKUP(VALUE(A90),WEEKLY_DATA!$A:$H,5,0),0)","v":0},{"$f":"IFERROR(VLOOKUP(VALUE(A90),WEEKLY_DATA!$A:$H,6,0),0)","v":0},{"$f":"IFERROR(VLOOKUP(VALUE(A90),WEEKLY_DATA!$A:$H,7,0),0)","v":0},{"$f":"IFERROR(IF(OR(Q90=\"\",Q90=0),\"\",IF(VLOOKUP(VALUE($A90),WEEKLY_DATA!$A:$H,6,0)=0,\"No Sales\",Q90/(VLOOKUP(VALUE($A90),WEEKLY_DATA!$A:$H,6,0)/13))),\"\")","v":""},{"$f":"IFERROR(VLOOKUP(VALUE(A90),WEEKLY_DATA!$A:$H,8,0),0)","v":0},"—",null,null,null,null,null,null,"—",null,null,null,"—","—",null,{"$f":"IFERROR(LOOKUP(2, 1/SEARCH({\"Black\",\"White\",\"Grey\",\"Blue\",\"Silver\",\"Brown\",\"Green\",\"Blue\",\"Purple\",\"Red\",\"Pink\",\"Yellow\",\"Gold\"}, G90), {\"Black\",\"White\",\"Grey\",\"Blue\",\"Silver\",\"Brown\",\"Green\",\"Blue\",\"Purple\",\"Red\",\"Pink\",\"Yellow\",\"Gold\"}), \"\")","v":""},{"$f":"IFERROR(LOOKUP(2, 1/SEARCH({\"8GB\",\"16GB\",\"32GB\",\"64GB\"}, G90), {\"8GB\",\"16GB\",\"32GB\",\"64GB\"}), \"\")","v":""},{"$f":"IFERROR(LOOKUP(2, 1/SEARCH({\"1TB\",\"2TB\",\"128GB\",\"512GB\",\"256GB\"}, G90), {\"1TB\",\"2TB\",\"128GB\",\"512GB\",\"256GB\"}), \"\")","v":""},null,{"$f":"IFERROR(LOOKUP(2, 1/SEARCH({\"16-Inch\",\"15-Inch\",\"15.6-Inch\",\"18-Inch\",\"15.3-Inch\",\"13-Inch\",\"13.4-Inch\",\"13.8-Inch\",\"14-Inch\",\"17-Inch\",\"45-Inch\",\"27-Inch\",\"34-Inch\",\"32-Inch\",\"21.5-Inch\"}, G90), {\"16-Inch\",\"15-Inch\",\"15.6-Inch\",\"18-Inch\",\"15.3-Inch\",\"13-Inch\",\"13.4-Inch\",\"13.8-Inch\",\"14-Inch\",\"17-Inch\",\"45-Inch\",\"27-Inch\",\"34-Inch\",\"32-Inch\",\"21.5-Inch\"}), \"\")","v":""}]
[null,null,null,null,null,null,null,{"$f":"IFERROR(INDEX(BrandList!$A$2:$A$50,MATCH(TRUE,ISNUMBER(SEARCH(BrandList!$A$2:$A$50,G91)),0)),\"\")","v":""},{"$f":"IFERROR(INDEX(BrandList!$B$2:$B$200,MATCH(TRUE,ISNUMBER(SEARCH(BrandList!$B$2:$B$200,G91)),0)),\"\")","v":""},null,null,null,null,null,null,"",{"$f":"IFERROR(VLOOKUP(VALUE(A91),WEEKLY_DATA!$A:$H,2,0),0)","v":0},{"$f":"IFERROR(VLOOKUP(VALUE(A91),WEEKLY_DATA!$A:$H,3,0),0)","v":0},{"$f":"IFERROR(VLOOKUP(VALUE(A91),WEEKLY_DATA!$A:$H,4,0),0)","v":0},{"$f":"IFERROR(VLOOKUP(VALUE(A91),WEEKLY_DATA!$A:$H,5,0),0)","v":0},{"$f":"IFERROR(VLOOKUP(VALUE(A91),WEEKLY_DATA!$A:$H,6,0),0)","v":0},{"$f":"IFERROR(VLOOKUP(VALUE(A91),WEEKLY_DATA!$A:$H,7,0),0)","v":0},{"$f":"IFERROR(IF(OR(Q91=\"\",Q91=0),\"\",IF(VLOOKUP(VALUE($A91),WEEKLY_DATA!$A:$H,6,0)=0,\"No Sales\",Q91/(VLOOKUP(VALUE($A91),WEEKLY_DATA!$A:$H,6,0)/13))),\"\")","v":""},{"$f":"IFERROR(VLOOKUP(VALUE(A91),WEEKLY_DATA!$A:$H,8,0),0)","v":0},"—",null,null,null,null,null,null,"—",null,null,null,"—","—",null,{"$f":"IFERROR(LOOKUP(2, 1/SEARCH({\"Black\",\"White\",\"Grey\",\"Blue\",\"Silver\",\"Brown\",\"Green\",\"Blue\",\"Purple\",\"Red\",\"Pink\",\"Yellow\",\"Gold\"}, G91), {\"Black\",\"White\",\"Grey\",\"Blue\",\"Silver\",\"Brown\",\"Green\",\"Blue\",\"Purple\",\"Red\",\"Pink\",\"Yellow\",\"Gold\"}), \"\")","v":""},{"$f":"IFERROR(LOOKUP(2, 1/SEARCH({\"8GB\",\"16GB\",\"32GB\",\"64GB\"}, G91), {\"8GB\",\"16GB\",\"32GB\",\"64GB\"}), \"\")","v":""},{"$f":"IFERROR(LOOKUP(2, 1/SEARCH({\"1TB\",\"2TB\",\"128GB\",\"512GB\",\"256GB\"}, G91), {\"1TB\",\"2TB\",\"128GB\",\"512GB\",\"256GB\"}), \"\")","v":""},null,{"$f":"IFERROR(LOOKUP(2, 1/SEARCH({\"16-Inch\",\"15-Inch\",\"15.6-Inch\",\"18-Inch\",\"15.3-Inch\",\"13-Inch\",\"13.4-Inch\",\"13.8-Inch\",\"14-Inch\",\"17-Inch\",\"45-Inch\",\"27-Inch\",\"34-Inch\",\"32-Inch\",\"21.5-Inch\"}, G91), {\"16-Inch\",\"15-Inch\",\"15.6-Inch\",\"18-Inch\",\"15.3-Inch\",\"13-Inch\",\"13.4-Inch\",\"13.8-Inch\",\"14-Inch\",\"17-Inch\",\"45-Inch\",\"27-Inch\",\"34-Inch\",\"32-Inch\",\"21.5-Inch\"}), \"\")","v":""}]
[null,null,null,null,null,null,null,{"$f":"IFERROR(INDEX(BrandList!$A$2:$A$50,MATCH(TRUE,ISNUMBER(SEARCH(BrandList!$A$2:$A$50,G92)),0)),\"\")","v":""},{"$f":"IFERROR(INDEX(BrandList!$B$2:$B$200,MATCH(TRUE,ISNUMBER(SEARCH(BrandList!$B$2:$B$200,G92)),0)),\"\")","v":""},null,null,null,null,null,null,"",{"$f":"IFERROR(VLOOKUP(VALUE(A92),WEEKLY_DATA!$A:$H,2,0),0)","v":0},{"$f":"IFERROR(VLOOKUP(VALUE(A92),WEEKLY_DATA!$A:$H,3,0),0)","v":0},{"$f":"IFERROR(VLOOKUP(VALUE(A92),WEEKLY_DATA!$A:$H,4,0),0)","v":0},{"$f":"IFERROR(VLOOKUP(VALUE(A92),WEEKLY_DATA!$A:$H,5,0),0)","v":0},{"$f":"IFERROR(VLOOKUP(VALUE(A92),WEEKLY_DATA!$A:$H,6,0),0)","v":0},{"$f":"IFERROR(VLOOKUP(VALUE(A92),WEEKLY_DATA!$A:$H,7,0),0)","v":0},{"$f":"IFERROR(IF(OR(Q92=\"\",Q92=0),\"\",IF(VLOOKUP(VALUE($A92),WEEKLY_DATA!$A:$H,6,0)=0,\"No Sales\",Q92/(VLOOKUP(VALUE($A92),WEEKLY_DATA!$A:$H,6,0)/13))),\"\")","v":""},{"$f":"IFERROR(VLOOKUP(VALUE(A92),WEEKLY_DATA!$A:$H,8,0),0)","v":0},"—",null,null,null,null,null,null,"—",null,null,null,"—","—",null,{"$f":"IFERROR(LOOKUP(2, 1/SEARCH({\"Black\",\"White\",\"Grey\",\"Blue\",\"Silver\",\"Brown\",\"Green\",\"Blue\",\"Purple\",\"Red\",\"Pink\",\"Yellow\",\"Gold\"}, G92), {\"Black\",\"White\",\"Grey\",\"Blue\",\"Silver\",\"Brown\",\"Green\",\"Blue\",\"Purple\",\"Red\",\"Pink\",\"Yellow\",\"Gold\"}), \"\")","v":""},{"$f":"IFERROR(LOOKUP(2, 1/SEARCH({\"8GB\",\"16GB\",\"32GB\",\"64GB\"}, G92), {\"8GB\",\"16GB\",\"32GB\",\"64GB\"}), \"\")","v":""},{"$f":"IFERROR(LOOKUP(2, 1/SEARCH({\"1TB\",\"2TB\",\"128GB\",\"512GB\",\"256GB\"}, G92), {\"1TB\",\"2TB\",\"128GB\",\"512GB\",\"256GB\"}), \"\")","v":""},null,{"$f":"IFERROR(LOOKUP(2, 1/SEARCH({\"16-Inch\",\"15-Inch\",\"15.6-Inch\",\"18-Inch\",\"15.3-Inch\",\"13-Inch\",\"13.4-Inch\",\"13.8-Inch\",\"14-Inch\",\"17-Inch\",\"45-Inch\",\"27-Inch\",\"34-Inch\",\"32-Inch\",\"21.5-Inch\"}, G92), {\"16-Inch\",\"15-Inch\",\"15.6-Inch\",\"18-Inch\",\"15.3-Inch\",\"13-Inch\",\"13.4-Inch\",\"13.8-Inch\",\"14-Inch\",\"17-Inch\",\"45-Inch\",\"27-Inch\",\"34-Inch\",\"32-Inch\",\"21.5-Inch\"}), \"\")","v":""}]
[null,null,null,null,null,null,null,{"$f":"IFERROR(INDEX(BrandList!$A$2:$A$50,MATCH(TRUE,ISNUMBER(SEARCH(BrandList!$A$2:$A$50,G93)),0)),\"\")","v":""},{"$f":"IFERROR(INDEX(BrandList!$B$2:$B$200,MATCH(TRUE,ISNUMBER(SEARCH(BrandList!$B$2:$B$200,G93)),0)),\"\")","v":""},null,null,null,null,null,null,"",{"$f":"IFERROR(VLOOKUP(VALUE(A93),WEEKLY_DATA!$A:$H,2,0),0)","v":0},{"$f":"IFERROR(VLOOKUP(VALUE(A93),WEEKLY_DATA!$A:$H,3,0),0)","v":0},{"$f":"IFERROR(VLOOKUP(VALUE(A93),WEEKLY_DATA!$A:$H,4,0),0)","v":0},{"$f":"IFERROR(VLOOKUP(VALUE(A93),WEEKLY_DATA!$A:$H,5,0),0)","v":0},{"$f":"IFERROR(VLOOKUP(VALUE(A93),WEEKLY_DATA!$A:$H,6,0),0)","v":0},{"$f":"IFERROR(VLOOKUP(VALUE(A93),WEEKLY_DATA!$A:$H,7,0),0)","v":0},{"$f":"IFERROR(IF(OR(Q93=\"\",Q93=0),\"\",IF(VLOOKUP(VALUE($A93),WEEKLY_DATA!$A:$H,6,0)=0,\"No Sales\",Q93/(VLOOKUP(VALUE($A93),WEEKLY_DATA!$A:$H,6,0)/13))),\"\")","v":""},{"$f":"IFERROR(VLOOKUP(VALUE(A93),WEEKLY_DATA!$A:$H,8,0),0)","v":0},"—",null,null,null,null,null,null,"—",null,null,null,"—","—",null,{"$f":"IFERROR(LOOKUP(2, 1/SEARCH({\"Black\",\"White\",\"Grey\",\"Blue\",\"Silver\",\"Brown\",\"Green\",\"Blue\",\"Purple\",\"Red\",\"Pink\",\"Yellow\",\"Gold\"}, G93), {\"Black\",\"White\",\"Grey\",\"Blue\",\"Silver\",\"Brown\",\"Green\",\"Blue\",\"Purple\",\"Red\",\"Pink\",\"Yellow\",\"Gold\"}), \"\")","v":""},{"$f":"IFERROR(LOOKUP(2, 1/SEARCH({\"8GB\",\"16GB\",\"32GB\",\"64GB\"}, G93), {\"8GB\",\"16GB\",\"32GB\",\"64GB\"}), \"\")","v":""},{"$f":"IFERROR(LOOKUP(2, 1/SEARCH({\"1TB\",\"2TB\",\"128GB\",\"512GB\",\"256GB\"}, G93), {\"1TB\",\"2TB\",\"128GB\",\"512GB\",\"256GB\"}), \"\")","v":""},null,{"$f":"IFERROR(LOOKUP(2, 1/SEARCH({\"16-Inch\",\"15-Inch\",\"15.6-Inch\",\"18-Inch\",\"15.3-Inch\",\"13-Inch\",\"13.4-Inch\",\"13.8-Inch\",\"14-Inch\",\"17-Inch\",\"45-Inch\",\"27-Inch\",\"34-Inch\",\"32-Inch\",\"21.5-Inch\"}, G93), {\"16-Inch\",\"15-Inch\",\"15.6-Inch\",\"18-Inch\",\"15.3-Inch\",\"13-Inch\",\"13.4-Inch\",\"13.8-Inch\",\"14-Inch\",\"17-Inch\",\"45-Inch\",\"27-Inch\",\"34-Inch\",\"32-Inch\",\"21.5-Inch\"}), \"\")","v":""}]
[null,null,null,null,null,null,null,{"$f":"IFERROR(INDEX(BrandList!$A$2:$A$50,MATCH(TRUE,ISNUMBER(SEARCH(BrandList!$A$2:$A$50,G94)),0)),\"\")","v":""},{"$f":"IFERROR(INDEX(BrandList!$B$2:$B$200,MATCH(TRUE,ISNUMBER(SEARCH(BrandList!$B$2:$B$200,G94)),0)),\"\")","v":""},null,null,null,null,null,null,"",{"$f":"IFERROR(VLOOKUP(VALUE(A94),WEEKLY_DATA!$A:$H,2,0),0)","v":0},{"$f":"IFERROR(VLOOKUP(VALUE(A94),WEEKLY_DATA!$A:$H,3,0),0)","v":0},{"$f":"IFERROR(VLOOKUP(VALUE(A94),WEEKLY_DATA!$A:$H,4,0),0)","v":0},{"$f":"IFERROR(VLOOKUP(VALUE(A94),WEEKLY_DATA!$A:$H,5,0),0)","v":0},{"$f":"IFERROR(VLOOKUP(VALUE(A94),WEEKLY_DATA!$A:$H,6,0),0)","v":0},{"$f":"IFERROR(VLOOKUP(VALUE(A94),WEEKLY_DATA!$A:$H,7,0),0)","v":0},{"$f":"IFERROR(IF(OR(Q94=\"\",Q94=0),\"\",IF(VLOOKUP(VALUE($A94),WEEKLY_DATA!$A:$H,6,0)=0,\"No Sales\",Q94/(VLOOKUP(VALUE($A94),WEEKLY_DATA!$A:$H,6,0)/13))),\"\")","v":""},{"$f":"IFERROR(VLOOKUP(VALUE(A94),WEEKLY_DATA!$A:$H,8,0),0)","v":0},"—",null,null,null,null,null,null,null,null,null,null,null,null,null,{"$f":"IFERROR(LOOKUP(2, 1/SEARCH({\"Black\",\"White\",\"Grey\",\"Blue\",\"Silver\",\"Brown\",\"Green\",\"Blue\",\"Purple\",\"Red\",\"Pink\",\"Yellow\",\"Gold\"}, G94), {\"Black\",\"White\",\"Grey\",\"Blue\",\"Silver\",\"Brown\",\"Green\",\"Blue\",\"Purple\",\"Red\",\"Pink\",\"Yellow\",\"Gold\"}), \"\")","v":""},{"$f":"IFERROR(LOOKUP(2, 1/SEARCH({\"8GB\",\"16GB\",\"32GB\",\"64GB\"}, G94), {\"8GB\",\"16GB\",\"32GB\",\"64GB\"}), \"\")","v":""},{"$f":"IFERROR(LOOKUP(2, 1/SEARCH({\"1TB\",\"2TB\",\"128GB\",\"512GB\",\"256GB\"}, G94), {\"1TB\",\"2TB\",\"128GB\",\"512GB\",\"256GB\"}), \"\")","v":""},null,{"$f":"IFERROR(LOOKUP(2, 1/SEARCH({\"16-Inch\",\"15-Inch\",\"15.6-Inch\",\"18-Inch\",\"15.3-Inch\",\"13-Inch\",\"13.4-Inch\",\"13.8-Inch\",\"14-Inch\",\"17-Inch\",\"45-Inch\",\"27-Inch\",\"34-Inch\",\"32-Inch\",\"21.5-Inch\"}, G94), {\"16-Inch\",\"15-Inch\",\"15.6-Inch\",\"18-Inch\",\"15.3-Inch\",\"13-Inch\",\"13.4-Inch\",\"13.8-Inch\",\"14-Inch\",\"17-Inch\",\"45-Inch\",\"27-Inch\",\"34-Inch\",\"32-Inch\",\"21.5-Inch\"}), \"\")","v":""}]
[null,null,null,null,null,null,null,{"$f":"IFERROR(INDEX(BrandList!$A$2:$A$50,MATCH(TRUE,ISNUMBER(SEARCH(BrandList!$A$2:$A$50,G95)),0)),\"\")","v":""},{"$f":"IFERROR(INDEX(BrandList!$B$2:$B$200,MATCH(TRUE,ISNUMBER(SEARCH(BrandList!$B$2:$B$200,G95)),0)),\"\")","v":""},null,null,null,null,null,null,"",{"$f":"IFERROR(VLOOKUP(VALUE(A95),WEEKLY_DATA!$A:$H,2,0),0)","v":0},{"$f":"IFERROR(VLOOKUP(VALUE(A95),WEEKLY_DATA!$A:$H,3,0),0)","v":0},{"$f":"IFERROR(VLOOKUP(VALUE(A95),WEEKLY_DATA!$A:$H,4,0),0)","v":0},{"$f":"IFERROR(VLOOKUP(VALUE(A95),WEEKLY_DATA!$A:$H,5,0),0)","v":0},{"$f":"IFERROR(VLOOKUP(VALUE(A95),WEEKLY_DATA!$A:$H,6,0),0)","v":0},{"$f":"IFERROR(VLOOKUP(VALUE(A95),WEEKLY_DATA!$A:$H,7,0),0)","v":0},{"$f":"IFERROR(IF(OR(Q95=\"\",Q95=0),\"\",IF(VLOOKUP(VALUE($A95),WEEKLY_DATA!$A:$H,6,0)=0,\"No Sales\",Q95/(VLOOKUP(VALUE($A95),WEEKLY_DATA!$A:$H,6,0)/13))),\"\")","v":""},{"$f":"IFERROR(VLOOKUP(VALUE(A95),WEEKLY_DATA!$A:$H,8,0),0)","v":0},"—",null,null,null,null,null,null,null,null,null,null,null,null,null,{"$f":"IFERROR(LOOKUP(2, 1/SEARCH({\"Black\",\"White\",\"Grey\",\"Blue\",\"Silver\",\"Brown\",\"Green\",\"Blue\",\"Purple\",\"Red\",\"Pink\",\"Yellow\",\"Gold\"}, G95), {\"Black\",\"White\",\"Grey\",\"Blue\",\"Silver\",\"Brown\",\"Green\",\"Blue\",\"Purple\",\"Red\",\"Pink\",\"Yellow\",\"Gold\"}), \"\")","v":""},{"$f":"IFERROR(LOOKUP(2, 1/SEARCH({\"8GB\",\"16GB\",\"32GB\",\"64GB\"}, G95), {\"8GB\",\"16GB\",\"32GB\",\"64GB\"}), \"\")","v":""},{"$f":"IFERROR(LOOKUP(2, 1/SEARCH({\"1TB\",\"2TB\",\"128GB\",\"512GB\",\"256GB\"}, G95), {\"1TB\",\"2TB\",\"128GB\",\"512GB\",\"256GB\"}), \"\")","v":""},null,{"$f":"IFERROR(LOOKUP(2, 1/SEARCH({\"16-Inch\",\"15-Inch\",\"15.6-Inch\",\"18-Inch\",\"15.3-Inch\",\"13-Inch\",\"13.4-Inch\",\"13.8-Inch\",\"14-Inch\",\"17-Inch\",\"45-Inch\",\"27-Inch\",\"34-Inch\",\"32-Inch\",\"21.5-Inch\"}, G95), {\"16-Inch\",\"15-Inch\",\"15.6-Inch\",\"18-Inch\",\"15.3-Inch\",\"13-Inch\",\"13.4-Inch\",\"13.8-Inch\",\"14-Inch\",\"17-Inch\",\"45-Inch\",\"27-Inch\",\"34-Inch\",\"32-Inch\",\"21.5-Inch\"}), \"\")","v":""}]
[null,null,null,null,null,null,null,{"$f":"IFERROR(INDEX(BrandList!$A$2:$A$50,MATCH(TRUE,ISNUMBER(SEARCH(BrandList!$A$2:$A$50,G96)),0)),\"\")","v":""},{"$f":"IFERROR(INDEX(BrandList!$B$2:$B$200,MATCH(TRUE,ISNUMBER(SEARCH(BrandList!$B$2:$B$200,G96)),0)),\"\")","v":""},null,null,null,null,null,null,"",{"$f":"IFERROR(VLOOKUP(VALUE(A96),WEEKLY_DATA!$A:$H,2,0),0)","v":0},{"$f":"IFERROR(VLOOKUP(VALUE(A96),WEEKLY_DATA!$A:$H,3,0),0)","v":0},{"$f":"IFERROR(VLOOKUP(VALUE(A96),WEEKLY_DATA!$A:$H,4,0),0)","v":0},{"$f":"IFERROR(VLOOKUP(VALUE(A96),WEEKLY_DATA!$A:$H,5,0),0)","v":0},{"$f":"IFERROR(VLOOKUP(VALUE(A96),WEEKLY_DATA!$A:$H,6,0),0)","v":0},{"$f":"IFERROR(VLOOKUP(VALUE(A96),WEEKLY_DATA!$A:$H,7,0),0)","v":0},{"$f":"IFERROR(IF(OR(Q96=\"\",Q96=0),\"\",IF(VLOOKUP(VALUE($A96),WEEKLY_DATA!$A:$H,6,0)=0,\"No Sales\",Q96/(VLOOKUP(VALUE($A96),WEEKLY_DATA!$A:$H,6,0)/13))),\"\")","v":""},{"$f":"IFERROR(VLOOKUP(VALUE(A96),WEEKLY_DATA!$A:$H,8,0),0)","v":0},"—",null,null,null,null,null,null,null,null,null,null,null,null,null,{"$f":"IFERROR(LOOKUP(2, 1/SEARCH({\"Black\",\"White\",\"Grey\",\"Blue\",\"Silver\",\"Brown\",\"Green\",\"Blue\",\"Purple\",\"Red\",\"Pink\",\"Yellow\",\"Gold\"}, G96), {\"Black\",\"White\",\"Grey\",\"Blue\",\"Silver\",\"Brown\",\"Green\",\"Blue\",\"Purple\",\"Red\",\"Pink\",\"Yellow\",\"Gold\"}), \"\")","v":""},{"$f":"IFERROR(LOOKUP(2, 1/SEARCH({\"8GB\",\"16GB\",\"32GB\",\"64GB\"}, G96), {\"8GB\",\"16GB\",\"32GB\",\"64GB\"}), \"\")","v":""},{"$f":"IFERROR(LOOKUP(2, 1/SEARCH({\"1TB\",\"2TB\",\"128GB\",\"512GB\",\"256GB\"}, G96), {\"1TB\",\"2TB\",\"128GB\",\"512GB\",\"256GB\"}), \"\")","v":""},null,{"$f":"IFERROR(LOOKUP(2, 1/SEARCH({\"16-Inch\",\"15-Inch\",\"15.6-Inch\",\"18-Inch\",\"15.3-Inch\",\"13-Inch\",\"13.4-Inch\",\"13.8-Inch\",\"14-Inch\",\"17-Inch\",\"45-Inch\",\"27-Inch\",\"34-Inch\",\"32-Inch\",\"21.5-Inch\"}, G96), {\"16-Inch\",\"15-Inch\",\"15.6-Inch\",\"18-Inch\",\"15.3-Inch\",\"13-Inch\",\"13.4-Inch\",\"13.8-Inch\",\"14-Inch\",\"17-Inch\",\"45-Inch\",\"27-Inch\",\"34-Inch\",\"32-Inch\",\"21.5-Inch\"}), \"\")","v":""}]
[null,null,null,null,null,null,null,{"$f":"IFERROR(INDEX(BrandList!$A$2:$A$50,MATCH(TRUE,ISNUMBER(SEARCH(BrandList!$A$2:$A$50,G97)),0)),\"\")","v":""},{"$f":"IFERROR(INDEX(BrandList!$B$2:$B$200,MATCH(TRUE,ISNUMBER(SEARCH(BrandList!$B$2:$B$200,G97)),0)),\"\")","v":""},null,null,null,null,null,null,"",{"$f":"IFERROR(VLOOKUP(VALUE(A97),WEEKLY_DATA!$A:$H,2,0),0)","v":0},{"$f":"IFERROR(VLOOKUP(VALUE(A97),WEEKLY_DATA!$A:$H,3,0),0)","v":0},{"$f":"IFERROR(VLOOKUP(VALUE(A97),WEEKLY_DATA!$A:$H,4,0),0)","v":0},{"$f":"IFERROR(VLOOKUP(VALUE(A97),WEEKLY_DATA!$A:$H,5,0),0)","v":0},{"$f":"IFERROR(VLOOKUP(VALUE(A97),WEEKLY_DATA!$A:$H,6,0),0)","v":0},{"$f":"IFERROR(VLOOKUP(VALUE(A97),WEEKLY_DATA!$A:$H,7,0),0)","v":0},{"$f":"IFERROR(IF(OR(Q97=\"\",Q97=0),\"\",IF(VLOOKUP(VALUE($A97),WEEKLY_DATA!$A:$H,6,0)=0,\"No Sales\",Q97/(VLOOKUP(VALUE($A97),WEEKLY_DATA!$A:$H,6,0)/13))),\"\")","v":""},{"$f":"IFERROR(VLOOKUP(VALUE(A97),WEEKLY_DATA!$A:$H,8,0),0)","v":0},"—",null,null,null,null,null,null,"—",null,null,null,"—","—",null,{"$f":"IFERROR(LOOKUP(2, 1/SEARCH({\"Black\",\"White\",\"Grey\",\"Blue\",\"Silver\",\"Brown\",\"Green\",\"Blue\",\"Purple\",\"Red\",\"Pink\",\"Yellow\",\"Gold\"}, G97), {\"Black\",\"White\",\"Grey\",\"Blue\",\"Silver\",\"Brown\",\"Green\",\"Blue\",\"Purple\",\"Red\",\"Pink\",\"Yellow\",\"Gold\"}), \"\")","v":""},{"$f":"IFERROR(LOOKUP(2, 1/SEARCH({\"8GB\",\"16GB\",\"32GB\",\"64GB\"}, G97), {\"8GB\",\"16GB\",\"32GB\",\"64GB\"}), \"\")","v":""},{"$f":"IFERROR(LOOKUP(2, 1/SEARCH({\"1TB\",\"2TB\",\"128GB\",\"512GB\",\"256GB\"}, G97), {\"1TB\",\"2TB\",\"128GB\",\"512GB\",\"256GB\"}), \"\")","v":""},null,{"$f":"IFERROR(LOOKUP(2, 1/SEARCH({\"16-Inch\",\"15-Inch\",\"15.6-Inch\",\"18-Inch\",\"15.3-Inch\",\"13-Inch\",\"13.4-Inch\",\"13.8-Inch\",\"14-Inch\",\"17-Inch\",\"45-Inch\",\"27-Inch\",\"34-Inch\",\"32-Inch\",\"21.5-Inch\"}, G97), {\"16-Inch\",\"15-Inch\",\"15.6-Inch\",\"18-Inch\",\"15.3-Inch\",\"13-Inch\",\"13.4-Inch\",\"13.8-Inch\",\"14-Inch\",\"17-Inch\",\"45-Inch\",\"27-Inch\",\"34-Inch\",\"32-Inch\",\"21.5-Inch\"}), \"\")","v":""}]
[null,null,null,null,null,null,null,{"$f":"IFERROR(INDEX(BrandList!$A$2:$A$50,MATCH(TRUE,ISNUMBER(SEARCH(BrandList!$A$2:$A$50,G98)),0)),\"\")","v":""},{"$f":"IFERROR(INDEX(BrandList!$B$2:$B$200,MATCH(TRUE,ISNUMBER(SEARCH(BrandList!$B$2:$B$200,G98)),0)),\"\")","v":""},null,null,null,null,null,null,"",{"$f":"IFERROR(VLOOKUP(VALUE(A98),WEEKLY_DATA!$A:$H,2,0),0)","v":0},{"$f":"IFERROR(VLOOKUP(VALUE(A98),WEEKLY_DATA!$A:$H,3,0),0)","v":0},{"$f":"IFERROR(VLOOKUP(VALUE(A98),WEEKLY_DATA!$A:$H,4,0),0)","v":0},{"$f":"IFERROR(VLOOKUP(VALUE(A98),WEEKLY_DATA!$A:$H,5,0),0)","v":0},{"$f":"IFERROR(VLOOKUP(VALUE(A98),WEEKLY_DATA!$A:$H,6,0),0)","v":0},{"$f":"IFERROR(VLOOKUP(VALUE(A98),WEEKLY_DATA!$A:$H,7,0),0)","v":0},{"$f":"IFERROR(IF(OR(Q98=\"\",Q98=0),\"\",IF(VLOOKUP(VALUE($A98),WEEKLY_DATA!$A:$H,6,0)=0,\"No Sales\",Q98/(VLOOKUP(VALUE($A98),WEEKLY_DATA!$A:$H,6,0)/13))),\"\")","v":""},{"$f":"IFERROR(VLOOKUP(VALUE(A98),WEEKLY_DATA!$A:$H,8,0),0)","v":0},"—",null,null,null,null,null,null,"—",null,null,null,"—","—",null,{"$f":"IFERROR(LOOKUP(2, 1/SEARCH({\"Black\",\"White\",\"Grey\",\"Blue\",\"Silver\",\"Brown\",\"Green\",\"Blue\",\"Purple\",\"Red\",\"Pink\",\"Yellow\",\"Gold\"}, G98), {\"Black\",\"White\",\"Grey\",\"Blue\",\"Silver\",\"Brown\",\"Green\",\"Blue\",\"Purple\",\"Red\",\"Pink\",\"Yellow\",\"Gold\"}), \"\")","v":""},{"$f":"IFERROR(LOOKUP(2, 1/SEARCH({\"8GB\",\"16GB\",\"32GB\",\"64GB\"}, G98), {\"8GB\",\"16GB\",\"32GB\",\"64GB\"}), \"\")","v":""},{"$f":"IFERROR(LOOKUP(2, 1/SEARCH({\"1TB\",\"2TB\",\"128GB\",\"512GB\",\"256GB\"}, G98), {\"1TB\",\"2TB\",\"128GB\",\"512GB\",\"256GB\"}), \"\")","v":""},null,{"$f":"IFERROR(LOOKUP(2, 1/SEARCH({\"16-Inch\",\"15-Inch\",\"15.6-Inch\",\"18-Inch\",\"15.3-Inch\",\"13-Inch\",\"13.4-Inch\",\"13.8-Inch\",\"14-Inch\",\"17-Inch\",\"45-Inch\",\"27-Inch\",\"34-Inch\",\"32-Inch\",\"21.5-Inch\"}, G98), {\"16-Inch\",\"15-Inch\",\"15.6-Inch\",\"18-Inch\",\"15.3-Inch\",\"13-Inch\",\"13.4-Inch\",\"13.8-Inch\",\"14-Inch\",\"17-Inch\",\"45-Inch\",\"27-Inch\",\"34-Inch\",\"32-Inch\",\"21.5-Inch\"}), \"\")","v":""}]
[null,null,null,null,null,null,null,{"$f":"IFERROR(INDEX(BrandList!$A$2:$A$50,MATCH(TRUE,ISNUMBER(SEARCH(BrandList!$A$2:$A$50,G99)),0)),\"\")","v":""},{"$f":"IFERROR(INDEX(BrandList!$B$2:$B$200,MATCH(TRUE,ISNUMBER(SEARCH(BrandList!$B$2:$B$200,G99)),0)),\"\")","v":""},null,null,null,null,null,null,"",{"$f":"IFERROR(VLOOKUP(VALUE(A99),WEEKLY_DATA!$A:$H,2,0),0)","v":0},{"$f":"IFERROR(VLOOKUP(VALUE(A99),WEEKLY_DATA!$A:$H,3,0),0)","v":0},{"$f":"IFERROR(VLOOKUP(VALUE(A99),WEEKLY_DATA!$A:$H,4,0),0)","v":0},{"$f":"IFERROR(VLOOKUP(VALUE(A99),WEEKLY_DATA!$A:$H,5,0),0)","v":0},{"$f":"IFERROR(VLOOKUP(VALUE(A99),WEEKLY_DATA!$A:$H,6,0),0)","v":0},{"$f":"IFERROR(VLOOKUP(VALUE(A99),WEEKLY_DATA!$A:$H,7,0),0)","v":0},{"$f":"IFERROR(IF(OR(Q99=\"\",Q99=0),\"\",IF(VLOOKUP(VALUE($A99),WEEKLY_DATA!$A:$H,6,0)=0,\"No Sales\",Q99/(VLOOKUP(VALUE($A99),WEEKLY_DATA!$A:$H,6,0)/13))),\"\")","v":""},{"$f":"IFERROR(VLOOKUP(VALUE(A99),WEEKLY_DATA!$A:$H,8,0),0)","v":0},"—",null,null,null,null,null,null,"—",null,null,null,"—","—",null,{"$f":"IFERROR(LOOKUP(2, 1/SEARCH({\"Black\",\"White\",\"Grey\",\"Blue\",\"Silver\",\"Brown\",\"Green\",\"Blue\",\"Purple\",\"Red\",\"Pink\",\"Yellow\",\"Gold\"}, G99), {\"Black\",\"White\",\"Grey\",\"Blue\",\"Silver\",\"Brown\",\"Green\",\"Blue\",\"Purple\",\"Red\",\"Pink\",\"Yellow\",\"Gold\"}), \"\")","v":""},{"$f":"IFERROR(LOOKUP(2, 1/SEARCH({\"8GB\",\"16GB\",\"32GB\",\"64GB\"}, G99), {\"8GB\",\"16GB\",\"32GB\",\"64GB\"}), \"\")","v":""},{"$f":"IFERROR(LOOKUP(2, 1/SEARCH({\"1TB\",\"2TB\",\"128GB\",\"512GB\",\"256GB\"}, G99), {\"1TB\",\"2TB\",\"128GB\",\"512GB\",\"256GB\"}), \"\")","v":""},null,{"$f":"IFERROR(LOOKUP(2, 1/SEARCH({\"16-Inch\",\"15-Inch\",\"15.6-Inch\",\"18-Inch\",\"15.3-Inch\",\"13-Inch\",\"13.4-Inch\",\"13.8-Inch\",\"14-Inch\",\"17-Inch\",\"45-Inch\",\"27-Inch\",\"34-Inch\",\"32-Inch\",\"21.5-Inch\"}, G99), {\"16-Inch\",\"15-Inch\",\"15.6-Inch\",\"18-Inch\",\"15.3-Inch\",\"13-Inch\",\"13.4-Inch\",\"13.8-Inch\",\"14-Inch\",\"17-Inch\",\"45-Inch\",\"27-Inch\",\"34-Inch\",\"32-Inch\",\"21.5-Inch\"}), \"\")","v":""}]
[null,null,null,null,null,null,null,{"$f":"IFERROR(INDEX(BrandList!$A$2:$A$50,MATCH(TRUE,ISNUMBER(SEARCH(BrandList!$A$2:$A$50,G100)),0)),\"\")","v":""},{"$f":"IFERROR(INDEX(BrandList!$B$2:$B$200,MATCH(TRUE,ISNUMBER(SEARCH(BrandList!$B$2:$B$200,G100)),0)),\"\")","v":""},null,null,null,null,null,null,"",{"$f":"IFERROR(VLOOKUP(VALUE(A100),WEEKLY_DATA!$A:$H,2,0),0)","v":0},{"$f":"IFERROR(VLOOKUP(VALUE(A100),WEEKLY_DATA!$A:$H,3,0),0)","v":0},{"$f":"IFERROR(VLOOKUP(VALUE(A100),WEEKLY_DATA!$A:$H,4,0),0)","v":0},{"$f":"IFERROR(VLOOKUP(VALUE(A100),WEEKLY_DATA!$A:$H,5,0),0)","v":0},{"$f":"IFERROR(VLOOKUP(VALUE(A100),WEEKLY_DATA!$A:$H,6,0),0)","v":0},{"$f":"IFERROR(VLOOKUP(VALUE(A100),WEEKLY_DATA!$A:$H,7,0),0)","v":0},{"$f":"IFERROR(IF(OR(Q100=\"\",Q100=0),\"\",IF(VLOOKUP(VALUE($A100),WEEKLY_DATA!$A:$H,6,0)=0,\"No Sales\",Q100/(VLOOKUP(VALUE($A100),WEEKLY_DATA!$A:$H,6,0)/13))),\"\")","v":""},{"$f":"IFERROR(VLOOKUP(VALUE(A100),WEEKLY_DATA!$A:$H,8,0),0)","v":0},"—",null,null,null,null,null,null,"—",null,null,null,"—","—",null,{"$f":"IFERROR(LOOKUP(2, 1/SEARCH({\"Black\",\"White\",\"Grey\",\"Blue\",\"Silver\",\"Brown\",\"Green\",\"Blue\",\"Purple\",\"Red\",\"Pink\",\"Yellow\",\"Gold\"}, G100), {\"Black\",\"White\",\"Grey\",\"Blue\",\"Silver\",\"Brown\",\"Green\",\"Blue\",\"Purple\",\"Red\",\"Pink\",\"Yellow\",\"Gold\"}), \"\")","v":""},{"$f":"IFERROR(LOOKUP(2, 1/SEARCH({\"8GB\",\"16GB\",\"32GB\",\"64GB\"}, G100), {\"8GB\",\"16GB\",\"32GB\",\"64GB\"}), \"\")","v":""},{"$f":"IFERROR(LOOKUP(2, 1/SEARCH({\"1TB\",\"2TB\",\"128GB\",\"512GB\",\"256GB\"}, G100), {\"1TB\",\"2TB\",\"128GB\",\"512GB\",\"256GB\"}), \"\")","v":""},null,{"$f":"IFERROR(LOOKUP(2, 1/SEARCH({\"16-Inch\",\"15-Inch\",\"15.6-Inch\",\"18-Inch\",\"15.3-Inch\",\"13-Inch\",\"13.4-Inch\",\"13.8-Inch\",\"14-Inch\",\"17-Inch\",\"45-Inch\",\"27-Inch\",\"34-Inch\",\"32-Inch\",\"21.5-Inch\"}, G100), {\"16-Inch\",\"15-Inch\",\"15.6-Inch\",\"18-Inch\",\"15.3-Inch\",\"13-Inch\",\"13.4-Inch\",\"13.8-Inch\",\"14-Inch\",\"17-Inch\",\"45-Inch\",\"27-Inch\",\"34-Inch\",\"32-Inch\",\"21.5-Inch\"}), \"\")","v":""}]
[null,null,null,null,null,null,null,{"$f":"IFERROR(INDEX(BrandList!$A$2:$A$50,MATCH(TRUE,ISNUMBER(SEARCH(BrandList!$A$2:$A$50,G101)),0)),\"\")","v":""},{"$f":"IFERROR(INDEX(BrandList!$B$2:$B$200,MATCH(TRUE,ISNUMBER(SEARCH(BrandList!$B$2:$B$200,G101)),0)),\"\")","v":""},null,null,null,null,null,null,"",{"$f":"IFERROR(VLOOKUP(VALUE(A101),WEEKLY_DATA!$A:$H,2,0),0)","v":0},{"$f":"IFERROR(VLOOKUP(VALUE(A101),WEEKLY_DATA!$A:$H,3,0),0)","v":0},{"$f":"IFERROR(VLOOKUP(VALUE(A101),WEEKLY_DATA!$A:$H,4,0),0)","v":0},{"$f":"IFERROR(VLOOKUP(VALUE(A101),WEEKLY_DATA!$A:$H,5,0),0)","v":0},{"$f":"IFERROR(VLOOKUP(VALUE(A101),WEEKLY_DATA!$A:$H,6,0),0)","v":0},{"$f":"IFERROR(VLOOKUP(VALUE(A101),WEEKLY_DATA!$A:$H,7,0),0)","v":0},{"$f":"IFERROR(IF(OR(Q101=\"\",Q101=0),\"\",IF(VLOOKUP(VALUE($A101),WEEKLY_DATA!$A:$H,6,0)=0,\"No Sales\",Q101/(VLOOKUP(VALUE($A101),WEEKLY_DATA!$A:$H,6,0)/13))),\"\")","v":""},{"$f":"IFERROR(VLOOKUP(VALUE(A101),WEEKLY_DATA!$A:$H,8,0),0)","v":0},"—",null,null,null,null,null,null,"—",null,null,null,"—","—",null,{"$f":"IFERROR(LOOKUP(2, 1/SEARCH({\"Black\",\"White\",\"Grey\",\"Blue\",\"Silver\",\"Brown\",\"Green\",\"Blue\",\"Purple\",\"Red\",\"Pink\",\"Yellow\",\"Gold\"}, G101), {\"Black\",\"White\",\"Grey\",\"Blue\",\"Silver\",\"Brown\",\"Green\",\"Blue\",\"Purple\",\"Red\",\"Pink\",\"Yellow\",\"Gold\"}), \"\")","v":""},{"$f":"IFERROR(LOOKUP(2, 1/SEARCH({\"8GB\",\"16GB\",\"32GB\",\"64GB\"}, G101), {\"8GB\",\"16GB\",\"32GB\",\"64GB\"}), \"\")","v":""},{"$f":"IFERROR(LOOKUP(2, 1/SEARCH({\"1TB\",\"2TB\",\"128GB\",\"512GB\",\"256GB\"}, G101), {\"1TB\",\"2TB\",\"128GB\",\"512GB\",\"256GB\"}), \"\")","v":""},null,{"$f":"IFERROR(LOOKUP(2, 1/SEARCH({\"16-Inch\",\"15-Inch\",\"15.6-Inch\",\"18-Inch\",\"15.3-Inch\",\"13-Inch\",\"13.4-Inch\",\"13.8-Inch\",\"14-Inch\",\"17-Inch\",\"45-Inch\",\"27-Inch\",\"34-Inch\",\"32-Inch\",\"21.5-Inch\"}, G101), {\"16-Inch\",\"15-Inch\",\"15.6-Inch\",\"18-Inch\",\"15.3-Inch\",\"13-Inch\",\"13.4-Inch\",\"13.8-Inch\",\"14-Inch\",\"17-Inch\",\"45-Inch\",\"27-Inch\",\"34-Inch\",\"32-Inch\",\"21.5-Inch\"}), \"\")","v":""}]
[null,null,null,null,null,null,null,{"$f":"IFERROR(INDEX(BrandList!$A$2:$A$50,MATCH(TRUE,ISNUMBER(SEARCH(BrandList!$A$2:$A$50,G102)),0)),\"\")","v":""},{"$f":"IFERROR(INDEX(BrandList!$B$2:$B$200,MATCH(TRUE,ISNUMBER(SEARCH(BrandList!$B$2:$B$200,G102)),0)),\"\")","v":""},null,null,null,null,null,null,"",{"$f":"IFERROR(VLOOKUP(VALUE(A102),WEEKLY_DATA!$A:$H,2,0),0)","v":0},{"$f":"IFERROR(VLOOKUP(VALUE(A102),WEEKLY_DATA!$A:$H,3,0),0)","v":0},{"$f":"IFERROR(VLOOKUP(VALUE(A102),WEEKLY_DATA!$A:$H,4,0),0)","v":0},{"$f":"IFERROR(VLOOKUP(VALUE(A102),WEEKLY_DATA!$A:$H,5,0),0)","v":0},{"$f":"IFERROR(VLOOKUP(VALUE(A102),WEEKLY_DATA!$A:$H,6,0),0)","v":0},{"$f":"IFERROR(VLOOKUP(VALUE(A102),WEEKLY_DATA!$A:$H,7,0),0)","v":0},{"$f":"IFERROR(IF(OR(Q102=\"\",Q102=0),\"\",IF(VLOOKUP(VALUE($A102),WEEKLY_DATA!$A:$H,6,0)=0,\"No Sales\",Q102/(VLOOKUP(VALUE($A102),WEEKLY_DATA!$A:$H,6,0)/13))),\"\")","v":""},{"$f":"IFERROR(VLOOKUP(VALUE(A102),WEEKLY_DATA!$A:$H,8,0),0)","v":0},"—",null,null,null,null,null,null,"—",null,null,null,"—","—",null,{"$f":"IFERROR(LOOKUP(2, 1/SEARCH({\"Black\",\"White\",\"Grey\",\"Blue\",\"Silver\",\"Brown\",\"Green\",\"Blue\",\"Purple\",\"Red\",\"Pink\",\"Yellow\",\"Gold\"}, G102), {\"Black\",\"White\",\"Grey\",\"Blue\",\"Silver\",\"Brown\",\"Green\",\"Blue\",\"Purple\",\"Red\",\"Pink\",\"Yellow\",\"Gold\"}), \"\")","v":""},{"$f":"IFERROR(LOOKUP(2, 1/SEARCH({\"8GB\",\"16GB\",\"32GB\",\"64GB\"}, G102), {\"8GB\",\"16GB\",\"32GB\",\"64GB\"}), \"\")","v":""},{"$f":"IFERROR(LOOKUP(2, 1/SEARCH({\"1TB\",\"2TB\",\"128GB\",\"512GB\",\"256GB\"}, G102), {\"1TB\",\"2TB\",\"128GB\",\"512GB\",\"256GB\"}), \"\")","v":""},null,{"$f":"IFERROR(LOOKUP(2, 1/SEARCH({\"16-Inch\",\"15-Inch\",\"15.6-Inch\",\"18-Inch\",\"15.3-Inch\",\"13-Inch\",\"13.4-Inch\",\"13.8-Inch\",\"14-Inch\",\"17-Inch\",\"45-Inch\",\"27-Inch\",\"34-Inch\",\"32-Inch\",\"21.5-Inch\"}, G102), {\"16-Inch\",\"15-Inch\",\"15.6-Inch\",\"18-Inch\",\"15.3-Inch\",\"13-Inch\",\"13.4-Inch\",\"13.8-Inch\",\"14-Inch\",\"17-Inch\",\"45-Inch\",\"27-Inch\",\"34-Inch\",\"32-Inch\",\"21.5-Inch\"}), \"\")","v":""}]
[null,null,null,null,null,null,null,{"$f":"IFERROR(INDEX(BrandList!$A$2:$A$50,MATCH(TRUE,ISNUMBER(SEARCH(BrandList!$A$2:$A$50,G103)),0)),\"\")","v":""},{"$f":"IFERROR(INDEX(BrandList!$B$2:$B$200,MATCH(TRUE,ISNUMBER(SEARCH(BrandList!$B$2:$B$200,G103)),0)),\"\")","v":""},null,null,null,null,null,null,"",{"$f":"IFERROR(VLOOKUP(VALUE(A103),WEEKLY_DATA!$A:$H,2,0),0)","v":0},{"$f":"IFERROR(VLOOKUP(VALUE(A103),WEEKLY_DATA!$A:$H,3,0),0)","v":0},{"$f":"IFERROR(VLOOKUP(VALUE(A103),WEEKLY_DATA!$A:$H,4,0),0)","v":0},{"$f":"IFERROR(VLOOKUP(VALUE(A103),WEEKLY_DATA!$A:$H,5,0),0)","v":0},{"$f":"IFERROR(VLOOKUP(VALUE(A103),WEEKLY_DATA!$A:$H,6,0),0)","v":0},{"$f":"IFERROR(VLOOKUP(VALUE(A103),WEEKLY_DATA!$A:$H,7,0),0)","v":0},{"$f":"IFERROR(IF(OR(Q103=\"\",Q103=0),\"\",IF(VLOOKUP(VALUE($A103),WEEKLY_DATA!$A:$H,6,0)=0,\"No Sales\",Q103/(VLOOKUP(VALUE($A103),WEEKLY_DATA!$A:$H,6,0)/13))),\"\")","v":""},{"$f":"IFERROR(VLOOKUP(VALUE(A103),WEEKLY_DATA!$A:$H,8,0),0)","v":0},"—",null,null,null,null,null,null,"—",null,null,null,"—","—",null,{"$f":"IFERROR(LOOKUP(2, 1/SEARCH({\"Black\",\"White\",\"Grey\",\"Blue\",\"Silver\",\"Brown\",\"Green\",\"Blue\",\"Purple\",\"Red\",\"Pink\",\"Yellow\",\"Gold\"}, G103), {\"Black\",\"White\",\"Grey\",\"Blue\",\"Silver\",\"Brown\",\"Green\",\"Blue\",\"Purple\",\"Red\",\"Pink\",\"Yellow\",\"Gold\"}), \"\")","v":""},{"$f":"IFERROR(LOOKUP(2, 1/SEARCH({\"8GB\",\"16GB\",\"32GB\",\"64GB\"}, G103), {\"8GB\",\"16GB\",\"32GB\",\"64GB\"}), \"\")","v":""},{"$f":"IFERROR(LOOKUP(2, 1/SEARCH({\"1TB\",\"2TB\",\"128GB\",\"512GB\",\"256GB\"}, G103), {\"1TB\",\"2TB\",\"128GB\",\"512GB\",\"256GB\"}), \"\")","v":""},null,{"$f":"IFERROR(LOOKUP(2, 1/SEARCH({\"16-Inch\",\"15-Inch\",\"15.6-Inch\",\"18-Inch\",\"15.3-Inch\",\"13-Inch\",\"13.4-Inch\",\"13.8-Inch\",\"14-Inch\",\"17-Inch\",\"45-Inch\",\"27-Inch\",\"34-Inch\",\"32-Inch\",\"21.5-Inch\"}, G103), {\"16-Inch\",\"15-Inch\",\"15.6-Inch\",\"18-Inch\",\"15.3-Inch\",\"13-Inch\",\"13.4-Inch\",\"13.8-Inch\",\"14-Inch\",\"17-Inch\",\"45-Inch\",\"27-Inch\",\"34-Inch\",\"32-Inch\",\"21.5-Inch\"}), \"\")","v":""}]
[null,null,null,null,null,null,null,{"$f":"IFERROR(INDEX(BrandList!$A$2:$A$50,MATCH(TRUE,ISNUMBER(SEARCH(BrandList!$A$2:$A$50,G104)),0)),\"\")","v":""},{"$f":"IFERROR(INDEX(BrandList!$B$2:$B$200,MATCH(TRUE,ISNUMBER(SEARCH(BrandList!$B$2:$B$200,G104)),0)),\"\")","v":""},null,null,null,null,null,null,"",{"$f":"IFERROR(VLOOKUP(VALUE(A104),WEEKLY_DATA!$A:$H,2,0),0)","v":0},{"$f":"IFERROR(VLOOKUP(VALUE(A104),WEEKLY_DATA!$A:$H,3,0),0)","v":0},{"$f":"IFERROR(VLOOKUP(VALUE(A104),WEEKLY_DATA!$A:$H,4,0),0)","v":0},{"$f":"IFERROR(VLOOKUP(VALUE(A104),WEEKLY_DATA!$A:$H,5,0),0)","v":0},{"$f":"IFERROR(VLOOKUP(VALUE(A104),WEEKLY_DATA!$A:$H,6,0),0)","v":0},{"$f":"IFERROR(VLOOKUP(VALUE(A104),WEEKLY_DATA!$A:$H,7,0),0)","v":0},{"$f":"IFERROR(IF(OR(Q104=\"\",Q104=0),\"\",IF(VLOOKUP(VALUE($A104),WEEKLY_DATA!$A:$H,6,0)=0,\"No Sales\",Q104/(VLOOKUP(VALUE($A104),WEEKLY_DATA!$A:$H,6,0)/13))),\"\")","v":""},{"$f":"IFERROR(VLOOKUP(VALUE(A104),WEEKLY_DATA!$A:$H,8,0),0)","v":0},"—",null,null,null,null,null,null,"—",null,null,null,"—","—",null,{"$f":"IFERROR(LOOKUP(2, 1/SEARCH({\"Black\",\"White\",\"Grey\",\"Blue\",\"Silver\",\"Brown\",\"Green\",\"Blue\",\"Purple\",\"Red\",\"Pink\",\"Yellow\",\"Gold\"}, G104), {\"Black\",\"White\",\"Grey\",\"Blue\",\"Silver\",\"Brown\",\"Green\",\"Blue\",\"Purple\",\"Red\",\"Pink\",\"Yellow\",\"Gold\"}), \"\")","v":""},{"$f":"IFERROR(LOOKUP(2, 1/SEARCH({\"8GB\",\"16GB\",\"32GB\",\"64GB\"}, G104), {\"8GB\",\"16GB\",\"32GB\",\"64GB\"}), \"\")","v":""},{"$f":"IFERROR(LOOKUP(2, 1/SEARCH({\"1TB\",\"2TB\",\"128GB\",\"512GB\",\"256GB\"}, G104), {\"1TB\",\"2TB\",\"128GB\",\"512GB\",\"256GB\"}), \"\")","v":""},null,{"$f":"IFERROR(LOOKUP(2, 1/SEARCH({\"16-Inch\",\"15-Inch\",\"15.6-Inch\",\"18-Inch\",\"15.3-Inch\",\"13-Inch\",\"13.4-Inch\",\"13.8-Inch\",\"14-Inch\",\"17-Inch\",\"45-Inch\",\"27-Inch\",\"34-Inch\",\"32-Inch\",\"21.5-Inch\"}, G104), {\"16-Inch\",\"15-Inch\",\"15.6-Inch\",\"18-Inch\",\"15.3-Inch\",\"13-Inch\",\"13.4-Inch\",\"13.8-Inch\",\"14-Inch\",\"17-Inch\",\"45-Inch\",\"27-Inch\",\"34-Inch\",\"32-Inch\",\"21.5-Inch\"}), \"\")","v":""}]
[null,null,null,null,null,null,null,{"$f":"IFERROR(INDEX(BrandList!$A$2:$A$50,MATCH(TRUE,ISNUMBER(SEARCH(BrandList!$A$2:$A$50,G105)),0)),\"\")","v":""},{"$f":"IFERROR(INDEX(BrandList!$B$2:$B$200,MATCH(TRUE,ISNUMBER(SEARCH(BrandList!$B$2:$B$200,G105)),0)),\"\")","v":""},null,null,null,null,null,null,"",{"$f":"IFERROR(VLOOKUP(VALUE(A105),WEEKLY_DATA!$A:$H,2,0),0)","v":0},{"$f":"IFERROR(VLOOKUP(VALUE(A105),WEEKLY_DATA!$A:$H,3,0),0)","v":0},{"$f":"IFERROR(VLOOKUP(VALUE(A105),WEEKLY_DATA!$A:$H,4,0),0)","v":0},{"$f":"IFERROR(VLOOKUP(VALUE(A105),WEEKLY_DATA!$A:$H,5,0),0)","v":0},{"$f":"IFERROR(VLOOKUP(VALUE(A105),WEEKLY_DATA!$A:$H,6,0),0)","v":0},{"$f":"IFERROR(VLOOKUP(VALUE(A105),WEEKLY_DATA!$A:$H,7,0),0)","v":0},{"$f":"IFERROR(IF(OR(Q105=\"\",Q105=0),\"\",IF(VLOOKUP(VALUE($A105),WEEKLY_DATA!$A:$H,6,0)=0,\"No Sales\",Q105/(VLOOKUP(VALUE($A105),WEEKLY_DATA!$A:$H,6,0)/13))),\"\")","v":""},{"$f":"IFERROR(VLOOKUP(VALUE(A105),WEEKLY_DATA!$A:$H,8,0),0)","v":0},"—",null,null,null,null,null,null,"—",null,null,null,"—","—",null,{"$f":"IFERROR(LOOKUP(2, 1/SEARCH({\"Black\",\"White\",\"Grey\",\"Blue\",\"Silver\",\"Brown\",\"Green\",\"Blue\",\"Purple\",\"Red\",\"Pink\",\"Yellow\",\"Gold\"}, G105), {\"Black\",\"White\",\"Grey\",\"Blue\",\"Silver\",\"Brown\",\"Green\",\"Blue\",\"Purple\",\"Red\",\"Pink\",\"Yellow\",\"Gold\"}), \"\")","v":""},{"$f":"IFERROR(LOOKUP(2, 1/SEARCH({\"8GB\",\"16GB\",\"32GB\",\"64GB\"}, G105), {\"8GB\",\"16GB\",\"32GB\",\"64GB\"}), \"\")","v":""},{"$f":"IFERROR(LOOKUP(2, 1/SEARCH({\"1TB\",\"2TB\",\"128GB\",\"512GB\",\"256GB\"}, G105), {\"1TB\",\"2TB\",\"128GB\",\"512GB\",\"256GB\"}), \"\")","v":""},null,{"$f":"IFERROR(LOOKUP(2, 1/SEARCH({\"16-Inch\",\"15-Inch\",\"15.6-Inch\",\"18-Inch\",\"15.3-Inch\",\"13-Inch\",\"13.4-Inch\",\"13.8-Inch\",\"14-Inch\",\"17-Inch\",\"45-Inch\",\"27-Inch\",\"34-Inch\",\"32-Inch\",\"21.5-Inch\"}, G105), {\"16-Inch\",\"15-Inch\",\"15.6-Inch\",\"18-Inch\",\"15.3-Inch\",\"13-Inch\",\"13.4-Inch\",\"13.8-Inch\",\"14-Inch\",\"17-Inch\",\"45-Inch\",\"27-Inch\",\"34-Inch\",\"32-Inch\",\"21.5-Inch\"}), \"\")","v":""}]
[null,null,null,null,null,null,null,{"$f":"IFERROR(INDEX(BrandList!$A$2:$A$50,MATCH(TRUE,ISNUMBER(SEARCH(BrandList!$A$2:$A$50,G106)),0)),\"\")","v":""},{"$f":"IFERROR(INDEX(BrandList!$B$2:$B$200,MATCH(TRUE,ISNUMBER(SEARCH(BrandList!$B$2:$B$200,G106)),0)),\"\")","v":""},null,null,null,null,null,null,"",{"$f":"IFERROR(VLOOKUP(VALUE(A106),WEEKLY_DATA!$A:$H,2,0),0)","v":0},{"$f":"IFERROR(VLOOKUP(VALUE(A106),WEEKLY_DATA!$A:$H,3,0),0)","v":0},{"$f":"IFERROR(VLOOKUP(VALUE(A106),WEEKLY_DATA!$A:$H,4,0),0)","v":0},{"$f":"IFERROR(VLOOKUP(VALUE(A106),WEEKLY_DATA!$A:$H,5,0),0)","v":0},{"$f":"IFERROR(VLOOKUP(VALUE(A106),WEEKLY_DATA!$A:$H,6,0),0)","v":0},{"$f":"IFERROR(VLOOKUP(VALUE(A106),WEEKLY_DATA!$A:$H,7,0),0)","v":0},{"$f":"IFERROR(IF(OR(Q106=\"\",Q106=0),\"\",IF(VLOOKUP(VALUE($A106),WEEKLY_DATA!$A:$H,6,0)=0,\"No Sales\",Q106/(VLOOKUP(VALUE($A106),WEEKLY_DATA!$A:$H,6,0)/13))),\"\")","v":""},{"$f":"IFERROR(VLOOKUP(VALUE(A106),WEEKLY_DATA!$A:$H,8,0),0)","v":0},"—",null,null,null,null,null,null,"—",null,null,null,"—","—",null,{"$f":"IFERROR(LOOKUP(2, 1/SEARCH({\"Black\",\"White\",\"Grey\",\"Blue\",\"Silver\",\"Brown\",\"Green\",\"Blue\",\"Purple\",\"Red\",\"Pink\",\"Yellow\",\"Gold\"}, G106), {\"Black\",\"White\",\"Grey\",\"Blue\",\"Silver\",\"Brown\",\"Green\",\"Blue\",\"Purple\",\"Red\",\"Pink\",\"Yellow\",\"Gold\"}), \"\")","v":""},{"$f":"IFERROR(LOOKUP(2, 1/SEARCH({\"8GB\",\"16GB\",\"32GB\",\"64GB\"}, G106), {\"8GB\",\"16GB\",\"32GB\",\"64GB\"}), \"\")","v":""},{"$f":"IFERROR(LOOKUP(2, 1/SEARCH({\"1TB\",\"2TB\",\"128GB\",\"512GB\",\"256GB\"}, G106), {\"1TB\",\"2TB\",\"128GB\",\"512GB\",\"256GB\"}), \"\")","v":""},null,{"$f":"IFERROR(LOOKUP(2, 1/SEARCH({\"16-Inch\",\"15-Inch\",\"15.6-Inch\",\"18-Inch\",\"15.3-Inch\",\"13-Inch\",\"13.4-Inch\",\"13.8-Inch\",\"14-Inch\",\"17-Inch\",\"45-Inch\",\"27-Inch\",\"34-Inch\",\"32-Inch\",\"21.5-Inch\"}, G106), {\"16-Inch\",\"15-Inch\",\"15.6-Inch\",\"18-Inch\",\"15.3-Inch\",\"13-Inch\",\"13.4-Inch\",\"13.8-Inch\",\"14-Inch\",\"17-Inch\",\"45-Inch\",\"27-Inch\",\"34-Inch\",\"32-Inch\",\"21.5-Inch\"}), \"\")","v":""}]
[null,null,null,null,null,null,null,{"$f":"IFERROR(INDEX(BrandList!$A$2:$A$50,MATCH(TRUE,ISNUMBER(SEARCH(BrandList!$A$2:$A$50,G107)),0)),\"\")","v":""},{"$f":"IFERROR(INDEX(BrandList!$B$2:$B$200,MATCH(TRUE,ISNUMBER(SEARCH(BrandList!$B$2:$B$200,G107)),0)),\"\")","v":""},null,null,null,null,null,null,"",{"$f":"IFERROR(VLOOKUP(VALUE(A107),WEEKLY_DATA!$A:$H,2,0),0)","v":0},{"$f":"IFERROR(VLOOKUP(VALUE(A107),WEEKLY_DATA!$A:$H,3,0),0)","v":0},{"$f":"IFERROR(VLOOKUP(VALUE(A107),WEEKLY_DATA!$A:$H,4,0),0)","v":0},{"$f":"IFERROR(VLOOKUP(VALUE(A107),WEEKLY_DATA!$A:$H,5,0),0)","v":0},{"$f":"IFERROR(VLOOKUP(VALUE(A107),WEEKLY_DATA!$A:$H,6,0),0)","v":0},{"$f":"IFERROR(VLOOKUP(VALUE(A107),WEEKLY_DATA!$A:$H,7,0),0)","v":0},{"$f":"IFERROR(IF(OR(Q107=\"\",Q107=0),\"\",IF(VLOOKUP(VALUE($A107),WEEKLY_DATA!$A:$H,6,0)=0,\"No Sales\",Q107/(VLOOKUP(VALUE($A107),WEEKLY_DATA!$A:$H,6,0)/13))),\"\")","v":""},{"$f":"IFERROR(VLOOKUP(VALUE(A107),WEEKLY_DATA!$A:$H,8,0),0)","v":0},"—",null,null,null,null,null,null,"—",null,null,null,"—","—",null,{"$f":"IFERROR(LOOKUP(2, 1/SEARCH({\"Black\",\"White\",\"Grey\",\"Blue\",\"Silver\",\"Brown\",\"Green\",\"Blue\",\"Purple\",\"Red\",\"Pink\",\"Yellow\",\"Gold\"}, G107), {\"Black\",\"White\",\"Grey\",\"Blue\",\"Silver\",\"Brown\",\"Green\",\"Blue\",\"Purple\",\"Red\",\"Pink\",\"Yellow\",\"Gold\"}), \"\")","v":""},{"$f":"IFERROR(LOOKUP(2, 1/SEARCH({\"8GB\",\"16GB\",\"32GB\",\"64GB\"}, G107), {\"8GB\",\"16GB\",\"32GB\",\"64GB\"}), \"\")","v":""},{"$f":"IFERROR(LOOKUP(2, 1/SEARCH({\"1TB\",\"2TB\",\"128GB\",\"512GB\",\"256GB\"}, G107), {\"1TB\",\"2TB\",\"128GB\",\"512GB\",\"256GB\"}), \"\")","v":""},null,{"$f":"IFERROR(LOOKUP(2, 1/SEARCH({\"16-Inch\",\"15-Inch\",\"15.6-Inch\",\"18-Inch\",\"15.3-Inch\",\"13-Inch\",\"13.4-Inch\",\"13.8-Inch\",\"14-Inch\",\"17-Inch\",\"45-Inch\",\"27-Inch\",\"34-Inch\",\"32-Inch\",\"21.5-Inch\"}, G107), {\"16-Inch\",\"15-Inch\",\"15.6-Inch\",\"18-Inch\",\"15.3-Inch\",\"13-Inch\",\"13.4-Inch\",\"13.8-Inch\",\"14-Inch\",\"17-Inch\",\"45-Inch\",\"27-Inch\",\"34-Inch\",\"32-Inch\",\"21.5-Inch\"}), \"\")","v":""}]
[null,null,null,null,null,null,null,{"$f":"IFERROR(INDEX(BrandList!$A$2:$A$50,MATCH(TRUE,ISNUMBER(SEARCH(BrandList!$A$2:$A$50,G108)),0)),\"\")","v":""},{"$f":"IFERROR(INDEX(BrandList!$B$2:$B$200,MATCH(TRUE,ISNUMBER(SEARCH(BrandList!$B$2:$B$200,G108)),0)),\"\")","v":""},null,null,null,null,null,null,"",{"$f":"IFERROR(VLOOKUP(VALUE(A108),WEEKLY_DATA!$A:$H,2,0),0)","v":0},{"$f":"IFERROR(VLOOKUP(VALUE(A108),WEEKLY_DATA!$A:$H,3,0),0)","v":0},{"$f":"IFERROR(VLOOKUP(VALUE(A108),WEEKLY_DATA!$A:$H,4,0),0)","v":0},{"$f":"IFERROR(VLOOKUP(VALUE(A108),WEEKLY_DATA!$A:$H,5,0),0)","v":0},{"$f":"IFERROR(VLOOKUP(VALUE(A108),WEEKLY_DATA!$A:$H,6,0),0)","v":0},{"$f":"IFERROR(VLOOKUP(VALUE(A108),WEEKLY_DATA!$A:$H,7,0),0)","v":0},{"$f":"IFERROR(IF(OR(Q108=\"\",Q108=0),\"\",IF(VLOOKUP(VALUE($A108),WEEKLY_DATA!$A:$H,6,0)=0,\"No Sales\",Q108/(VLOOKUP(VALUE($A108),WEEKLY_DATA!$A:$H,6,0)/13))),\"\")","v":""},{"$f":"IFERROR(VLOOKUP(VALUE(A108),WEEKLY_DATA!$A:$H,8,0),0)","v":0},"—",null,null,null,null,null,null,"—",null,null,null,"—","—",null,{"$f":"IFERROR(LOOKUP(2, 1/SEARCH({\"Black\",\"White\",\"Grey\",\"Blue\",\"Silver\",\"Brown\",\"Green\",\"Blue\",\"Purple\",\"Red\",\"Pink\",\"Yellow\",\"Gold\"}, G108), {\"Black\",\"White\",\"Grey\",\"Blue\",\"Silver\",\"Brown\",\"Green\",\"Blue\",\"Purple\",\"Red\",\"Pink\",\"Yellow\",\"Gold\"}), \"\")","v":""},{"$f":"IFERROR(LOOKUP(2, 1/SEARCH({\"8GB\",\"16GB\",\"32GB\",\"64GB\"}, G108), {\"8GB\",\"16GB\",\"32GB\",\"64GB\"}), \"\")","v":""},{"$f":"IFERROR(LOOKUP(2, 1/SEARCH({\"1TB\",\"2TB\",\"128GB\",\"512GB\",\"256GB\"}, G108), {\"1TB\",\"2TB\",\"128GB\",\"512GB\",\"256GB\"}), \"\")","v":""},null,{"$f":"IFERROR(LOOKUP(2, 1/SEARCH({\"16-Inch\",\"15-Inch\",\"15.6-Inch\",\"18-Inch\",\"15.3-Inch\",\"13-Inch\",\"13.4-Inch\",\"13.8-Inch\",\"14-Inch\",\"17-Inch\",\"45-Inch\",\"27-Inch\",\"34-Inch\",\"32-Inch\",\"21.5-Inch\"}, G108), {\"16-Inch\",\"15-Inch\",\"15.6-Inch\",\"18-Inch\",\"15.3-Inch\",\"13-Inch\",\"13.4-Inch\",\"13.8-Inch\",\"14-Inch\",\"17-Inch\",\"45-Inch\",\"27-Inch\",\"34-Inch\",\"32-Inch\",\"21.5-Inch\"}), \"\")","v":""}]
[null,null,null,null,null,null,null,{"$f":"IFERROR(INDEX(BrandList!$A$2:$A$50,MATCH(TRUE,ISNUMBER(SEARCH(BrandList!$A$2:$A$50,G109)),0)),\"\")","v":""},{"$f":"IFERROR(INDEX(BrandList!$B$2:$B$200,MATCH(TRUE,ISNUMBER(SEARCH(BrandList!$B$2:$B$200,G109)),0)),\"\")","v":""},null,null,null,null,null,null,"",{"$f":"IFERROR(VLOOKUP(VALUE(A109),WEEKLY_DATA!$A:$H,2,0),0)","v":0},{"$f":"IFERROR(VLOOKUP(VALUE(A109),WEEKLY_DATA!$A:$H,3,0),0)","v":0},{"$f":"IFERROR(VLOOKUP(VALUE(A109),WEEKLY_DATA!$A:$H,4,0),0)","v":0},{"$f":"IFERROR(VLOOKUP(VALUE(A109),WEEKLY_DATA!$A:$H,5,0),0)","v":0},{"$f":"IFERROR(VLOOKUP(VALUE(A109),WEEKLY_DATA!$A:$H,6,0),0)","v":0},{"$f":"IFERROR(VLOOKUP(VALUE(A109),WEEKLY_DATA!$A:$H,7,0),0)","v":0},{"$f":"IFERROR(IF(OR(Q109=\"\",Q109=0),\"\",IF(VLOOKUP(VALUE($A109),WEEKLY_DATA!$A:$H,6,0)=0,\"No Sales\",Q109/(VLOOKUP(VALUE($A109),WEEKLY_DATA!$A:$H,6,0)/13))),\"\")","v":""},{"$f":"IFERROR(VLOOKUP(VALUE(A109),WEEKLY_DATA!$A:$H,8,0),0)","v":0},"—",null,null,null,null,null,null,"—",null,null,null,"—","—",null,{"$f":"IFERROR(LOOKUP(2, 1/SEARCH({\"Black\",\"White\",\"Grey\",\"Blue\",\"Silver\",\"Brown\",\"Green\",\"Blue\",\"Purple\",\"Red\",\"Pink\",\"Yellow\",\"Gold\"}, G109), {\"Black\",\"White\",\"Grey\",\"Blue\",\"Silver\",\"Brown\",\"Green\",\"Blue\",\"Purple\",\"Red\",\"Pink\",\"Yellow\",\"Gold\"}), \"\")","v":""},{"$f":"IFERROR(LOOKUP(2, 1/SEARCH({\"8GB\",\"16GB\",\"32GB\",\"64GB\"}, G109), {\"8GB\",\"16GB\",\"32GB\",\"64GB\"}), \"\")","v":""},{"$f":"IFERROR(LOOKUP(2, 1/SEARCH({\"1TB\",\"2TB\",\"128GB\",\"512GB\",\"256GB\"}, G109), {\"1TB\",\"2TB\",\"128GB\",\"512GB\",\"256GB\"}), \"\")","v":""},null,{"$f":"IFERROR(LOOKUP(2, 1/SEARCH({\"16-Inch\",\"15-Inch\",\"15.6-Inch\",\"18-Inch\",\"15.3-Inch\",\"13-Inch\",\"13.4-Inch\",\"13.8-Inch\",\"14-Inch\",\"17-Inch\",\"45-Inch\",\"27-Inch\",\"34-Inch\",\"32-Inch\",\"21.5-Inch\"}, G109), {\"16-Inch\",\"15-Inch\",\"15.6-Inch\",\"18-Inch\",\"15.3-Inch\",\"13-Inch\",\"13.4-Inch\",\"13.8-Inch\",\"14-Inch\",\"17-Inch\",\"45-Inch\",\"27-Inch\",\"34-Inch\",\"32-Inch\",\"21.5-Inch\"}), \"\")","v":""}]
[null,null,null,null,null,null,null,{"$f":"IFERROR(INDEX(BrandList!$A$2:$A$50,MATCH(TRUE,ISNUMBER(SEARCH(BrandList!$A$2:$A$50,G110)),0)),\"\")","v":""},{"$f":"IFERROR(INDEX(BrandList!$B$2:$B$200,MATCH(TRUE,ISNUMBER(SEARCH(BrandList!$B$2:$B$200,G110)),0)),\"\")","v":""},null,null,null,null,null,null,"",{"$f":"IFERROR(VLOOKUP(VALUE(A110),WEEKLY_DATA!$A:$H,2,0),0)","v":0},{"$f":"IFERROR(VLOOKUP(VALUE(A110),WEEKLY_DATA!$A:$H,3,0),0)","v":0},{"$f":"IFERROR(VLOOKUP(VALUE(A110),WEEKLY_DATA!$A:$H,4,0),0)","v":0},{"$f":"IFERROR(VLOOKUP(VALUE(A110),WEEKLY_DATA!$A:$H,5,0),0)","v":0},{"$f":"IFERROR(VLOOKUP(VALUE(A110),WEEKLY_DATA!$A:$H,6,0),0)","v":0},{"$f":"IFERROR(VLOOKUP(VALUE(A110),WEEKLY_DATA!$A:$H,7,0),0)","v":0},{"$f":"IFERROR(IF(OR(Q110=\"\",Q110=0),\"\",IF(VLOOKUP(VALUE($A110),WEEKLY_DATA!$A:$H,6,0)=0,\"No Sales\",Q110/(VLOOKUP(VALUE($A110),WEEKLY_DATA!$A:$H,6,0)/13))),\"\")","v":""},{"$f":"IFERROR(VLOOKUP(VALUE(A110),WEEKLY_DATA!$A:$H,8,0),0)","v":0},"—",null,null,null,null,null,null,"—",null,null,null,"—","—",null,{"$f":"IFERROR(LOOKUP(2, 1/SEARCH({\"Black\",\"White\",\"Grey\",\"Blue\",\"Silver\",\"Brown\",\"Green\",\"Blue\",\"Purple\",\"Red\",\"Pink\",\"Yellow\",\"Gold\"}, G110), {\"Black\",\"White\",\"Grey\",\"Blue\",\"Silver\",\"Brown\",\"Green\",\"Blue\",\"Purple\",\"Red\",\"Pink\",\"Yellow\",\"Gold\"}), \"\")","v":""},{"$f":"IFERROR(LOOKUP(2, 1/SEARCH({\"8GB\",\"16GB\",\"32GB\",\"64GB\"}, G110), {\"8GB\",\"16GB\",\"32GB\",\"64GB\"}), \"\")","v":""},{"$f":"IFERROR(LOOKUP(2, 1/SEARCH({\"1TB\",\"2TB\",\"128GB\",\"512GB\",\"256GB\"}, G110), {\"1TB\",\"2TB\",\"128GB\",\"512GB\",\"256GB\"}), \"\")","v":""},null,{"$f":"IFERROR(LOOKUP(2, 1/SEARCH({\"16-Inch\",\"15-Inch\",\"15.6-Inch\",\"18-Inch\",\"15.3-Inch\",\"13-Inch\",\"13.4-Inch\",\"13.8-Inch\",\"14-Inch\",\"17-Inch\",\"45-Inch\",\"27-Inch\",\"34-Inch\",\"32-Inch\",\"21.5-Inch\"}, G110), {\"16-Inch\",\"15-Inch\",\"15.6-Inch\",\"18-Inch\",\"15.3-Inch\",\"13-Inch\",\"13.4-Inch\",\"13.8-Inch\",\"14-Inch\",\"17-Inch\",\"45-Inch\",\"27-Inch\",\"34-Inch\",\"32-Inch\",\"21.5-Inch\"}), \"\")","v":""}]
[null,null,null,null,null,null,null,{"$f":"IFERROR(INDEX(BrandList!$A$2:$A$50,MATCH(TRUE,ISNUMBER(SEARCH(BrandList!$A$2:$A$50,G111)),0)),\"\")","v":""},{"$f":"IFERROR(INDEX(BrandList!$B$2:$B$200,MATCH(TRUE,ISNUMBER(SEARCH(BrandList!$B$2:$B$200,G111)),0)),\"\")","v":""},null,null,null,null,null,null,"",{"$f":"IFERROR(VLOOKUP(VALUE(A111),WEEKLY_DATA!$A:$H,2,0),0)","v":0},{"$f":"IFERROR(VLOOKUP(VALUE(A111),WEEKLY_DATA!$A:$H,3,0),0)","v":0},{"$f":"IFERROR(VLOOKUP(VALUE(A111),WEEKLY_DATA!$A:$H,4,0),0)","v":0},{"$f":"IFERROR(VLOOKUP(VALUE(A111),WEEKLY_DATA!$A:$H,5,0),0)","v":0},{"$f":"IFERROR(VLOOKUP(VALUE(A111),WEEKLY_DATA!$A:$H,6,0),0)","v":0},{"$f":"IFERROR(VLOOKUP(VALUE(A111),WEEKLY_DATA!$A:$H,7,0),0)","v":0},{"$f":"IFERROR(IF(OR(Q111=\"\",Q111=0),\"\",IF(VLOOKUP(VALUE($A111),WEEKLY_DATA!$A:$H,6,0)=0,\"No Sales\",Q111/(VLOOKUP(VALUE($A111),WEEKLY_DATA!$A:$H,6,0)/13))),\"\")","v":""},{"$f":"IFERROR(VLOOKUP(VALUE(A111),WEEKLY_DATA!$A:$H,8,0),0)","v":0},"—",null,null,null,null,null,null,"—",null,null,null,"—","—",null,{"$f":"IFERROR(LOOKUP(2, 1/SEARCH({\"Black\",\"White\",\"Grey\",\"Blue\",\"Silver\",\"Brown\",\"Green\",\"Blue\",\"Purple\",\"Red\",\"Pink\",\"Yellow\",\"Gold\"}, G111), {\"Black\",\"White\",\"Grey\",\"Blue\",\"Silver\",\"Brown\",\"Green\",\"Blue\",\"Purple\",\"Red\",\"Pink\",\"Yellow\",\"Gold\"}), \"\")","v":""},{"$f":"IFERROR(LOOKUP(2, 1/SEARCH({\"8GB\",\"16GB\",\"32GB\",\"64GB\"}, G111), {\"8GB\",\"16GB\",\"32GB\",\"64GB\"}), \"\")","v":""},{"$f":"IFERROR(LOOKUP(2, 1/SEARCH({\"1TB\",\"2TB\",\"128GB\",\"512GB\",\"256GB\"}, G111), {\"1TB\",\"2TB\",\"128GB\",\"512GB\",\"256GB\"}), \"\")","v":""},null,{"$f":"IFERROR(LOOKUP(2, 1/SEARCH({\"16-Inch\",\"15-Inch\",\"15.6-Inch\",\"18-Inch\",\"15.3-Inch\",\"13-Inch\",\"13.4-Inch\",\"13.8-Inch\",\"14-Inch\",\"17-Inch\",\"45-Inch\",\"27-Inch\",\"34-Inch\",\"32-Inch\",\"21.5-Inch\"}, G111), {\"16-Inch\",\"15-Inch\",\"15.6-Inch\",\"18-Inch\",\"15.3-Inch\",\"13-Inch\",\"13.4-Inch\",\"13.8-Inch\",\"14-Inch\",\"17-Inch\",\"45-Inch\",\"27-Inch\",\"34-Inch\",\"32-Inch\",\"21.5-Inch\"}), \"\")","v":""}]
[null,null,null,null,null,null,null,{"$f":"IFERROR(INDEX(BrandList!$A$2:$A$50,MATCH(TRUE,ISNUMBER(SEARCH(BrandList!$A$2:$A$50,G112)),0)),\"\")","v":""},{"$f":"IFERROR(INDEX(BrandList!$B$2:$B$200,MATCH(TRUE,ISNUMBER(SEARCH(BrandList!$B$2:$B$200,G112)),0)),\"\")","v":""},null,null,null,null,null,null,"",{"$f":"IFERROR(VLOOKUP(VALUE(A112),WEEKLY_DATA!$A:$H,2,0),0)","v":0},{"$f":"IFERROR(VLOOKUP(VALUE(A112),WEEKLY_DATA!$A:$H,3,0),0)","v":0},{"$f":"IFERROR(VLOOKUP(VALUE(A112),WEEKLY_DATA!$A:$H,4,0),0)","v":0},{"$f":"IFERROR(VLOOKUP(VALUE(A112),WEEKLY_DATA!$A:$H,5,0),0)","v":0},{"$f":"IFERROR(VLOOKUP(VALUE(A112),WEEKLY_DATA!$A:$H,6,0),0)","v":0},{"$f":"IFERROR(VLOOKUP(VALUE(A112),WEEKLY_DATA!$A:$H,7,0),0)","v":0},{"$f":"IFERROR(IF(OR(Q112=\"\",Q112=0),\"\",IF(VLOOKUP(VALUE($A112),WEEKLY_DATA!$A:$H,6,0)=0,\"No Sales\",Q112/(VLOOKUP(VALUE($A112),WEEKLY_DATA!$A:$H,6,0)/13))),\"\")","v":""},{"$f":"IFERROR(VLOOKUP(VALUE(A112),WEEKLY_DATA!$A:$H,8,0),0)","v":0},"—",null,null,null,null,null,null,"—",null,null,null,"—","—",null,{"$f":"IFERROR(LOOKUP(2, 1/SEARCH({\"Black\",\"White\",\"Grey\",\"Blue\",\"Silver\",\"Brown\",\"Green\",\"Blue\",\"Purple\",\"Red\",\"Pink\",\"Yellow\",\"Gold\"}, G112), {\"Black\",\"White\",\"Grey\",\"Blue\",\"Silver\",\"Brown\",\"Green\",\"Blue\",\"Purple\",\"Red\",\"Pink\",\"Yellow\",\"Gold\"}), \"\")","v":""},{"$f":"IFERROR(LOOKUP(2, 1/SEARCH({\"8GB\",\"16GB\",\"32GB\",\"64GB\"}, G112), {\"8GB\",\"16GB\",\"32GB\",\"64GB\"}), \"\")","v":""},{"$f":"IFERROR(LOOKUP(2, 1/SEARCH({\"1TB\",\"2TB\",\"128GB\",\"512GB\",\"256GB\"}, G112), {\"1TB\",\"2TB\",\"128GB\",\"512GB\",\"256GB\"}), \"\")","v":""},null,{"$f":"IFERROR(LOOKUP(2, 1/SEARCH({\"16-Inch\",\"15-Inch\",\"15.6-Inch\",\"18-Inch\",\"15.3-Inch\",\"13-Inch\",\"13.4-Inch\",\"13.8-Inch\",\"14-Inch\",\"17-Inch\",\"45-Inch\",\"27-Inch\",\"34-Inch\",\"32-Inch\",\"21.5-Inch\"}, G112), {\"16-Inch\",\"15-Inch\",\"15.6-Inch\",\"18-Inch\",\"15.3-Inch\",\"13-Inch\",\"13.4-Inch\",\"13.8-Inch\",\"14-Inch\",\"17-Inch\",\"45-Inch\",\"27-Inch\",\"34-Inch\",\"32-Inch\",\"21.5-Inch\"}), \"\")","v":""}]
[null,null,null,null,null,null,null,{"$f":"IFERROR(INDEX(BrandList!$A$2:$A$50,MATCH(TRUE,ISNUMBER(SEARCH(BrandList!$A$2:$A$50,G113)),0)),\"\")","v":""},{"$f":"IFERROR(INDEX(BrandList!$B$2:$B$200,MATCH(TRUE,ISNUMBER(SEARCH(BrandList!$B$2:$B$200,G113)),0)),\"\")","v":""},null,null,null,null,null,null,"",{"$f":"IFERROR(VLOOKUP(VALUE(A113),WEEKLY_DATA!$A:$H,2,0),0)","v":0},{"$f":"IFERROR(VLOOKUP(VALUE(A113),WEEKLY_DATA!$A:$H,3,0),0)","v":0},{"$f":"IFERROR(VLOOKUP(VALUE(A113),WEEKLY_DATA!$A:$H,4,0),0)","v":0},{"$f":"IFERROR(VLOOKUP(VALUE(A113),WEEKLY_DATA!$A:$H,5,0),0)","v":0},{"$f":"IFERROR(VLOOKUP(VALUE(A113),WEEKLY_DATA!$A:$H,6,0),0)","v":0},{"$f":"IFERROR(VLOOKUP(VALUE(A113),WEEKLY_DATA!$A:$H,7,0),0)","v":0},{"$f":"IFERROR(IF(OR(Q113=\"\",Q113=0),\"\",IF(VLOOKUP(VALUE($A113),WEEKLY_DATA!$A:$H,6,0)=0,\"No Sales\",Q113/(VLOOKUP(VALUE($A113),WEEKLY_DATA!$A:$H,6,0)/13))),\"\")","v":""},{"$f":"IFERROR(VLOOKUP(VALUE(A113),WEEKLY_DATA!$A:$H,8,0),0)","v":0},"—",null,null,null,null,null,null,"—",null,null,null,"—","—",null,{"$f":"IFERROR(LOOKUP(2, 1/SEARCH({\"Black\",\"White\",\"Grey\",\"Blue\",\"Silver\",\"Brown\",\"Green\",\"Blue\",\"Purple\",\"Red\",\"Pink\",\"Yellow\",\"Gold\"}, G113), {\"Black\",\"White\",\"Grey\",\"Blue\",\"Silver\",\"Brown\",\"Green\",\"Blue\",\"Purple\",\"Red\",\"Pink\",\"Yellow\",\"Gold\"}), \"\")","v":""},{"$f":"IFERROR(LOOKUP(2, 1/SEARCH({\"8GB\",\"16GB\",\"32GB\",\"64GB\"}, G113), {\"8GB\",\"16GB\",\"32GB\",\"64GB\"}), \"\")","v":""},{"$f":"IFERROR(LOOKUP(2, 1/SEARCH({\"1TB\",\"2TB\",\"128GB\",\"512GB\",\"256GB\"}, G113), {\"1TB\",\"2TB\",\"128GB\",\"512GB\",\"256GB\"}), \"\")","v":""},null,{"$f":"IFERROR(LOOKUP(2, 1/SEARCH({\"16-Inch\",\"15-Inch\",\"15.6-Inch\",\"18-Inch\",\"15.3-Inch\",\"13-Inch\",\"13.4-Inch\",\"13.8-Inch\",\"14-Inch\",\"17-Inch\",\"45-Inch\",\"27-Inch\",\"34-Inch\",\"32-Inch\",\"21.5-Inch\"}, G113), {\"16-Inch\",\"15-Inch\",\"15.6-Inch\",\"18-Inch\",\"15.3-Inch\",\"13-Inch\",\"13.4-Inch\",\"13.8-Inch\",\"14-Inch\",\"17-Inch\",\"45-Inch\",\"27-Inch\",\"34-Inch\",\"32-Inch\",\"21.5-Inch\"}), \"\")","v":""}]
[null,null,null,null,null,null,null,{"$f":"IFERROR(INDEX(BrandList!$A$2:$A$50,MATCH(TRUE,ISNUMBER(SEARCH(BrandList!$A$2:$A$50,G114)),0)),\"\")","v":""},{"$f":"IFERROR(INDEX(BrandList!$B$2:$B$200,MATCH(TRUE,ISNUMBER(SEARCH(BrandList!$B$2:$B$200,G114)),0)),\"\")","v":""},null,null,null,null,null,null,"",{"$f":"IFERROR(VLOOKUP(VALUE(A114),WEEKLY_DATA!$A:$H,2,0),0)","v":0},{"$f":"IFERROR(VLOOKUP(VALUE(A114),WEEKLY_DATA!$A:$H,3,0),0)","v":0},{"$f":"IFERROR(VLOOKUP(VALUE(A114),WEEKLY_DATA!$A:$H,4,0),0)","v":0},{"$f":"IFERROR(VLOOKUP(VALUE(A114),WEEKLY_DATA!$A:$H,5,0),0)","v":0},{"$f":"IFERROR(VLOOKUP(VALUE(A114),WEEKLY_DATA!$A:$H,6,0),0)","v":0},{"$f":"IFERROR(VLOOKUP(VALUE(A114),WEEKLY_DATA!$A:$H,7,0),0)","v":0},{"$f":"IFERROR(IF(OR(Q114=\"\",Q114=0),\"\",IF(VLOOKUP(VALUE($A114),WEEKLY_DATA!$A:$H,6,0)=0,\"No Sales\",Q114/(VLOOKUP(VALUE($A114),WEEKLY_DATA!$A:$H,6,0)/13))),\"\")","v":""},{"$f":"IFERROR(VLOOKUP(VALUE(A114),WEEKLY_DATA!$A:$H,8,0),0)","v":0},"—",null,null,null,null,null,null,"—",null,null,null,"—","—",null,{"$f":"IFERROR(LOOKUP(2, 1/SEARCH({\"Black\",\"White\",\"Grey\",\"Blue\",\"Silver\",\"Brown\",\"Green\",\"Blue\",\"Purple\",\"Red\",\"Pink\",\"Yellow\",\"Gold\"}, G114), {\"Black\",\"White\",\"Grey\",\"Blue\",\"Silver\",\"Brown\",\"Green\",\"Blue\",\"Purple\",\"Red\",\"Pink\",\"Yellow\",\"Gold\"}), \"\")","v":""},{"$f":"IFERROR(LOOKUP(2, 1/SEARCH({\"8GB\",\"16GB\",\"32GB\",\"64GB\"}, G114), {\"8GB\",\"16GB\",\"32GB\",\"64GB\"}), \"\")","v":""},{"$f":"IFERROR(LOOKUP(2, 1/SEARCH({\"1TB\",\"2TB\",\"128GB\",\"512GB\",\"256GB\"}, G114), {\"1TB\",\"2TB\",\"128GB\",\"512GB\",\"256GB\"}), \"\")","v":""},null,{"$f":"IFERROR(LOOKUP(2, 1/SEARCH({\"16-Inch\",\"15-Inch\",\"15.6-Inch\",\"18-Inch\",\"15.3-Inch\",\"13-Inch\",\"13.4-Inch\",\"13.8-Inch\",\"14-Inch\",\"17-Inch\",\"45-Inch\",\"27-Inch\",\"34-Inch\",\"32-Inch\",\"21.5-Inch\"}, G114), {\"16-Inch\",\"15-Inch\",\"15.6-Inch\",\"18-Inch\",\"15.3-Inch\",\"13-Inch\",\"13.4-Inch\",\"13.8-Inch\",\"14-Inch\",\"17-Inch\",\"45-Inch\",\"27-Inch\",\"34-Inch\",\"32-Inch\",\"21.5-Inch\"}), \"\")","v":""}]
[null,null,null,null,null,null,null,{"$f":"IFERROR(INDEX(BrandList!$A$2:$A$50,MATCH(TRUE,ISNUMBER(SEARCH(BrandList!$A$2:$A$50,G115)),0)),\"\")","v":""},{"$f":"IFERROR(INDEX(BrandList!$B$2:$B$200,MATCH(TRUE,ISNUMBER(SEARCH(BrandList!$B$2:$B$200,G115)),0)),\"\")","v":""},null,null,null,null,null,null,"",{"$f":"IFERROR(VLOOKUP(VALUE(A115),WEEKLY_DATA!$A:$H,2,0),0)","v":0},{"$f":"IFERROR(VLOOKUP(VALUE(A115),WEEKLY_DATA!$A:$H,3,0),0)","v":0},{"$f":"IFERROR(VLOOKUP(VALUE(A115),WEEKLY_DATA!$A:$H,4,0),0)","v":0},{"$f":"IFERROR(VLOOKUP(VALUE(A115),WEEKLY_DATA!$A:$H,5,0),0)","v":0},{"$f":"IFERROR(VLOOKUP(VALUE(A115),WEEKLY_DATA!$A:$H,6,0),0)","v":0},{"$f":"IFERROR(VLOOKUP(VALUE(A115),WEEKLY_DATA!$A:$H,7,0),0)","v":0},{"$f":"IFERROR(IF(OR(Q115=\"\",Q115=0),\"\",IF(VLOOKUP(VALUE($A115),WEEKLY_DATA!$A:$H,6,0)=0,\"No Sales\",Q115/(VLOOKUP(VALUE($A115),WEEKLY_DATA!$A:$H,6,0)/13))),\"\")","v":""},{"$f":"IFERROR(VLOOKUP(VALUE(A115),WEEKLY_DATA!$A:$H,8,0),0)","v":0},"—",null,null,null,null,null,null,"—",null,null,null,"—","—",null,{"$f":"IFERROR(LOOKUP(2, 1/SEARCH({\"Black\",\"White\",\"Grey\",\"Blue\",\"Silver\",\"Brown\",\"Green\",\"Blue\",\"Purple\",\"Red\",\"Pink\",\"Yellow\",\"Gold\"}, G115), {\"Black\",\"White\",\"Grey\",\"Blue\",\"Silver\",\"Brown\",\"Green\",\"Blue\",\"Purple\",\"Red\",\"Pink\",\"Yellow\",\"Gold\"}), \"\")","v":""},{"$f":"IFERROR(LOOKUP(2, 1/SEARCH({\"8GB\",\"16GB\",\"32GB\",\"64GB\"}, G115), {\"8GB\",\"16GB\",\"32GB\",\"64GB\"}), \"\")","v":""},{"$f":"IFERROR(LOOKUP(2, 1/SEARCH({\"1TB\",\"2TB\",\"128GB\",\"512GB\",\"256GB\"}, G115), {\"1TB\",\"2TB\",\"128GB\",\"512GB\",\"256GB\"}), \"\")","v":""},null,{"$f":"IFERROR(LOOKUP(2, 1/SEARCH({\"16-Inch\",\"15-Inch\",\"15.6-Inch\",\"18-Inch\",\"15.3-Inch\",\"13-Inch\",\"13.4-Inch\",\"13.8-Inch\",\"14-Inch\",\"17-Inch\",\"45-Inch\",\"27-Inch\",\"34-Inch\",\"32-Inch\",\"21.5-Inch\"}, G115), {\"16-Inch\",\"15-Inch\",\"15.6-Inch\",\"18-Inch\",\"15.3-Inch\",\"13-Inch\",\"13.4-Inch\",\"13.8-Inch\",\"14-Inch\",\"17-Inch\",\"45-Inch\",\"27-Inch\",\"34-Inch\",\"32-Inch\",\"21.5-Inch\"}), \"\")","v":""}]
[null,null,null,null,null,null,null,{"$f":"IFERROR(INDEX(BrandList!$A$2:$A$50,MATCH(TRUE,ISNUMBER(SEARCH(BrandList!$A$2:$A$50,G116)),0)),\"\")","v":""},{"$f":"IFERROR(INDEX(BrandList!$B$2:$B$200,MATCH(TRUE,ISNUMBER(SEARCH(BrandList!$B$2:$B$200,G116)),0)),\"\")","v":""},null,null,null,null,null,null,"",{"$f":"IFERROR(VLOOKUP(VALUE(A116),WEEKLY_DATA!$A:$H,2,0),0)","v":0},{"$f":"IFERROR(VLOOKUP(VALUE(A116),WEEKLY_DATA!$A:$H,3,0),0)","v":0},{"$f":"IFERROR(VLOOKUP(VALUE(A116),WEEKLY_DATA!$A:$H,4,0),0)","v":0},{"$f":"IFERROR(VLOOKUP(VALUE(A116),WEEKLY_DATA!$A:$H,5,0),0)","v":0},{"$f":"IFERROR(VLOOKUP(VALUE(A116),WEEKLY_DATA!$A:$H,6,0),0)","v":0},{"$f":"IFERROR(VLOOKUP(VALUE(A116),WEEKLY_DATA!$A:$H,7,0),0)","v":0},{"$f":"IFERROR(IF(OR(Q116=\"\",Q116=0),\"\",IF(VLOOKUP(VALUE($A116),WEEKLY_DATA!$A:$H,6,0)=0,\"No Sales\",Q116/(VLOOKUP(VALUE($A116),WEEKLY_DATA!$A:$H,6,0)/13))),\"\")","v":""},{"$f":"IFERROR(VLOOKUP(VALUE(A116),WEEKLY_DATA!$A:$H,8,0),0)","v":0},"—",null,null,null,null,null,null,"—",null,null,null,"—","—",null,{"$f":"IFERROR(LOOKUP(2, 1/SEARCH({\"Black\",\"White\",\"Grey\",\"Blue\",\"Silver\",\"Brown\",\"Green\",\"Blue\",\"Purple\",\"Red\",\"Pink\",\"Yellow\",\"Gold\"}, G116), {\"Black\",\"White\",\"Grey\",\"Blue\",\"Silver\",\"Brown\",\"Green\",\"Blue\",\"Purple\",\"Red\",\"Pink\",\"Yellow\",\"Gold\"}), \"\")","v":""},{"$f":"IFERROR(LOOKUP(2, 1/SEARCH({\"8GB\",\"16GB\",\"32GB\",\"64GB\"}, G116), {\"8GB\",\"16GB\",\"32GB\",\"64GB\"}), \"\")","v":""},{"$f":"IFERROR(LOOKUP(2, 1/SEARCH({\"1TB\",\"2TB\",\"128GB\",\"512GB\",\"256GB\"}, G116), {\"1TB\",\"2TB\",\"128GB\",\"512GB\",\"256GB\"}), \"\")","v":""},null,{"$f":"IFERROR(LOOKUP(2, 1/SEARCH({\"16-Inch\",\"15-Inch\",\"15.6-Inch\",\"18-Inch\",\"15.3-Inch\",\"13-Inch\",\"13.4-Inch\",\"13.8-Inch\",\"14-Inch\",\"17-Inch\",\"45-Inch\",\"27-Inch\",\"34-Inch\",\"32-Inch\",\"21.5-Inch\"}, G116), {\"16-Inch\",\"15-Inch\",\"15.6-Inch\",\"18-Inch\",\"15.3-Inch\",\"13-Inch\",\"13.4-Inch\",\"13.8-Inch\",\"14-Inch\",\"17-Inch\",\"45-Inch\",\"27-Inch\",\"34-Inch\",\"32-Inch\",\"21.5-Inch\"}), \"\")","v":""}]
[null,null,null,null,null,null,null,{"$f":"IFERROR(INDEX(BrandList!$A$2:$A$50,MATCH(TRUE,ISNUMBER(SEARCH(BrandList!$A$2:$A$50,G117)),0)),\"\")","v":""},{"$f":"IFERROR(INDEX(BrandList!$B$2:$B$200,MATCH(TRUE,ISNUMBER(SEARCH(BrandList!$B$2:$B$200,G117)),0)),\"\")","v":""},null,null,null,null,null,null,"",{"$f":"IFERROR(VLOOKUP(VALUE(A117),WEEKLY_DATA!$A:$H,2,0),0)","v":0},{"$f":"IFERROR(VLOOKUP(VALUE(A117),WEEKLY_DATA!$A:$H,3,0),0)","v":0},{"$f":"IFERROR(VLOOKUP(VALUE(A117),WEEKLY_DATA!$A:$H,4,0),0)","v":0},{"$f":"IFERROR(VLOOKUP(VALUE(A117),WEEKLY_DATA!$A:$H,5,0),0)","v":0},{"$f":"IFERROR(VLOOKUP(VALUE(A117),WEEKLY_DATA!$A:$H,6,0),0)","v":0},{"$f":"IFERROR(VLOOKUP(VALUE(A117),WEEKLY_DATA!$A:$H,7,0),0)","v":0},{"$f":"IFERROR(IF(OR(Q117=\"\",Q117=0),\"\",IF(VLOOKUP(VALUE($A117),WEEKLY_DATA!$A:$H,6,0)=0,\"No Sales\",Q117/(VLOOKUP(VALUE($A117),WEEKLY_DATA!$A:$H,6,0)/13))),\"\")","v":""},{"$f":"IFERROR(VLOOKUP(VALUE(A117),WEEKLY_DATA!$A:$H,8,0),0)","v":0},"—",null,null,null,null,null,null,"—",null,null,null,"—","—",null,{"$f":"IFERROR(LOOKUP(2, 1/SEARCH({\"Black\",\"White\",\"Grey\",\"Blue\",\"Silver\",\"Brown\",\"Green\",\"Blue\",\"Purple\",\"Red\",\"Pink\",\"Yellow\",\"Gold\"}, G117), {\"Black\",\"White\",\"Grey\",\"Blue\",\"Silver\",\"Brown\",\"Green\",\"Blue\",\"Purple\",\"Red\",\"Pink\",\"Yellow\",\"Gold\"}), \"\")","v":""},{"$f":"IFERROR(LOOKUP(2, 1/SEARCH({\"8GB\",\"16GB\",\"32GB\",\"64GB\"}, G117), {\"8GB\",\"16GB\",\"32GB\",\"64GB\"}), \"\")","v":""},{"$f":"IFERROR(LOOKUP(2, 1/SEARCH({\"1TB\",\"2TB\",\"128GB\",\"512GB\",\"256GB\"}, G117), {\"1TB\",\"2TB\",\"128GB\",\"512GB\",\"256GB\"}), \"\")","v":""},null,{"$f":"IFERROR(LOOKUP(2, 1/SEARCH({\"16-Inch\",\"15-Inch\",\"15.6-Inch\",\"18-Inch\",\"15.3-Inch\",\"13-Inch\",\"13.4-Inch\",\"13.8-Inch\",\"14-Inch\",\"17-Inch\",\"45-Inch\",\"27-Inch\",\"34-Inch\",\"32-Inch\",\"21.5-Inch\"}, G117), {\"16-Inch\",\"15-Inch\",\"15.6-Inch\",\"18-Inch\",\"15.3-Inch\",\"13-Inch\",\"13.4-Inch\",\"13.8-Inch\",\"14-Inch\",\"17-Inch\",\"45-Inch\",\"27-Inch\",\"34-Inch\",\"32-Inch\",\"21.5-Inch\"}), \"\")","v":""}]
[null,null,null,null,null,null,null,{"$f":"IFERROR(INDEX(BrandList!$A$2:$A$50,MATCH(TRUE,ISNUMBER(SEARCH(BrandList!$A$2:$A$50,G118)),0)),\"\")","v":""},{"$f":"IFERROR(INDEX(BrandList!$B$2:$B$200,MATCH(TRUE,ISNUMBER(SEARCH(BrandList!$B$2:$B$200,G118)),0)),\"\")","v":""},null,null,null,null,null,null,"",{"$f":"IFERROR(VLOOKUP(VALUE(A118),WEEKLY_DATA!$A:$H,2,0),0)","v":0},{"$f":"IFERROR(VLOOKUP(VALUE(A118),WEEKLY_DATA!$A:$H,3,0),0)","v":0},{"$f":"IFERROR(VLOOKUP(VALUE(A118),WEEKLY_DATA!$A:$H,4,0),0)","v":0},{"$f":"IFERROR(VLOOKUP(VALUE(A118),WEEKLY_DATA!$A:$H,5,0),0)","v":0},{"$f":"IFERROR(VLOOKUP(VALUE(A118),WEEKLY_DATA!$A:$H,6,0),0)","v":0},{"$f":"IFERROR(VLOOKUP(VALUE(A118),WEEKLY_DATA!$A:$H,7,0),0)","v":0},{"$f":"IFERROR(IF(OR(Q118=\"\",Q118=0),\"\",IF(VLOOKUP(VALUE($A118),WEEKLY_DATA!$A:$H,6,0)=0,\"No Sales\",Q118/(VLOOKUP(VALUE($A118),WEEKLY_DATA!$A:$H,6,0)/13))),\"\")","v":""},{"$f":"IFERROR(VLOOKUP(VALUE(A118),WEEKLY_DATA!$A:$H,8,0),0)","v":0},"—",null,null,null,null,null,null,"—",null,null,null,"—","—",null,{"$f":"IFERROR(LOOKUP(2, 1/SEARCH({\"Black\",\"White\",\"Grey\",\"Blue\",\"Silver\",\"Brown\",\"Green\",\"Blue\",\"Purple\",\"Red\",\"Pink\",\"Yellow\",\"Gold\"}, G118), {\"Black\",\"White\",\"Grey\",\"Blue\",\"Silver\",\"Brown\",\"Green\",\"Blue\",\"Purple\",\"Red\",\"Pink\",\"Yellow\",\"Gold\"}), \"\")","v":""},{"$f":"IFERROR(LOOKUP(2, 1/SEARCH({\"8GB\",\"16GB\",\"32GB\",\"64GB\"}, G118), {\"8GB\",\"16GB\",\"32GB\",\"64GB\"}), \"\")","v":""},{"$f":"IFERROR(LOOKUP(2, 1/SEARCH({\"1TB\",\"2TB\",\"128GB\",\"512GB\",\"256GB\"}, G118), {\"1TB\",\"2TB\",\"128GB\",\"512GB\",\"256GB\"}), \"\")","v":""},null,{"$f":"IFERROR(LOOKUP(2, 1/SEARCH({\"16-Inch\",\"15-Inch\",\"15.6-Inch\",\"18-Inch\",\"15.3-Inch\",\"13-Inch\",\"13.4-Inch\",\"13.8-Inch\",\"14-Inch\",\"17-Inch\",\"45-Inch\",\"27-Inch\",\"34-Inch\",\"32-Inch\",\"21.5-Inch\"}, G118), {\"16-Inch\",\"15-Inch\",\"15.6-Inch\",\"18-Inch\",\"15.3-Inch\",\"13-Inch\",\"13.4-Inch\",\"13.8-Inch\",\"14-Inch\",\"17-Inch\",\"45-Inch\",\"27-Inch\",\"34-Inch\",\"32-Inch\",\"21.5-Inch\"}), \"\")","v":""}]
[null,null,null,null,null,null,null,{"$f":"IFERROR(INDEX(BrandList!$A$2:$A$50,MATCH(TRUE,ISNUMBER(SEARCH(BrandList!$A$2:$A$50,G119)),0)),\"\")","v":""},{"$f":"IFERROR(INDEX(BrandList!$B$2:$B$200,MATCH(TRUE,ISNUMBER(SEARCH(BrandList!$B$2:$B$200,G119)),0)),\"\")","v":""},null,null,null,null,null,null,"",{"$f":"IFERROR(VLOOKUP(VALUE(A119),WEEKLY_DATA!$A:$H,2,0),0)","v":0},{"$f":"IFERROR(VLOOKUP(VALUE(A119),WEEKLY_DATA!$A:$H,3,0),0)","v":0},{"$f":"IFERROR(VLOOKUP(VALUE(A119),WEEKLY_DATA!$A:$H,4,0),0)","v":0},{"$f":"IFERROR(VLOOKUP(VALUE(A119),WEEKLY_DATA!$A:$H,5,0),0)","v":0},{"$f":"IFERROR(VLOOKUP(VALUE(A119),WEEKLY_DATA!$A:$H,6,0),0)","v":0},{"$f":"IFERROR(VLOOKUP(VALUE(A119),WEEKLY_DATA!$A:$H,7,0),0)","v":0},{"$f":"IFERROR(IF(OR(Q119=\"\",Q119=0),\"\",IF(VLOOKUP(VALUE($A119),WEEKLY_DATA!$A:$H,6,0)=0,\"No Sales\",Q119/(VLOOKUP(VALUE($A119),WEEKLY_DATA!$A:$H,6,0)/13))),\"\")","v":""},{"$f":"IFERROR(VLOOKUP(VALUE(A119),WEEKLY_DATA!$A:$H,8,0),0)","v":0},"—",null,null,null,null,null,null,"—",null,null,null,"—","—",null,{"$f":"IFERROR(LOOKUP(2, 1/SEARCH({\"Black\",\"White\",\"Grey\",\"Blue\",\"Silver\",\"Brown\",\"Green\",\"Blue\",\"Purple\",\"Red\",\"Pink\",\"Yellow\",\"Gold\"}, G119), {\"Black\",\"White\",\"Grey\",\"Blue\",\"Silver\",\"Brown\",\"Green\",\"Blue\",\"Purple\",\"Red\",\"Pink\",\"Yellow\",\"Gold\"}), \"\")","v":""},{"$f":"IFERROR(LOOKUP(2, 1/SEARCH({\"8GB\",\"16GB\",\"32GB\",\"64GB\"}, G119), {\"8GB\",\"16GB\",\"32GB\",\"64GB\"}), \"\")","v":""},{"$f":"IFERROR(LOOKUP(2, 1/SEARCH({\"1TB\",\"2TB\",\"128GB\",\"512GB\",\"256GB\"}, G119), {\"1TB\",\"2TB\",\"128GB\",\"512GB\",\"256GB\"}), \"\")","v":""},null,{"$f":"IFERROR(LOOKUP(2, 1/SEARCH({\"16-Inch\",\"15-Inch\",\"15.6-Inch\",\"18-Inch\",\"15.3-Inch\",\"13-Inch\",\"13.4-Inch\",\"13.8-Inch\",\"14-Inch\",\"17-Inch\",\"45-Inch\",\"27-Inch\",\"34-Inch\",\"32-Inch\",\"21.5-Inch\"}, G119), {\"16-Inch\",\"15-Inch\",\"15.6-Inch\",\"18-Inch\",\"15.3-Inch\",\"13-Inch\",\"13.4-Inch\",\"13.8-Inch\",\"14-Inch\",\"17-Inch\",\"45-Inch\",\"27-Inch\",\"34-Inch\",\"32-Inch\",\"21.5-Inch\"}), \"\")","v":""}]
[null,null,null,null,null,null,null,{"$f":"IFERROR(INDEX(BrandList!$A$2:$A$50,MATCH(TRUE,ISNUMBER(SEARCH(BrandList!$A$2:$A$50,G120)),0)),\"\")","v":""},{"$f":"IFERROR(INDEX(BrandList!$B$2:$B$200,MATCH(TRUE,ISNUMBER(SEARCH(BrandList!$B$2:$B$200,G120)),0)),\"\")","v":""},null,null,null,null,null,null,"",{"$f":"IFERROR(VLOOKUP(VALUE(A120),WEEKLY_DATA!$A:$H,2,0),0)","v":0},{"$f":"IFERROR(VLOOKUP(VALUE(A120),WEEKLY_DATA!$A:$H,3,0),0)","v":0},{"$f":"IFERROR(VLOOKUP(VALUE(A120),WEEKLY_DATA!$A:$H,4,0),0)","v":0},{"$f":"IFERROR(VLOOKUP(VALUE(A120),WEEKLY_DATA!$A:$H,5,0),0)","v":0},{"$f":"IFERROR(VLOOKUP(VALUE(A120),WEEKLY_DATA!$A:$H,6,0),0)","v":0},{"$f":"IFERROR(VLOOKUP(VALUE(A120),WEEKLY_DATA!$A:$H,7,0),0)","v":0},{"$f":"IFERROR(IF(OR(Q120=\"\",Q120=0),\"\",IF(VLOOKUP(VALUE($A120),WEEKLY_DATA!$A:$H,6,0)=0,\"No Sales\",Q120/(VLOOKUP(VALUE($A120),WEEKLY_DATA!$A:$H,6,0)/13))),\"\")","v":""},{"$f":"IFERROR(VLOOKUP(VALUE(A120),WEEKLY_DATA!$A:$H,8,0),0)","v":0},"—",null,null,null,null,null,null,"—",null,null,null,"—","—",null,{"$f":"IFERROR(LOOKUP(2, 1/SEARCH({\"Black\",\"White\",\"Grey\",\"Blue\",\"Silver\",\"Brown\",\"Green\",\"Blue\",\"Purple\",\"Red\",\"Pink\",\"Yellow\",\"Gold\"}, G120), {\"Black\",\"White\",\"Grey\",\"Blue\",\"Silver\",\"Brown\",\"Green\",\"Blue\",\"Purple\",\"Red\",\"Pink\",\"Yellow\",\"Gold\"}), \"\")","v":""},{"$f":"IFERROR(LOOKUP(2, 1/SEARCH({\"8GB\",\"16GB\",\"32GB\",\"64GB\"}, G120), {\"8GB\",\"16GB\",\"32GB\",\"64GB\"}), \"\")","v":""},{"$f":"IFERROR(LOOKUP(2, 1/SEARCH({\"1TB\",\"2TB\",\"128GB\",\"512GB\",\"256GB\"}, G120), {\"1TB\",\"2TB\",\"128GB\",\"512GB\",\"256GB\"}), \"\")","v":""},null,{"$f":"IFERROR(LOOKUP(2, 1/SEARCH({\"16-Inch\",\"15-Inch\",\"15.6-Inch\",\"18-Inch\",\"15.3-Inch\",\"13-Inch\",\"13.4-Inch\",\"13.8-Inch\",\"14-Inch\",\"17-Inch\",\"45-Inch\",\"27-Inch\",\"34-Inch\",\"32-Inch\",\"21.5-Inch\"}, G120), {\"16-Inch\",\"15-Inch\",\"15.6-Inch\",\"18-Inch\",\"15.3-Inch\",\"13-Inch\",\"13.4-Inch\",\"13.8-Inch\",\"14-Inch\",\"17-Inch\",\"45-Inch\",\"27-Inch\",\"34-Inch\",\"32-Inch\",\"21.5-Inch\"}), \"\")","v":""}]
[null,null,null,null,null,null,null,{"$f":"IFERROR(INDEX(BrandList!$A$2:$A$50,MATCH(TRUE,ISNUMBER(SEARCH(BrandList!$A$2:$A$50,G121)),0)),\"\")","v":""},{"$f":"IFERROR(INDEX(BrandList!$B$2:$B$200,MATCH(TRUE,ISNUMBER(SEARCH(BrandList!$B$2:$B$200,G121)),0)),\"\")","v":""},null,null,null,null,null,null,"",{"$f":"IFERROR(VLOOKUP(VALUE(A121),WEEKLY_DATA!$A:$H,2,0),0)","v":0},{"$f":"IFERROR(VLOOKUP(VALUE(A121),WEEKLY_DATA!$A:$H,3,0),0)","v":0},{"$f":"IFERROR(VLOOKUP(VALUE(A121),WEEKLY_DATA!$A:$H,4,0),0)","v":0},{"$f":"IFERROR(VLOOKUP(VALUE(A121),WEEKLY_DATA!$A:$H,5,0),0)","v":0},{"$f":"IFERROR(VLOOKUP(VALUE(A121),WEEKLY_DATA!$A:$H,6,0),0)","v":0},{"$f":"IFERROR(VLOOKUP(VALUE(A121),WEEKLY_DATA!$A:$H,7,0),0)","v":0},{"$f":"IFERROR(IF(OR(Q121=\"\",Q121=0),\"\",IF(VLOOKUP(VALUE($A121),WEEKLY_DATA!$A:$H,6,0)=0,\"No Sales\",Q121/(VLOOKUP(VALUE($A121),WEEKLY_DATA!$A:$H,6,0)/13))),\"\")","v":""},{"$f":"IFERROR(VLOOKUP(VALUE(A121),WEEKLY_DATA!$A:$H,8,0),0)","v":0},"—",null,null,null,null,null,null,"—",null,null,null,"—","—",null,{"$f":"IFERROR(LOOKUP(2, 1/SEARCH({\"Black\",\"White\",\"Grey\",\"Blue\",\"Silver\",\"Brown\",\"Green\",\"Blue\",\"Purple\",\"Red\",\"Pink\",\"Yellow\",\"Gold\"}, G121), {\"Black\",\"White\",\"Grey\",\"Blue\",\"Silver\",\"Brown\",\"Green\",\"Blue\",\"Purple\",\"Red\",\"Pink\",\"Yellow\",\"Gold\"}), \"\")","v":""},{"$f":"IFERROR(LOOKUP(2, 1/SEARCH({\"8GB\",\"16GB\",\"32GB\",\"64GB\"}, G121), {\"8GB\",\"16GB\",\"32GB\",\"64GB\"}), \"\")","v":""},{"$f":"IFERROR(LOOKUP(2, 1/SEARCH({\"1TB\",\"2TB\",\"128GB\",\"512GB\",\"256GB\"}, G121), {\"1TB\",\"2TB\",\"128GB\",\"512GB\",\"256GB\"}), \"\")","v":""},null,{"$f":"IFERROR(LOOKUP(2, 1/SEARCH({\"16-Inch\",\"15-Inch\",\"15.6-Inch\",\"18-Inch\",\"15.3-Inch\",\"13-Inch\",\"13.4-Inch\",\"13.8-Inch\",\"14-Inch\",\"17-Inch\",\"45-Inch\",\"27-Inch\",\"34-Inch\",\"32-Inch\",\"21.5-Inch\"}, G121), {\"16-Inch\",\"15-Inch\",\"15.6-Inch\",\"18-Inch\",\"15.3-Inch\",\"13-Inch\",\"13.4-Inch\",\"13.8-Inch\",\"14-Inch\",\"17-Inch\",\"45-Inch\",\"27-Inch\",\"34-Inch\",\"32-Inch\",\"21.5-Inch\"}), \"\")","v":""}]
[null,null,null,null,null,null,null,{"$f":"IFERROR(INDEX(BrandList!$A$2:$A$50,MATCH(TRUE,ISNUMBER(SEARCH(BrandList!$A$2:$A$50,G122)),0)),\"\")","v":""},{"$f":"IFERROR(INDEX(BrandList!$B$2:$B$200,MATCH(TRUE,ISNUMBER(SEARCH(BrandList!$B$2:$B$200,G122)),0)),\"\")","v":""},null,null,null,null,null,null,"",{"$f":"IFERROR(VLOOKUP(VALUE(A122),WEEKLY_DATA!$A:$H,2,0),0)","v":0},{"$f":"IFERROR(VLOOKUP(VALUE(A122),WEEKLY_DATA!$A:$H,3,0),0)","v":0},{"$f":"IFERROR(VLOOKUP(VALUE(A122),WEEKLY_DATA!$A:$H,4,0),0)","v":0},{"$f":"IFERROR(VLOOKUP(VALUE(A122),WEEKLY_DATA!$A:$H,5,0),0)","v":0},{"$f":"IFERROR(VLOOKUP(VALUE(A122),WEEKLY_DATA!$A:$H,6,0),0)","v":0},{"$f":"IFERROR(VLOOKUP(VALUE(A122),WEEKLY_DATA!$A:$H,7,0),0)","v":0},{"$f":"IFERROR(IF(OR(Q122=\"\",Q122=0),\"\",IF(VLOOKUP(VALUE($A122),WEEKLY_DATA!$A:$H,6,0)=0,\"No Sales\",Q122/(VLOOKUP(VALUE($A122),WEEKLY_DATA!$A:$H,6,0)/13))),\"\")","v":""},{"$f":"IFERROR(VLOOKUP(VALUE(A122),WEEKLY_DATA!$A:$H,8,0),0)","v":0},"—",null,null,null,null,null,null,"—",null,null,null,"—","—",null,{"$f":"IFERROR(LOOKUP(2, 1/SEARCH({\"Black\",\"White\",\"Grey\",\"Blue\",\"Silver\",\"Brown\",\"Green\",\"Blue\",\"Purple\",\"Red\",\"Pink\",\"Yellow\",\"Gold\"}, G122), {\"Black\",\"White\",\"Grey\",\"Blue\",\"Silver\",\"Brown\",\"Green\",\"Blue\",\"Purple\",\"Red\",\"Pink\",\"Yellow\",\"Gold\"}), \"\")","v":""},{"$f":"IFERROR(LOOKUP(2, 1/SEARCH({\"8GB\",\"16GB\",\"32GB\",\"64GB\"}, G122), {\"8GB\",\"16GB\",\"32GB\",\"64GB\"}), \"\")","v":""},{"$f":"IFERROR(LOOKUP(2, 1/SEARCH({\"1TB\",\"2TB\",\"128GB\",\"512GB\",\"256GB\"}, G122), {\"1TB\",\"2TB\",\"128GB\",\"512GB\",\"256GB\"}), \"\")","v":""},null,{"$f":"IFERROR(LOOKUP(2, 1/SEARCH({\"16-Inch\",\"15-Inch\",\"15.6-Inch\",\"18-Inch\",\"15.3-Inch\",\"13-Inch\",\"13.4-Inch\",\"13.8-Inch\",\"14-Inch\",\"17-Inch\",\"45-Inch\",\"27-Inch\",\"34-Inch\",\"32-Inch\",\"21.5-Inch\"}, G122), {\"16-Inch\",\"15-Inch\",\"15.6-Inch\",\"18-Inch\",\"15.3-Inch\",\"13-Inch\",\"13.4-Inch\",\"13.8-Inch\",\"14-Inch\",\"17-Inch\",\"45-Inch\",\"27-Inch\",\"34-Inch\",\"32-Inch\",\"21.5-Inch\"}), \"\")","v":""}]
[null,null,null,null,null,null,null,{"$f":"IFERROR(INDEX(BrandList!$A$2:$A$50,MATCH(TRUE,ISNUMBER(SEARCH(BrandList!$A$2:$A$50,G123)),0)),\"\")","v":""},{"$f":"IFERROR(INDEX(BrandList!$B$2:$B$200,MATCH(TRUE,ISNUMBER(SEARCH(BrandList!$B$2:$B$200,G123)),0)),\"\")","v":""},null,null,null,null,null,null,"",{"$f":"IFERROR(VLOOKUP(VALUE(A123),WEEKLY_DATA!$A:$H,2,0),0)","v":0},{"$f":"IFERROR(VLOOKUP(VALUE(A123),WEEKLY_DATA!$A:$H,3,0),0)","v":0},{"$f":"IFERROR(VLOOKUP(VALUE(A123),WEEKLY_DATA!$A:$H,4,0),0)","v":0},{"$f":"IFERROR(VLOOKUP(VALUE(A123),WEEKLY_DATA!$A:$H,5,0),0)","v":0},{"$f":"IFERROR(VLOOKUP(VALUE(A123),WEEKLY_DATA!$A:$H,6,0),0)","v":0},{"$f":"IFERROR(VLOOKUP(VALUE(A123),WEEKLY_DATA!$A:$H,7,0),0)","v":0},{"$f":"IFERROR(IF(OR(Q123=\"\",Q123=0),\"\",IF(VLOOKUP(VALUE($A123),WEEKLY_DATA!$A:$H,6,0)=0,\"No Sales\",Q123/(VLOOKUP(VALUE($A123),WEEKLY_DATA!$A:$H,6,0)/13))),\"\")","v":""},{"$f":"IFERROR(VLOOKUP(VALUE(A123),WEEKLY_DATA!$A:$H,8,0),0)","v":0},"—",null,null,null,null,null,null,null,null,null,null,null,null,null,{"$f":"IFERROR(LOOKUP(2, 1/SEARCH({\"Black\",\"White\",\"Grey\",\"Blue\",\"Silver\",\"Brown\",\"Green\",\"Blue\",\"Purple\",\"Red\",\"Pink\",\"Yellow\",\"Gold\"}, G123), {\"Black\",\"White\",\"Grey\",\"Blue\",\"Silver\",\"Brown\",\"Green\",\"Blue\",\"Purple\",\"Red\",\"Pink\",\"Yellow\",\"Gold\"}), \"\")","v":""},{"$f":"IFERROR(LOOKUP(2, 1/SEARCH({\"8GB\",\"16GB\",\"32GB\",\"64GB\"}, G123), {\"8GB\",\"16GB\",\"32GB\",\"64GB\"}), \"\")","v":""},{"$f":"IFERROR(LOOKUP(2, 1/SEARCH({\"1TB\",\"2TB\",\"128GB\",\"512GB\",\"256GB\"}, G123), {\"1TB\",\"2TB\",\"128GB\",\"512GB\",\"256GB\"}), \"\")","v":""},null,{"$f":"IFERROR(LOOKUP(2, 1/SEARCH({\"16-Inch\",\"15-Inch\",\"15.6-Inch\",\"18-Inch\",\"15.3-Inch\",\"13-Inch\",\"13.4-Inch\",\"13.8-Inch\",\"14-Inch\",\"17-Inch\",\"45-Inch\",\"27-Inch\",\"34-Inch\",\"32-Inch\",\"21.5-Inch\"}, G123), {\"16-Inch\",\"15-Inch\",\"15.6-Inch\",\"18-Inch\",\"15.3-Inch\",\"13-Inch\",\"13.4-Inch\",\"13.8-Inch\",\"14-Inch\",\"17-Inch\",\"45-Inch\",\"27-Inch\",\"34-Inch\",\"32-Inch\",\"21.5-Inch\"}), \"\")","v":""}]
[null,null,null,null,null,null,null,{"$f":"IFERROR(INDEX(BrandList!$A$2:$A$50,MATCH(TRUE,ISNUMBER(SEARCH(BrandList!$A$2:$A$50,G124)),0)),\"\")","v":""},{"$f":"IFERROR(INDEX(BrandList!$B$2:$B$200,MATCH(TRUE,ISNUMBER(SEARCH(BrandList!$B$2:$B$200,G124)),0)),\"\")","v":""},null,null,null,null,null,null,"",{"$f":"IFERROR(VLOOKUP(VALUE(A124),WEEKLY_DATA!$A:$H,2,0),0)","v":0},{"$f":"IFERROR(VLOOKUP(VALUE(A124),WEEKLY_DATA!$A:$H,3,0),0)","v":0},{"$f":"IFERROR(VLOOKUP(VALUE(A124),WEEKLY_DATA!$A:$H,4,0),0)","v":0},{"$f":"IFERROR(VLOOKUP(VALUE(A124),WEEKLY_DATA!$A:$H,5,0),0)","v":0},{"$f":"IFERROR(VLOOKUP(VALUE(A124),WEEKLY_DATA!$A:$H,6,0),0)","v":0},{"$f":"IFERROR(VLOOKUP(VALUE(A124),WEEKLY_DATA!$A:$H,7,0),0)","v":0},{"$f":"IFERROR(IF(OR(Q124=\"\",Q124=0),\"\",IF(VLOOKUP(VALUE($A124),WEEKLY_DATA!$A:$H,6,0)=0,\"No Sales\",Q124/(VLOOKUP(VALUE($A124),WEEKLY_DATA!$A:$H,6,0)/13))),\"\")","v":""},{"$f":"IFERROR(VLOOKUP(VALUE(A124),WEEKLY_DATA!$A:$H,8,0),0)","v":0},"—",null,null,null,null,null,null,null,null,null,null,null,null,null,{"$f":"IFERROR(LOOKUP(2, 1/SEARCH({\"Black\",\"White\",\"Grey\",\"Blue\",\"Silver\",\"Brown\",\"Green\",\"Blue\",\"Purple\",\"Red\",\"Pink\",\"Yellow\",\"Gold\"}, G124), {\"Black\",\"White\",\"Grey\",\"Blue\",\"Silver\",\"Brown\",\"Green\",\"Blue\",\"Purple\",\"Red\",\"Pink\",\"Yellow\",\"Gold\"}), \"\")","v":""},{"$f":"IFERROR(LOOKUP(2, 1/SEARCH({\"8GB\",\"16GB\",\"32GB\",\"64GB\"}, G124), {\"8GB\",\"16GB\",\"32GB\",\"64GB\"}), \"\")","v":""},{"$f":"IFERROR(LOOKUP(2, 1/SEARCH({\"1TB\",\"2TB\",\"128GB\",\"512GB\",\"256GB\"}, G124), {\"1TB\",\"2TB\",\"128GB\",\"512GB\",\"256GB\"}), \"\")","v":""},null,{"$f":"IFERROR(LOOKUP(2, 1/SEARCH({\"16-Inch\",\"15-Inch\",\"15.6-Inch\",\"18-Inch\",\"15.3-Inch\",\"13-Inch\",\"13.4-Inch\",\"13.8-Inch\",\"14-Inch\",\"17-Inch\",\"45-Inch\",\"27-Inch\",\"34-Inch\",\"32-Inch\",\"21.5-Inch\"}, G124), {\"16-Inch\",\"15-Inch\",\"15.6-Inch\",\"18-Inch\",\"15.3-Inch\",\"13-Inch\",\"13.4-Inch\",\"13.8-Inch\",\"14-Inch\",\"17-Inch\",\"45-Inch\",\"27-Inch\",\"34-Inch\",\"32-Inch\",\"21.5-Inch\"}), \"\")","v":""}]
[null,null,null,null,null,null,null,{"$f":"IFERROR(INDEX(BrandList!$A$2:$A$50,MATCH(TRUE,ISNUMBER(SEARCH(BrandList!$A$2:$A$50,G125)),0)),\"\")","v":""},{"$f":"IFERROR(INDEX(BrandList!$B$2:$B$200,MATCH(TRUE,ISNUMBER(SEARCH(BrandList!$B$2:$B$200,G125)),0)),\"\")","v":""},null,null,null,null,null,null,"",{"$f":"IFERROR(VLOOKUP(VALUE(A125),WEEKLY_DATA!$A:$H,2,0),0)","v":0},{"$f":"IFERROR(VLOOKUP(VALUE(A125),WEEKLY_DATA!$A:$H,3,0),0)","v":0},{"$f":"IFERROR(VLOOKUP(VALUE(A125),WEEKLY_DATA!$A:$H,4,0),0)","v":0},{"$f":"IFERROR(VLOOKUP(VALUE(A125),WEEKLY_DATA!$A:$H,5,0),0)","v":0},{"$f":"IFERROR(VLOOKUP(VALUE(A125),WEEKLY_DATA!$A:$H,6,0),0)","v":0},{"$f":"IFERROR(VLOOKUP(VALUE(A125),WEEKLY_DATA!$A:$H,7,0),0)","v":0},{"$f":"IFERROR(IF(OR(Q125=\"\",Q125=0),\"\",IF(VLOOKUP(VALUE($A125),WEEKLY_DATA!$A:$H,6,0)=0,\"No Sales\",Q125/(VLOOKUP(VALUE($A125),WEEKLY_DATA!$A:$H,6,0)/13))),\"\")","v":""},{"$f":"IFERROR(VLOOKUP(VALUE(A125),WEEKLY_DATA!$A:$H,8,0),0)","v":0},"—",null,null,null,null,null,null,null,null,null,null,null,null,null,{"$f":"IFERROR(LOOKUP(2, 1/SEARCH({\"Black\",\"White\",\"Grey\",\"Blue\",\"Silver\",\"Brown\",\"Green\",\"Blue\",\"Purple\",\"Red\",\"Pink\",\"Yellow\",\"Gold\"}, G125), {\"Black\",\"White\",\"Grey\",\"Blue\",\"Silver\",\"Brown\",\"Green\",\"Blue\",\"Purple\",\"Red\",\"Pink\",\"Yellow\",\"Gold\"}), \"\")","v":""},{"$f":"IFERROR(LOOKUP(2, 1/SEARCH({\"8GB\",\"16GB\",\"32GB\",\"64GB\"}, G125), {\"8GB\",\"16GB\",\"32GB\",\"64GB\"}), \"\")","v":""},{"$f":"IFERROR(LOOKUP(2, 1/SEARCH({\"1TB\",\"2TB\",\"128GB\",\"512GB\",\"256GB\"}, G125), {\"1TB\",\"2TB\",\"128GB\",\"512GB\",\"256GB\"}), \"\")","v":""},null,{"$f":"IFERROR(LOOKUP(2, 1/SEARCH({\"16-Inch\",\"15-Inch\",\"15.6-Inch\",\"18-Inch\",\"15.3-Inch\",\"13-Inch\",\"13.4-Inch\",\"13.8-Inch\",\"14-Inch\",\"17-Inch\",\"45-Inch\",\"27-Inch\",\"34-Inch\",\"32-Inch\",\"21.5-Inch\"}, G125), {\"16-Inch\",\"15-Inch\",\"15.6-Inch\",\"18-Inch\",\"15.3-Inch\",\"13-Inch\",\"13.4-Inch\",\"13.8-Inch\",\"14-Inch\",\"17-Inch\",\"45-Inch\",\"27-Inch\",\"34-Inch\",\"32-Inch\",\"21.5-Inch\"}), \"\")","v":""}]
[null,null,null,null,null,null,null,{"$f":"IFERROR(INDEX(BrandList!$A$2:$A$50,MATCH(TRUE,ISNUMBER(SEARCH(BrandList!$A$2:$A$50,G126)),0)),\"\")","v":""},{"$f":"IFERROR(INDEX(BrandList!$B$2:$B$200,MATCH(TRUE,ISNUMBER(SEARCH(BrandList!$B$2:$B$200,G126)),0)),\"\")","v":""},null,null,null,null,null,null,"",{"$f":"IFERROR(VLOOKUP(VALUE(A126),WEEKLY_DATA!$A:$H,2,0),0)","v":0},{"$f":"IFERROR(VLOOKUP(VALUE(A126),WEEKLY_DATA!$A:$H,3,0),0)","v":0},{"$f":"IFERROR(VLOOKUP(VALUE(A126),WEEKLY_DATA!$A:$H,4,0),0)","v":0},{"$f":"IFERROR(VLOOKUP(VALUE(A126),WEEKLY_DATA!$A:$H,5,0),0)","v":0},{"$f":"IFERROR(VLOOKUP(VALUE(A126),WEEKLY_DATA!$A:$H,6,0),0)","v":0},{"$f":"IFERROR(VLOOKUP(VALUE(A126),WEEKLY_DATA!$A:$H,7,0),0)","v":0},{"$f":"IFERROR(IF(OR(Q126=\"\",Q126=0),\"\",IF(VLOOKUP(VALUE($A126),WEEKLY_DATA!$A:$H,6,0)=0,\"No Sales\",Q126/(VLOOKUP(VALUE($A126),WEEKLY_DATA!$A:$H,6,0)/13))),\"\")","v":""},{"$f":"IFERROR(VLOOKUP(VALUE(A126),WEEKLY_DATA!$A:$H,8,0),0)","v":0},"—",null,null,null,null,null,null,"—",null,null,null,"—","—",null,{"$f":"IFERROR(LOOKUP(2, 1/SEARCH({\"Black\",\"White\",\"Grey\",\"Blue\",\"Silver\",\"Brown\",\"Green\",\"Blue\",\"Purple\",\"Red\",\"Pink\",\"Yellow\",\"Gold\"}, G126), {\"Black\",\"White\",\"Grey\",\"Blue\",\"Silver\",\"Brown\",\"Green\",\"Blue\",\"Purple\",\"Red\",\"Pink\",\"Yellow\",\"Gold\"}), \"\")","v":""},{"$f":"IFERROR(LOOKUP(2, 1/SEARCH({\"8GB\",\"16GB\",\"32GB\",\"64GB\"}, G126), {\"8GB\",\"16GB\",\"32GB\",\"64GB\"}), \"\")","v":""},{"$f":"IFERROR(LOOKUP(2, 1/SEARCH({\"1TB\",\"2TB\",\"128GB\",\"512GB\",\"256GB\"}, G126), {\"1TB\",\"2TB\",\"128GB\",\"512GB\",\"256GB\"}), \"\")","v":""},null,{"$f":"IFERROR(LOOKUP(2, 1/SEARCH({\"16-Inch\",\"15-Inch\",\"15.6-Inch\",\"18-Inch\",\"15.3-Inch\",\"13-Inch\",\"13.4-Inch\",\"13.8-Inch\",\"14-Inch\",\"17-Inch\",\"45-Inch\",\"27-Inch\",\"34-Inch\",\"32-Inch\",\"21.5-Inch\"}, G126), {\"16-Inch\",\"15-Inch\",\"15.6-Inch\",\"18-Inch\",\"15.3-Inch\",\"13-Inch\",\"13.4-Inch\",\"13.8-Inch\",\"14-Inch\",\"17-Inch\",\"45-Inch\",\"27-Inch\",\"34-Inch\",\"32-Inch\",\"21.5-Inch\"}), \"\")","v":""}]
[null,null,null,null,null,null,null,{"$f":"IFERROR(INDEX(BrandList!$A$2:$A$50,MATCH(TRUE,ISNUMBER(SEARCH(BrandList!$A$2:$A$50,G127)),0)),\"\")","v":""},{"$f":"IFERROR(INDEX(BrandList!$B$2:$B$200,MATCH(TRUE,ISNUMBER(SEARCH(BrandList!$B$2:$B$200,G127)),0)),\"\")","v":""},null,null,null,null,null,null,"",{"$f":"IFERROR(VLOOKUP(VALUE(A127),WEEKLY_DATA!$A:$H,2,0),0)","v":0},{"$f":"IFERROR(VLOOKUP(VALUE(A127),WEEKLY_DATA!$A:$H,3,0),0)","v":0},{"$f":"IFERROR(VLOOKUP(VALUE(A127),WEEKLY_DATA!$A:$H,4,0),0)","v":0},{"$f":"IFERROR(VLOOKUP(VALUE(A127),WEEKLY_DATA!$A:$H,5,0),0)","v":0},{"$f":"IFERROR(VLOOKUP(VALUE(A127),WEEKLY_DATA!$A:$H,6,0),0)","v":0},{"$f":"IFERROR(VLOOKUP(VALUE(A127),WEEKLY_DATA!$A:$H,7,0),0)","v":0},{"$f":"IFERROR(IF(OR(Q127=\"\",Q127=0),\"\",IF(VLOOKUP(VALUE($A127),WEEKLY_DATA!$A:$H,6,0)=0,\"No Sales\",Q127/(VLOOKUP(VALUE($A127),WEEKLY_DATA!$A:$H,6,0)/13))),\"\")","v":""},{"$f":"IFERROR(VLOOKUP(VALUE(A127),WEEKLY_DATA!$A:$H,8,0),0)","v":0},"—",null,null,null,null,null,null,"—",null,null,null,"—","—",null,{"$f":"IFERROR(LOOKUP(2, 1/SEARCH({\"Black\",\"White\",\"Grey\",\"Blue\",\"Silver\",\"Brown\",\"Green\",\"Blue\",\"Purple\",\"Red\",\"Pink\",\"Yellow\",\"Gold\"}, G127), {\"Black\",\"White\",\"Grey\",\"Blue\",\"Silver\",\"Brown\",\"Green\",\"Blue\",\"Purple\",\"Red\",\"Pink\",\"Yellow\",\"Gold\"}), \"\")","v":""},{"$f":"IFERROR(LOOKUP(2, 1/SEARCH({\"8GB\",\"16GB\",\"32GB\",\"64GB\"}, G127), {\"8GB\",\"16GB\",\"32GB\",\"64GB\"}), \"\")","v":""},{"$f":"IFERROR(LOOKUP(2, 1/SEARCH({\"1TB\",\"2TB\",\"128GB\",\"512GB\",\"256GB\"}, G127), {\"1TB\",\"2TB\",\"128GB\",\"512GB\",\"256GB\"}), \"\")","v":""},null,{"$f":"IFERROR(LOOKUP(2, 1/SEARCH({\"16-Inch\",\"15-Inch\",\"15.6-Inch\",\"18-Inch\",\"15.3-Inch\",\"13-Inch\",\"13.4-Inch\",\"13.8-Inch\",\"14-Inch\",\"17-Inch\",\"45-Inch\",\"27-Inch\",\"34-Inch\",\"32-Inch\",\"21.5-Inch\"}, G127), {\"16-Inch\",\"15-Inch\",\"15.6-Inch\",\"18-Inch\",\"15.3-Inch\",\"13-Inch\",\"13.4-Inch\",\"13.8-Inch\",\"14-Inch\",\"17-Inch\",\"45-Inch\",\"27-Inch\",\"34-Inch\",\"32-Inch\",\"21.5-Inch\"}), \"\")","v":""}]
[null,null,null,null,null,null,null,{"$f":"IFERROR(INDEX(BrandList!$A$2:$A$50,MATCH(TRUE,ISNUMBER(SEARCH(BrandList!$A$2:$A$50,G128)),0)),\"\")","v":""},{"$f":"IFERROR(INDEX(BrandList!$B$2:$B$200,MATCH(TRUE,ISNUMBER(SEARCH(BrandList!$B$2:$B$200,G128)),0)),\"\")","v":""},null,null,null,null,null,null,"",{"$f":"IFERROR(VLOOKUP(VALUE(A128),WEEKLY_DATA!$A:$H,2,0),0)","v":0},{"$f":"IFERROR(VLOOKUP(VALUE(A128),WEEKLY_DATA!$A:$H,3,0),0)","v":0},{"$f":"IFERROR(VLOOKUP(VALUE(A128),WEEKLY_DATA!$A:$H,4,0),0)","v":0},{"$f":"IFERROR(VLOOKUP(VALUE(A128),WEEKLY_DATA!$A:$H,5,0),0)","v":0},{"$f":"IFERROR(VLOOKUP(VALUE(A128),WEEKLY_DATA!$A:$H,6,0),0)","v":0},{"$f":"IFERROR(VLOOKUP(VALUE(A128),WEEKLY_DATA!$A:$H,7,0),0)","v":0},{"$f":"IFERROR(IF(OR(Q128=\"\",Q128=0),\"\",IF(VLOOKUP(VALUE($A128),WEEKLY_DATA!$A:$H,6,0)=0,\"No Sales\",Q128/(VLOOKUP(VALUE($A128),WEEKLY_DATA!$A:$H,6,0)/13))),\"\")","v":""},{"$f":"IFERROR(VLOOKUP(VALUE(A128),WEEKLY_DATA!$A:$H,8,0),0)","v":0},"—",null,null,null,null,null,null,"—",null,null,null,"—","—",null,{"$f":"IFERROR(LOOKUP(2, 1/SEARCH({\"Black\",\"White\",\"Grey\",\"Blue\",\"Silver\",\"Brown\",\"Green\",\"Blue\",\"Purple\",\"Red\",\"Pink\",\"Yellow\",\"Gold\"}, G128), {\"Black\",\"White\",\"Grey\",\"Blue\",\"Silver\",\"Brown\",\"Green\",\"Blue\",\"Purple\",\"Red\",\"Pink\",\"Yellow\",\"Gold\"}), \"\")","v":""},{"$f":"IFERROR(LOOKUP(2, 1/SEARCH({\"8GB\",\"16GB\",\"32GB\",\"64GB\"}, G128), {\"8GB\",\"16GB\",\"32GB\",\"64GB\"}), \"\")","v":""},{"$f":"IFERROR(LOOKUP(2, 1/SEARCH({\"1TB\",\"2TB\",\"128GB\",\"512GB\",\"256GB\"}, G128), {\"1TB\",\"2TB\",\"128GB\",\"512GB\",\"256GB\"}), \"\")","v":""},null,{"$f":"IFERROR(LOOKUP(2, 1/SEARCH({\"16-Inch\",\"15-Inch\",\"15.6-Inch\",\"18-Inch\",\"15.3-Inch\",\"13-Inch\",\"13.4-Inch\",\"13.8-Inch\",\"14-Inch\",\"17-Inch\",\"45-Inch\",\"27-Inch\",\"34-Inch\",\"32-Inch\",\"21.5-Inch\"}, G128), {\"16-Inch\",\"15-Inch\",\"15.6-Inch\",\"18-Inch\",\"15.3-Inch\",\"13-Inch\",\"13.4-Inch\",\"13.8-Inch\",\"14-Inch\",\"17-Inch\",\"45-Inch\",\"27-Inch\",\"34-Inch\",\"32-Inch\",\"21.5-Inch\"}), \"\")","v":""}]
[null,null,null,null,null,null,null,{"$f":"IFERROR(INDEX(BrandList!$A$2:$A$50,MATCH(TRUE,ISNUMBER(SEARCH(BrandList!$A$2:$A$50,G129)),0)),\"\")","v":""},{"$f":"IFERROR(INDEX(BrandList!$B$2:$B$200,MATCH(TRUE,ISNUMBER(SEARCH(BrandList!$B$2:$B$200,G129)),0)),\"\")","v":""},null,null,null,null,null,null,"",{"$f":"IFERROR(VLOOKUP(VALUE(A129),WEEKLY_DATA!$A:$H,2,0),0)","v":0},{"$f":"IFERROR(VLOOKUP(VALUE(A129),WEEKLY_DATA!$A:$H,3,0),0)","v":0},{"$f":"IFERROR(VLOOKUP(VALUE(A129),WEEKLY_DATA!$A:$H,4,0),0)","v":0},{"$f":"IFERROR(VLOOKUP(VALUE(A129),WEEKLY_DATA!$A:$H,5,0),0)","v":0},{"$f":"IFERROR(VLOOKUP(VALUE(A129),WEEKLY_DATA!$A:$H,6,0),0)","v":0},{"$f":"IFERROR(VLOOKUP(VALUE(A129),WEEKLY_DATA!$A:$H,7,0),0)","v":0},{"$f":"IFERROR(IF(OR(Q129=\"\",Q129=0),\"\",IF(VLOOKUP(VALUE($A129),WEEKLY_DATA!$A:$H,6,0)=0,\"No Sales\",Q129/(VLOOKUP(VALUE($A129),WEEKLY_DATA!$A:$H,6,0)/13))),\"\")","v":""},{"$f":"IFERROR(VLOOKUP(VALUE(A129),WEEKLY_DATA!$A:$H,8,0),0)","v":0},"—",null,null,null,null,null,null,"—",null,null,null,"—","—",null,{"$f":"IFERROR(LOOKUP(2, 1/SEARCH({\"Black\",\"White\",\"Grey\",\"Blue\",\"Silver\",\"Brown\",\"Green\",\"Blue\",\"Purple\",\"Red\",\"Pink\",\"Yellow\",\"Gold\"}, G129), {\"Black\",\"White\",\"Grey\",\"Blue\",\"Silver\",\"Brown\",\"Green\",\"Blue\",\"Purple\",\"Red\",\"Pink\",\"Yellow\",\"Gold\"}), \"\")","v":""},{"$f":"IFERROR(LOOKUP(2, 1/SEARCH({\"8GB\",\"16GB\",\"32GB\",\"64GB\"}, G129), {\"8GB\",\"16GB\",\"32GB\",\"64GB\"}), \"\")","v":""},{"$f":"IFERROR(LOOKUP(2, 1/SEARCH({\"1TB\",\"2TB\",\"128GB\",\"512GB\",\"256GB\"}, G129), {\"1TB\",\"2TB\",\"128GB\",\"512GB\",\"256GB\"}), \"\")","v":""},null,{"$f":"IFERROR(LOOKUP(2, 1/SEARCH({\"16-Inch\",\"15-Inch\",\"15.6-Inch\",\"18-Inch\",\"15.3-Inch\",\"13-Inch\",\"13.4-Inch\",\"13.8-Inch\",\"14-Inch\",\"17-Inch\",\"45-Inch\",\"27-Inch\",\"34-Inch\",\"32-Inch\",\"21.5-Inch\"}, G129), {\"16-Inch\",\"15-Inch\",\"15.6-Inch\",\"18-Inch\",\"15.3-Inch\",\"13-Inch\",\"13.4-Inch\",\"13.8-Inch\",\"14-Inch\",\"17-Inch\",\"45-Inch\",\"27-Inch\",\"34-Inch\",\"32-Inch\",\"21.5-Inch\"}), \"\")","v":""}]
[null,null,null,null,null,null,null,{"$f":"IFERROR(INDEX(BrandList!$A$2:$A$50,MATCH(TRUE,ISNUMBER(SEARCH(BrandList!$A$2:$A$50,G130)),0)),\"\")","v":""},{"$f":"IFERROR(INDEX(BrandList!$B$2:$B$200,MATCH(TRUE,ISNUMBER(SEARCH(BrandList!$B$2:$B$200,G130)),0)),\"\")","v":""},null,null,null,null,null,null,"",{"$f":"IFERROR(VLOOKUP(VALUE(A130),WEEKLY_DATA!$A:$H,2,0),0)","v":0},{"$f":"IFERROR(VLOOKUP(VALUE(A130),WEEKLY_DATA!$A:$H,3,0),0)","v":0},{"$f":"IFERROR(VLOOKUP(VALUE(A130),WEEKLY_DATA!$A:$H,4,0),0)","v":0},{"$f":"IFERROR(VLOOKUP(VALUE(A130),WEEKLY_DATA!$A:$H,5,0),0)","v":0},{"$f":"IFERROR(VLOOKUP(VALUE(A130),WEEKLY_DATA!$A:$H,6,0),0)","v":0},{"$f":"IFERROR(VLOOKUP(VALUE(A130),WEEKLY_DATA!$A:$H,7,0),0)","v":0},{"$f":"IFERROR(IF(OR(Q130=\"\",Q130=0),\"\",IF(VLOOKUP(VALUE($A130),WEEKLY_DATA!$A:$H,6,0)=0,\"No Sales\",Q130/(VLOOKUP(VALUE($A130),WEEKLY_DATA!$A:$H,6,0)/13))),\"\")","v":""},{"$f":"IFERROR(VLOOKUP(VALUE(A130),WEEKLY_DATA!$A:$H,8,0),0)","v":0},"—",null,null,null,null,null,null,"—",null,null,null,"—","—",null,{"$f":"IFERROR(LOOKUP(2, 1/SEARCH({\"Black\",\"White\",\"Grey\",\"Blue\",\"Silver\",\"Brown\",\"Green\",\"Blue\",\"Purple\",\"Red\",\"Pink\",\"Yellow\",\"Gold\"}, G130), {\"Black\",\"White\",\"Grey\",\"Blue\",\"Silver\",\"Brown\",\"Green\",\"Blue\",\"Purple\",\"Red\",\"Pink\",\"Yellow\",\"Gold\"}), \"\")","v":""},{"$f":"IFERROR(LOOKUP(2, 1/SEARCH({\"8GB\",\"16GB\",\"32GB\",\"64GB\"}, G130), {\"8GB\",\"16GB\",\"32GB\",\"64GB\"}), \"\")","v":""},{"$f":"IFERROR(LOOKUP(2, 1/SEARCH({\"1TB\",\"2TB\",\"128GB\",\"512GB\",\"256GB\"}, G130), {\"1TB\",\"2TB\",\"128GB\",\"512GB\",\"256GB\"}), \"\")","v":""},null,{"$f":"IFERROR(LOOKUP(2, 1/SEARCH({\"16-Inch\",\"15-Inch\",\"15.6-Inch\",\"18-Inch\",\"15.3-Inch\",\"13-Inch\",\"13.4-Inch\",\"13.8-Inch\",\"14-Inch\",\"17-Inch\",\"45-Inch\",\"27-Inch\",\"34-Inch\",\"32-Inch\",\"21.5-Inch\"}, G130), {\"16-Inch\",\"15-Inch\",\"15.6-Inch\",\"18-Inch\",\"15.3-Inch\",\"13-Inch\",\"13.4-Inch\",\"13.8-Inch\",\"14-Inch\",\"17-Inch\",\"45-Inch\",\"27-Inch\",\"34-Inch\",\"32-Inch\",\"21.5-Inch\"}), \"\")","v":""}]
[null,null,null,null,null,null,null,{"$f":"IFERROR(INDEX(BrandList!$A$2:$A$50,MATCH(TRUE,ISNUMBER(SEARCH(BrandList!$A$2:$A$50,G131)),0)),\"\")","v":""},{"$f":"IFERROR(INDEX(BrandList!$B$2:$B$200,MATCH(TRUE,ISNUMBER(SEARCH(BrandList!$B$2:$B$200,G131)),0)),\"\")","v":""},null,null,null,null,null,null,"",{"$f":"IFERROR(VLOOKUP(VALUE(A131),WEEKLY_DATA!$A:$H,2,0),0)","v":0},{"$f":"IFERROR(VLOOKUP(VALUE(A131),WEEKLY_DATA!$A:$H,3,0),0)","v":0},{"$f":"IFERROR(VLOOKUP(VALUE(A131),WEEKLY_DATA!$A:$H,4,0),0)","v":0},{"$f":"IFERROR(VLOOKUP(VALUE(A131),WEEKLY_DATA!$A:$H,5,0),0)","v":0},{"$f":"IFERROR(VLOOKUP(VALUE(A131),WEEKLY_DATA!$A:$H,6,0),0)","v":0},{"$f":"IFERROR(VLOOKUP(VALUE(A131),WEEKLY_DATA!$A:$H,7,0),0)","v":0},{"$f":"IFERROR(IF(OR(Q131=\"\",Q131=0),\"\",IF(VLOOKUP(VALUE($A131),WEEKLY_DATA!$A:$H,6,0)=0,\"No Sales\",Q131/(VLOOKUP(VALUE($A131),WEEKLY_DATA!$A:$H,6,0)/13))),\"\")","v":""},{"$f":"IFERROR(VLOOKUP(VALUE(A131),WEEKLY_DATA!$A:$H,8,0),0)","v":0},"—",null,null,null,null,null,null,"—",null,null,null,"—","—",null,{"$f":"IFERROR(LOOKUP(2, 1/SEARCH({\"Black\",\"White\",\"Grey\",\"Blue\",\"Silver\",\"Brown\",\"Green\",\"Blue\",\"Purple\",\"Red\",\"Pink\",\"Yellow\",\"Gold\"}, G131), {\"Black\",\"White\",\"Grey\",\"Blue\",\"Silver\",\"Brown\",\"Green\",\"Blue\",\"Purple\",\"Red\",\"Pink\",\"Yellow\",\"Gold\"}), \"\")","v":""},{"$f":"IFERROR(LOOKUP(2, 1/SEARCH({\"8GB\",\"16GB\",\"32GB\",\"64GB\"}, G131), {\"8GB\",\"16GB\",\"32GB\",\"64GB\"}), \"\")","v":""},{"$f":"IFERROR(LOOKUP(2, 1/SEARCH({\"1TB\",\"2TB\",\"128GB\",\"512GB\",\"256GB\"}, G131), {\"1TB\",\"2TB\",\"128GB\",\"512GB\",\"256GB\"}), \"\")","v":""},null,{"$f":"IFERROR(LOOKUP(2, 1/SEARCH({\"16-Inch\",\"15-Inch\",\"15.6-Inch\",\"18-Inch\",\"15.3-Inch\",\"13-Inch\",\"13.4-Inch\",\"13.8-Inch\",\"14-Inch\",\"17-Inch\",\"45-Inch\",\"27-Inch\",\"34-Inch\",\"32-Inch\",\"21.5-Inch\"}, G131), {\"16-Inch\",\"15-Inch\",\"15.6-Inch\",\"18-Inch\",\"15.3-Inch\",\"13-Inch\",\"13.4-Inch\",\"13.8-Inch\",\"14-Inch\",\"17-Inch\",\"45-Inch\",\"27-Inch\",\"34-Inch\",\"32-Inch\",\"21.5-Inch\"}), \"\")","v":""}]
[null,null,null,null,null,null,null,{"$f":"IFERROR(INDEX(BrandList!$A$2:$A$50,MATCH(TRUE,ISNUMBER(SEARCH(BrandList!$A$2:$A$50,G132)),0)),\"\")","v":""},{"$f":"IFERROR(INDEX(BrandList!$B$2:$B$200,MATCH(TRUE,ISNUMBER(SEARCH(BrandList!$B$2:$B$200,G132)),0)),\"\")","v":""},null,null,null,null,null,null,"",{"$f":"IFERROR(VLOOKUP(VALUE(A132),WEEKLY_DATA!$A:$H,2,0),0)","v":0},{"$f":"IFERROR(VLOOKUP(VALUE(A132),WEEKLY_DATA!$A:$H,3,0),0)","v":0},{"$f":"IFERROR(VLOOKUP(VALUE(A132),WEEKLY_DATA!$A:$H,4,0),0)","v":0},{"$f":"IFERROR(VLOOKUP(VALUE(A132),WEEKLY_DATA!$A:$H,5,0),0)","v":0},{"$f":"IFERROR(VLOOKUP(VALUE(A132),WEEKLY_DATA!$A:$H,6,0),0)","v":0},{"$f":"IFERROR(VLOOKUP(VALUE(A132),WEEKLY_DATA!$A:$H,7,0),0)","v":0},{"$f":"IFERROR(IF(OR(Q132=\"\",Q132=0),\"\",IF(VLOOKUP(VALUE($A132),WEEKLY_DATA!$A:$H,6,0)=0,\"No Sales\",Q132/(VLOOKUP(VALUE($A132),WEEKLY_DATA!$A:$H,6,0)/13))),\"\")","v":""},{"$f":"IFERROR(VLOOKUP(VALUE(A132),WEEKLY_DATA!$A:$H,8,0),0)","v":0},"—",null,null,null,null,null,null,"—",null,null,null,"—","—",null,{"$f":"IFERROR(LOOKUP(2, 1/SEARCH({\"Black\",\"White\",\"Grey\",\"Blue\",\"Silver\",\"Brown\",\"Green\",\"Blue\",\"Purple\",\"Red\",\"Pink\",\"Yellow\",\"Gold\"}, G132), {\"Black\",\"White\",\"Grey\",\"Blue\",\"Silver\",\"Brown\",\"Green\",\"Blue\",\"Purple\",\"Red\",\"Pink\",\"Yellow\",\"Gold\"}), \"\")","v":""},{"$f":"IFERROR(LOOKUP(2, 1/SEARCH({\"8GB\",\"16GB\",\"32GB\",\"64GB\"}, G132), {\"8GB\",\"16GB\",\"32GB\",\"64GB\"}), \"\")","v":""},{"$f":"IFERROR(LOOKUP(2, 1/SEARCH({\"1TB\",\"2TB\",\"128GB\",\"512GB\",\"256GB\"}, G132), {\"1TB\",\"2TB\",\"128GB\",\"512GB\",\"256GB\"}), \"\")","v":""},null,{"$f":"IFERROR(LOOKUP(2, 1/SEARCH({\"16-Inch\",\"15-Inch\",\"15.6-Inch\",\"18-Inch\",\"15.3-Inch\",\"13-Inch\",\"13.4-Inch\",\"13.8-Inch\",\"14-Inch\",\"17-Inch\",\"45-Inch\",\"27-Inch\",\"34-Inch\",\"32-Inch\",\"21.5-Inch\"}, G132), {\"16-Inch\",\"15-Inch\",\"15.6-Inch\",\"18-Inch\",\"15.3-Inch\",\"13-Inch\",\"13.4-Inch\",\"13.8-Inch\",\"14-Inch\",\"17-Inch\",\"45-Inch\",\"27-Inch\",\"34-Inch\",\"32-Inch\",\"21.5-Inch\"}), \"\")","v":""}]
[null,null,null,null,null,null,null,{"$f":"IFERROR(INDEX(BrandList!$A$2:$A$50,MATCH(TRUE,ISNUMBER(SEARCH(BrandList!$A$2:$A$50,G133)),0)),\"\")","v":""},{"$f":"IFERROR(INDEX(BrandList!$B$2:$B$200,MATCH(TRUE,ISNUMBER(SEARCH(BrandList!$B$2:$B$200,G133)),0)),\"\")","v":""},null,null,null,null,null,null,"",{"$f":"IFERROR(VLOOKUP(VALUE(A133),WEEKLY_DATA!$A:$H,2,0),0)","v":0},{"$f":"IFERROR(VLOOKUP(VALUE(A133),WEEKLY_DATA!$A:$H,3,0),0)","v":0},{"$f":"IFERROR(VLOOKUP(VALUE(A133),WEEKLY_DATA!$A:$H,4,0),0)","v":0},{"$f":"IFERROR(VLOOKUP(VALUE(A133),WEEKLY_DATA!$A:$H,5,0),0)","v":0},{"$f":"IFERROR(VLOOKUP(VALUE(A133),WEEKLY_DATA!$A:$H,6,0),0)","v":0},{"$f":"IFERROR(VLOOKUP(VALUE(A133),WEEKLY_DATA!$A:$H,7,0),0)","v":0},{"$f":"IFERROR(IF(OR(Q133=\"\",Q133=0),\"\",IF(VLOOKUP(VALUE($A133),WEEKLY_DATA!$A:$H,6,0)=0,\"No Sales\",Q133/(VLOOKUP(VALUE($A133),WEEKLY_DATA!$A:$H,6,0)/13))),\"\")","v":""},{"$f":"IFERROR(VLOOKUP(VALUE(A133),WEEKLY_DATA!$A:$H,8,0),0)","v":0},"—",null,null,null,null,null,null,"—",null,null,null,"—","—",null,{"$f":"IFERROR(LOOKUP(2, 1/SEARCH({\"Black\",\"White\",\"Grey\",\"Blue\",\"Silver\",\"Brown\",\"Green\",\"Blue\",\"Purple\",\"Red\",\"Pink\",\"Yellow\",\"Gold\"}, G133), {\"Black\",\"White\",\"Grey\",\"Blue\",\"Silver\",\"Brown\",\"Green\",\"Blue\",\"Purple\",\"Red\",\"Pink\",\"Yellow\",\"Gold\"}), \"\")","v":""},{"$f":"IFERROR(LOOKUP(2, 1/SEARCH({\"8GB\",\"16GB\",\"32GB\",\"64GB\"}, G133), {\"8GB\",\"16GB\",\"32GB\",\"64GB\"}), \"\")","v":""},{"$f":"IFERROR(LOOKUP(2, 1/SEARCH({\"1TB\",\"2TB\",\"128GB\",\"512GB\",\"256GB\"}, G133), {\"1TB\",\"2TB\",\"128GB\",\"512GB\",\"256GB\"}), \"\")","v":""},null,{"$f":"IFERROR(LOOKUP(2, 1/SEARCH({\"16-Inch\",\"15-Inch\",\"15.6-Inch\",\"18-Inch\",\"15.3-Inch\",\"13-Inch\",\"13.4-Inch\",\"13.8-Inch\",\"14-Inch\",\"17-Inch\",\"45-Inch\",\"27-Inch\",\"34-Inch\",\"32-Inch\",\"21.5-Inch\"}, G133), {\"16-Inch\",\"15-Inch\",\"15.6-Inch\",\"18-Inch\",\"15.3-Inch\",\"13-Inch\",\"13.4-Inch\",\"13.8-Inch\",\"14-Inch\",\"17-Inch\",\"45-Inch\",\"27-Inch\",\"34-Inch\",\"32-Inch\",\"21.5-Inch\"}), \"\")","v":""}]
[null,null,null,null,null,null,null,{"$f":"IFERROR(INDEX(BrandList!$A$2:$A$50,MATCH(TRUE,ISNUMBER(SEARCH(BrandList!$A$2:$A$50,G134)),0)),\"\")","v":""},{"$f":"IFERROR(INDEX(BrandList!$B$2:$B$200,MATCH(TRUE,ISNUMBER(SEARCH(BrandList!$B$2:$B$200,G134)),0)),\"\")","v":""},null,null,null,null,null,null,"",{"$f":"IFERROR(VLOOKUP(VALUE(A134),WEEKLY_DATA!$A:$H,2,0),0)","v":0},{"$f":"IFERROR(VLOOKUP(VALUE(A134),WEEKLY_DATA!$A:$H,3,0),0)","v":0},{"$f":"IFERROR(VLOOKUP(VALUE(A134),WEEKLY_DATA!$A:$H,4,0),0)","v":0},{"$f":"IFERROR(VLOOKUP(VALUE(A134),WEEKLY_DATA!$A:$H,5,0),0)","v":0},{"$f":"IFERROR(VLOOKUP(VALUE(A134),WEEKLY_DATA!$A:$H,6,0),0)","v":0},{"$f":"IFERROR(VLOOKUP(VALUE(A134),WEEKLY_DATA!$A:$H,7,0),0)","v":0},{"$f":"IFERROR(IF(OR(Q134=\"\",Q134=0),\"\",IF(VLOOKUP(VALUE($A134),WEEKLY_DATA!$A:$H,6,0)=0,\"No Sales\",Q134/(VLOOKUP(VALUE($A134),WEEKLY_DATA!$A:$H,6,0)/13))),\"\")","v":""},{"$f":"IFERROR(VLOOKUP(VALUE(A134),WEEKLY_DATA!$A:$H,8,0),0)","v":0},{"$f":"IFERROR(\nIF(J134=\"Discontinued\",\"🔴 EOL\",\nIF(J134=\"Drop Ship\",\"📦 Drop Ship\",\nIF(J134=\"New\",\"🆕 New\",\nIF(W134=\"\",\"—\",\nIF(W134<2,\"🔴 Critical\",\nIF(W134<4,\"🟡 Low\",\nIF(W134>26,\"🔵 Overstock\",\"🟢 Healthy\")\n)))))),\"\")","v":"—"},null,null,null,null,null,null,"—",null,null,null,"—","—",null,{"$f":"IFERROR(LOOKUP(2, 1/SEARCH({\"Black\",\"White\",\"Grey\",\"Blue\",\"Silver\",\"Brown\",\"Green\",\"Blue\",\"Purple\",\"Red\",\"Pink\",\"Yellow\",\"Gold\"}, G134), {\"Black\",\"White\",\"Grey\",\"Blue\",\"Silver\",\"Brown\",\"Green\",\"Blue\",\"Purple\",\"Red\",\"Pink\",\"Yellow\",\"Gold\"}), \"\")","v":""},{"$f":"IFERROR(LOOKUP(2, 1/SEARCH({\"8GB\",\"16GB\",\"32GB\",\"64GB\"}, G134), {\"8GB\",\"16GB\",\"32GB\",\"64GB\"}), \"\")","v":""},{"$f":"IFERROR(LOOKUP(2, 1/SEARCH({\"1TB\",\"2TB\",\"128GB\",\"512GB\",\"256GB\"}, G134), {\"1TB\",\"2TB\",\"128GB\",\"512GB\",\"256GB\"}), \"\")","v":""},null,{"$f":"IFERROR(LOOKUP(2, 1/SEARCH({\"16-Inch\",\"15-Inch\",\"15.6-Inch\",\"18-Inch\",\"15.3-Inch\",\"13-Inch\",\"13.4-Inch\",\"13.8-Inch\",\"14-Inch\",\"17-Inch\",\"45-Inch\",\"27-Inch\",\"34-Inch\",\"32-Inch\",\"21.5-Inch\"}, G134), {\"16-Inch\",\"15-Inch\",\"15.6-Inch\",\"18-Inch\",\"15.3-Inch\",\"13-Inch\",\"13.4-Inch\",\"13.8-Inch\",\"14-Inch\",\"17-Inch\",\"45-Inch\",\"27-Inch\",\"34-Inch\",\"32-Inch\",\"21.5-Inch\"}), \"\")","v":""}]
[null,null,null,null,null,null,null,{"$f":"IFERROR(INDEX(BrandList!$A$2:$A$50,MATCH(TRUE,ISNUMBER(SEARCH(BrandList!$A$2:$A$50,G135)),0)),\"\")","v":""},{"$f":"IFERROR(INDEX(BrandList!$B$2:$B$200,MATCH(TRUE,ISNUMBER(SEARCH(BrandList!$B$2:$B$200,G135)),0)),\"\")","v":""},null,null,null,null,null,null,{"$f":"IFERROR(IF(OR(E135=\"\",F135=\"\",F135=0),\"\",(F135-E135)/F135),\"\")","v":""},{"$f":"IFERROR(VLOOKUP(VALUE(A135),WEEKLY_DATA!$A:$H,2,0),0)","v":0},{"$f":"IFERROR(VLOOKUP(VALUE(A135),WEEKLY_DATA!$A:$H,3,0),0)","v":0},{"$f":"IFERROR(VLOOKUP(VALUE(A135),WEEKLY_DATA!$A:$H,4,0),0)","v":0},{"$f":"IFERROR(VLOOKUP(VALUE(A135),WEEKLY_DATA!$A:$H,5,0),0)","v":0},{"$f":"IFERROR(VLOOKUP(VALUE(A135),WEEKLY_DATA!$A:$H,6,0),0)","v":0},{"$f":"IFERROR(VLOOKUP(VALUE(A135),WEEKLY_DATA!$A:$H,7,0),0)","v":0},{"$f":"IFERROR(IF(OR(Q135=\"\",Q135=0),\"\",IF(VLOOKUP(VALUE($A135),WEEKLY_DATA!$A:$H,6,0)=0,\"No Sales\",Q135/(VLOOKUP(VALUE($A135),WEEKLY_DATA!$A:$H,6,0)/13))),\"\")","v":""},{"$f":"IFERROR(VLOOKUP(VALUE(A135),WEEKLY_DATA!$A:$H,8,0),0)","v":0},"—",null,null,null,null,null,null,"—",null,null,null,"—","—",null,{"$f":"IFERROR(LOOKUP(2, 1/SEARCH({\"Black\",\"White\",\"Grey\",\"Blue\",\"Silver\",\"Brown\",\"Green\",\"Blue\",\"Purple\",\"Red\",\"Pink\",\"Yellow\",\"Gold\"}, G135), {\"Black\",\"White\",\"Grey\",\"Blue\",\"Silver\",\"Brown\",\"Green\",\"Blue\",\"Purple\",\"Red\",\"Pink\",\"Yellow\",\"Gold\"}), \"\")","v":""},{"$f":"IFERROR(LOOKUP(2, 1/SEARCH({\"8GB\",\"16GB\",\"32GB\",\"64GB\"}, G135), {\"8GB\",\"16GB\",\"32GB\",\"64GB\"}), \"\")","v":""},{"$f":"IFERROR(LOOKUP(2, 1/SEARCH({\"1TB\",\"2TB\",\"128GB\",\"512GB\",\"256GB\"}, G135), {\"1TB\",\"2TB\",\"128GB\",\"512GB\",\"256GB\"}), \"\")","v":""},null,{"$f":"IFERROR(LOOKUP(2, 1/SEARCH({\"16-Inch\",\"15-Inch\",\"15.6-Inch\",\"18-Inch\",\"15.3-Inch\",\"13-Inch\",\"13.4-Inch\",\"13.8-Inch\",\"14-Inch\",\"17-Inch\",\"45-Inch\",\"27-Inch\",\"34-Inch\",\"32-Inch\",\"21.5-Inch\"}, G135), {\"16-Inch\",\"15-Inch\",\"15.6-Inch\",\"18-Inch\",\"15.3-Inch\",\"13-Inch\",\"13.4-Inch\",\"13.8-Inch\",\"14-Inch\",\"17-Inch\",\"45-Inch\",\"27-Inch\",\"34-Inch\",\"32-Inch\",\"21.5-Inch\"}), \"\")","v":""}]
[null,null,null,null,null,null,null,{"$f":"IFERROR(INDEX(BrandList!$A$2:$A$50,MATCH(TRUE,ISNUMBER(SEARCH(BrandList!$A$2:$A$50,G136)),0)),\"\")","v":""},{"$f":"IFERROR(INDEX(BrandList!$B$2:$B$200,MATCH(TRUE,ISNUMBER(SEARCH(BrandList!$B$2:$B$200,G136)),0)),\"\")","v":""},null,null,null,null,null,null,"",{"$f":"IFERROR(VLOOKUP(VALUE(A136),WEEKLY_DATA!$A:$H,2,0),0)","v":0},{"$f":"IFERROR(VLOOKUP(VALUE(A136),WEEKLY_DATA!$A:$H,3,0),0)","v":0},{"$f":"IFERROR(VLOOKUP(VALUE(A136),WEEKLY_DATA!$A:$H,4,0),0)","v":0},{"$f":"IFERROR(VLOOKUP(VALUE(A136),WEEKLY_DATA!$A:$H,5,0),0)","v":0},{"$f":"IFERROR(VLOOKUP(VALUE(A136),WEEKLY_DATA!$A:$H,6,0),0)","v":0},{"$f":"IFERROR(VLOOKUP(VALUE(A136),WEEKLY_DATA!$A:$H,7,0),0)","v":0},{"$f":"IFERROR(IF(OR(Q136=\"\",Q136=0),\"\",IF(VLOOKUP(VALUE($A136),WEEKLY_DATA!$A:$H,6,0)=0,\"No Sales\",Q136/(VLOOKUP(VALUE($A136),WEEKLY_DATA!$A:$H,6,0)/13))),\"\")","v":""},{"$f":"IFERROR(VLOOKUP(VALUE(A136),WEEKLY_DATA!$A:$H,8,0),0)","v":0},"—",null,null,null,null,null,null,"—",null,null,null,"—","—",null,{"$f":"IFERROR(LOOKUP(2, 1/SEARCH({\"Black\",\"White\",\"Grey\",\"Blue\",\"Silver\",\"Brown\",\"Green\",\"Blue\",\"Purple\",\"Red\",\"Pink\",\"Yellow\",\"Gold\"}, G136), {\"Black\",\"White\",\"Grey\",\"Blue\",\"Silver\",\"Brown\",\"Green\",\"Blue\",\"Purple\",\"Red\",\"Pink\",\"Yellow\",\"Gold\"}), \"\")","v":""},{"$f":"IFERROR(LOOKUP(2, 1/SEARCH({\"8GB\",\"16GB\",\"32GB\",\"64GB\"}, G136), {\"8GB\",\"16GB\",\"32GB\",\"64GB\"}), \"\")","v":""},{"$f":"IFERROR(LOOKUP(2, 1/SEARCH({\"1TB\",\"2TB\",\"128GB\",\"512GB\",\"256GB\"}, G136), {\"1TB\",\"2TB\",\"128GB\",\"512GB\",\"256GB\"}), \"\")","v":""},null,{"$f":"IFERROR(LOOKUP(2, 1/SEARCH({\"16-Inch\",\"15-Inch\",\"15.6-Inch\",\"18-Inch\",\"15.3-Inch\",\"13-Inch\",\"13.4-Inch\",\"13.8-Inch\",\"14-Inch\",\"17-Inch\",\"45-Inch\",\"27-Inch\",\"34-Inch\",\"32-Inch\",\"21.5-Inch\"}, G136), {\"16-Inch\",\"15-Inch\",\"15.6-Inch\",\"18-Inch\",\"15.3-Inch\",\"13-Inch\",\"13.4-Inch\",\"13.8-Inch\",\"14-Inch\",\"17-Inch\",\"45-Inch\",\"27-Inch\",\"34-Inch\",\"32-Inch\",\"21.5-Inch\"}), \"\")","v":""}]
[null,null,null,null,null,null,null,{"$f":"IFERROR(INDEX(BrandList!$A$2:$A$50,MATCH(TRUE,ISNUMBER(SEARCH(BrandList!$A$2:$A$50,G137)),0)),\"\")","v":""},{"$f":"IFERROR(INDEX(BrandList!$B$2:$B$200,MATCH(TRUE,ISNUMBER(SEARCH(BrandList!$B$2:$B$200,G137)),0)),\"\")","v":""},null,null,null,null,null,null,"",{"$f":"IFERROR(VLOOKUP(VALUE(A137),WEEKLY_DATA!$A:$H,2,0),0)","v":0},{"$f":"IFERROR(VLOOKUP(VALUE(A137),WEEKLY_DATA!$A:$H,3,0),0)","v":0},{"$f":"IFERROR(VLOOKUP(VALUE(A137),WEEKLY_DATA!$A:$H,4,0),0)","v":0},{"$f":"IFERROR(VLOOKUP(VALUE(A137),WEEKLY_DATA!$A:$H,5,0),0)","v":0},{"$f":"IFERROR(VLOOKUP(VALUE(A137),WEEKLY_DATA!$A:$H,6,0),0)","v":0},{"$f":"IFERROR(VLOOKUP(VALUE(A137),WEEKLY_DATA!$A:$H,7,0),0)","v":0},{"$f":"IFERROR(IF(OR(Q137=\"\",Q137=0),\"\",IF(VLOOKUP(VALUE($A137),WEEKLY_DATA!$A:$H,6,0)=0,\"No Sales\",Q137/(VLOOKUP(VALUE($A137),WEEKLY_DATA!$A:$H,6,0)/13))),\"\")","v":""},{"$f":"IFERROR(VLOOKUP(VALUE(A137),WEEKLY_DATA!$A:$H,8,0),0)","v":0},"—",null,null,null,null,null,null,"—",null,null,null,"—","—",null,{"$f":"IFERROR(LOOKUP(2, 1/SEARCH({\"Black\",\"White\",\"Grey\",\"Blue\",\"Silver\",\"Brown\",\"Green\",\"Blue\",\"Purple\",\"Red\",\"Pink\",\"Yellow\",\"Gold\"}, G137), {\"Black\",\"White\",\"Grey\",\"Blue\",\"Silver\",\"Brown\",\"Green\",\"Blue\",\"Purple\",\"Red\",\"Pink\",\"Yellow\",\"Gold\"}), \"\")","v":""},{"$f":"IFERROR(LOOKUP(2, 1/SEARCH({\"8GB\",\"16GB\",\"32GB\",\"64GB\"}, G137), {\"8GB\",\"16GB\",\"32GB\",\"64GB\"}), \"\")","v":""},{"$f":"IFERROR(LOOKUP(2, 1/SEARCH({\"1TB\",\"2TB\",\"128GB\",\"512GB\",\"256GB\"}, G137), {\"1TB\",\"2TB\",\"128GB\",\"512GB\",\"256GB\"}), \"\")","v":""},null,{"$f":"IFERROR(LOOKUP(2, 1/SEARCH({\"16-Inch\",\"15-Inch\",\"15.6-Inch\",\"18-Inch\",\"15.3-Inch\",\"13-Inch\",\"13.4-Inch\",\"13.8-Inch\",\"14-Inch\",\"17-Inch\",\"45-Inch\",\"27-Inch\",\"34-Inch\",\"32-Inch\",\"21.5-Inch\"}, G137), {\"16-Inch\",\"15-Inch\",\"15.6-Inch\",\"18-Inch\",\"15.3-Inch\",\"13-Inch\",\"13.4-Inch\",\"13.8-Inch\",\"14-Inch\",\"17-Inch\",\"45-Inch\",\"27-Inch\",\"34-Inch\",\"32-Inch\",\"21.5-Inch\"}), \"\")","v":""}]
[null,null,null,null,null,null,null,{"$f":"IFERROR(INDEX(BrandList!$A$2:$A$50,MATCH(TRUE,ISNUMBER(SEARCH(BrandList!$A$2:$A$50,G138)),0)),\"\")","v":""},{"$f":"IFERROR(INDEX(BrandList!$B$2:$B$200,MATCH(TRUE,ISNUMBER(SEARCH(BrandList!$B$2:$B$200,G138)),0)),\"\")","v":""},null,null,null,null,null,null,"",{"$f":"IFERROR(VLOOKUP(VALUE(A138),WEEKLY_DATA!$A:$H,2,0),0)","v":0},{"$f":"IFERROR(VLOOKUP(VALUE(A138),WEEKLY_DATA!$A:$H,3,0),0)","v":0},{"$f":"IFERROR(VLOOKUP(VALUE(A138),WEEKLY_DATA!$A:$H,4,0),0)","v":0},{"$f":"IFERROR(VLOOKUP(VALUE(A138),WEEKLY_DATA!$A:$H,5,0),0)","v":0},{"$f":"IFERROR(VLOOKUP(VALUE(A138),WEEKLY_DATA!$A:$H,6,0),0)","v":0},{"$f":"IFERROR(VLOOKUP(VALUE(A138),WEEKLY_DATA!$A:$H,7,0),0)","v":0},{"$f":"IFERROR(IF(OR(Q138=\"\",Q138=0),\"\",IF(VLOOKUP(VALUE($A138),WEEKLY_DATA!$A:$H,6,0)=0,\"No Sales\",Q138/(VLOOKUP(VALUE($A138),WEEKLY_DATA!$A:$H,6,0)/13))),\"\")","v":""},{"$f":"IFERROR(VLOOKUP(VALUE(A138),WEEKLY_DATA!$A:$H,8,0),0)","v":0},"—",null,null,null,null,null,null,"—",null,"—",null,"—","—",null,{"$f":"IFERROR(LOOKUP(2, 1/SEARCH({\"Black\",\"White\",\"Grey\",\"Blue\",\"Silver\",\"Brown\",\"Green\",\"Blue\",\"Purple\",\"Red\",\"Pink\",\"Yellow\",\"Gold\"}, G138), {\"Black\",\"White\",\"Grey\",\"Blue\",\"Silver\",\"Brown\",\"Green\",\"Blue\",\"Purple\",\"Red\",\"Pink\",\"Yellow\",\"Gold\"}), \"\")","v":""},{"$f":"IFERROR(LOOKUP(2, 1/SEARCH({\"8GB\",\"16GB\",\"32GB\",\"64GB\"}, G138), {\"8GB\",\"16GB\",\"32GB\",\"64GB\"}), \"\")","v":""},{"$f":"IFERROR(LOOKUP(2, 1/SEARCH({\"1TB\",\"2TB\",\"128GB\",\"512GB\",\"256GB\"}, G138), {\"1TB\",\"2TB\",\"128GB\",\"512GB\",\"256GB\"}), \"\")","v":""},null,{"$f":"IFERROR(LOOKUP(2, 1/SEARCH({\"16-Inch\",\"15-Inch\",\"15.6-Inch\",\"18-Inch\",\"15.3-Inch\",\"13-Inch\",\"13.4-Inch\",\"13.8-Inch\",\"14-Inch\",\"17-Inch\",\"45-Inch\",\"27-Inch\",\"34-Inch\",\"32-Inch\",\"21.5-Inch\"}, G138), {\"16-Inch\",\"15-Inch\",\"15.6-Inch\",\"18-Inch\",\"15.3-Inch\",\"13-Inch\",\"13.4-Inch\",\"13.8-Inch\",\"14-Inch\",\"17-Inch\",\"45-Inch\",\"27-Inch\",\"34-Inch\",\"32-Inch\",\"21.5-Inch\"}), \"\")","v":""}]
[null,null,null,null,null,null,null,{"$f":"IFERROR(INDEX(BrandList!$A$2:$A$50,MATCH(TRUE,ISNUMBER(SEARCH(BrandList!$A$2:$A$50,G139)),0)),\"\")","v":""},{"$f":"IFERROR(INDEX(BrandList!$B$2:$B$200,MATCH(TRUE,ISNUMBER(SEARCH(BrandList!$B$2:$B$200,G139)),0)),\"\")","v":""},null,null,null,null,null,null,"",{"$f":"IFERROR(VLOOKUP(VALUE(A139),WEEKLY_DATA!$A:$H,2,0),0)","v":0},{"$f":"IFERROR(VLOOKUP(VALUE(A139),WEEKLY_DATA!$A:$H,3,0),0)","v":0},{"$f":"IFERROR(VLOOKUP(VALUE(A139),WEEKLY_DATA!$A:$H,4,0),0)","v":0},{"$f":"IFERROR(VLOOKUP(VALUE(A139),WEEKLY_DATA!$A:$H,5,0),0)","v":0},{"$f":"IFERROR(VLOOKUP(VALUE(A139),WEEKLY_DATA!$A:$H,6,0),0)","v":0},{"$f":"IFERROR(VLOOKUP(VALUE(A139),WEEKLY_DATA!$A:$H,7,0),0)","v":0},{"$f":"IFERROR(IF(OR(Q139=\"\",Q139=0),\"\",IF(VLOOKUP(VALUE($A139),WEEKLY_DATA!$A:$H,6,0)=0,\"No Sales\",Q139/(VLOOKUP(VALUE($A139),WEEKLY_DATA!$A:$H,6,0)/13))),\"\")","v":""},{"$f":"IFERROR(VLOOKUP(VALUE(A139),WEEKLY_DATA!$A:$H,8,0),0)","v":0},"—",null,null,null,null,null,null,"—",null,"—",null,"—","—",null,{"$f":"IFERROR(LOOKUP(2, 1/SEARCH({\"Black\",\"White\",\"Grey\",\"Blue\",\"Silver\",\"Brown\",\"Green\",\"Blue\",\"Purple\",\"Red\",\"Pink\",\"Yellow\",\"Gold\"}, G139), {\"Black\",\"White\",\"Grey\",\"Blue\",\"Silver\",\"Brown\",\"Green\",\"Blue\",\"Purple\",\"Red\",\"Pink\",\"Yellow\",\"Gold\"}), \"\")","v":""},{"$f":"IFERROR(LOOKUP(2, 1/SEARCH({\"8GB\",\"16GB\",\"32GB\",\"64GB\"}, G139), {\"8GB\",\"16GB\",\"32GB\",\"64GB\"}), \"\")","v":""},{"$f":"IFERROR(LOOKUP(2, 1/SEARCH({\"1TB\",\"2TB\",\"128GB\",\"512GB\",\"256GB\"}, G139), {\"1TB\",\"2TB\",\"128GB\",\"512GB\",\"256GB\"}), \"\")","v":""},null,{"$f":"IFERROR(LOOKUP(2, 1/SEARCH({\"16-Inch\",\"15-Inch\",\"15.6-Inch\",\"18-Inch\",\"15.3-Inch\",\"13-Inch\",\"13.4-Inch\",\"13.8-Inch\",\"14-Inch\",\"17-Inch\",\"45-Inch\",\"27-Inch\",\"34-Inch\",\"32-Inch\",\"21.5-Inch\"}, G139), {\"16-Inch\",\"15-Inch\",\"15.6-Inch\",\"18-Inch\",\"15.3-Inch\",\"13-Inch\",\"13.4-Inch\",\"13.8-Inch\",\"14-Inch\",\"17-Inch\",\"45-Inch\",\"27-Inch\",\"34-Inch\",\"32-Inch\",\"21.5-Inch\"}), \"\")","v":""}]
[null,null,null,null,null,null,null,{"$f":"IFERROR(INDEX(BrandList!$A$2:$A$50,MATCH(TRUE,ISNUMBER(SEARCH(BrandList!$A$2:$A$50,G140)),0)),\"\")","v":""},{"$f":"IFERROR(INDEX(BrandList!$B$2:$B$200,MATCH(TRUE,ISNUMBER(SEARCH(BrandList!$B$2:$B$200,G140)),0)),\"\")","v":""},null,null,null,null,null,null,"",{"$f":"IFERROR(VLOOKUP(VALUE(A140),WEEKLY_DATA!$A:$H,2,0),0)","v":0},{"$f":"IFERROR(VLOOKUP(VALUE(A140),WEEKLY_DATA!$A:$H,3,0),0)","v":0},{"$f":"IFERROR(VLOOKUP(VALUE(A140),WEEKLY_DATA!$A:$H,4,0),0)","v":0},{"$f":"IFERROR(VLOOKUP(VALUE(A140),WEEKLY_DATA!$A:$H,5,0),0)","v":0},{"$f":"IFERROR(VLOOKUP(VALUE(A140),WEEKLY_DATA!$A:$H,6,0),0)","v":0},{"$f":"IFERROR(VLOOKUP(VALUE(A140),WEEKLY_DATA!$A:$H,7,0),0)","v":0},{"$f":"IFERROR(IF(OR(Q140=\"\",Q140=0),\"\",IF(VLOOKUP(VALUE($A140),WEEKLY_DATA!$A:$H,6,0)=0,\"No Sales\",Q140/(VLOOKUP(VALUE($A140),WEEKLY_DATA!$A:$H,6,0)/13))),\"\")","v":""},{"$f":"IFERROR(VLOOKUP(VALUE(A140),WEEKLY_DATA!$A:$H,8,0),0)","v":0},"—",null,null,null,null,null,null,"—",null,"—",null,"—","—",null,{"$f":"IFERROR(LOOKUP(2, 1/SEARCH({\"Black\",\"White\",\"Grey\",\"Blue\",\"Silver\",\"Brown\",\"Green\",\"Blue\",\"Purple\",\"Red\",\"Pink\",\"Yellow\",\"Gold\"}, G140), {\"Black\",\"White\",\"Grey\",\"Blue\",\"Silver\",\"Brown\",\"Green\",\"Blue\",\"Purple\",\"Red\",\"Pink\",\"Yellow\",\"Gold\"}), \"\")","v":""},{"$f":"IFERROR(LOOKUP(2, 1/SEARCH({\"8GB\",\"16GB\",\"32GB\",\"64GB\"}, G140), {\"8GB\",\"16GB\",\"32GB\",\"64GB\"}), \"\")","v":""},{"$f":"IFERROR(LOOKUP(2, 1/SEARCH({\"1TB\",\"2TB\",\"128GB\",\"512GB\",\"256GB\"}, G140), {\"1TB\",\"2TB\",\"128GB\",\"512GB\",\"256GB\"}), \"\")","v":""},null,{"$f":"IFERROR(LOOKUP(2, 1/SEARCH({\"16-Inch\",\"15-Inch\",\"15.6-Inch\",\"18-Inch\",\"15.3-Inch\",\"13-Inch\",\"13.4-Inch\",\"13.8-Inch\",\"14-Inch\",\"17-Inch\",\"45-Inch\",\"27-Inch\",\"34-Inch\",\"32-Inch\",\"21.5-Inch\"}, G140), {\"16-Inch\",\"15-Inch\",\"15.6-Inch\",\"18-Inch\",\"15.3-Inch\",\"13-Inch\",\"13.4-Inch\",\"13.8-Inch\",\"14-Inch\",\"17-Inch\",\"45-Inch\",\"27-Inch\",\"34-Inch\",\"32-Inch\",\"21.5-Inch\"}), \"\")","v":""}]
[null,null,null,null,null,null,null,{"$f":"IFERROR(INDEX(BrandList!$A$2:$A$50,MATCH(TRUE,ISNUMBER(SEARCH(BrandList!$A$2:$A$50,G141)),0)),\"\")","v":""},{"$f":"IFERROR(INDEX(BrandList!$B$2:$B$200,MATCH(TRUE,ISNUMBER(SEARCH(BrandList!$B$2:$B$200,G141)),0)),\"\")","v":""},null,null,null,null,null,null,"",{"$f":"IFERROR(VLOOKUP(VALUE(A141),WEEKLY_DATA!$A:$H,2,0),0)","v":0},{"$f":"IFERROR(VLOOKUP(VALUE(A141),WEEKLY_DATA!$A:$H,3,0),0)","v":0},{"$f":"IFERROR(VLOOKUP(VALUE(A141),WEEKLY_DATA!$A:$H,4,0),0)","v":0},{"$f":"IFERROR(VLOOKUP(VALUE(A141),WEEKLY_DATA!$A:$H,5,0),0)","v":0},{"$f":"IFERROR(VLOOKUP(VALUE(A141),WEEKLY_DATA!$A:$H,6,0),0)","v":0},{"$f":"IFERROR(VLOOKUP(VALUE(A141),WEEKLY_DATA!$A:$H,7,0),0)","v":0},{"$f":"IFERROR(IF(OR(Q141=\"\",Q141=0),\"\",IF(VLOOKUP(VALUE($A141),WEEKLY_DATA!$A:$H,6,0)=0,\"No Sales\",Q141/(VLOOKUP(VALUE($A141),WEEKLY_DATA!$A:$H,6,0)/13))),\"\")","v":""},{"$f":"IFERROR(VLOOKUP(VALUE(A141),WEEKLY_DATA!$A:$H,8,0),0)","v":0},"—",null,null,null,null,null,null,null,null,null,null,null,null,null,{"$f":"IFERROR(LOOKUP(2, 1/SEARCH({\"Black\",\"White\",\"Grey\",\"Blue\",\"Silver\",\"Brown\",\"Green\",\"Blue\",\"Purple\",\"Red\",\"Pink\",\"Yellow\",\"Gold\"}, G141), {\"Black\",\"White\",\"Grey\",\"Blue\",\"Silver\",\"Brown\",\"Green\",\"Blue\",\"Purple\",\"Red\",\"Pink\",\"Yellow\",\"Gold\"}), \"\")","v":""},{"$f":"IFERROR(LOOKUP(2, 1/SEARCH({\"8GB\",\"16GB\",\"32GB\",\"64GB\"}, G141), {\"8GB\",\"16GB\",\"32GB\",\"64GB\"}), \"\")","v":""},{"$f":"IFERROR(LOOKUP(2, 1/SEARCH({\"1TB\",\"2TB\",\"128GB\",\"512GB\",\"256GB\"}, G141), {\"1TB\",\"2TB\",\"128GB\",\"512GB\",\"256GB\"}), \"\")","v":""},null,{"$f":"IFERROR(LOOKUP(2, 1/SEARCH({\"16-Inch\",\"15-Inch\",\"15.6-Inch\",\"18-Inch\",\"15.3-Inch\",\"13-Inch\",\"13.4-Inch\",\"13.8-Inch\",\"14-Inch\",\"17-Inch\",\"45-Inch\",\"27-Inch\",\"34-Inch\",\"32-Inch\",\"21.5-Inch\"}, G141), {\"16-Inch\",\"15-Inch\",\"15.6-Inch\",\"18-Inch\",\"15.3-Inch\",\"13-Inch\",\"13.4-Inch\",\"13.8-Inch\",\"14-Inch\",\"17-Inch\",\"45-Inch\",\"27-Inch\",\"34-Inch\",\"32-Inch\",\"21.5-Inch\"}), \"\")","v":""}]
[null,null,null,null,null,null,null,{"$f":"IFERROR(INDEX(BrandList!$A$2:$A$50,MATCH(TRUE,ISNUMBER(SEARCH(BrandList!$A$2:$A$50,G142)),0)),\"\")","v":""},{"$f":"IFERROR(INDEX(BrandList!$B$2:$B$200,MATCH(TRUE,ISNUMBER(SEARCH(BrandList!$B$2:$B$200,G142)),0)),\"\")","v":""},null,null,null,null,null,null,"",{"$f":"IFERROR(VLOOKUP(VALUE(A142),WEEKLY_DATA!$A:$H,2,0),0)","v":0},{"$f":"IFERROR(VLOOKUP(VALUE(A142),WEEKLY_DATA!$A:$H,3,0),0)","v":0},{"$f":"IFERROR(VLOOKUP(VALUE(A142),WEEKLY_DATA!$A:$H,4,0),0)","v":0},{"$f":"IFERROR(VLOOKUP(VALUE(A142),WEEKLY_DATA!$A:$H,5,0),0)","v":0},{"$f":"IFERROR(VLOOKUP(VALUE(A142),WEEKLY_DATA!$A:$H,6,0),0)","v":0},{"$f":"IFERROR(VLOOKUP(VALUE(A142),WEEKLY_DATA!$A:$H,7,0),0)","v":0},{"$f":"IFERROR(IF(OR(Q142=\"\",Q142=0),\"\",IF(VLOOKUP(VALUE($A142),WEEKLY_DATA!$A:$H,6,0)=0,\"No Sales\",Q142/(VLOOKUP(VALUE($A142),WEEKLY_DATA!$A:$H,6,0)/13))),\"\")","v":""},{"$f":"IFERROR(VLOOKUP(VALUE(A142),WEEKLY_DATA!$A:$H,8,0),0)","v":0},"—",null,null,null,null,null,null,"—",null,"—",null,"—","—",null,{"$f":"IFERROR(LOOKUP(2, 1/SEARCH({\"Black\",\"White\",\"Grey\",\"Blue\",\"Silver\",\"Brown\",\"Green\",\"Blue\",\"Purple\",\"Red\",\"Pink\",\"Yellow\",\"Gold\"}, G142), {\"Black\",\"White\",\"Grey\",\"Blue\",\"Silver\",\"Brown\",\"Green\",\"Blue\",\"Purple\",\"Red\",\"Pink\",\"Yellow\",\"Gold\"}), \"\")","v":""},{"$f":"IFERROR(LOOKUP(2, 1/SEARCH({\"8GB\",\"16GB\",\"32GB\",\"64GB\"}, G142), {\"8GB\",\"16GB\",\"32GB\",\"64GB\"}), \"\")","v":""},{"$f":"IFERROR(LOOKUP(2, 1/SEARCH({\"1TB\",\"2TB\",\"128GB\",\"512GB\",\"256GB\"}, G142), {\"1TB\",\"2TB\",\"128GB\",\"512GB\",\"256GB\"}), \"\")","v":""},null,{"$f":"IFERROR(LOOKUP(2, 1/SEARCH({\"16-Inch\",\"15-Inch\",\"15.6-Inch\",\"18-Inch\",\"15.3-Inch\",\"13-Inch\",\"13.4-Inch\",\"13.8-Inch\",\"14-Inch\",\"17-Inch\",\"45-Inch\",\"27-Inch\",\"34-Inch\",\"32-Inch\",\"21.5-Inch\"}, G142), {\"16-Inch\",\"15-Inch\",\"15.6-Inch\",\"18-Inch\",\"15.3-Inch\",\"13-Inch\",\"13.4-Inch\",\"13.8-Inch\",\"14-Inch\",\"17-Inch\",\"45-Inch\",\"27-Inch\",\"34-Inch\",\"32-Inch\",\"21.5-Inch\"}), \"\")","v":""}]
[null,null,null,null,null,null,null,{"$f":"IFERROR(INDEX(BrandList!$A$2:$A$50,MATCH(TRUE,ISNUMBER(SEARCH(BrandList!$A$2:$A$50,G143)),0)),\"\")","v":""},{"$f":"IFERROR(INDEX(BrandList!$B$2:$B$200,MATCH(TRUE,ISNUMBER(SEARCH(BrandList!$B$2:$B$200,G143)),0)),\"\")","v":""},null,null,null,null,null,null,"",{"$f":"IFERROR(VLOOKUP(VALUE(A143),WEEKLY_DATA!$A:$H,2,0),0)","v":0},{"$f":"IFERROR(VLOOKUP(VALUE(A143),WEEKLY_DATA!$A:$H,3,0),0)","v":0},{"$f":"IFERROR(VLOOKUP(VALUE(A143),WEEKLY_DATA!$A:$H,4,0),0)","v":0},{"$f":"IFERROR(VLOOKUP(VALUE(A143),WEEKLY_DATA!$A:$H,5,0),0)","v":0},{"$f":"IFERROR(VLOOKUP(VALUE(A143),WEEKLY_DATA!$A:$H,6,0),0)","v":0},{"$f":"IFERROR(VLOOKUP(VALUE(A143),WEEKLY_DATA!$A:$H,7,0),0)","v":0},{"$f":"IFERROR(IF(OR(Q143=\"\",Q143=0),\"\",IF(VLOOKUP(VALUE($A143),WEEKLY_DATA!$A:$H,6,0)=0,\"No Sales\",Q143/(VLOOKUP(VALUE($A143),WEEKLY_DATA!$A:$H,6,0)/13))),\"\")","v":""},{"$f":"IFERROR(VLOOKUP(VALUE(A143),WEEKLY_DATA!$A:$H,8,0),0)","v":0},"—",null,null,null,null,null,null,"—",null,"—",null,"—","—",null,{"$f":"IFERROR(LOOKUP(2, 1/SEARCH({\"Black\",\"White\",\"Grey\",\"Blue\",\"Silver\",\"Brown\",\"Green\",\"Blue\",\"Purple\",\"Red\",\"Pink\",\"Yellow\",\"Gold\"}, G143), {\"Black\",\"White\",\"Grey\",\"Blue\",\"Silver\",\"Brown\",\"Green\",\"Blue\",\"Purple\",\"Red\",\"Pink\",\"Yellow\",\"Gold\"}), \"\")","v":""},{"$f":"IFERROR(LOOKUP(2, 1/SEARCH({\"8GB\",\"16GB\",\"32GB\",\"64GB\"}, G143), {\"8GB\",\"16GB\",\"32GB\",\"64GB\"}), \"\")","v":""},{"$f":"IFERROR(LOOKUP(2, 1/SEARCH({\"1TB\",\"2TB\",\"128GB\",\"512GB\",\"256GB\"}, G143), {\"1TB\",\"2TB\",\"128GB\",\"512GB\",\"256GB\"}), \"\")","v":""},null,{"$f":"IFERROR(LOOKUP(2, 1/SEARCH({\"16-Inch\",\"15-Inch\",\"15.6-Inch\",\"18-Inch\",\"15.3-Inch\",\"13-Inch\",\"13.4-Inch\",\"13.8-Inch\",\"14-Inch\",\"17-Inch\",\"45-Inch\",\"27-Inch\",\"34-Inch\",\"32-Inch\",\"21.5-Inch\"}, G143), {\"16-Inch\",\"15-Inch\",\"15.6-Inch\",\"18-Inch\",\"15.3-Inch\",\"13-Inch\",\"13.4-Inch\",\"13.8-Inch\",\"14-Inch\",\"17-Inch\",\"45-Inch\",\"27-Inch\",\"34-Inch\",\"32-Inch\",\"21.5-Inch\"}), \"\")","v":""}]
[null,null,null,null,null,null,null,{"$f":"IFERROR(INDEX(BrandList!$A$2:$A$50,MATCH(TRUE,ISNUMBER(SEARCH(BrandList!$A$2:$A$50,G144)),0)),\"\")","v":""},{"$f":"IFERROR(INDEX(BrandList!$B$2:$B$200,MATCH(TRUE,ISNUMBER(SEARCH(BrandList!$B$2:$B$200,G144)),0)),\"\")","v":""},null,null,null,null,null,null,"",{"$f":"IFERROR(VLOOKUP(VALUE(A144),WEEKLY_DATA!$A:$H,2,0),0)","v":0},{"$f":"IFERROR(VLOOKUP(VALUE(A144),WEEKLY_DATA!$A:$H,3,0),0)","v":0},{"$f":"IFERROR(VLOOKUP(VALUE(A144),WEEKLY_DATA!$A:$H,4,0),0)","v":0},{"$f":"IFERROR(VLOOKUP(VALUE(A144),WEEKLY_DATA!$A:$H,5,0),0)","v":0},{"$f":"IFERROR(VLOOKUP(VALUE(A144),WEEKLY_DATA!$A:$H,6,0),0)","v":0},{"$f":"IFERROR(VLOOKUP(VALUE(A144),WEEKLY_DATA!$A:$H,7,0),0)","v":0},{"$f":"IFERROR(IF(OR(Q144=\"\",Q144=0),\"\",IF(VLOOKUP(VALUE($A144),WEEKLY_DATA!$A:$H,6,0)=0,\"No Sales\",Q144/(VLOOKUP(VALUE($A144),WEEKLY_DATA!$A:$H,6,0)/13))),\"\")","v":""},{"$f":"IFERROR(VLOOKUP(VALUE(A144),WEEKLY_DATA!$A:$H,8,0),0)","v":0},"—",null,null,null,null,null,null,null,null,null,null,null,null,null,{"$f":"IFERROR(LOOKUP(2, 1/SEARCH({\"Black\",\"White\",\"Grey\",\"Blue\",\"Silver\",\"Brown\",\"Green\",\"Blue\",\"Purple\",\"Red\",\"Pink\",\"Yellow\",\"Gold\"}, G144), {\"Black\",\"White\",\"Grey\",\"Blue\",\"Silver\",\"Brown\",\"Green\",\"Blue\",\"Purple\",\"Red\",\"Pink\",\"Yellow\",\"Gold\"}), \"\")","v":""},{"$f":"IFERROR(LOOKUP(2, 1/SEARCH({\"8GB\",\"16GB\",\"32GB\",\"64GB\"}, G144), {\"8GB\",\"16GB\",\"32GB\",\"64GB\"}), \"\")","v":""},{"$f":"IFERROR(LOOKUP(2, 1/SEARCH({\"1TB\",\"2TB\",\"128GB\",\"512GB\",\"256GB\"}, G144), {\"1TB\",\"2TB\",\"128GB\",\"512GB\",\"256GB\"}), \"\")","v":""},null,{"$f":"IFERROR(LOOKUP(2, 1/SEARCH({\"16-Inch\",\"15-Inch\",\"15.6-Inch\",\"18-Inch\",\"15.3-Inch\",\"13-Inch\",\"13.4-Inch\",\"13.8-Inch\",\"14-Inch\",\"17-Inch\",\"45-Inch\",\"27-Inch\",\"34-Inch\",\"32-Inch\",\"21.5-Inch\"}, G144), {\"16-Inch\",\"15-Inch\",\"15.6-Inch\",\"18-Inch\",\"15.3-Inch\",\"13-Inch\",\"13.4-Inch\",\"13.8-Inch\",\"14-Inch\",\"17-Inch\",\"45-Inch\",\"27-Inch\",\"34-Inch\",\"32-Inch\",\"21.5-Inch\"}), \"\")","v":""}]
[null,null,null,null,null,null,null,{"$f":"IFERROR(INDEX(BrandList!$A$2:$A$50,MATCH(TRUE,ISNUMBER(SEARCH(BrandList!$A$2:$A$50,G145)),0)),\"\")","v":""},{"$f":"IFERROR(INDEX(BrandList!$B$2:$B$200,MATCH(TRUE,ISNUMBER(SEARCH(BrandList!$B$2:$B$200,G145)),0)),\"\")","v":""},null,null,null,null,null,null,"",{"$f":"IFERROR(VLOOKUP(VALUE(A145),WEEKLY_DATA!$A:$H,2,0),0)","v":0},{"$f":"IFERROR(VLOOKUP(VALUE(A145),WEEKLY_DATA!$A:$H,3,0),0)","v":0},{"$f":"IFERROR(VLOOKUP(VALUE(A145),WEEKLY_DATA!$A:$H,4,0),0)","v":0},{"$f":"IFERROR(VLOOKUP(VALUE(A145),WEEKLY_DATA!$A:$H,5,0),0)","v":0},{"$f":"IFERROR(VLOOKUP(VALUE(A145),WEEKLY_DATA!$A:$H,6,0),0)","v":0},{"$f":"IFERROR(VLOOKUP(VALUE(A145),WEEKLY_DATA!$A:$H,7,0),0)","v":0},{"$f":"IFERROR(IF(OR(Q145=\"\",Q145=0),\"\",IF(VLOOKUP(VALUE($A145),WEEKLY_DATA!$A:$H,6,0)=0,\"No Sales\",Q145/(VLOOKUP(VALUE($A145),WEEKLY_DATA!$A:$H,6,0)/13))),\"\")","v":""},{"$f":"IFERROR(VLOOKUP(VALUE(A145),WEEKLY_DATA!$A:$H,8,0),0)","v":0},"—",null,null,null,null,null,null,"—",null,"—",null,"—","—",null,{"$f":"IFERROR(LOOKUP(2, 1/SEARCH({\"Black\",\"White\",\"Grey\",\"Blue\",\"Silver\",\"Brown\",\"Green\",\"Blue\",\"Purple\",\"Red\",\"Pink\",\"Yellow\",\"Gold\"}, G145), {\"Black\",\"White\",\"Grey\",\"Blue\",\"Silver\",\"Brown\",\"Green\",\"Blue\",\"Purple\",\"Red\",\"Pink\",\"Yellow\",\"Gold\"}), \"\")","v":""},{"$f":"IFERROR(LOOKUP(2, 1/SEARCH({\"8GB\",\"16GB\",\"32GB\",\"64GB\"}, G145), {\"8GB\",\"16GB\",\"32GB\",\"64GB\"}), \"\")","v":""},{"$f":"IFERROR(LOOKUP(2, 1/SEARCH({\"1TB\",\"2TB\",\"128GB\",\"512GB\",\"256GB\"}, G145), {\"1TB\",\"2TB\",\"128GB\",\"512GB\",\"256GB\"}), \"\")","v":""},null,{"$f":"IFERROR(LOOKUP(2, 1/SEARCH({\"16-Inch\",\"15-Inch\",\"15.6-Inch\",\"18-Inch\",\"15.3-Inch\",\"13-Inch\",\"13.4-Inch\",\"13.8-Inch\",\"14-Inch\",\"17-Inch\",\"45-Inch\",\"27-Inch\",\"34-Inch\",\"32-Inch\",\"21.5-Inch\"}, G145), {\"16-Inch\",\"15-Inch\",\"15.6-Inch\",\"18-Inch\",\"15.3-Inch\",\"13-Inch\",\"13.4-Inch\",\"13.8-Inch\",\"14-Inch\",\"17-Inch\",\"45-Inch\",\"27-Inch\",\"34-Inch\",\"32-Inch\",\"21.5-Inch\"}), \"\")","v":""}]
[null,null,null,null,null,null,null,{"$f":"IFERROR(INDEX(BrandList!$A$2:$A$50,MATCH(TRUE,ISNUMBER(SEARCH(BrandList!$A$2:$A$50,G146)),0)),\"\")","v":""},{"$f":"IFERROR(INDEX(BrandList!$B$2:$B$200,MATCH(TRUE,ISNUMBER(SEARCH(BrandList!$B$2:$B$200,G146)),0)),\"\")","v":""},null,null,null,null,null,null,"",{"$f":"IFERROR(VLOOKUP(VALUE(A146),WEEKLY_DATA!$A:$H,2,0),0)","v":0},{"$f":"IFERROR(VLOOKUP(VALUE(A146),WEEKLY_DATA!$A:$H,3,0),0)","v":0},{"$f":"IFERROR(VLOOKUP(VALUE(A146),WEEKLY_DATA!$A:$H,4,0),0)","v":0},{"$f":"IFERROR(VLOOKUP(VALUE(A146),WEEKLY_DATA!$A:$H,5,0),0)","v":0},{"$f":"IFERROR(VLOOKUP(VALUE(A146),WEEKLY_DATA!$A:$H,6,0),0)","v":0},{"$f":"IFERROR(VLOOKUP(VALUE(A146),WEEKLY_DATA!$A:$H,7,0),0)","v":0},{"$f":"IFERROR(IF(OR(Q146=\"\",Q146=0),\"\",IF(VLOOKUP(VALUE($A146),WEEKLY_DATA!$A:$H,6,0)=0,\"No Sales\",Q146/(VLOOKUP(VALUE($A146),WEEKLY_DATA!$A:$H,6,0)/13))),\"\")","v":""},{"$f":"IFERROR(VLOOKUP(VALUE(A146),WEEKLY_DATA!$A:$H,8,0),0)","v":0},"—",null,null,null,null,null,null,"—",null,"—",null,"—","—",null,{"$f":"IFERROR(LOOKUP(2, 1/SEARCH({\"Black\",\"White\",\"Grey\",\"Blue\",\"Silver\",\"Brown\",\"Green\",\"Blue\",\"Purple\",\"Red\",\"Pink\",\"Yellow\",\"Gold\"}, G146), {\"Black\",\"White\",\"Grey\",\"Blue\",\"Silver\",\"Brown\",\"Green\",\"Blue\",\"Purple\",\"Red\",\"Pink\",\"Yellow\",\"Gold\"}), \"\")","v":""},{"$f":"IFERROR(LOOKUP(2, 1/SEARCH({\"8GB\",\"16GB\",\"32GB\",\"64GB\"}, G146), {\"8GB\",\"16GB\",\"32GB\",\"64GB\"}), \"\")","v":""},{"$f":"IFERROR(LOOKUP(2, 1/SEARCH({\"1TB\",\"2TB\",\"128GB\",\"512GB\",\"256GB\"}, G146), {\"1TB\",\"2TB\",\"128GB\",\"512GB\",\"256GB\"}), \"\")","v":""},null,{"$f":"IFERROR(LOOKUP(2, 1/SEARCH({\"16-Inch\",\"15-Inch\",\"15.6-Inch\",\"18-Inch\",\"15.3-Inch\",\"13-Inch\",\"13.4-Inch\",\"13.8-Inch\",\"14-Inch\",\"17-Inch\",\"45-Inch\",\"27-Inch\",\"34-Inch\",\"32-Inch\",\"21.5-Inch\"}, G146), {\"16-Inch\",\"15-Inch\",\"15.6-Inch\",\"18-Inch\",\"15.3-Inch\",\"13-Inch\",\"13.4-Inch\",\"13.8-Inch\",\"14-Inch\",\"17-Inch\",\"45-Inch\",\"27-Inch\",\"34-Inch\",\"32-Inch\",\"21.5-Inch\"}), \"\")","v":""}]
[null,null,null,null,null,null,null,{"$f":"IFERROR(INDEX(BrandList!$A$2:$A$50,MATCH(TRUE,ISNUMBER(SEARCH(BrandList!$A$2:$A$50,G147)),0)),\"\")","v":""},{"$f":"IFERROR(INDEX(BrandList!$B$2:$B$200,MATCH(TRUE,ISNUMBER(SEARCH(BrandList!$B$2:$B$200,G147)),0)),\"\")","v":""},null,null,null,null,null,null,"",{"$f":"IFERROR(VLOOKUP(VALUE(A147),WEEKLY_DATA!$A:$H,2,0),0)","v":0},{"$f":"IFERROR(VLOOKUP(VALUE(A147),WEEKLY_DATA!$A:$H,3,0),0)","v":0},{"$f":"IFERROR(VLOOKUP(VALUE(A147),WEEKLY_DATA!$A:$H,4,0),0)","v":0},{"$f":"IFERROR(VLOOKUP(VALUE(A147),WEEKLY_DATA!$A:$H,5,0),0)","v":0},{"$f":"IFERROR(VLOOKUP(VALUE(A147),WEEKLY_DATA!$A:$H,6,0),0)","v":0},{"$f":"IFERROR(VLOOKUP(VALUE(A147),WEEKLY_DATA!$A:$H,7,0),0)","v":0},{"$f":"IFERROR(IF(OR(Q147=\"\",Q147=0),\"\",IF(VLOOKUP(VALUE($A147),WEEKLY_DATA!$A:$H,6,0)=0,\"No Sales\",Q147/(VLOOKUP(VALUE($A147),WEEKLY_DATA!$A:$H,6,0)/13))),\"\")","v":""},{"$f":"IFERROR(VLOOKUP(VALUE(A147),WEEKLY_DATA!$A:$H,8,0),0)","v":0},"—",null,null,null,null,null,null,"—",null,"—",null,"—","—",null,{"$f":"IFERROR(LOOKUP(2, 1/SEARCH({\"Black\",\"White\",\"Grey\",\"Blue\",\"Silver\",\"Brown\",\"Green\",\"Blue\",\"Purple\",\"Red\",\"Pink\",\"Yellow\",\"Gold\"}, G147), {\"Black\",\"White\",\"Grey\",\"Blue\",\"Silver\",\"Brown\",\"Green\",\"Blue\",\"Purple\",\"Red\",\"Pink\",\"Yellow\",\"Gold\"}), \"\")","v":""},{"$f":"IFERROR(LOOKUP(2, 1/SEARCH({\"8GB\",\"16GB\",\"32GB\",\"64GB\"}, G147), {\"8GB\",\"16GB\",\"32GB\",\"64GB\"}), \"\")","v":""},{"$f":"IFERROR(LOOKUP(2, 1/SEARCH({\"1TB\",\"2TB\",\"128GB\",\"512GB\",\"256GB\"}, G147), {\"1TB\",\"2TB\",\"128GB\",\"512GB\",\"256GB\"}), \"\")","v":""},null,{"$f":"IFERROR(LOOKUP(2, 1/SEARCH({\"16-Inch\",\"15-Inch\",\"15.6-Inch\",\"18-Inch\",\"15.3-Inch\",\"13-Inch\",\"13.4-Inch\",\"13.8-Inch\",\"14-Inch\",\"17-Inch\",\"45-Inch\",\"27-Inch\",\"34-Inch\",\"32-Inch\",\"21.5-Inch\"}, G147), {\"16-Inch\",\"15-Inch\",\"15.6-Inch\",\"18-Inch\",\"15.3-Inch\",\"13-Inch\",\"13.4-Inch\",\"13.8-Inch\",\"14-Inch\",\"17-Inch\",\"45-Inch\",\"27-Inch\",\"34-Inch\",\"32-Inch\",\"21.5-Inch\"}), \"\")","v":""}]
[null,null,null,null,null,null,null,{"$f":"IFERROR(INDEX(BrandList!$A$2:$A$50,MATCH(TRUE,ISNUMBER(SEARCH(BrandList!$A$2:$A$50,G148)),0)),\"\")","v":""},{"$f":"IFERROR(INDEX(BrandList!$B$2:$B$200,MATCH(TRUE,ISNUMBER(SEARCH(BrandList!$B$2:$B$200,G148)),0)),\"\")","v":""},null,null,null,null,null,null,"",{"$f":"IFERROR(VLOOKUP(VALUE(A148),WEEKLY_DATA!$A:$H,2,0),0)","v":0},{"$f":"IFERROR(VLOOKUP(VALUE(A148),WEEKLY_DATA!$A:$H,3,0),0)","v":0},{"$f":"IFERROR(VLOOKUP(VALUE(A148),WEEKLY_DATA!$A:$H,4,0),0)","v":0},{"$f":"IFERROR(VLOOKUP(VALUE(A148),WEEKLY_DATA!$A:$H,5,0),0)","v":0},{"$f":"IFERROR(VLOOKUP(VALUE(A148),WEEKLY_DATA!$A:$H,6,0),0)","v":0},{"$f":"IFERROR(VLOOKUP(VALUE(A148),WEEKLY_DATA!$A:$H,7,0),0)","v":0},{"$f":"IFERROR(IF(OR(Q148=\"\",Q148=0),\"\",IF(VLOOKUP(VALUE($A148),WEEKLY_DATA!$A:$H,6,0)=0,\"No Sales\",Q148/(VLOOKUP(VALUE($A148),WEEKLY_DATA!$A:$H,6,0)/13))),\"\")","v":""},{"$f":"IFERROR(VLOOKUP(VALUE(A148),WEEKLY_DATA!$A:$H,8,0),0)","v":0},"—",null,null,null,null,null,null,"—",null,"—",null,"—","—",null,{"$f":"IFERROR(LOOKUP(2, 1/SEARCH({\"Black\",\"White\",\"Grey\",\"Blue\",\"Silver\",\"Brown\",\"Green\",\"Blue\",\"Purple\",\"Red\",\"Pink\",\"Yellow\",\"Gold\"}, G148), {\"Black\",\"White\",\"Grey\",\"Blue\",\"Silver\",\"Brown\",\"Green\",\"Blue\",\"Purple\",\"Red\",\"Pink\",\"Yellow\",\"Gold\"}), \"\")","v":""},{"$f":"IFERROR(LOOKUP(2, 1/SEARCH({\"8GB\",\"16GB\",\"32GB\",\"64GB\"}, G148), {\"8GB\",\"16GB\",\"32GB\",\"64GB\"}), \"\")","v":""},{"$f":"IFERROR(LOOKUP(2, 1/SEARCH({\"1TB\",\"2TB\",\"128GB\",\"512GB\",\"256GB\"}, G148), {\"1TB\",\"2TB\",\"128GB\",\"512GB\",\"256GB\"}), \"\")","v":""},null,{"$f":"IFERROR(LOOKUP(2, 1/SEARCH({\"16-Inch\",\"15-Inch\",\"15.6-Inch\",\"18-Inch\",\"15.3-Inch\",\"13-Inch\",\"13.4-Inch\",\"13.8-Inch\",\"14-Inch\",\"17-Inch\",\"45-Inch\",\"27-Inch\",\"34-Inch\",\"32-Inch\",\"21.5-Inch\"}, G148), {\"16-Inch\",\"15-Inch\",\"15.6-Inch\",\"18-Inch\",\"15.3-Inch\",\"13-Inch\",\"13.4-Inch\",\"13.8-Inch\",\"14-Inch\",\"17-Inch\",\"45-Inch\",\"27-Inch\",\"34-Inch\",\"32-Inch\",\"21.5-Inch\"}), \"\")","v":""}]
[null,null,null,null,null,null,null,{"$f":"IFERROR(INDEX(BrandList!$A$2:$A$50,MATCH(TRUE,ISNUMBER(SEARCH(BrandList!$A$2:$A$50,G149)),0)),\"\")","v":""},{"$f":"IFERROR(INDEX(BrandList!$B$2:$B$200,MATCH(TRUE,ISNUMBER(SEARCH(BrandList!$B$2:$B$200,G149)),0)),\"\")","v":""},null,null,null,null,null,null,"",{"$f":"IFERROR(VLOOKUP(VALUE(A149),WEEKLY_DATA!$A:$H,2,0),0)","v":0},{"$f":"IFERROR(VLOOKUP(VALUE(A149),WEEKLY_DATA!$A:$H,3,0),0)","v":0},{"$f":"IFERROR(VLOOKUP(VALUE(A149),WEEKLY_DATA!$A:$H,4,0),0)","v":0},{"$f":"IFERROR(VLOOKUP(VALUE(A149),WEEKLY_DATA!$A:$H,5,0),0)","v":0},{"$f":"IFERROR(VLOOKUP(VALUE(A149),WEEKLY_DATA!$A:$H,6,0),0)","v":0},{"$f":"IFERROR(VLOOKUP(VALUE(A149),WEEKLY_DATA!$A:$H,7,0),0)","v":0},{"$f":"IFERROR(IF(OR(Q149=\"\",Q149=0),\"\",IF(VLOOKUP(VALUE($A149),WEEKLY_DATA!$A:$H,6,0)=0,\"No Sales\",Q149/(VLOOKUP(VALUE($A149),WEEKLY_DATA!$A:$H,6,0)/13))),\"\")","v":""},{"$f":"IFERROR(VLOOKUP(VALUE(A149),WEEKLY_DATA!$A:$H,8,0),0)","v":0},"—",null,null,null,null,null,null,"—",null,null,null,"—","—",null,{"$f":"IFERROR(LOOKUP(2, 1/SEARCH({\"Black\",\"White\",\"Grey\",\"Blue\",\"Silver\",\"Brown\",\"Green\",\"Blue\",\"Purple\",\"Red\",\"Pink\",\"Yellow\",\"Gold\"}, G149), {\"Black\",\"White\",\"Grey\",\"Blue\",\"Silver\",\"Brown\",\"Green\",\"Blue\",\"Purple\",\"Red\",\"Pink\",\"Yellow\",\"Gold\"}), \"\")","v":""},{"$f":"IFERROR(LOOKUP(2, 1/SEARCH({\"8GB\",\"16GB\",\"32GB\",\"64GB\"}, G149), {\"8GB\",\"16GB\",\"32GB\",\"64GB\"}), \"\")","v":""},{"$f":"IFERROR(LOOKUP(2, 1/SEARCH({\"1TB\",\"2TB\",\"128GB\",\"512GB\",\"256GB\"}, G149), {\"1TB\",\"2TB\",\"128GB\",\"512GB\",\"256GB\"}), \"\")","v":""},null,{"$f":"IFERROR(LOOKUP(2, 1/SEARCH({\"16-Inch\",\"15-Inch\",\"15.6-Inch\",\"18-Inch\",\"15.3-Inch\",\"13-Inch\",\"13.4-Inch\",\"13.8-Inch\",\"14-Inch\",\"17-Inch\",\"45-Inch\",\"27-Inch\",\"34-Inch\",\"32-Inch\",\"21.5-Inch\"}, G149), {\"16-Inch\",\"15-Inch\",\"15.6-Inch\",\"18-Inch\",\"15.3-Inch\",\"13-Inch\",\"13.4-Inch\",\"13.8-Inch\",\"14-Inch\",\"17-Inch\",\"45-Inch\",\"27-Inch\",\"34-Inch\",\"32-Inch\",\"21.5-Inch\"}), \"\")","v":""}]
[null,null,null,null,null,null,null,{"$f":"IFERROR(INDEX(BrandList!$A$2:$A$50,MATCH(TRUE,ISNUMBER(SEARCH(BrandList!$A$2:$A$50,G150)),0)),\"\")","v":""},{"$f":"IFERROR(INDEX(BrandList!$B$2:$B$200,MATCH(TRUE,ISNUMBER(SEARCH(BrandList!$B$2:$B$200,G150)),0)),\"\")","v":""},null,null,null,null,null,null,"",{"$f":"IFERROR(VLOOKUP(VALUE(A150),WEEKLY_DATA!$A:$H,2,0),0)","v":0},{"$f":"IFERROR(VLOOKUP(VALUE(A150),WEEKLY_DATA!$A:$H,3,0),0)","v":0},{"$f":"IFERROR(VLOOKUP(VALUE(A150),WEEKLY_DATA!$A:$H,4,0),0)","v":0},{"$f":"IFERROR(VLOOKUP(VALUE(A150),WEEKLY_DATA!$A:$H,5,0),0)","v":0},{"$f":"IFERROR(VLOOKUP(VALUE(A150),WEEKLY_DATA!$A:$H,6,0),0)","v":0},{"$f":"IFERROR(VLOOKUP(VALUE(A150),WEEKLY_DATA!$A:$H,7,0),0)","v":0},{"$f":"IFERROR(IF(OR(Q150=\"\",Q150=0),\"\",IF(VLOOKUP(VALUE($A150),WEEKLY_DATA!$A:$H,6,0)=0,\"No Sales\",Q150/(VLOOKUP(VALUE($A150),WEEKLY_DATA!$A:$H,6,0)/13))),\"\")","v":""},{"$f":"IFERROR(VLOOKUP(VALUE(A150),WEEKLY_DATA!$A:$H,8,0),0)","v":0},"—",null,null,null,null,null,null,"—",null,"—",null,"—","—",null,{"$f":"IFERROR(LOOKUP(2, 1/SEARCH({\"Black\",\"White\",\"Grey\",\"Blue\",\"Silver\",\"Brown\",\"Green\",\"Blue\",\"Purple\",\"Red\",\"Pink\",\"Yellow\",\"Gold\"}, G150), {\"Black\",\"White\",\"Grey\",\"Blue\",\"Silver\",\"Brown\",\"Green\",\"Blue\",\"Purple\",\"Red\",\"Pink\",\"Yellow\",\"Gold\"}), \"\")","v":""},{"$f":"IFERROR(LOOKUP(2, 1/SEARCH({\"8GB\",\"16GB\",\"32GB\",\"64GB\"}, G150), {\"8GB\",\"16GB\",\"32GB\",\"64GB\"}), \"\")","v":""},{"$f":"IFERROR(LOOKUP(2, 1/SEARCH({\"1TB\",\"2TB\",\"128GB\",\"512GB\",\"256GB\"}, G150), {\"1TB\",\"2TB\",\"128GB\",\"512GB\",\"256GB\"}), \"\")","v":""},null,{"$f":"IFERROR(LOOKUP(2, 1/SEARCH({\"16-Inch\",\"15-Inch\",\"15.6-Inch\",\"18-Inch\",\"15.3-Inch\",\"13-Inch\",\"13.4-Inch\",\"13.8-Inch\",\"14-Inch\",\"17-Inch\",\"45-Inch\",\"27-Inch\",\"34-Inch\",\"32-Inch\",\"21.5-Inch\"}, G150), {\"16-Inch\",\"15-Inch\",\"15.6-Inch\",\"18-Inch\",\"15.3-Inch\",\"13-Inch\",\"13.4-Inch\",\"13.8-Inch\",\"14-Inch\",\"17-Inch\",\"45-Inch\",\"27-Inch\",\"34-Inch\",\"32-Inch\",\"21.5-Inch\"}), \"\")","v":""}]
[null,null,null,null,null,null,null,{"$f":"IFERROR(INDEX(BrandList!$A$2:$A$50,MATCH(TRUE,ISNUMBER(SEARCH(BrandList!$A$2:$A$50,G151)),0)),\"\")","v":""},{"$f":"IFERROR(INDEX(BrandList!$B$2:$B$200,MATCH(TRUE,ISNUMBER(SEARCH(BrandList!$B$2:$B$200,G151)),0)),\"\")","v":""},null,null,null,null,null,null,"",{"$f":"IFERROR(VLOOKUP(VALUE(A151),WEEKLY_DATA!$A:$H,2,0),0)","v":0},{"$f":"IFERROR(VLOOKUP(VALUE(A151),WEEKLY_DATA!$A:$H,3,0),0)","v":0},{"$f":"IFERROR(VLOOKUP(VALUE(A151),WEEKLY_DATA!$A:$H,4,0),0)","v":0},{"$f":"IFERROR(VLOOKUP(VALUE(A151),WEEKLY_DATA!$A:$H,5,0),0)","v":0},{"$f":"IFERROR(VLOOKUP(VALUE(A151),WEEKLY_DATA!$A:$H,6,0),0)","v":0},{"$f":"IFERROR(VLOOKUP(VALUE(A151),WEEKLY_DATA!$A:$H,7,0),0)","v":0},{"$f":"IFERROR(IF(OR(Q151=\"\",Q151=0),\"\",IF(VLOOKUP(VALUE($A151),WEEKLY_DATA!$A:$H,6,0)=0,\"No Sales\",Q151/(VLOOKUP(VALUE($A151),WEEKLY_DATA!$A:$H,6,0)/13))),\"\")","v":""},{"$f":"IFERROR(VLOOKUP(VALUE(A151),WEEKLY_DATA!$A:$H,8,0),0)","v":0},"—",null,null,null,null,null,null,"—",null,"—",null,"—","—",null,{"$f":"IFERROR(LOOKUP(2, 1/SEARCH({\"Black\",\"White\",\"Grey\",\"Blue\",\"Silver\",\"Brown\",\"Green\",\"Blue\",\"Purple\",\"Red\",\"Pink\",\"Yellow\",\"Gold\"}, G151), {\"Black\",\"White\",\"Grey\",\"Blue\",\"Silver\",\"Brown\",\"Green\",\"Blue\",\"Purple\",\"Red\",\"Pink\",\"Yellow\",\"Gold\"}), \"\")","v":""},{"$f":"IFERROR(LOOKUP(2, 1/SEARCH({\"8GB\",\"16GB\",\"32GB\",\"64GB\"}, G151), {\"8GB\",\"16GB\",\"32GB\",\"64GB\"}), \"\")","v":""},{"$f":"IFERROR(LOOKUP(2, 1/SEARCH({\"1TB\",\"2TB\",\"128GB\",\"512GB\",\"256GB\"}, G151), {\"1TB\",\"2TB\",\"128GB\",\"512GB\",\"256GB\"}), \"\")","v":""},null,{"$f":"IFERROR(LOOKUP(2, 1/SEARCH({\"16-Inch\",\"15-Inch\",\"15.6-Inch\",\"18-Inch\",\"15.3-Inch\",\"13-Inch\",\"13.4-Inch\",\"13.8-Inch\",\"14-Inch\",\"17-Inch\",\"45-Inch\",\"27-Inch\",\"34-Inch\",\"32-Inch\",\"21.5-Inch\"}, G151), {\"16-Inch\",\"15-Inch\",\"15.6-Inch\",\"18-Inch\",\"15.3-Inch\",\"13-Inch\",\"13.4-Inch\",\"13.8-Inch\",\"14-Inch\",\"17-Inch\",\"45-Inch\",\"27-Inch\",\"34-Inch\",\"32-Inch\",\"21.5-Inch\"}), \"\")","v":""}]
[null,null,null,null,null,null,null,{"$f":"IFERROR(INDEX(BrandList!$A$2:$A$50,MATCH(TRUE,ISNUMBER(SEARCH(BrandList!$A$2:$A$50,G152)),0)),\"\")","v":""},{"$f":"IFERROR(INDEX(BrandList!$B$2:$B$200,MATCH(TRUE,ISNUMBER(SEARCH(BrandList!$B$2:$B$200,G152)),0)),\"\")","v":""},null,null,null,null,null,null,"",{"$f":"IFERROR(VLOOKUP(VALUE(A152),WEEKLY_DATA!$A:$H,2,0),0)","v":0},{"$f":"IFERROR(VLOOKUP(VALUE(A152),WEEKLY_DATA!$A:$H,3,0),0)","v":0},{"$f":"IFERROR(VLOOKUP(VALUE(A152),WEEKLY_DATA!$A:$H,4,0),0)","v":0},{"$f":"IFERROR(VLOOKUP(VALUE(A152),WEEKLY_DATA!$A:$H,5,0),0)","v":0},{"$f":"IFERROR(VLOOKUP(VALUE(A152),WEEKLY_DATA!$A:$H,6,0),0)","v":0},{"$f":"IFERROR(VLOOKUP(VALUE(A152),WEEKLY_DATA!$A:$H,7,0),0)","v":0},{"$f":"IFERROR(IF(OR(Q152=\"\",Q152=0),\"\",IF(VLOOKUP(VALUE($A152),WEEKLY_DATA!$A:$H,6,0)=0,\"No Sales\",Q152/(VLOOKUP(VALUE($A152),WEEKLY_DATA!$A:$H,6,0)/13))),\"\")","v":""},{"$f":"IFERROR(VLOOKUP(VALUE(A152),WEEKLY_DATA!$A:$H,8,0),0)","v":0},"—",null,null,null,null,null,null,"—",null,"—",null,"—","—",null,{"$f":"IFERROR(LOOKUP(2, 1/SEARCH({\"Black\",\"White\",\"Grey\",\"Blue\",\"Silver\",\"Brown\",\"Green\",\"Blue\",\"Purple\",\"Red\",\"Pink\",\"Yellow\",\"Gold\"}, G152), {\"Black\",\"White\",\"Grey\",\"Blue\",\"Silver\",\"Brown\",\"Green\",\"Blue\",\"Purple\",\"Red\",\"Pink\",\"Yellow\",\"Gold\"}), \"\")","v":""},{"$f":"IFERROR(LOOKUP(2, 1/SEARCH({\"8GB\",\"16GB\",\"32GB\",\"64GB\"}, G152), {\"8GB\",\"16GB\",\"32GB\",\"64GB\"}), \"\")","v":""},{"$f":"IFERROR(LOOKUP(2, 1/SEARCH({\"1TB\",\"2TB\",\"128GB\",\"512GB\",\"256GB\"}, G152), {\"1TB\",\"2TB\",\"128GB\",\"512GB\",\"256GB\"}), \"\")","v":""},null,{"$f":"IFERROR(LOOKUP(2, 1/SEARCH({\"16-Inch\",\"15-Inch\",\"15.6-Inch\",\"18-Inch\",\"15.3-Inch\",\"13-Inch\",\"13.4-Inch\",\"13.8-Inch\",\"14-Inch\",\"17-Inch\",\"45-Inch\",\"27-Inch\",\"34-Inch\",\"32-Inch\",\"21.5-Inch\"}, G152), {\"16-Inch\",\"15-Inch\",\"15.6-Inch\",\"18-Inch\",\"15.3-Inch\",\"13-Inch\",\"13.4-Inch\",\"13.8-Inch\",\"14-Inch\",\"17-Inch\",\"45-Inch\",\"27-Inch\",\"34-Inch\",\"32-Inch\",\"21.5-Inch\"}), \"\")","v":""}]
[null,null,null,null,null,null,null,{"$f":"IFERROR(INDEX(BrandList!$A$2:$A$50,MATCH(TRUE,ISNUMBER(SEARCH(BrandList!$A$2:$A$50,G153)),0)),\"\")","v":""},{"$f":"IFERROR(INDEX(BrandList!$B$2:$B$200,MATCH(TRUE,ISNUMBER(SEARCH(BrandList!$B$2:$B$200,G153)),0)),\"\")","v":""},null,null,null,null,null,null,"",{"$f":"IFERROR(VLOOKUP(VALUE(A153),WEEKLY_DATA!$A:$H,2,0),0)","v":0},{"$f":"IFERROR(VLOOKUP(VALUE(A153),WEEKLY_DATA!$A:$H,3,0),0)","v":0},{"$f":"IFERROR(VLOOKUP(VALUE(A153),WEEKLY_DATA!$A:$H,4,0),0)","v":0},{"$f":"IFERROR(VLOOKUP(VALUE(A153),WEEKLY_DATA!$A:$H,5,0),0)","v":0},{"$f":"IFERROR(VLOOKUP(VALUE(A153),WEEKLY_DATA!$A:$H,6,0),0)","v":0},{"$f":"IFERROR(VLOOKUP(VALUE(A153),WEEKLY_DATA!$A:$H,7,0),0)","v":0},{"$f":"IFERROR(IF(OR(Q153=\"\",Q153=0),\"\",IF(VLOOKUP(VALUE($A153),WEEKLY_DATA!$A:$H,6,0)=0,\"No Sales\",Q153/(VLOOKUP(VALUE($A153),WEEKLY_DATA!$A:$H,6,0)/13))),\"\")","v":""},{"$f":"IFERROR(VLOOKUP(VALUE(A153),WEEKLY_DATA!$A:$H,8,0),0)","v":0},"—",null,null,null,null,null,null,"—",null,null,null,"—","—",null,{"$f":"IFERROR(LOOKUP(2, 1/SEARCH({\"Black\",\"White\",\"Grey\",\"Blue\",\"Silver\",\"Brown\",\"Green\",\"Blue\",\"Purple\",\"Red\",\"Pink\",\"Yellow\",\"Gold\"}, G153), {\"Black\",\"White\",\"Grey\",\"Blue\",\"Silver\",\"Brown\",\"Green\",\"Blue\",\"Purple\",\"Red\",\"Pink\",\"Yellow\",\"Gold\"}), \"\")","v":""},{"$f":"IFERROR(LOOKUP(2, 1/SEARCH({\"8GB\",\"16GB\",\"32GB\",\"64GB\"}, G153), {\"8GB\",\"16GB\",\"32GB\",\"64GB\"}), \"\")","v":""},{"$f":"IFERROR(LOOKUP(2, 1/SEARCH({\"1TB\",\"2TB\",\"128GB\",\"512GB\",\"256GB\"}, G153), {\"1TB\",\"2TB\",\"128GB\",\"512GB\",\"256GB\"}), \"\")","v":""},null,{"$f":"IFERROR(LOOKUP(2, 1/SEARCH({\"16-Inch\",\"15-Inch\",\"15.6-Inch\",\"18-Inch\",\"15.3-Inch\",\"13-Inch\",\"13.4-Inch\",\"13.8-Inch\",\"14-Inch\",\"17-Inch\",\"45-Inch\",\"27-Inch\",\"34-Inch\",\"32-Inch\",\"21.5-Inch\"}, G153), {\"16-Inch\",\"15-Inch\",\"15.6-Inch\",\"18-Inch\",\"15.3-Inch\",\"13-Inch\",\"13.4-Inch\",\"13.8-Inch\",\"14-Inch\",\"17-Inch\",\"45-Inch\",\"27-Inch\",\"34-Inch\",\"32-Inch\",\"21.5-Inch\"}), \"\")","v":""}]
[null,null,null,null,null,null,null,{"$f":"IFERROR(INDEX(BrandList!$A$2:$A$50,MATCH(TRUE,ISNUMBER(SEARCH(BrandList!$A$2:$A$50,G154)),0)),\"\")","v":""},{"$f":"IFERROR(INDEX(BrandList!$B$2:$B$200,MATCH(TRUE,ISNUMBER(SEARCH(BrandList!$B$2:$B$200,G154)),0)),\"\")","v":""},null,null,null,null,null,null,"",{"$f":"IFERROR(VLOOKUP(VALUE(A154),WEEKLY_DATA!$A:$H,2,0),0)","v":0},{"$f":"IFERROR(VLOOKUP(VALUE(A154),WEEKLY_DATA!$A:$H,3,0),0)","v":0},{"$f":"IFERROR(VLOOKUP(VALUE(A154),WEEKLY_DATA!$A:$H,4,0),0)","v":0},{"$f":"IFERROR(VLOOKUP(VALUE(A154),WEEKLY_DATA!$A:$H,5,0),0)","v":0},{"$f":"IFERROR(VLOOKUP(VALUE(A154),WEEKLY_DATA!$A:$H,6,0),0)","v":0},{"$f":"IFERROR(VLOOKUP(VALUE(A154),WEEKLY_DATA!$A:$H,7,0),0)","v":0},{"$f":"IFERROR(IF(OR(Q154=\"\",Q154=0),\"\",IF(VLOOKUP(VALUE($A154),WEEKLY_DATA!$A:$H,6,0)=0,\"No Sales\",Q154/(VLOOKUP(VALUE($A154),WEEKLY_DATA!$A:$H,6,0)/13))),\"\")","v":""},{"$f":"IFERROR(VLOOKUP(VALUE(A154),WEEKLY_DATA!$A:$H,8,0),0)","v":0},"—",null,null,null,null,null,null,"—",null,null,null,"—","—",null,{"$f":"IFERROR(LOOKUP(2, 1/SEARCH({\"Black\",\"White\",\"Grey\",\"Blue\",\"Silver\",\"Brown\",\"Green\",\"Blue\",\"Purple\",\"Red\",\"Pink\",\"Yellow\",\"Gold\"}, G154), {\"Black\",\"White\",\"Grey\",\"Blue\",\"Silver\",\"Brown\",\"Green\",\"Blue\",\"Purple\",\"Red\",\"Pink\",\"Yellow\",\"Gold\"}), \"\")","v":""},{"$f":"IFERROR(LOOKUP(2, 1/SEARCH({\"8GB\",\"16GB\",\"32GB\",\"64GB\"}, G154), {\"8GB\",\"16GB\",\"32GB\",\"64GB\"}), \"\")","v":""},{"$f":"IFERROR(LOOKUP(2, 1/SEARCH({\"1TB\",\"2TB\",\"128GB\",\"512GB\",\"256GB\"}, G154), {\"1TB\",\"2TB\",\"128GB\",\"512GB\",\"256GB\"}), \"\")","v":""},null,{"$f":"IFERROR(LOOKUP(2, 1/SEARCH({\"16-Inch\",\"15-Inch\",\"15.6-Inch\",\"18-Inch\",\"15.3-Inch\",\"13-Inch\",\"13.4-Inch\",\"13.8-Inch\",\"14-Inch\",\"17-Inch\",\"45-Inch\",\"27-Inch\",\"34-Inch\",\"32-Inch\",\"21.5-Inch\"}, G154), {\"16-Inch\",\"15-Inch\",\"15.6-Inch\",\"18-Inch\",\"15.3-Inch\",\"13-Inch\",\"13.4-Inch\",\"13.8-Inch\",\"14-Inch\",\"17-Inch\",\"45-Inch\",\"27-Inch\",\"34-Inch\",\"32-Inch\",\"21.5-Inch\"}), \"\")","v":""}]
[null,null,null,null,null,null,null,{"$f":"IFERROR(INDEX(BrandList!$A$2:$A$50,MATCH(TRUE,ISNUMBER(SEARCH(BrandList!$A$2:$A$50,G155)),0)),\"\")","v":""},{"$f":"IFERROR(INDEX(BrandList!$B$2:$B$200,MATCH(TRUE,ISNUMBER(SEARCH(BrandList!$B$2:$B$200,G155)),0)),\"\")","v":""},null,null,null,null,null,null,"",{"$f":"IFERROR(VLOOKUP(VALUE(A155),WEEKLY_DATA!$A:$H,2,0),0)","v":0},{"$f":"IFERROR(VLOOKUP(VALUE(A155),WEEKLY_DATA!$A:$H,3,0),0)","v":0},{"$f":"IFERROR(VLOOKUP(VALUE(A155),WEEKLY_DATA!$A:$H,4,0),0)","v":0},{"$f":"IFERROR(VLOOKUP(VALUE(A155),WEEKLY_DATA!$A:$H,5,0),0)","v":0},{"$f":"IFERROR(VLOOKUP(VALUE(A155),WEEKLY_DATA!$A:$H,6,0),0)","v":0},{"$f":"IFERROR(VLOOKUP(VALUE(A155),WEEKLY_DATA!$A:$H,7,0),0)","v":0},{"$f":"IFERROR(IF(OR(Q155=\"\",Q155=0),\"\",IF(VLOOKUP(VALUE($A155),WEEKLY_DATA!$A:$H,6,0)=0,\"No Sales\",Q155/(VLOOKUP(VALUE($A155),WEEKLY_DATA!$A:$H,6,0)/13))),\"\")","v":""},{"$f":"IFERROR(VLOOKUP(VALUE(A155),WEEKLY_DATA!$A:$H,8,0),0)","v":0},"—",null,null,null,null,null,null,"—",null,null,null,"—","—",null,{"$f":"IFERROR(LOOKUP(2, 1/SEARCH({\"Black\",\"White\",\"Grey\",\"Blue\",\"Silver\",\"Brown\",\"Green\",\"Blue\",\"Purple\",\"Red\",\"Pink\",\"Yellow\",\"Gold\"}, G155), {\"Black\",\"White\",\"Grey\",\"Blue\",\"Silver\",\"Brown\",\"Green\",\"Blue\",\"Purple\",\"Red\",\"Pink\",\"Yellow\",\"Gold\"}), \"\")","v":""},{"$f":"IFERROR(LOOKUP(2, 1/SEARCH({\"8GB\",\"16GB\",\"32GB\",\"64GB\"}, G155), {\"8GB\",\"16GB\",\"32GB\",\"64GB\"}), \"\")","v":""},{"$f":"IFERROR(LOOKUP(2, 1/SEARCH({\"1TB\",\"2TB\",\"128GB\",\"512GB\",\"256GB\"}, G155), {\"1TB\",\"2TB\",\"128GB\",\"512GB\",\"256GB\"}), \"\")","v":""},null,{"$f":"IFERROR(LOOKUP(2, 1/SEARCH({\"16-Inch\",\"15-Inch\",\"15.6-Inch\",\"18-Inch\",\"15.3-Inch\",\"13-Inch\",\"13.4-Inch\",\"13.8-Inch\",\"14-Inch\",\"17-Inch\",\"45-Inch\",\"27-Inch\",\"34-Inch\",\"32-Inch\",\"21.5-Inch\"}, G155), {\"16-Inch\",\"15-Inch\",\"15.6-Inch\",\"18-Inch\",\"15.3-Inch\",\"13-Inch\",\"13.4-Inch\",\"13.8-Inch\",\"14-Inch\",\"17-Inch\",\"45-Inch\",\"27-Inch\",\"34-Inch\",\"32-Inch\",\"21.5-Inch\"}), \"\")","v":""}]
[null,null,null,null,null,null,null,{"$f":"IFERROR(INDEX(BrandList!$A$2:$A$50,MATCH(TRUE,ISNUMBER(SEARCH(BrandList!$A$2:$A$50,G156)),0)),\"\")","v":""},{"$f":"IFERROR(INDEX(BrandList!$B$2:$B$200,MATCH(TRUE,ISNUMBER(SEARCH(BrandList!$B$2:$B$200,G156)),0)),\"\")","v":""},null,null,null,null,null,null,"",{"$f":"IFERROR(VLOOKUP(VALUE(A156),WEEKLY_DATA!$A:$H,2,0),0)","v":0},{"$f":"IFERROR(VLOOKUP(VALUE(A156),WEEKLY_DATA!$A:$H,3,0),0)","v":0},{"$f":"IFERROR(VLOOKUP(VALUE(A156),WEEKLY_DATA!$A:$H,4,0),0)","v":0},{"$f":"IFERROR(VLOOKUP(VALUE(A156),WEEKLY_DATA!$A:$H,5,0),0)","v":0},{"$f":"IFERROR(VLOOKUP(VALUE(A156),WEEKLY_DATA!$A:$H,6,0),0)","v":0},{"$f":"IFERROR(VLOOKUP(VALUE(A156),WEEKLY_DATA!$A:$H,7,0),0)","v":0},{"$f":"IFERROR(IF(OR(Q156=\"\",Q156=0),\"\",IF(VLOOKUP(VALUE($A156),WEEKLY_DATA!$A:$H,6,0)=0,\"No Sales\",Q156/(VLOOKUP(VALUE($A156),WEEKLY_DATA!$A:$H,6,0)/13))),\"\")","v":""},{"$f":"IFERROR(VLOOKUP(VALUE(A156),WEEKLY_DATA!$A:$H,8,0),0)","v":0},"—",null,null,null,null,null,null,null,null,null,null,null,null,null,{"$f":"IFERROR(LOOKUP(2, 1/SEARCH({\"Black\",\"White\",\"Grey\",\"Blue\",\"Silver\",\"Brown\",\"Green\",\"Blue\",\"Purple\",\"Red\",\"Pink\",\"Yellow\",\"Gold\"}, G156), {\"Black\",\"White\",\"Grey\",\"Blue\",\"Silver\",\"Brown\",\"Green\",\"Blue\",\"Purple\",\"Red\",\"Pink\",\"Yellow\",\"Gold\"}), \"\")","v":""},{"$f":"IFERROR(LOOKUP(2, 1/SEARCH({\"8GB\",\"16GB\",\"32GB\",\"64GB\"}, G156), {\"8GB\",\"16GB\",\"32GB\",\"64GB\"}), \"\")","v":""},{"$f":"IFERROR(LOOKUP(2, 1/SEARCH({\"1TB\",\"2TB\",\"128GB\",\"512GB\",\"256GB\"}, G156), {\"1TB\",\"2TB\",\"128GB\",\"512GB\",\"256GB\"}), \"\")","v":""},null,{"$f":"IFERROR(LOOKUP(2, 1/SEARCH({\"16-Inch\",\"15-Inch\",\"15.6-Inch\",\"18-Inch\",\"15.3-Inch\",\"13-Inch\",\"13.4-Inch\",\"13.8-Inch\",\"14-Inch\",\"17-Inch\",\"45-Inch\",\"27-Inch\",\"34-Inch\",\"32-Inch\",\"21.5-Inch\"}, G156), {\"16-Inch\",\"15-Inch\",\"15.6-Inch\",\"18-Inch\",\"15.3-Inch\",\"13-Inch\",\"13.4-Inch\",\"13.8-Inch\",\"14-Inch\",\"17-Inch\",\"45-Inch\",\"27-Inch\",\"34-Inch\",\"32-Inch\",\"21.5-Inch\"}), \"\")","v":""}]
[null,null,null,null,null,null,null,{"$f":"IFERROR(INDEX(BrandList!$A$2:$A$50,MATCH(TRUE,ISNUMBER(SEARCH(BrandList!$A$2:$A$50,G157)),0)),\"\")","v":""},{"$f":"IFERROR(INDEX(BrandList!$B$2:$B$200,MATCH(TRUE,ISNUMBER(SEARCH(BrandList!$B$2:$B$200,G157)),0)),\"\")","v":""},null,null,null,null,null,null,"",{"$f":"IFERROR(VLOOKUP(VALUE(A157),WEEKLY_DATA!$A:$H,2,0),0)","v":0},{"$f":"IFERROR(VLOOKUP(VALUE(A157),WEEKLY_DATA!$A:$H,3,0),0)","v":0},{"$f":"IFERROR(VLOOKUP(VALUE(A157),WEEKLY_DATA!$A:$H,4,0),0)","v":0},{"$f":"IFERROR(VLOOKUP(VALUE(A157),WEEKLY_DATA!$A:$H,5,0),0)","v":0},{"$f":"IFERROR(VLOOKUP(VALUE(A157),WEEKLY_DATA!$A:$H,6,0),0)","v":0},{"$f":"IFERROR(VLOOKUP(VALUE(A157),WEEKLY_DATA!$A:$H,7,0),0)","v":0},{"$f":"IFERROR(IF(OR(Q157=\"\",Q157=0),\"\",IF(VLOOKUP(VALUE($A157),WEEKLY_DATA!$A:$H,6,0)=0,\"No Sales\",Q157/(VLOOKUP(VALUE($A157),WEEKLY_DATA!$A:$H,6,0)/13))),\"\")","v":""},{"$f":"IFERROR(VLOOKUP(VALUE(A157),WEEKLY_DATA!$A:$H,8,0),0)","v":0},"—",null,null,null,null,null,null,null,null,null,null,null,null,null,{"$f":"IFERROR(LOOKUP(2, 1/SEARCH({\"Black\",\"White\",\"Grey\",\"Blue\",\"Silver\",\"Brown\",\"Green\",\"Blue\",\"Purple\",\"Red\",\"Pink\",\"Yellow\",\"Gold\"}, G157), {\"Black\",\"White\",\"Grey\",\"Blue\",\"Silver\",\"Brown\",\"Green\",\"Blue\",\"Purple\",\"Red\",\"Pink\",\"Yellow\",\"Gold\"}), \"\")","v":""},{"$f":"IFERROR(LOOKUP(2, 1/SEARCH({\"8GB\",\"16GB\",\"32GB\",\"64GB\"}, G157), {\"8GB\",\"16GB\",\"32GB\",\"64GB\"}), \"\")","v":""},{"$f":"IFERROR(LOOKUP(2, 1/SEARCH({\"1TB\",\"2TB\",\"128GB\",\"512GB\",\"256GB\"}, G157), {\"1TB\",\"2TB\",\"128GB\",\"512GB\",\"256GB\"}), \"\")","v":""},null,{"$f":"IFERROR(LOOKUP(2, 1/SEARCH({\"16-Inch\",\"15-Inch\",\"15.6-Inch\",\"18-Inch\",\"15.3-Inch\",\"13-Inch\",\"13.4-Inch\",\"13.8-Inch\",\"14-Inch\",\"17-Inch\",\"45-Inch\",\"27-Inch\",\"34-Inch\",\"32-Inch\",\"21.5-Inch\"}, G157), {\"16-Inch\",\"15-Inch\",\"15.6-Inch\",\"18-Inch\",\"15.3-Inch\",\"13-Inch\",\"13.4-Inch\",\"13.8-Inch\",\"14-Inch\",\"17-Inch\",\"45-Inch\",\"27-Inch\",\"34-Inch\",\"32-Inch\",\"21.5-Inch\"}), \"\")","v":""}]
[null,null,null,null,null,null,null,{"$f":"IFERROR(INDEX(BrandList!$A$2:$A$50,MATCH(TRUE,ISNUMBER(SEARCH(BrandList!$A$2:$A$50,G158)),0)),\"\")","v":""},{"$f":"IFERROR(INDEX(BrandList!$B$2:$B$200,MATCH(TRUE,ISNUMBER(SEARCH(BrandList!$B$2:$B$200,G158)),0)),\"\")","v":""},null,null,null,null,null,null,"",{"$f":"IFERROR(VLOOKUP(VALUE(A158),WEEKLY_DATA!$A:$H,2,0),0)","v":0},{"$f":"IFERROR(VLOOKUP(VALUE(A158),WEEKLY_DATA!$A:$H,3,0),0)","v":0},{"$f":"IFERROR(VLOOKUP(VALUE(A158),WEEKLY_DATA!$A:$H,4,0),0)","v":0},{"$f":"IFERROR(VLOOKUP(VALUE(A158),WEEKLY_DATA!$A:$H,5,0),0)","v":0},{"$f":"IFERROR(VLOOKUP(VALUE(A158),WEEKLY_DATA!$A:$H,6,0),0)","v":0},{"$f":"IFERROR(VLOOKUP(VALUE(A158),WEEKLY_DATA!$A:$H,7,0),0)","v":0},{"$f":"IFERROR(IF(OR(Q158=\"\",Q158=0),\"\",IF(VLOOKUP(VALUE($A158),WEEKLY_DATA!$A:$H,6,0)=0,\"No Sales\",Q158/(VLOOKUP(VALUE($A158),WEEKLY_DATA!$A:$H,6,0)/13))),\"\")","v":""},{"$f":"IFERROR(VLOOKUP(VALUE(A158),WEEKLY_DATA!$A:$H,8,0),0)","v":0},"—",null,null,null,null,null,null,null,null,null,null,null,null,null,{"$f":"IFERROR(LOOKUP(2, 1/SEARCH({\"Black\",\"White\",\"Grey\",\"Blue\",\"Silver\",\"Brown\",\"Green\",\"Blue\",\"Purple\",\"Red\",\"Pink\",\"Yellow\",\"Gold\"}, G158), {\"Black\",\"White\",\"Grey\",\"Blue\",\"Silver\",\"Brown\",\"Green\",\"Blue\",\"Purple\",\"Red\",\"Pink\",\"Yellow\",\"Gold\"}), \"\")","v":""},{"$f":"IFERROR(LOOKUP(2, 1/SEARCH({\"8GB\",\"16GB\",\"32GB\",\"64GB\"}, G158), {\"8GB\",\"16GB\",\"32GB\",\"64GB\"}), \"\")","v":""},{"$f":"IFERROR(LOOKUP(2, 1/SEARCH({\"1TB\",\"2TB\",\"128GB\",\"512GB\",\"256GB\"}, G158), {\"1TB\",\"2TB\",\"128GB\",\"512GB\",\"256GB\"}), \"\")","v":""},null,{"$f":"IFERROR(LOOKUP(2, 1/SEARCH({\"16-Inch\",\"15-Inch\",\"15.6-Inch\",\"18-Inch\",\"15.3-Inch\",\"13-Inch\",\"13.4-Inch\",\"13.8-Inch\",\"14-Inch\",\"17-Inch\",\"45-Inch\",\"27-Inch\",\"34-Inch\",\"32-Inch\",\"21.5-Inch\"}, G158), {\"16-Inch\",\"15-Inch\",\"15.6-Inch\",\"18-Inch\",\"15.3-Inch\",\"13-Inch\",\"13.4-Inch\",\"13.8-Inch\",\"14-Inch\",\"17-Inch\",\"45-Inch\",\"27-Inch\",\"34-Inch\",\"32-Inch\",\"21.5-Inch\"}), \"\")","v":""}]
[null,null,null,null,null,null,null,{"$f":"IFERROR(INDEX(BrandList!$A$2:$A$50,MATCH(TRUE,ISNUMBER(SEARCH(BrandList!$A$2:$A$50,G159)),0)),\"\")","v":""},{"$f":"IFERROR(INDEX(BrandList!$B$2:$B$200,MATCH(TRUE,ISNUMBER(SEARCH(BrandList!$B$2:$B$200,G159)),0)),\"\")","v":""},null,null,null,null,null,null,"",{"$f":"IFERROR(VLOOKUP(VALUE(A159),WEEKLY_DATA!$A:$H,2,0),0)","v":0},{"$f":"IFERROR(VLOOKUP(VALUE(A159),WEEKLY_DATA!$A:$H,3,0),0)","v":0},{"$f":"IFERROR(VLOOKUP(VALUE(A159),WEEKLY_DATA!$A:$H,4,0),0)","v":0},{"$f":"IFERROR(VLOOKUP(VALUE(A159),WEEKLY_DATA!$A:$H,5,0),0)","v":0},{"$f":"IFERROR(VLOOKUP(VALUE(A159),WEEKLY_DATA!$A:$H,6,0),0)","v":0},{"$f":"IFERROR(VLOOKUP(VALUE(A159),WEEKLY_DATA!$A:$H,7,0),0)","v":0},{"$f":"IFERROR(IF(OR(Q159=\"\",Q159=0),\"\",IF(VLOOKUP(VALUE($A159),WEEKLY_DATA!$A:$H,6,0)=0,\"No Sales\",Q159/(VLOOKUP(VALUE($A159),WEEKLY_DATA!$A:$H,6,0)/13))),\"\")","v":""},{"$f":"IFERROR(VLOOKUP(VALUE(A159),WEEKLY_DATA!$A:$H,8,0),0)","v":0},"—",null,null,null,null,null,null,null,null,null,null,null,null,null,{"$f":"IFERROR(LOOKUP(2, 1/SEARCH({\"Black\",\"White\",\"Grey\",\"Blue\",\"Silver\",\"Brown\",\"Green\",\"Blue\",\"Purple\",\"Red\",\"Pink\",\"Yellow\",\"Gold\"}, G159), {\"Black\",\"White\",\"Grey\",\"Blue\",\"Silver\",\"Brown\",\"Green\",\"Blue\",\"Purple\",\"Red\",\"Pink\",\"Yellow\",\"Gold\"}), \"\")","v":""},{"$f":"IFERROR(LOOKUP(2, 1/SEARCH({\"8GB\",\"16GB\",\"32GB\",\"64GB\"}, G159), {\"8GB\",\"16GB\",\"32GB\",\"64GB\"}), \"\")","v":""},{"$f":"IFERROR(LOOKUP(2, 1/SEARCH({\"1TB\",\"2TB\",\"128GB\",\"512GB\",\"256GB\"}, G159), {\"1TB\",\"2TB\",\"128GB\",\"512GB\",\"256GB\"}), \"\")","v":""},null,{"$f":"IFERROR(LOOKUP(2, 1/SEARCH({\"16-Inch\",\"15-Inch\",\"15.6-Inch\",\"18-Inch\",\"15.3-Inch\",\"13-Inch\",\"13.4-Inch\",\"13.8-Inch\",\"14-Inch\",\"17-Inch\",\"45-Inch\",\"27-Inch\",\"34-Inch\",\"32-Inch\",\"21.5-Inch\"}, G159), {\"16-Inch\",\"15-Inch\",\"15.6-Inch\",\"18-Inch\",\"15.3-Inch\",\"13-Inch\",\"13.4-Inch\",\"13.8-Inch\",\"14-Inch\",\"17-Inch\",\"45-Inch\",\"27-Inch\",\"34-Inch\",\"32-Inch\",\"21.5-Inch\"}), \"\")","v":""}]
[null,null,null,null,null,null,null,{"$f":"IFERROR(INDEX(BrandList!$A$2:$A$50,MATCH(TRUE,ISNUMBER(SEARCH(BrandList!$A$2:$A$50,G160)),0)),\"\")","v":""},{"$f":"IFERROR(INDEX(BrandList!$B$2:$B$200,MATCH(TRUE,ISNUMBER(SEARCH(BrandList!$B$2:$B$200,G160)),0)),\"\")","v":""},null,null,null,null,null,null,"",{"$f":"IFERROR(VLOOKUP(VALUE(A160),WEEKLY_DATA!$A:$H,2,0),0)","v":0},{"$f":"IFERROR(VLOOKUP(VALUE(A160),WEEKLY_DATA!$A:$H,3,0),0)","v":0},{"$f":"IFERROR(VLOOKUP(VALUE(A160),WEEKLY_DATA!$A:$H,4,0),0)","v":0},{"$f":"IFERROR(VLOOKUP(VALUE(A160),WEEKLY_DATA!$A:$H,5,0),0)","v":0},{"$f":"IFERROR(VLOOKUP(VALUE(A160),WEEKLY_DATA!$A:$H,6,0),0)","v":0},{"$f":"IFERROR(VLOOKUP(VALUE(A160),WEEKLY_DATA!$A:$H,7,0),0)","v":0},{"$f":"IFERROR(IF(OR(Q160=\"\",Q160=0),\"\",IF(VLOOKUP(VALUE($A160),WEEKLY_DATA!$A:$H,6,0)=0,\"No Sales\",Q160/(VLOOKUP(VALUE($A160),WEEKLY_DATA!$A:$H,6,0)/13))),\"\")","v":""},{"$f":"IFERROR(VLOOKUP(VALUE(A160),WEEKLY_DATA!$A:$H,8,0),0)","v":0},"—",null,null,null,null,null,null,null,null,null,null,null,null,null,{"$f":"IFERROR(LOOKUP(2, 1/SEARCH({\"Black\",\"White\",\"Grey\",\"Blue\",\"Silver\",\"Brown\",\"Green\",\"Blue\",\"Purple\",\"Red\",\"Pink\",\"Yellow\",\"Gold\"}, G160), {\"Black\",\"White\",\"Grey\",\"Blue\",\"Silver\",\"Brown\",\"Green\",\"Blue\",\"Purple\",\"Red\",\"Pink\",\"Yellow\",\"Gold\"}), \"\")","v":""},{"$f":"IFERROR(LOOKUP(2, 1/SEARCH({\"8GB\",\"16GB\",\"32GB\",\"64GB\"}, G160), {\"8GB\",\"16GB\",\"32GB\",\"64GB\"}), \"\")","v":""},{"$f":"IFERROR(LOOKUP(2, 1/SEARCH({\"1TB\",\"2TB\",\"128GB\",\"512GB\",\"256GB\"}, G160), {\"1TB\",\"2TB\",\"128GB\",\"512GB\",\"256GB\"}), \"\")","v":""},null,{"$f":"IFERROR(LOOKUP(2, 1/SEARCH({\"16-Inch\",\"15-Inch\",\"15.6-Inch\",\"18-Inch\",\"15.3-Inch\",\"13-Inch\",\"13.4-Inch\",\"13.8-Inch\",\"14-Inch\",\"17-Inch\",\"45-Inch\",\"27-Inch\",\"34-Inch\",\"32-Inch\",\"21.5-Inch\"}, G160), {\"16-Inch\",\"15-Inch\",\"15.6-Inch\",\"18-Inch\",\"15.3-Inch\",\"13-Inch\",\"13.4-Inch\",\"13.8-Inch\",\"14-Inch\",\"17-Inch\",\"45-Inch\",\"27-Inch\",\"34-Inch\",\"32-Inch\",\"21.5-Inch\"}), \"\")","v":""}]
[null,null,null,null,null,null,null,{"$f":"IFERROR(INDEX(BrandList!$A$2:$A$50,MATCH(TRUE,ISNUMBER(SEARCH(BrandList!$A$2:$A$50,G161)),0)),\"\")","v":""},{"$f":"IFERROR(INDEX(BrandList!$B$2:$B$200,MATCH(TRUE,ISNUMBER(SEARCH(BrandList!$B$2:$B$200,G161)),0)),\"\")","v":""},null,null,null,null,null,null,"",{"$f":"IFERROR(VLOOKUP(VALUE(A161),WEEKLY_DATA!$A:$H,2,0),0)","v":0},{"$f":"IFERROR(VLOOKUP(VALUE(A161),WEEKLY_DATA!$A:$H,3,0),0)","v":0},{"$f":"IFERROR(VLOOKUP(VALUE(A161),WEEKLY_DATA!$A:$H,4,0),0)","v":0},{"$f":"IFERROR(VLOOKUP(VALUE(A161),WEEKLY_DATA!$A:$H,5,0),0)","v":0},{"$f":"IFERROR(VLOOKUP(VALUE(A161),WEEKLY_DATA!$A:$H,6,0),0)","v":0},{"$f":"IFERROR(VLOOKUP(VALUE(A161),WEEKLY_DATA!$A:$H,7,0),0)","v":0},{"$f":"IFERROR(IF(OR(Q161=\"\",Q161=0),\"\",IF(VLOOKUP(VALUE($A161),WEEKLY_DATA!$A:$H,6,0)=0,\"No Sales\",Q161/(VLOOKUP(VALUE($A161),WEEKLY_DATA!$A:$H,6,0)/13))),\"\")","v":""},{"$f":"IFERROR(VLOOKUP(VALUE(A161),WEEKLY_DATA!$A:$H,8,0),0)","v":0},"—",null,null,null,null,null,null,"—",null,null,null,"—","—",null,{"$f":"IFERROR(LOOKUP(2, 1/SEARCH({\"Black\",\"White\",\"Grey\",\"Blue\",\"Silver\",\"Brown\",\"Green\",\"Blue\",\"Purple\",\"Red\",\"Pink\",\"Yellow\",\"Gold\"}, G161), {\"Black\",\"White\",\"Grey\",\"Blue\",\"Silver\",\"Brown\",\"Green\",\"Blue\",\"Purple\",\"Red\",\"Pink\",\"Yellow\",\"Gold\"}), \"\")","v":""},{"$f":"IFERROR(LOOKUP(2, 1/SEARCH({\"8GB\",\"16GB\",\"32GB\",\"64GB\"}, G161), {\"8GB\",\"16GB\",\"32GB\",\"64GB\"}), \"\")","v":""},{"$f":"IFERROR(LOOKUP(2, 1/SEARCH({\"1TB\",\"2TB\",\"128GB\",\"512GB\",\"256GB\"}, G161), {\"1TB\",\"2TB\",\"128GB\",\"512GB\",\"256GB\"}), \"\")","v":""},null,{"$f":"IFERROR(LOOKUP(2, 1/SEARCH({\"16-Inch\",\"15-Inch\",\"15.6-Inch\",\"18-Inch\",\"15.3-Inch\",\"13-Inch\",\"13.4-Inch\",\"13.8-Inch\",\"14-Inch\",\"17-Inch\",\"45-Inch\",\"27-Inch\",\"34-Inch\",\"32-Inch\",\"21.5-Inch\"}, G161), {\"16-Inch\",\"15-Inch\",\"15.6-Inch\",\"18-Inch\",\"15.3-Inch\",\"13-Inch\",\"13.4-Inch\",\"13.8-Inch\",\"14-Inch\",\"17-Inch\",\"45-Inch\",\"27-Inch\",\"34-Inch\",\"32-Inch\",\"21.5-Inch\"}), \"\")","v":""}]
[null,null,null,null,null,null,null,{"$f":"IFERROR(INDEX(BrandList!$A$2:$A$50,MATCH(TRUE,ISNUMBER(SEARCH(BrandList!$A$2:$A$50,G162)),0)),\"\")","v":""},{"$f":"IFERROR(INDEX(BrandList!$B$2:$B$200,MATCH(TRUE,ISNUMBER(SEARCH(BrandList!$B$2:$B$200,G162)),0)),\"\")","v":""},null,null,null,null,null,null,"",{"$f":"IFERROR(VLOOKUP(VALUE(A162),WEEKLY_DATA!$A:$H,2,0),0)","v":0},{"$f":"IFERROR(VLOOKUP(VALUE(A162),WEEKLY_DATA!$A:$H,3,0),0)","v":0},{"$f":"IFERROR(VLOOKUP(VALUE(A162),WEEKLY_DATA!$A:$H,4,0),0)","v":0},{"$f":"IFERROR(VLOOKUP(VALUE(A162),WEEKLY_DATA!$A:$H,5,0),0)","v":0},{"$f":"IFERROR(VLOOKUP(VALUE(A162),WEEKLY_DATA!$A:$H,6,0),0)","v":0},{"$f":"IFERROR(VLOOKUP(VALUE(A162),WEEKLY_DATA!$A:$H,7,0),0)","v":0},{"$f":"IFERROR(IF(OR(Q162=\"\",Q162=0),\"\",IF(VLOOKUP(VALUE($A162),WEEKLY_DATA!$A:$H,6,0)=0,\"No Sales\",Q162/(VLOOKUP(VALUE($A162),WEEKLY_DATA!$A:$H,6,0)/13))),\"\")","v":""},{"$f":"IFERROR(VLOOKUP(VALUE(A162),WEEKLY_DATA!$A:$H,8,0),0)","v":0},"—",null,null,null,null,null,null,null,null,null,null,null,null,null,{"$f":"IFERROR(LOOKUP(2, 1/SEARCH({\"Black\",\"White\",\"Grey\",\"Blue\",\"Silver\",\"Brown\",\"Green\",\"Blue\",\"Purple\",\"Red\",\"Pink\",\"Yellow\",\"Gold\"}, G162), {\"Black\",\"White\",\"Grey\",\"Blue\",\"Silver\",\"Brown\",\"Green\",\"Blue\",\"Purple\",\"Red\",\"Pink\",\"Yellow\",\"Gold\"}), \"\")","v":""},{"$f":"IFERROR(LOOKUP(2, 1/SEARCH({\"8GB\",\"16GB\",\"32GB\",\"64GB\"}, G162), {\"8GB\",\"16GB\",\"32GB\",\"64GB\"}), \"\")","v":""},{"$f":"IFERROR(LOOKUP(2, 1/SEARCH({\"1TB\",\"2TB\",\"128GB\",\"512GB\",\"256GB\"}, G162), {\"1TB\",\"2TB\",\"128GB\",\"512GB\",\"256GB\"}), \"\")","v":""},null,{"$f":"IFERROR(LOOKUP(2, 1/SEARCH({\"16-Inch\",\"15-Inch\",\"15.6-Inch\",\"18-Inch\",\"15.3-Inch\",\"13-Inch\",\"13.4-Inch\",\"13.8-Inch\",\"14-Inch\",\"17-Inch\",\"45-Inch\",\"27-Inch\",\"34-Inch\",\"32-Inch\",\"21.5-Inch\"}, G162), {\"16-Inch\",\"15-Inch\",\"15.6-Inch\",\"18-Inch\",\"15.3-Inch\",\"13-Inch\",\"13.4-Inch\",\"13.8-Inch\",\"14-Inch\",\"17-Inch\",\"45-Inch\",\"27-Inch\",\"34-Inch\",\"32-Inch\",\"21.5-Inch\"}), \"\")","v":""}]
[null,null,null,null,null,null,null,{"$f":"IFERROR(INDEX(BrandList!$A$2:$A$50,MATCH(TRUE,ISNUMBER(SEARCH(BrandList!$A$2:$A$50,G163)),0)),\"\")","v":""},{"$f":"IFERROR(INDEX(BrandList!$B$2:$B$200,MATCH(TRUE,ISNUMBER(SEARCH(BrandList!$B$2:$B$200,G163)),0)),\"\")","v":""},null,null,null,null,null,null,"",{"$f":"IFERROR(VLOOKUP(VALUE(A163),WEEKLY_DATA!$A:$H,2,0),0)","v":0},{"$f":"IFERROR(VLOOKUP(VALUE(A163),WEEKLY_DATA!$A:$H,3,0),0)","v":0},{"$f":"IFERROR(VLOOKUP(VALUE(A163),WEEKLY_DATA!$A:$H,4,0),0)","v":0},{"$f":"IFERROR(VLOOKUP(VALUE(A163),WEEKLY_DATA!$A:$H,5,0),0)","v":0},{"$f":"IFERROR(VLOOKUP(VALUE(A163),WEEKLY_DATA!$A:$H,6,0),0)","v":0},{"$f":"IFERROR(VLOOKUP(VALUE(A163),WEEKLY_DATA!$A:$H,7,0),0)","v":0},{"$f":"IFERROR(IF(OR(Q163=\"\",Q163=0),\"\",IF(VLOOKUP(VALUE($A163),WEEKLY_DATA!$A:$H,6,0)=0,\"No Sales\",Q163/(VLOOKUP(VALUE($A163),WEEKLY_DATA!$A:$H,6,0)/13))),\"\")","v":""},{"$f":"IFERROR(VLOOKUP(VALUE(A163),WEEKLY_DATA!$A:$H,8,0),0)","v":0},"—",null,null,null,null,null,null,"—",null,null,null,"—","—",null,{"$f":"IFERROR(LOOKUP(2, 1/SEARCH({\"Black\",\"White\",\"Grey\",\"Blue\",\"Silver\",\"Brown\",\"Green\",\"Blue\",\"Purple\",\"Red\",\"Pink\",\"Yellow\",\"Gold\"}, G163), {\"Black\",\"White\",\"Grey\",\"Blue\",\"Silver\",\"Brown\",\"Green\",\"Blue\",\"Purple\",\"Red\",\"Pink\",\"Yellow\",\"Gold\"}), \"\")","v":""},{"$f":"IFERROR(LOOKUP(2, 1/SEARCH({\"8GB\",\"16GB\",\"32GB\",\"64GB\"}, G163), {\"8GB\",\"16GB\",\"32GB\",\"64GB\"}), \"\")","v":""},{"$f":"IFERROR(LOOKUP(2, 1/SEARCH({\"1TB\",\"2TB\",\"128GB\",\"512GB\",\"256GB\"}, G163), {\"1TB\",\"2TB\",\"128GB\",\"512GB\",\"256GB\"}), \"\")","v":""},null,{"$f":"IFERROR(LOOKUP(2, 1/SEARCH({\"16-Inch\",\"15-Inch\",\"15.6-Inch\",\"18-Inch\",\"15.3-Inch\",\"13-Inch\",\"13.4-Inch\",\"13.8-Inch\",\"14-Inch\",\"17-Inch\",\"45-Inch\",\"27-Inch\",\"34-Inch\",\"32-Inch\",\"21.5-Inch\"}, G163), {\"16-Inch\",\"15-Inch\",\"15.6-Inch\",\"18-Inch\",\"15.3-Inch\",\"13-Inch\",\"13.4-Inch\",\"13.8-Inch\",\"14-Inch\",\"17-Inch\",\"45-Inch\",\"27-Inch\",\"34-Inch\",\"32-Inch\",\"21.5-Inch\"}), \"\")","v":""}]
[null,null,null,null,null,null,null,{"$f":"IFERROR(INDEX(BrandList!$A$2:$A$50,MATCH(TRUE,ISNUMBER(SEARCH(BrandList!$A$2:$A$50,G164)),0)),\"\")","v":""},{"$f":"IFERROR(INDEX(BrandList!$B$2:$B$200,MATCH(TRUE,ISNUMBER(SEARCH(BrandList!$B$2:$B$200,G164)),0)),\"\")","v":""},null,null,null,null,null,null,"",{"$f":"IFERROR(VLOOKUP(VALUE(A164),WEEKLY_DATA!$A:$H,2,0),0)","v":0},{"$f":"IFERROR(VLOOKUP(VALUE(A164),WEEKLY_DATA!$A:$H,3,0),0)","v":0},{"$f":"IFERROR(VLOOKUP(VALUE(A164),WEEKLY_DATA!$A:$H,4,0),0)","v":0},{"$f":"IFERROR(VLOOKUP(VALUE(A164),WEEKLY_DATA!$A:$H,5,0),0)","v":0},{"$f":"IFERROR(VLOOKUP(VALUE(A164),WEEKLY_DATA!$A:$H,6,0),0)","v":0},{"$f":"IFERROR(VLOOKUP(VALUE(A164),WEEKLY_DATA!$A:$H,7,0),0)","v":0},{"$f":"IFERROR(IF(OR(Q164=\"\",Q164=0),\"\",IF(VLOOKUP(VALUE($A164),WEEKLY_DATA!$A:$H,6,0)=0,\"No Sales\",Q164/(VLOOKUP(VALUE($A164),WEEKLY_DATA!$A:$H,6,0)/13))),\"\")","v":""},{"$f":"IFERROR(VLOOKUP(VALUE(A164),WEEKLY_DATA!$A:$H,8,0),0)","v":0},"—",null,null,null,null,null,null,"—",null,null,null,"—","—",null,{"$f":"IFERROR(LOOKUP(2, 1/SEARCH({\"Black\",\"White\",\"Grey\",\"Blue\",\"Silver\",\"Brown\",\"Green\",\"Blue\",\"Purple\",\"Red\",\"Pink\",\"Yellow\",\"Gold\"}, G164), {\"Black\",\"White\",\"Grey\",\"Blue\",\"Silver\",\"Brown\",\"Green\",\"Blue\",\"Purple\",\"Red\",\"Pink\",\"Yellow\",\"Gold\"}), \"\")","v":""},{"$f":"IFERROR(LOOKUP(2, 1/SEARCH({\"8GB\",\"16GB\",\"32GB\",\"64GB\"}, G164), {\"8GB\",\"16GB\",\"32GB\",\"64GB\"}), \"\")","v":""},{"$f":"IFERROR(LOOKUP(2, 1/SEARCH({\"1TB\",\"2TB\",\"128GB\",\"512GB\",\"256GB\"}, G164), {\"1TB\",\"2TB\",\"128GB\",\"512GB\",\"256GB\"}), \"\")","v":""},null,{"$f":"IFERROR(LOOKUP(2, 1/SEARCH({\"16-Inch\",\"15-Inch\",\"15.6-Inch\",\"18-Inch\",\"15.3-Inch\",\"13-Inch\",\"13.4-Inch\",\"13.8-Inch\",\"14-Inch\",\"17-Inch\",\"45-Inch\",\"27-Inch\",\"34-Inch\",\"32-Inch\",\"21.5-Inch\"}, G164), {\"16-Inch\",\"15-Inch\",\"15.6-Inch\",\"18-Inch\",\"15.3-Inch\",\"13-Inch\",\"13.4-Inch\",\"13.8-Inch\",\"14-Inch\",\"17-Inch\",\"45-Inch\",\"27-Inch\",\"34-Inch\",\"32-Inch\",\"21.5-Inch\"}), \"\")","v":""}]
[null,null,null,null,null,null,null,{"$f":"IFERROR(INDEX(BrandList!$A$2:$A$50,MATCH(TRUE,ISNUMBER(SEARCH(BrandList!$A$2:$A$50,G165)),0)),\"\")","v":""},{"$f":"IFERROR(INDEX(BrandList!$B$2:$B$200,MATCH(TRUE,ISNUMBER(SEARCH(BrandList!$B$2:$B$200,G165)),0)),\"\")","v":""},null,null,null,null,null,null,"",{"$f":"IFERROR(VLOOKUP(VALUE(A165),WEEKLY_DATA!$A:$H,2,0),0)","v":0},{"$f":"IFERROR(VLOOKUP(VALUE(A165),WEEKLY_DATA!$A:$H,3,0),0)","v":0},{"$f":"IFERROR(VLOOKUP(VALUE(A165),WEEKLY_DATA!$A:$H,4,0),0)","v":0},{"$f":"IFERROR(VLOOKUP(VALUE(A165),WEEKLY_DATA!$A:$H,5,0),0)","v":0},{"$f":"IFERROR(VLOOKUP(VALUE(A165),WEEKLY_DATA!$A:$H,6,0),0)","v":0},{"$f":"IFERROR(VLOOKUP(VALUE(A165),WEEKLY_DATA!$A:$H,7,0),0)","v":0},{"$f":"IFERROR(IF(OR(Q165=\"\",Q165=0),\"\",IF(VLOOKUP(VALUE($A165),WEEKLY_DATA!$A:$H,6,0)=0,\"No Sales\",Q165/(VLOOKUP(VALUE($A165),WEEKLY_DATA!$A:$H,6,0)/13))),\"\")","v":""},{"$f":"IFERROR(VLOOKUP(VALUE(A165),WEEKLY_DATA!$A:$H,8,0),0)","v":0},"—",null,null,null,null,null,null,"—",null,null,null,"—","—",null,{"$f":"IFERROR(LOOKUP(2, 1/SEARCH({\"Black\",\"White\",\"Grey\",\"Blue\",\"Silver\",\"Brown\",\"Green\",\"Blue\",\"Purple\",\"Red\",\"Pink\",\"Yellow\",\"Gold\"}, G165), {\"Black\",\"White\",\"Grey\",\"Blue\",\"Silver\",\"Brown\",\"Green\",\"Blue\",\"Purple\",\"Red\",\"Pink\",\"Yellow\",\"Gold\"}), \"\")","v":""},{"$f":"IFERROR(LOOKUP(2, 1/SEARCH({\"8GB\",\"16GB\",\"32GB\",\"64GB\"}, G165), {\"8GB\",\"16GB\",\"32GB\",\"64GB\"}), \"\")","v":""},{"$f":"IFERROR(LOOKUP(2, 1/SEARCH({\"1TB\",\"2TB\",\"128GB\",\"512GB\",\"256GB\"}, G165), {\"1TB\",\"2TB\",\"128GB\",\"512GB\",\"256GB\"}), \"\")","v":""},null,{"$f":"IFERROR(LOOKUP(2, 1/SEARCH({\"16-Inch\",\"15-Inch\",\"15.6-Inch\",\"18-Inch\",\"15.3-Inch\",\"13-Inch\",\"13.4-Inch\",\"13.8-Inch\",\"14-Inch\",\"17-Inch\",\"45-Inch\",\"27-Inch\",\"34-Inch\",\"32-Inch\",\"21.5-Inch\"}, G165), {\"16-Inch\",\"15-Inch\",\"15.6-Inch\",\"18-Inch\",\"15.3-Inch\",\"13-Inch\",\"13.4-Inch\",\"13.8-Inch\",\"14-Inch\",\"17-Inch\",\"45-Inch\",\"27-Inch\",\"34-Inch\",\"32-Inch\",\"21.5-Inch\"}), \"\")","v":""}]
[null,null,null,null,null,null,null,{"$f":"IFERROR(INDEX(BrandList!$A$2:$A$50,MATCH(TRUE,ISNUMBER(SEARCH(BrandList!$A$2:$A$50,G166)),0)),\"\")","v":""},{"$f":"IFERROR(INDEX(BrandList!$B$2:$B$200,MATCH(TRUE,ISNUMBER(SEARCH(BrandList!$B$2:$B$200,G166)),0)),\"\")","v":""},null,null,null,null,null,null,"",{"$f":"IFERROR(VLOOKUP(VALUE(A166),WEEKLY_DATA!$A:$H,2,0),0)","v":0},{"$f":"IFERROR(VLOOKUP(VALUE(A166),WEEKLY_DATA!$A:$H,3,0),0)","v":0},{"$f":"IFERROR(VLOOKUP(VALUE(A166),WEEKLY_DATA!$A:$H,4,0),0)","v":0},{"$f":"IFERROR(VLOOKUP(VALUE(A166),WEEKLY_DATA!$A:$H,5,0),0)","v":0},{"$f":"IFERROR(VLOOKUP(VALUE(A166),WEEKLY_DATA!$A:$H,6,0),0)","v":0},{"$f":"IFERROR(VLOOKUP(VALUE(A166),WEEKLY_DATA!$A:$H,7,0),0)","v":0},{"$f":"IFERROR(IF(OR(Q166=\"\",Q166=0),\"\",IF(VLOOKUP(VALUE($A166),WEEKLY_DATA!$A:$H,6,0)=0,\"No Sales\",Q166/(VLOOKUP(VALUE($A166),WEEKLY_DATA!$A:$H,6,0)/13))),\"\")","v":""},{"$f":"IFERROR(VLOOKUP(VALUE(A166),WEEKLY_DATA!$A:$H,8,0),0)","v":0},"—",null,null,null,null,null,null,"—",null,null,null,"—","—",null,{"$f":"IFERROR(LOOKUP(2, 1/SEARCH({\"Black\",\"White\",\"Grey\",\"Blue\",\"Silver\",\"Brown\",\"Green\",\"Blue\",\"Purple\",\"Red\",\"Pink\",\"Yellow\",\"Gold\"}, G166), {\"Black\",\"White\",\"Grey\",\"Blue\",\"Silver\",\"Brown\",\"Green\",\"Blue\",\"Purple\",\"Red\",\"Pink\",\"Yellow\",\"Gold\"}), \"\")","v":""},{"$f":"IFERROR(LOOKUP(2, 1/SEARCH({\"8GB\",\"16GB\",\"32GB\",\"64GB\"}, G166), {\"8GB\",\"16GB\",\"32GB\",\"64GB\"}), \"\")","v":""},{"$f":"IFERROR(LOOKUP(2, 1/SEARCH({\"1TB\",\"2TB\",\"128GB\",\"512GB\",\"256GB\"}, G166), {\"1TB\",\"2TB\",\"128GB\",\"512GB\",\"256GB\"}), \"\")","v":""},null,{"$f":"IFERROR(LOOKUP(2, 1/SEARCH({\"16-Inch\",\"15-Inch\",\"15.6-Inch\",\"18-Inch\",\"15.3-Inch\",\"13-Inch\",\"13.4-Inch\",\"13.8-Inch\",\"14-Inch\",\"17-Inch\",\"45-Inch\",\"27-Inch\",\"34-Inch\",\"32-Inch\",\"21.5-Inch\"}, G166), {\"16-Inch\",\"15-Inch\",\"15.6-Inch\",\"18-Inch\",\"15.3-Inch\",\"13-Inch\",\"13.4-Inch\",\"13.8-Inch\",\"14-Inch\",\"17-Inch\",\"45-Inch\",\"27-Inch\",\"34-Inch\",\"32-Inch\",\"21.5-Inch\"}), \"\")","v":""}]
[null,null,null,null,null,null,null,{"$f":"IFERROR(INDEX(BrandList!$A$2:$A$50,MATCH(TRUE,ISNUMBER(SEARCH(BrandList!$A$2:$A$50,G167)),0)),\"\")","v":""},{"$f":"IFERROR(INDEX(BrandList!$B$2:$B$200,MATCH(TRUE,ISNUMBER(SEARCH(BrandList!$B$2:$B$200,G167)),0)),\"\")","v":""},null,null,null,null,null,null,"",{"$f":"IFERROR(VLOOKUP(VALUE(A167),WEEKLY_DATA!$A:$H,2,0),0)","v":0},{"$f":"IFERROR(VLOOKUP(VALUE(A167),WEEKLY_DATA!$A:$H,3,0),0)","v":0},{"$f":"IFERROR(VLOOKUP(VALUE(A167),WEEKLY_DATA!$A:$H,4,0),0)","v":0},{"$f":"IFERROR(VLOOKUP(VALUE(A167),WEEKLY_DATA!$A:$H,5,0),0)","v":0},{"$f":"IFERROR(VLOOKUP(VALUE(A167),WEEKLY_DATA!$A:$H,6,0),0)","v":0},{"$f":"IFERROR(VLOOKUP(VALUE(A167),WEEKLY_DATA!$A:$H,7,0),0)","v":0},{"$f":"IFERROR(IF(OR(Q167=\"\",Q167=0),\"\",IF(VLOOKUP(VALUE($A167),WEEKLY_DATA!$A:$H,6,0)=0,\"No Sales\",Q167/(VLOOKUP(VALUE($A167),WEEKLY_DATA!$A:$H,6,0)/13))),\"\")","v":""},{"$f":"IFERROR(VLOOKUP(VALUE(A167),WEEKLY_DATA!$A:$H,8,0),0)","v":0},"—",null,null,null,null,null,null,"—",null,null,null,"—","—",null,{"$f":"IFERROR(LOOKUP(2, 1/SEARCH({\"Black\",\"White\",\"Grey\",\"Blue\",\"Silver\",\"Brown\",\"Green\",\"Blue\",\"Purple\",\"Red\",\"Pink\",\"Yellow\",\"Gold\"}, G167), {\"Black\",\"White\",\"Grey\",\"Blue\",\"Silver\",\"Brown\",\"Green\",\"Blue\",\"Purple\",\"Red\",\"Pink\",\"Yellow\",\"Gold\"}), \"\")","v":""},{"$f":"IFERROR(LOOKUP(2, 1/SEARCH({\"8GB\",\"16GB\",\"32GB\",\"64GB\"}, G167), {\"8GB\",\"16GB\",\"32GB\",\"64GB\"}), \"\")","v":""},{"$f":"IFERROR(LOOKUP(2, 1/SEARCH({\"1TB\",\"2TB\",\"128GB\",\"512GB\",\"256GB\"}, G167), {\"1TB\",\"2TB\",\"128GB\",\"512GB\",\"256GB\"}), \"\")","v":""},null,{"$f":"IFERROR(LOOKUP(2, 1/SEARCH({\"16-Inch\",\"15-Inch\",\"15.6-Inch\",\"18-Inch\",\"15.3-Inch\",\"13-Inch\",\"13.4-Inch\",\"13.8-Inch\",\"14-Inch\",\"17-Inch\",\"45-Inch\",\"27-Inch\",\"34-Inch\",\"32-Inch\",\"21.5-Inch\"}, G167), {\"16-Inch\",\"15-Inch\",\"15.6-Inch\",\"18-Inch\",\"15.3-Inch\",\"13-Inch\",\"13.4-Inch\",\"13.8-Inch\",\"14-Inch\",\"17-Inch\",\"45-Inch\",\"27-Inch\",\"34-Inch\",\"32-Inch\",\"21.5-Inch\"}), \"\")","v":""}]
[null,null,null,null,null,null,null,{"$f":"IFERROR(INDEX(BrandList!$A$2:$A$50,MATCH(TRUE,ISNUMBER(SEARCH(BrandList!$A$2:$A$50,G168)),0)),\"\")","v":""},{"$f":"IFERROR(INDEX(BrandList!$B$2:$B$200,MATCH(TRUE,ISNUMBER(SEARCH(BrandList!$B$2:$B$200,G168)),0)),\"\")","v":""},null,null,null,null,null,null,"",{"$f":"IFERROR(VLOOKUP(VALUE(A168),WEEKLY_DATA!$A:$H,2,0),0)","v":0},{"$f":"IFERROR(VLOOKUP(VALUE(A168),WEEKLY_DATA!$A:$H,3,0),0)","v":0},{"$f":"IFERROR(VLOOKUP(VALUE(A168),WEEKLY_DATA!$A:$H,4,0),0)","v":0},{"$f":"IFERROR(VLOOKUP(VALUE(A168),WEEKLY_DATA!$A:$H,5,0),0)","v":0},{"$f":"IFERROR(VLOOKUP(VALUE(A168),WEEKLY_DATA!$A:$H,6,0),0)","v":0},{"$f":"IFERROR(VLOOKUP(VALUE(A168),WEEKLY_DATA!$A:$H,7,0),0)","v":0},{"$f":"IFERROR(IF(OR(Q168=\"\",Q168=0),\"\",IF(VLOOKUP(VALUE($A168),WEEKLY_DATA!$A:$H,6,0)=0,\"No Sales\",Q168/(VLOOKUP(VALUE($A168),WEEKLY_DATA!$A:$H,6,0)/13))),\"\")","v":""},{"$f":"IFERROR(VLOOKUP(VALUE(A168),WEEKLY_DATA!$A:$H,8,0),0)","v":0},"—",null,null,null,null,null,null,"—",null,null,null,"—","—",null,{"$f":"IFERROR(LOOKUP(2, 1/SEARCH({\"Black\",\"White\",\"Grey\",\"Blue\",\"Silver\",\"Brown\",\"Green\",\"Blue\",\"Purple\",\"Red\",\"Pink\",\"Yellow\",\"Gold\"}, G168), {\"Black\",\"White\",\"Grey\",\"Blue\",\"Silver\",\"Brown\",\"Green\",\"Blue\",\"Purple\",\"Red\",\"Pink\",\"Yellow\",\"Gold\"}), \"\")","v":""},{"$f":"IFERROR(LOOKUP(2, 1/SEARCH({\"8GB\",\"16GB\",\"32GB\",\"64GB\"}, G168), {\"8GB\",\"16GB\",\"32GB\",\"64GB\"}), \"\")","v":""},{"$f":"IFERROR(LOOKUP(2, 1/SEARCH({\"1TB\",\"2TB\",\"128GB\",\"512GB\",\"256GB\"}, G168), {\"1TB\",\"2TB\",\"128GB\",\"512GB\",\"256GB\"}), \"\")","v":""},null,{"$f":"IFERROR(LOOKUP(2, 1/SEARCH({\"16-Inch\",\"15-Inch\",\"15.6-Inch\",\"18-Inch\",\"15.3-Inch\",\"13-Inch\",\"13.4-Inch\",\"13.8-Inch\",\"14-Inch\",\"17-Inch\",\"45-Inch\",\"27-Inch\",\"34-Inch\",\"32-Inch\",\"21.5-Inch\"}, G168), {\"16-Inch\",\"15-Inch\",\"15.6-Inch\",\"18-Inch\",\"15.3-Inch\",\"13-Inch\",\"13.4-Inch\",\"13.8-Inch\",\"14-Inch\",\"17-Inch\",\"45-Inch\",\"27-Inch\",\"34-Inch\",\"32-Inch\",\"21.5-Inch\"}), \"\")","v":""}]
[null,null,null,null,null,null,null,{"$f":"IFERROR(INDEX(BrandList!$A$2:$A$50,MATCH(TRUE,ISNUMBER(SEARCH(BrandList!$A$2:$A$50,G169)),0)),\"\")","v":""},{"$f":"IFERROR(INDEX(BrandList!$B$2:$B$200,MATCH(TRUE,ISNUMBER(SEARCH(BrandList!$B$2:$B$200,G169)),0)),\"\")","v":""},null,null,null,null,null,null,"",{"$f":"IFERROR(VLOOKUP(VALUE(A169),WEEKLY_DATA!$A:$H,2,0),0)","v":0},{"$f":"IFERROR(VLOOKUP(VALUE(A169),WEEKLY_DATA!$A:$H,3,0),0)","v":0},{"$f":"IFERROR(VLOOKUP(VALUE(A169),WEEKLY_DATA!$A:$H,4,0),0)","v":0},{"$f":"IFERROR(VLOOKUP(VALUE(A169),WEEKLY_DATA!$A:$H,5,0),0)","v":0},{"$f":"IFERROR(VLOOKUP(VALUE(A169),WEEKLY_DATA!$A:$H,6,0),0)","v":0},{"$f":"IFERROR(VLOOKUP(VALUE(A169),WEEKLY_DATA!$A:$H,7,0),0)","v":0},{"$f":"IFERROR(IF(OR(Q169=\"\",Q169=0),\"\",IF(VLOOKUP(VALUE($A169),WEEKLY_DATA!$A:$H,6,0)=0,\"No Sales\",Q169/(VLOOKUP(VALUE($A169),WEEKLY_DATA!$A:$H,6,0)/13))),\"\")","v":""},{"$f":"IFERROR(VLOOKUP(VALUE(A169),WEEKLY_DATA!$A:$H,8,0),0)","v":0},"—",null,null,null,null,null,null,"—",null,null,null,"—","—",null,{"$f":"IFERROR(LOOKUP(2, 1/SEARCH({\"Black\",\"White\",\"Grey\",\"Blue\",\"Silver\",\"Brown\",\"Green\",\"Blue\",\"Purple\",\"Red\",\"Pink\",\"Yellow\",\"Gold\"}, G169), {\"Black\",\"White\",\"Grey\",\"Blue\",\"Silver\",\"Brown\",\"Green\",\"Blue\",\"Purple\",\"Red\",\"Pink\",\"Yellow\",\"Gold\"}), \"\")","v":""},{"$f":"IFERROR(LOOKUP(2, 1/SEARCH({\"8GB\",\"16GB\",\"32GB\",\"64GB\"}, G169), {\"8GB\",\"16GB\",\"32GB\",\"64GB\"}), \"\")","v":""},{"$f":"IFERROR(LOOKUP(2, 1/SEARCH({\"1TB\",\"2TB\",\"128GB\",\"512GB\",\"256GB\"}, G169), {\"1TB\",\"2TB\",\"128GB\",\"512GB\",\"256GB\"}), \"\")","v":""},null,{"$f":"IFERROR(LOOKUP(2, 1/SEARCH({\"16-Inch\",\"15-Inch\",\"15.6-Inch\",\"18-Inch\",\"15.3-Inch\",\"13-Inch\",\"13.4-Inch\",\"13.8-Inch\",\"14-Inch\",\"17-Inch\",\"45-Inch\",\"27-Inch\",\"34-Inch\",\"32-Inch\",\"21.5-Inch\"}, G169), {\"16-Inch\",\"15-Inch\",\"15.6-Inch\",\"18-Inch\",\"15.3-Inch\",\"13-Inch\",\"13.4-Inch\",\"13.8-Inch\",\"14-Inch\",\"17-Inch\",\"45-Inch\",\"27-Inch\",\"34-Inch\",\"32-Inch\",\"21.5-Inch\"}), \"\")","v":""}]
[null,null,null,null,null,null,null,{"$f":"IFERROR(INDEX(BrandList!$A$2:$A$50,MATCH(TRUE,ISNUMBER(SEARCH(BrandList!$A$2:$A$50,G170)),0)),\"\")","v":""},{"$f":"IFERROR(INDEX(BrandList!$B$2:$B$200,MATCH(TRUE,ISNUMBER(SEARCH(BrandList!$B$2:$B$200,G170)),0)),\"\")","v":""},null,null,null,null,null,null,"",{"$f":"IFERROR(VLOOKUP(VALUE(A170),WEEKLY_DATA!$A:$H,2,0),0)","v":0},{"$f":"IFERROR(VLOOKUP(VALUE(A170),WEEKLY_DATA!$A:$H,3,0),0)","v":0},{"$f":"IFERROR(VLOOKUP(VALUE(A170),WEEKLY_DATA!$A:$H,4,0),0)","v":0},{"$f":"IFERROR(VLOOKUP(VALUE(A170),WEEKLY_DATA!$A:$H,5,0),0)","v":0},{"$f":"IFERROR(VLOOKUP(VALUE(A170),WEEKLY_DATA!$A:$H,6,0),0)","v":0},{"$f":"IFERROR(VLOOKUP(VALUE(A170),WEEKLY_DATA!$A:$H,7,0),0)","v":0},{"$f":"IFERROR(IF(OR(Q170=\"\",Q170=0),\"\",IF(VLOOKUP(VALUE($A170),WEEKLY_DATA!$A:$H,6,0)=0,\"No Sales\",Q170/(VLOOKUP(VALUE($A170),WEEKLY_DATA!$A:$H,6,0)/13))),\"\")","v":""},{"$f":"IFERROR(VLOOKUP(VALUE(A170),WEEKLY_DATA!$A:$H,8,0),0)","v":0},"—",null,null,null,null,null,null,"—",null,null,null,"—","—",null,{"$f":"IFERROR(LOOKUP(2, 1/SEARCH({\"Black\",\"White\",\"Grey\",\"Blue\",\"Silver\",\"Brown\",\"Green\",\"Blue\",\"Purple\",\"Red\",\"Pink\",\"Yellow\",\"Gold\"}, G170), {\"Black\",\"White\",\"Grey\",\"Blue\",\"Silver\",\"Brown\",\"Green\",\"Blue\",\"Purple\",\"Red\",\"Pink\",\"Yellow\",\"Gold\"}), \"\")","v":""},{"$f":"IFERROR(LOOKUP(2, 1/SEARCH({\"8GB\",\"16GB\",\"32GB\",\"64GB\"}, G170), {\"8GB\",\"16GB\",\"32GB\",\"64GB\"}), \"\")","v":""},{"$f":"IFERROR(LOOKUP(2, 1/SEARCH({\"1TB\",\"2TB\",\"128GB\",\"512GB\",\"256GB\"}, G170), {\"1TB\",\"2TB\",\"128GB\",\"512GB\",\"256GB\"}), \"\")","v":""},null,{"$f":"IFERROR(LOOKUP(2, 1/SEARCH({\"16-Inch\",\"15-Inch\",\"15.6-Inch\",\"18-Inch\",\"15.3-Inch\",\"13-Inch\",\"13.4-Inch\",\"13.8-Inch\",\"14-Inch\",\"17-Inch\",\"45-Inch\",\"27-Inch\",\"34-Inch\",\"32-Inch\",\"21.5-Inch\"}, G170), {\"16-Inch\",\"15-Inch\",\"15.6-Inch\",\"18-Inch\",\"15.3-Inch\",\"13-Inch\",\"13.4-Inch\",\"13.8-Inch\",\"14-Inch\",\"17-Inch\",\"45-Inch\",\"27-Inch\",\"34-Inch\",\"32-Inch\",\"21.5-Inch\"}), \"\")","v":""}]
[null,null,null,null,null,null,null,{"$f":"IFERROR(INDEX(BrandList!$A$2:$A$50,MATCH(TRUE,ISNUMBER(SEARCH(BrandList!$A$2:$A$50,G171)),0)),\"\")","v":""},{"$f":"IFERROR(INDEX(BrandList!$B$2:$B$200,MATCH(TRUE,ISNUMBER(SEARCH(BrandList!$B$2:$B$200,G171)),0)),\"\")","v":""},null,null,null,null,null,null,"",{"$f":"IFERROR(VLOOKUP(VALUE(A171),WEEKLY_DATA!$A:$H,2,0),0)","v":0},{"$f":"IFERROR(VLOOKUP(VALUE(A171),WEEKLY_DATA!$A:$H,3,0),0)","v":0},{"$f":"IFERROR(VLOOKUP(VALUE(A171),WEEKLY_DATA!$A:$H,4,0),0)","v":0},{"$f":"IFERROR(VLOOKUP(VALUE(A171),WEEKLY_DATA!$A:$H,5,0),0)","v":0},{"$f":"IFERROR(VLOOKUP(VALUE(A171),WEEKLY_DATA!$A:$H,6,0),0)","v":0},{"$f":"IFERROR(VLOOKUP(VALUE(A171),WEEKLY_DATA!$A:$H,7,0),0)","v":0},{"$f":"IFERROR(IF(OR(Q171=\"\",Q171=0),\"\",IF(VLOOKUP(VALUE($A171),WEEKLY_DATA!$A:$H,6,0)=0,\"No Sales\",Q171/(VLOOKUP(VALUE($A171),WEEKLY_DATA!$A:$H,6,0)/13))),\"\")","v":""},{"$f":"IFERROR(VLOOKUP(VALUE(A171),WEEKLY_DATA!$A:$H,8,0),0)","v":0},"—",null,null,null,null,null,null,"—",null,null,null,"—","—",null,{"$f":"IFERROR(LOOKUP(2, 1/SEARCH({\"Black\",\"White\",\"Grey\",\"Blue\",\"Silver\",\"Brown\",\"Green\",\"Blue\",\"Purple\",\"Red\",\"Pink\",\"Yellow\",\"Gold\"}, G171), {\"Black\",\"White\",\"Grey\",\"Blue\",\"Silver\",\"Brown\",\"Green\",\"Blue\",\"Purple\",\"Red\",\"Pink\",\"Yellow\",\"Gold\"}), \"\")","v":""},{"$f":"IFERROR(LOOKUP(2, 1/SEARCH({\"8GB\",\"16GB\",\"32GB\",\"64GB\"}, G171), {\"8GB\",\"16GB\",\"32GB\",\"64GB\"}), \"\")","v":""},{"$f":"IFERROR(LOOKUP(2, 1/SEARCH({\"1TB\",\"2TB\",\"128GB\",\"512GB\",\"256GB\"}, G171), {\"1TB\",\"2TB\",\"128GB\",\"512GB\",\"256GB\"}), \"\")","v":""},null,{"$f":"IFERROR(LOOKUP(2, 1/SEARCH({\"16-Inch\",\"15-Inch\",\"15.6-Inch\",\"18-Inch\",\"15.3-Inch\",\"13-Inch\",\"13.4-Inch\",\"13.8-Inch\",\"14-Inch\",\"17-Inch\",\"45-Inch\",\"27-Inch\",\"34-Inch\",\"32-Inch\",\"21.5-Inch\"}, G171), {\"16-Inch\",\"15-Inch\",\"15.6-Inch\",\"18-Inch\",\"15.3-Inch\",\"13-Inch\",\"13.4-Inch\",\"13.8-Inch\",\"14-Inch\",\"17-Inch\",\"45-Inch\",\"27-Inch\",\"34-Inch\",\"32-Inch\",\"21.5-Inch\"}), \"\")","v":""}]
[null,null,null,null,null,null,null,{"$f":"IFERROR(INDEX(BrandList!$A$2:$A$50,MATCH(TRUE,ISNUMBER(SEARCH(BrandList!$A$2:$A$50,G172)),0)),\"\")","v":""},{"$f":"IFERROR(INDEX(BrandList!$B$2:$B$200,MATCH(TRUE,ISNUMBER(SEARCH(BrandList!$B$2:$B$200,G172)),0)),\"\")","v":""},null,null,null,null,null,null,"",{"$f":"IFERROR(VLOOKUP(VALUE(A172),WEEKLY_DATA!$A:$H,2,0),0)","v":0},{"$f":"IFERROR(VLOOKUP(VALUE(A172),WEEKLY_DATA!$A:$H,3,0),0)","v":0},{"$f":"IFERROR(VLOOKUP(VALUE(A172),WEEKLY_DATA!$A:$H,4,0),0)","v":0},{"$f":"IFERROR(VLOOKUP(VALUE(A172),WEEKLY_DATA!$A:$H,5,0),0)","v":0},{"$f":"IFERROR(VLOOKUP(VALUE(A172),WEEKLY_DATA!$A:$H,6,0),0)","v":0},{"$f":"IFERROR(VLOOKUP(VALUE(A172),WEEKLY_DATA!$A:$H,7,0),0)","v":0},{"$f":"IFERROR(IF(OR(Q172=\"\",Q172=0),\"\",IF(VLOOKUP(VALUE($A172),WEEKLY_DATA!$A:$H,6,0)=0,\"No Sales\",Q172/(VLOOKUP(VALUE($A172),WEEKLY_DATA!$A:$H,6,0)/13))),\"\")","v":""},{"$f":"IFERROR(VLOOKUP(VALUE(A172),WEEKLY_DATA!$A:$H,8,0),0)","v":0},"—",null,null,null,null,null,null,"—",null,"—",null,"—","—",null,{"$f":"IFERROR(LOOKUP(2, 1/SEARCH({\"Black\",\"White\",\"Grey\",\"Blue\",\"Silver\",\"Brown\",\"Green\",\"Blue\",\"Purple\",\"Red\",\"Pink\",\"Yellow\",\"Gold\"}, G172), {\"Black\",\"White\",\"Grey\",\"Blue\",\"Silver\",\"Brown\",\"Green\",\"Blue\",\"Purple\",\"Red\",\"Pink\",\"Yellow\",\"Gold\"}), \"\")","v":""},{"$f":"IFERROR(LOOKUP(2, 1/SEARCH({\"8GB\",\"16GB\",\"32GB\",\"64GB\"}, G172), {\"8GB\",\"16GB\",\"32GB\",\"64GB\"}), \"\")","v":""},{"$f":"IFERROR(LOOKUP(2, 1/SEARCH({\"1TB\",\"2TB\",\"128GB\",\"512GB\",\"256GB\"}, G172), {\"1TB\",\"2TB\",\"128GB\",\"512GB\",\"256GB\"}), \"\")","v":""},null,{"$f":"IFERROR(LOOKUP(2, 1/SEARCH({\"16-Inch\",\"15-Inch\",\"15.6-Inch\",\"18-Inch\",\"15.3-Inch\",\"13-Inch\",\"13.4-Inch\",\"13.8-Inch\",\"14-Inch\",\"17-Inch\",\"45-Inch\",\"27-Inch\",\"34-Inch\",\"32-Inch\",\"21.5-Inch\"}, G172), {\"16-Inch\",\"15-Inch\",\"15.6-Inch\",\"18-Inch\",\"15.3-Inch\",\"13-Inch\",\"13.4-Inch\",\"13.8-Inch\",\"14-Inch\",\"17-Inch\",\"45-Inch\",\"27-Inch\",\"34-Inch\",\"32-Inch\",\"21.5-Inch\"}), \"\")","v":""}]
[null,null,null,null,null,null,null,{"$f":"IFERROR(INDEX(BrandList!$A$2:$A$50,MATCH(TRUE,ISNUMBER(SEARCH(BrandList!$A$2:$A$50,G173)),0)),\"\")","v":""},{"$f":"IFERROR(INDEX(BrandList!$B$2:$B$200,MATCH(TRUE,ISNUMBER(SEARCH(BrandList!$B$2:$B$200,G173)),0)),\"\")","v":""},null,null,null,null,null,null,"",{"$f":"IFERROR(VLOOKUP(VALUE(A173),WEEKLY_DATA!$A:$H,2,0),0)","v":0},{"$f":"IFERROR(VLOOKUP(VALUE(A173),WEEKLY_DATA!$A:$H,3,0),0)","v":0},{"$f":"IFERROR(VLOOKUP(VALUE(A173),WEEKLY_DATA!$A:$H,4,0),0)","v":0},{"$f":"IFERROR(VLOOKUP(VALUE(A173),WEEKLY_DATA!$A:$H,5,0),0)","v":0},{"$f":"IFERROR(VLOOKUP(VALUE(A173),WEEKLY_DATA!$A:$H,6,0),0)","v":0},{"$f":"IFERROR(VLOOKUP(VALUE(A173),WEEKLY_DATA!$A:$H,7,0),0)","v":0},{"$f":"IFERROR(IF(OR(Q173=\"\",Q173=0),\"\",IF(VLOOKUP(VALUE($A173),WEEKLY_DATA!$A:$H,6,0)=0,\"No Sales\",Q173/(VLOOKUP(VALUE($A173),WEEKLY_DATA!$A:$H,6,0)/13))),\"\")","v":""},{"$f":"IFERROR(VLOOKUP(VALUE(A173),WEEKLY_DATA!$A:$H,8,0),0)","v":0},"—",null,null,null,null,null,null,"—",null,null,null,"—","—",null,{"$f":"IFERROR(LOOKUP(2, 1/SEARCH({\"Black\",\"White\",\"Grey\",\"Blue\",\"Silver\",\"Brown\",\"Green\",\"Blue\",\"Purple\",\"Red\",\"Pink\",\"Yellow\",\"Gold\"}, G173), {\"Black\",\"White\",\"Grey\",\"Blue\",\"Silver\",\"Brown\",\"Green\",\"Blue\",\"Purple\",\"Red\",\"Pink\",\"Yellow\",\"Gold\"}), \"\")","v":""},{"$f":"IFERROR(LOOKUP(2, 1/SEARCH({\"8GB\",\"16GB\",\"32GB\",\"64GB\"}, G173), {\"8GB\",\"16GB\",\"32GB\",\"64GB\"}), \"\")","v":""},{"$f":"IFERROR(LOOKUP(2, 1/SEARCH({\"1TB\",\"2TB\",\"128GB\",\"512GB\",\"256GB\"}, G173), {\"1TB\",\"2TB\",\"128GB\",\"512GB\",\"256GB\"}), \"\")","v":""},null,{"$f":"IFERROR(LOOKUP(2, 1/SEARCH({\"16-Inch\",\"15-Inch\",\"15.6-Inch\",\"18-Inch\",\"15.3-Inch\",\"13-Inch\",\"13.4-Inch\",\"13.8-Inch\",\"14-Inch\",\"17-Inch\",\"45-Inch\",\"27-Inch\",\"34-Inch\",\"32-Inch\",\"21.5-Inch\"}, G173), {\"16-Inch\",\"15-Inch\",\"15.6-Inch\",\"18-Inch\",\"15.3-Inch\",\"13-Inch\",\"13.4-Inch\",\"13.8-Inch\",\"14-Inch\",\"17-Inch\",\"45-Inch\",\"27-Inch\",\"34-Inch\",\"32-Inch\",\"21.5-Inch\"}), \"\")","v":""}]
[null,null,null,null,null,null,null,{"$f":"IFERROR(INDEX(BrandList!$A$2:$A$50,MATCH(TRUE,ISNUMBER(SEARCH(BrandList!$A$2:$A$50,G174)),0)),\"\")","v":""},{"$f":"IFERROR(INDEX(BrandList!$B$2:$B$200,MATCH(TRUE,ISNUMBER(SEARCH(BrandList!$B$2:$B$200,G174)),0)),\"\")","v":""},null,null,null,null,null,null,"",{"$f":"IFERROR(VLOOKUP(VALUE(A174),WEEKLY_DATA!$A:$H,2,0),0)","v":0},{"$f":"IFERROR(VLOOKUP(VALUE(A174),WEEKLY_DATA!$A:$H,3,0),0)","v":0},{"$f":"IFERROR(VLOOKUP(VALUE(A174),WEEKLY_DATA!$A:$H,4,0),0)","v":0},{"$f":"IFERROR(VLOOKUP(VALUE(A174),WEEKLY_DATA!$A:$H,5,0),0)","v":0},{"$f":"IFERROR(VLOOKUP(VALUE(A174),WEEKLY_DATA!$A:$H,6,0),0)","v":0},{"$f":"IFERROR(VLOOKUP(VALUE(A174),WEEKLY_DATA!$A:$H,7,0),0)","v":0},{"$f":"IFERROR(IF(OR(Q174=\"\",Q174=0),\"\",IF(VLOOKUP(VALUE($A174),WEEKLY_DATA!$A:$H,6,0)=0,\"No Sales\",Q174/(VLOOKUP(VALUE($A174),WEEKLY_DATA!$A:$H,6,0)/13))),\"\")","v":""},{"$f":"IFERROR(VLOOKUP(VALUE(A174),WEEKLY_DATA!$A:$H,8,0),0)","v":0},"—",null,null,null,null,null,null,"—",null,null,null,"—","—",null,{"$f":"IFERROR(LOOKUP(2, 1/SEARCH({\"Black\",\"White\",\"Grey\",\"Blue\",\"Silver\",\"Brown\",\"Green\",\"Blue\",\"Purple\",\"Red\",\"Pink\",\"Yellow\",\"Gold\"}, G174), {\"Black\",\"White\",\"Grey\",\"Blue\",\"Silver\",\"Brown\",\"Green\",\"Blue\",\"Purple\",\"Red\",\"Pink\",\"Yellow\",\"Gold\"}), \"\")","v":""},{"$f":"IFERROR(LOOKUP(2, 1/SEARCH({\"8GB\",\"16GB\",\"32GB\",\"64GB\"}, G174), {\"8GB\",\"16GB\",\"32GB\",\"64GB\"}), \"\")","v":""},{"$f":"IFERROR(LOOKUP(2, 1/SEARCH({\"1TB\",\"2TB\",\"128GB\",\"512GB\",\"256GB\"}, G174), {\"1TB\",\"2TB\",\"128GB\",\"512GB\",\"256GB\"}), \"\")","v":""},null,{"$f":"IFERROR(LOOKUP(2, 1/SEARCH({\"16-Inch\",\"15-Inch\",\"15.6-Inch\",\"18-Inch\",\"15.3-Inch\",\"13-Inch\",\"13.4-Inch\",\"13.8-Inch\",\"14-Inch\",\"17-Inch\",\"45-Inch\",\"27-Inch\",\"34-Inch\",\"32-Inch\",\"21.5-Inch\"}, G174), {\"16-Inch\",\"15-Inch\",\"15.6-Inch\",\"18-Inch\",\"15.3-Inch\",\"13-Inch\",\"13.4-Inch\",\"13.8-Inch\",\"14-Inch\",\"17-Inch\",\"45-Inch\",\"27-Inch\",\"34-Inch\",\"32-Inch\",\"21.5-Inch\"}), \"\")","v":""}]
[null,null,null,null,null,null,null,{"$f":"IFERROR(INDEX(BrandList!$A$2:$A$50,MATCH(TRUE,ISNUMBER(SEARCH(BrandList!$A$2:$A$50,G175)),0)),\"\")","v":""},{"$f":"IFERROR(INDEX(BrandList!$B$2:$B$200,MATCH(TRUE,ISNUMBER(SEARCH(BrandList!$B$2:$B$200,G175)),0)),\"\")","v":""},null,null,null,null,null,null,"",{"$f":"IFERROR(VLOOKUP(VALUE(A175),WEEKLY_DATA!$A:$H,2,0),0)","v":0},{"$f":"IFERROR(VLOOKUP(VALUE(A175),WEEKLY_DATA!$A:$H,3,0),0)","v":0},{"$f":"IFERROR(VLOOKUP(VALUE(A175),WEEKLY_DATA!$A:$H,4,0),0)","v":0},{"$f":"IFERROR(VLOOKUP(VALUE(A175),WEEKLY_DATA!$A:$H,5,0),0)","v":0},{"$f":"IFERROR(VLOOKUP(VALUE(A175),WEEKLY_DATA!$A:$H,6,0),0)","v":0},{"$f":"IFERROR(VLOOKUP(VALUE(A175),WEEKLY_DATA!$A:$H,7,0),0)","v":0},{"$f":"IFERROR(IF(OR(Q175=\"\",Q175=0),\"\",IF(VLOOKUP(VALUE($A175),WEEKLY_DATA!$A:$H,6,0)=0,\"No Sales\",Q175/(VLOOKUP(VALUE($A175),WEEKLY_DATA!$A:$H,6,0)/13))),\"\")","v":""},{"$f":"IFERROR(VLOOKUP(VALUE(A175),WEEKLY_DATA!$A:$H,8,0),0)","v":0},"—",null,null,null,null,null,null,"—",null,null,null,"—","—",null,{"$f":"IFERROR(LOOKUP(2, 1/SEARCH({\"Black\",\"White\",\"Grey\",\"Blue\",\"Silver\",\"Brown\",\"Green\",\"Blue\",\"Purple\",\"Red\",\"Pink\",\"Yellow\",\"Gold\"}, G175), {\"Black\",\"White\",\"Grey\",\"Blue\",\"Silver\",\"Brown\",\"Green\",\"Blue\",\"Purple\",\"Red\",\"Pink\",\"Yellow\",\"Gold\"}), \"\")","v":""},{"$f":"IFERROR(LOOKUP(2, 1/SEARCH({\"8GB\",\"16GB\",\"32GB\",\"64GB\"}, G175), {\"8GB\",\"16GB\",\"32GB\",\"64GB\"}), \"\")","v":""},{"$f":"IFERROR(LOOKUP(2, 1/SEARCH({\"1TB\",\"2TB\",\"128GB\",\"512GB\",\"256GB\"}, G175), {\"1TB\",\"2TB\",\"128GB\",\"512GB\",\"256GB\"}), \"\")","v":""},null,{"$f":"IFERROR(LOOKUP(2, 1/SEARCH({\"16-Inch\",\"15-Inch\",\"15.6-Inch\",\"18-Inch\",\"15.3-Inch\",\"13-Inch\",\"13.4-Inch\",\"13.8-Inch\",\"14-Inch\",\"17-Inch\",\"45-Inch\",\"27-Inch\",\"34-Inch\",\"32-Inch\",\"21.5-Inch\"}, G175), {\"16-Inch\",\"15-Inch\",\"15.6-Inch\",\"18-Inch\",\"15.3-Inch\",\"13-Inch\",\"13.4-Inch\",\"13.8-Inch\",\"14-Inch\",\"17-Inch\",\"45-Inch\",\"27-Inch\",\"34-Inch\",\"32-Inch\",\"21.5-Inch\"}), \"\")","v":""}]
[null,null,null,null,null,null,null,{"$f":"IFERROR(INDEX(BrandList!$A$2:$A$50,MATCH(TRUE,ISNUMBER(SEARCH(BrandList!$A$2:$A$50,G176)),0)),\"\")","v":""},{"$f":"IFERROR(INDEX(BrandList!$B$2:$B$200,MATCH(TRUE,ISNUMBER(SEARCH(BrandList!$B$2:$B$200,G176)),0)),\"\")","v":""},null,null,null,null,null,null,"",{"$f":"IFERROR(VLOOKUP(VALUE(A176),WEEKLY_DATA!$A:$H,2,0),0)","v":0},{"$f":"IFERROR(VLOOKUP(VALUE(A176),WEEKLY_DATA!$A:$H,3,0),0)","v":0},{"$f":"IFERROR(VLOOKUP(VALUE(A176),WEEKLY_DATA!$A:$H,4,0),0)","v":0},{"$f":"IFERROR(VLOOKUP(VALUE(A176),WEEKLY_DATA!$A:$H,5,0),0)","v":0},{"$f":"IFERROR(VLOOKUP(VALUE(A176),WEEKLY_DATA!$A:$H,6,0),0)","v":0},{"$f":"IFERROR(VLOOKUP(VALUE(A176),WEEKLY_DATA!$A:$H,7,0),0)","v":0},{"$f":"IFERROR(IF(OR(Q176=\"\",Q176=0),\"\",IF(VLOOKUP(VALUE($A176),WEEKLY_DATA!$A:$H,6,0)=0,\"No Sales\",Q176/(VLOOKUP(VALUE($A176),WEEKLY_DATA!$A:$H,6,0)/13))),\"\")","v":""},{"$f":"IFERROR(VLOOKUP(VALUE(A176),WEEKLY_DATA!$A:$H,8,0),0)","v":0},"—",null,null,null,null,null,null,"—",null,null,null,"—","—",null,{"$f":"IFERROR(LOOKUP(2, 1/SEARCH({\"Black\",\"White\",\"Grey\",\"Blue\",\"Silver\",\"Brown\",\"Green\",\"Blue\",\"Purple\",\"Red\",\"Pink\",\"Yellow\",\"Gold\"}, G176), {\"Black\",\"White\",\"Grey\",\"Blue\",\"Silver\",\"Brown\",\"Green\",\"Blue\",\"Purple\",\"Red\",\"Pink\",\"Yellow\",\"Gold\"}), \"\")","v":""},{"$f":"IFERROR(LOOKUP(2, 1/SEARCH({\"8GB\",\"16GB\",\"32GB\",\"64GB\"}, G176), {\"8GB\",\"16GB\",\"32GB\",\"64GB\"}), \"\")","v":""},{"$f":"IFERROR(LOOKUP(2, 1/SEARCH({\"1TB\",\"2TB\",\"128GB\",\"512GB\",\"256GB\"}, G176), {\"1TB\",\"2TB\",\"128GB\",\"512GB\",\"256GB\"}), \"\")","v":""},null,{"$f":"IFERROR(LOOKUP(2, 1/SEARCH({\"16-Inch\",\"15-Inch\",\"15.6-Inch\",\"18-Inch\",\"15.3-Inch\",\"13-Inch\",\"13.4-Inch\",\"13.8-Inch\",\"14-Inch\",\"17-Inch\",\"45-Inch\",\"27-Inch\",\"34-Inch\",\"32-Inch\",\"21.5-Inch\"}, G176), {\"16-Inch\",\"15-Inch\",\"15.6-Inch\",\"18-Inch\",\"15.3-Inch\",\"13-Inch\",\"13.4-Inch\",\"13.8-Inch\",\"14-Inch\",\"17-Inch\",\"45-Inch\",\"27-Inch\",\"34-Inch\",\"32-Inch\",\"21.5-Inch\"}), \"\")","v":""}]
[null,null,null,null,null,null,null,{"$f":"IFERROR(INDEX(BrandList!$A$2:$A$50,MATCH(TRUE,ISNUMBER(SEARCH(BrandList!$A$2:$A$50,G177)),0)),\"\")","v":""},{"$f":"IFERROR(INDEX(BrandList!$B$2:$B$200,MATCH(TRUE,ISNUMBER(SEARCH(BrandList!$B$2:$B$200,G177)),0)),\"\")","v":""},null,null,null,null,null,null,"",{"$f":"IFERROR(VLOOKUP(VALUE(A177),WEEKLY_DATA!$A:$H,2,0),0)","v":0},{"$f":"IFERROR(VLOOKUP(VALUE(A177),WEEKLY_DATA!$A:$H,3,0),0)","v":0},{"$f":"IFERROR(VLOOKUP(VALUE(A177),WEEKLY_DATA!$A:$H,4,0),0)","v":0},{"$f":"IFERROR(VLOOKUP(VALUE(A177),WEEKLY_DATA!$A:$H,5,0),0)","v":0},{"$f":"IFERROR(VLOOKUP(VALUE(A177),WEEKLY_DATA!$A:$H,6,0),0)","v":0},{"$f":"IFERROR(VLOOKUP(VALUE(A177),WEEKLY_DATA!$A:$H,7,0),0)","v":0},{"$f":"IFERROR(IF(OR(Q177=\"\",Q177=0),\"\",IF(VLOOKUP(VALUE($A177),WEEKLY_DATA!$A:$H,6,0)=0,\"No Sales\",Q177/(VLOOKUP(VALUE($A177),WEEKLY_DATA!$A:$H,6,0)/13))),\"\")","v":""},{"$f":"IFERROR(VLOOKUP(VALUE(A177),WEEKLY_DATA!$A:$H,8,0),0)","v":0},"—",null,null,null,null,null,null,"—",null,null,null,"—","—",null,{"$f":"IFERROR(LOOKUP(2, 1/SEARCH({\"Black\",\"White\",\"Grey\",\"Blue\",\"Silver\",\"Brown\",\"Green\",\"Blue\",\"Purple\",\"Red\",\"Pink\",\"Yellow\",\"Gold\"}, G177), {\"Black\",\"White\",\"Grey\",\"Blue\",\"Silver\",\"Brown\",\"Green\",\"Blue\",\"Purple\",\"Red\",\"Pink\",\"Yellow\",\"Gold\"}), \"\")","v":""},{"$f":"IFERROR(LOOKUP(2, 1/SEARCH({\"8GB\",\"16GB\",\"32GB\",\"64GB\"}, G177), {\"8GB\",\"16GB\",\"32GB\",\"64GB\"}), \"\")","v":""},{"$f":"IFERROR(LOOKUP(2, 1/SEARCH({\"1TB\",\"2TB\",\"128GB\",\"512GB\",\"256GB\"}, G177), {\"1TB\",\"2TB\",\"128GB\",\"512GB\",\"256GB\"}), \"\")","v":""},null,{"$f":"IFERROR(LOOKUP(2, 1/SEARCH({\"16-Inch\",\"15-Inch\",\"15.6-Inch\",\"18-Inch\",\"15.3-Inch\",\"13-Inch\",\"13.4-Inch\",\"13.8-Inch\",\"14-Inch\",\"17-Inch\",\"45-Inch\",\"27-Inch\",\"34-Inch\",\"32-Inch\",\"21.5-Inch\"}, G177), {\"16-Inch\",\"15-Inch\",\"15.6-Inch\",\"18-Inch\",\"15.3-Inch\",\"13-Inch\",\"13.4-Inch\",\"13.8-Inch\",\"14-Inch\",\"17-Inch\",\"45-Inch\",\"27-Inch\",\"34-Inch\",\"32-Inch\",\"21.5-Inch\"}), \"\")","v":""}]
[null,null,null,null,null,null,null,{"$f":"IFERROR(INDEX(BrandList!$A$2:$A$50,MATCH(TRUE,ISNUMBER(SEARCH(BrandList!$A$2:$A$50,G178)),0)),\"\")","v":""},{"$f":"IFERROR(INDEX(BrandList!$B$2:$B$200,MATCH(TRUE,ISNUMBER(SEARCH(BrandList!$B$2:$B$200,G178)),0)),\"\")","v":""},null,null,null,null,null,null,"",{"$f":"IFERROR(VLOOKUP(VALUE(A178),WEEKLY_DATA!$A:$H,2,0),0)","v":0},{"$f":"IFERROR(VLOOKUP(VALUE(A178),WEEKLY_DATA!$A:$H,3,0),0)","v":0},{"$f":"IFERROR(VLOOKUP(VALUE(A178),WEEKLY_DATA!$A:$H,4,0),0)","v":0},{"$f":"IFERROR(VLOOKUP(VALUE(A178),WEEKLY_DATA!$A:$H,5,0),0)","v":0},{"$f":"IFERROR(VLOOKUP(VALUE(A178),WEEKLY_DATA!$A:$H,6,0),0)","v":0},{"$f":"IFERROR(VLOOKUP(VALUE(A178),WEEKLY_DATA!$A:$H,7,0),0)","v":0},{"$f":"IFERROR(IF(OR(Q178=\"\",Q178=0),\"\",IF(VLOOKUP(VALUE($A178),WEEKLY_DATA!$A:$H,6,0)=0,\"No Sales\",Q178/(VLOOKUP(VALUE($A178),WEEKLY_DATA!$A:$H,6,0)/13))),\"\")","v":""},{"$f":"IFERROR(VLOOKUP(VALUE(A178),WEEKLY_DATA!$A:$H,8,0),0)","v":0},"—",null,null,null,null,null,null,"—",null,null,null,"—","—",null,{"$f":"IFERROR(LOOKUP(2, 1/SEARCH({\"Black\",\"White\",\"Grey\",\"Blue\",\"Silver\",\"Brown\",\"Green\",\"Blue\",\"Purple\",\"Red\",\"Pink\",\"Yellow\",\"Gold\"}, G178), {\"Black\",\"White\",\"Grey\",\"Blue\",\"Silver\",\"Brown\",\"Green\",\"Blue\",\"Purple\",\"Red\",\"Pink\",\"Yellow\",\"Gold\"}), \"\")","v":""},{"$f":"IFERROR(LOOKUP(2, 1/SEARCH({\"8GB\",\"16GB\",\"32GB\",\"64GB\"}, G178), {\"8GB\",\"16GB\",\"32GB\",\"64GB\"}), \"\")","v":""},{"$f":"IFERROR(LOOKUP(2, 1/SEARCH({\"1TB\",\"2TB\",\"128GB\",\"512GB\",\"256GB\"}, G178), {\"1TB\",\"2TB\",\"128GB\",\"512GB\",\"256GB\"}), \"\")","v":""},null,{"$f":"IFERROR(LOOKUP(2, 1/SEARCH({\"16-Inch\",\"15-Inch\",\"15.6-Inch\",\"18-Inch\",\"15.3-Inch\",\"13-Inch\",\"13.4-Inch\",\"13.8-Inch\",\"14-Inch\",\"17-Inch\",\"45-Inch\",\"27-Inch\",\"34-Inch\",\"32-Inch\",\"21.5-Inch\"}, G178), {\"16-Inch\",\"15-Inch\",\"15.6-Inch\",\"18-Inch\",\"15.3-Inch\",\"13-Inch\",\"13.4-Inch\",\"13.8-Inch\",\"14-Inch\",\"17-Inch\",\"45-Inch\",\"27-Inch\",\"34-Inch\",\"32-Inch\",\"21.5-Inch\"}), \"\")","v":""}]
[null,null,null,null,null,null,null,{"$f":"IFERROR(INDEX(BrandList!$A$2:$A$50,MATCH(TRUE,ISNUMBER(SEARCH(BrandList!$A$2:$A$50,G179)),0)),\"\")","v":""},{"$f":"IFERROR(INDEX(BrandList!$B$2:$B$200,MATCH(TRUE,ISNUMBER(SEARCH(BrandList!$B$2:$B$200,G179)),0)),\"\")","v":""},null,null,null,null,null,null,"",{"$f":"IFERROR(VLOOKUP(VALUE(A179),WEEKLY_DATA!$A:$H,2,0),0)","v":0},{"$f":"IFERROR(VLOOKUP(VALUE(A179),WEEKLY_DATA!$A:$H,3,0),0)","v":0},{"$f":"IFERROR(VLOOKUP(VALUE(A179),WEEKLY_DATA!$A:$H,4,0),0)","v":0},{"$f":"IFERROR(VLOOKUP(VALUE(A179),WEEKLY_DATA!$A:$H,5,0),0)","v":0},{"$f":"IFERROR(VLOOKUP(VALUE(A179),WEEKLY_DATA!$A:$H,6,0),0)","v":0},{"$f":"IFERROR(VLOOKUP(VALUE(A179),WEEKLY_DATA!$A:$H,7,0),0)","v":0},{"$f":"IFERROR(IF(OR(Q179=\"\",Q179=0),\"\",IF(VLOOKUP(VALUE($A179),WEEKLY_DATA!$A:$H,6,0)=0,\"No Sales\",Q179/(VLOOKUP(VALUE($A179),WEEKLY_DATA!$A:$H,6,0)/13))),\"\")","v":""},{"$f":"IFERROR(VLOOKUP(VALUE(A179),WEEKLY_DATA!$A:$H,8,0),0)","v":0},"—",null,null,null,null,null,null,"—",null,"—",null,"—","—",null,{"$f":"IFERROR(LOOKUP(2, 1/SEARCH({\"Black\",\"White\",\"Grey\",\"Blue\",\"Silver\",\"Brown\",\"Green\",\"Blue\",\"Purple\",\"Red\",\"Pink\",\"Yellow\",\"Gold\"}, G179), {\"Black\",\"White\",\"Grey\",\"Blue\",\"Silver\",\"Brown\",\"Green\",\"Blue\",\"Purple\",\"Red\",\"Pink\",\"Yellow\",\"Gold\"}), \"\")","v":""},{"$f":"IFERROR(LOOKUP(2, 1/SEARCH({\"8GB\",\"16GB\",\"32GB\",\"64GB\"}, G179), {\"8GB\",\"16GB\",\"32GB\",\"64GB\"}), \"\")","v":""},{"$f":"IFERROR(LOOKUP(2, 1/SEARCH({\"1TB\",\"2TB\",\"128GB\",\"512GB\",\"256GB\"}, G179), {\"1TB\",\"2TB\",\"128GB\",\"512GB\",\"256GB\"}), \"\")","v":""},null,{"$f":"IFERROR(LOOKUP(2, 1/SEARCH({\"16-Inch\",\"15-Inch\",\"15.6-Inch\",\"18-Inch\",\"15.3-Inch\",\"13-Inch\",\"13.4-Inch\",\"13.8-Inch\",\"14-Inch\",\"17-Inch\",\"45-Inch\",\"27-Inch\",\"34-Inch\",\"32-Inch\",\"21.5-Inch\"}, G179), {\"16-Inch\",\"15-Inch\",\"15.6-Inch\",\"18-Inch\",\"15.3-Inch\",\"13-Inch\",\"13.4-Inch\",\"13.8-Inch\",\"14-Inch\",\"17-Inch\",\"45-Inch\",\"27-Inch\",\"34-Inch\",\"32-Inch\",\"21.5-Inch\"}), \"\")","v":""}]
[null,null,null,null,null,null,null,{"$f":"IFERROR(INDEX(BrandList!$A$2:$A$50,MATCH(TRUE,ISNUMBER(SEARCH(BrandList!$A$2:$A$50,G180)),0)),\"\")","v":""},{"$f":"IFERROR(INDEX(BrandList!$B$2:$B$200,MATCH(TRUE,ISNUMBER(SEARCH(BrandList!$B$2:$B$200,G180)),0)),\"\")","v":""},null,null,null,null,null,null,"",{"$f":"IFERROR(VLOOKUP(VALUE(A180),WEEKLY_DATA!$A:$H,2,0),0)","v":0},{"$f":"IFERROR(VLOOKUP(VALUE(A180),WEEKLY_DATA!$A:$H,3,0),0)","v":0},{"$f":"IFERROR(VLOOKUP(VALUE(A180),WEEKLY_DATA!$A:$H,4,0),0)","v":0},{"$f":"IFERROR(VLOOKUP(VALUE(A180),WEEKLY_DATA!$A:$H,5,0),0)","v":0},{"$f":"IFERROR(VLOOKUP(VALUE(A180),WEEKLY_DATA!$A:$H,6,0),0)","v":0},{"$f":"IFERROR(VLOOKUP(VALUE(A180),WEEKLY_DATA!$A:$H,7,0),0)","v":0},{"$f":"IFERROR(IF(OR(Q180=\"\",Q180=0),\"\",IF(VLOOKUP(VALUE($A180),WEEKLY_DATA!$A:$H,6,0)=0,\"No Sales\",Q180/(VLOOKUP(VALUE($A180),WEEKLY_DATA!$A:$H,6,0)/13))),\"\")","v":""},{"$f":"IFERROR(VLOOKUP(VALUE(A180),WEEKLY_DATA!$A:$H,8,0),0)","v":0},"—",null,null,null,null,null,null,"—",null,null,null,"—","—",null,{"$f":"IFERROR(LOOKUP(2, 1/SEARCH({\"Black\",\"White\",\"Grey\",\"Blue\",\"Silver\",\"Brown\",\"Green\",\"Blue\",\"Purple\",\"Red\",\"Pink\",\"Yellow\",\"Gold\"}, G180), {\"Black\",\"White\",\"Grey\",\"Blue\",\"Silver\",\"Brown\",\"Green\",\"Blue\",\"Purple\",\"Red\",\"Pink\",\"Yellow\",\"Gold\"}), \"\")","v":""},{"$f":"IFERROR(LOOKUP(2, 1/SEARCH({\"8GB\",\"16GB\",\"32GB\",\"64GB\"}, G180), {\"8GB\",\"16GB\",\"32GB\",\"64GB\"}), \"\")","v":""},{"$f":"IFERROR(LOOKUP(2, 1/SEARCH({\"1TB\",\"2TB\",\"128GB\",\"512GB\",\"256GB\"}, G180), {\"1TB\",\"2TB\",\"128GB\",\"512GB\",\"256GB\"}), \"\")","v":""},null,{"$f":"IFERROR(LOOKUP(2, 1/SEARCH({\"16-Inch\",\"15-Inch\",\"15.6-Inch\",\"18-Inch\",\"15.3-Inch\",\"13-Inch\",\"13.4-Inch\",\"13.8-Inch\",\"14-Inch\",\"17-Inch\",\"45-Inch\",\"27-Inch\",\"34-Inch\",\"32-Inch\",\"21.5-Inch\"}, G180), {\"16-Inch\",\"15-Inch\",\"15.6-Inch\",\"18-Inch\",\"15.3-Inch\",\"13-Inch\",\"13.4-Inch\",\"13.8-Inch\",\"14-Inch\",\"17-Inch\",\"45-Inch\",\"27-Inch\",\"34-Inch\",\"32-Inch\",\"21.5-Inch\"}), \"\")","v":""}]
[null,null,null,null,null,null,null,{"$f":"IFERROR(INDEX(BrandList!$A$2:$A$50,MATCH(TRUE,ISNUMBER(SEARCH(BrandList!$A$2:$A$50,G181)),0)),\"\")","v":""},{"$f":"IFERROR(INDEX(BrandList!$B$2:$B$200,MATCH(TRUE,ISNUMBER(SEARCH(BrandList!$B$2:$B$200,G181)),0)),\"\")","v":""},null,null,null,null,null,null,"",{"$f":"IFERROR(VLOOKUP(VALUE(A181),WEEKLY_DATA!$A:$H,2,0),0)","v":0},{"$f":"IFERROR(VLOOKUP(VALUE(A181),WEEKLY_DATA!$A:$H,3,0),0)","v":0},{"$f":"IFERROR(VLOOKUP(VALUE(A181),WEEKLY_DATA!$A:$H,4,0),0)","v":0},{"$f":"IFERROR(VLOOKUP(VALUE(A181),WEEKLY_DATA!$A:$H,5,0),0)","v":0},{"$f":"IFERROR(VLOOKUP(VALUE(A181),WEEKLY_DATA!$A:$H,6,0),0)","v":0},{"$f":"IFERROR(VLOOKUP(VALUE(A181),WEEKLY_DATA!$A:$H,7,0),0)","v":0},{"$f":"IFERROR(IF(OR(Q181=\"\",Q181=0),\"\",IF(VLOOKUP(VALUE($A181),WEEKLY_DATA!$A:$H,6,0)=0,\"No Sales\",Q181/(VLOOKUP(VALUE($A181),WEEKLY_DATA!$A:$H,6,0)/13))),\"\")","v":""},{"$f":"IFERROR(VLOOKUP(VALUE(A181),WEEKLY_DATA!$A:$H,8,0),0)","v":0},"—",null,null,null,null,null,null,"—",null,null,null,"—","—",null,{"$f":"IFERROR(LOOKUP(2, 1/SEARCH({\"Black\",\"White\",\"Grey\",\"Blue\",\"Silver\",\"Brown\",\"Green\",\"Blue\",\"Purple\",\"Red\",\"Pink\",\"Yellow\",\"Gold\"}, G181), {\"Black\",\"White\",\"Grey\",\"Blue\",\"Silver\",\"Brown\",\"Green\",\"Blue\",\"Purple\",\"Red\",\"Pink\",\"Yellow\",\"Gold\"}), \"\")","v":""},{"$f":"IFERROR(LOOKUP(2, 1/SEARCH({\"8GB\",\"16GB\",\"32GB\",\"64GB\"}, G181), {\"8GB\",\"16GB\",\"32GB\",\"64GB\"}), \"\")","v":""},{"$f":"IFERROR(LOOKUP(2, 1/SEARCH({\"1TB\",\"2TB\",\"128GB\",\"512GB\",\"256GB\"}, G181), {\"1TB\",\"2TB\",\"128GB\",\"512GB\",\"256GB\"}), \"\")","v":""},null,{"$f":"IFERROR(LOOKUP(2, 1/SEARCH({\"16-Inch\",\"15-Inch\",\"15.6-Inch\",\"18-Inch\",\"15.3-Inch\",\"13-Inch\",\"13.4-Inch\",\"13.8-Inch\",\"14-Inch\",\"17-Inch\",\"45-Inch\",\"27-Inch\",\"34-Inch\",\"32-Inch\",\"21.5-Inch\"}, G181), {\"16-Inch\",\"15-Inch\",\"15.6-Inch\",\"18-Inch\",\"15.3-Inch\",\"13-Inch\",\"13.4-Inch\",\"13.8-Inch\",\"14-Inch\",\"17-Inch\",\"45-Inch\",\"27-Inch\",\"34-Inch\",\"32-Inch\",\"21.5-Inch\"}), \"\")","v":""}]
[null,null,null,null,null,null,null,{"$f":"IFERROR(INDEX(BrandList!$A$2:$A$50,MATCH(TRUE,ISNUMBER(SEARCH(BrandList!$A$2:$A$50,G182)),0)),\"\")","v":""},{"$f":"IFERROR(INDEX(BrandList!$B$2:$B$200,MATCH(TRUE,ISNUMBER(SEARCH(BrandList!$B$2:$B$200,G182)),0)),\"\")","v":""},null,null,null,null,null,null,"",{"$f":"IFERROR(VLOOKUP(VALUE(A182),WEEKLY_DATA!$A:$H,2,0),0)","v":0},{"$f":"IFERROR(VLOOKUP(VALUE(A182),WEEKLY_DATA!$A:$H,3,0),0)","v":0},{"$f":"IFERROR(VLOOKUP(VALUE(A182),WEEKLY_DATA!$A:$H,4,0),0)","v":0},{"$f":"IFERROR(VLOOKUP(VALUE(A182),WEEKLY_DATA!$A:$H,5,0),0)","v":0},{"$f":"IFERROR(VLOOKUP(VALUE(A182),WEEKLY_DATA!$A:$H,6,0),0)","v":0},{"$f":"IFERROR(VLOOKUP(VALUE(A182),WEEKLY_DATA!$A:$H,7,0),0)","v":0},{"$f":"IFERROR(IF(OR(Q182=\"\",Q182=0),\"\",IF(VLOOKUP(VALUE($A182),WEEKLY_DATA!$A:$H,6,0)=0,\"No Sales\",Q182/(VLOOKUP(VALUE($A182),WEEKLY_DATA!$A:$H,6,0)/13))),\"\")","v":""},{"$f":"IFERROR(VLOOKUP(VALUE(A182),WEEKLY_DATA!$A:$H,8,0),0)","v":0},"—",null,null,null,null,null,null,null,null,null,null,null,null,null,{"$f":"IFERROR(LOOKUP(2, 1/SEARCH({\"Black\",\"White\",\"Grey\",\"Blue\",\"Silver\",\"Brown\",\"Green\",\"Blue\",\"Purple\",\"Red\",\"Pink\",\"Yellow\",\"Gold\"}, G182), {\"Black\",\"White\",\"Grey\",\"Blue\",\"Silver\",\"Brown\",\"Green\",\"Blue\",\"Purple\",\"Red\",\"Pink\",\"Yellow\",\"Gold\"}), \"\")","v":""},{"$f":"IFERROR(LOOKUP(2, 1/SEARCH({\"8GB\",\"16GB\",\"32GB\",\"64GB\"}, G182), {\"8GB\",\"16GB\",\"32GB\",\"64GB\"}), \"\")","v":""},{"$f":"IFERROR(LOOKUP(2, 1/SEARCH({\"1TB\",\"2TB\",\"128GB\",\"512GB\",\"256GB\"}, G182), {\"1TB\",\"2TB\",\"128GB\",\"512GB\",\"256GB\"}), \"\")","v":""},null,{"$f":"IFERROR(LOOKUP(2, 1/SEARCH({\"16-Inch\",\"15-Inch\",\"15.6-Inch\",\"18-Inch\",\"15.3-Inch\",\"13-Inch\",\"13.4-Inch\",\"13.8-Inch\",\"14-Inch\",\"17-Inch\",\"45-Inch\",\"27-Inch\",\"34-Inch\",\"32-Inch\",\"21.5-Inch\"}, G182), {\"16-Inch\",\"15-Inch\",\"15.6-Inch\",\"18-Inch\",\"15.3-Inch\",\"13-Inch\",\"13.4-Inch\",\"13.8-Inch\",\"14-Inch\",\"17-Inch\",\"45-Inch\",\"27-Inch\",\"34-Inch\",\"32-Inch\",\"21.5-Inch\"}), \"\")","v":""}]
[null,null,null,null,null,null,null,{"$f":"IFERROR(INDEX(BrandList!$A$2:$A$50,MATCH(TRUE,ISNUMBER(SEARCH(BrandList!$A$2:$A$50,G183)),0)),\"\")","v":""},{"$f":"IFERROR(INDEX(BrandList!$B$2:$B$200,MATCH(TRUE,ISNUMBER(SEARCH(BrandList!$B$2:$B$200,G183)),0)),\"\")","v":""},null,null,null,null,null,null,"",{"$f":"IFERROR(VLOOKUP(VALUE(A183),WEEKLY_DATA!$A:$H,2,0),0)","v":0},{"$f":"IFERROR(VLOOKUP(VALUE(A183),WEEKLY_DATA!$A:$H,3,0),0)","v":0},{"$f":"IFERROR(VLOOKUP(VALUE(A183),WEEKLY_DATA!$A:$H,4,0),0)","v":0},{"$f":"IFERROR(VLOOKUP(VALUE(A183),WEEKLY_DATA!$A:$H,5,0),0)","v":0},{"$f":"IFERROR(VLOOKUP(VALUE(A183),WEEKLY_DATA!$A:$H,6,0),0)","v":0},{"$f":"IFERROR(VLOOKUP(VALUE(A183),WEEKLY_DATA!$A:$H,7,0),0)","v":0},{"$f":"IFERROR(IF(OR(Q183=\"\",Q183=0),\"\",IF(VLOOKUP(VALUE($A183),WEEKLY_DATA!$A:$H,6,0)=0,\"No Sales\",Q183/(VLOOKUP(VALUE($A183),WEEKLY_DATA!$A:$H,6,0)/13))),\"\")","v":""},{"$f":"IFERROR(VLOOKUP(VALUE(A183),WEEKLY_DATA!$A:$H,8,0),0)","v":0},"—",null,null,null,null,null,null,null,null,null,null,null,null,null,{"$f":"IFERROR(LOOKUP(2, 1/SEARCH({\"Black\",\"White\",\"Grey\",\"Blue\",\"Silver\",\"Brown\",\"Green\",\"Blue\",\"Purple\",\"Red\",\"Pink\",\"Yellow\",\"Gold\"}, G183), {\"Black\",\"White\",\"Grey\",\"Blue\",\"Silver\",\"Brown\",\"Green\",\"Blue\",\"Purple\",\"Red\",\"Pink\",\"Yellow\",\"Gold\"}), \"\")","v":""},{"$f":"IFERROR(LOOKUP(2, 1/SEARCH({\"8GB\",\"16GB\",\"32GB\",\"64GB\"}, G183), {\"8GB\",\"16GB\",\"32GB\",\"64GB\"}), \"\")","v":""},{"$f":"IFERROR(LOOKUP(2, 1/SEARCH({\"1TB\",\"2TB\",\"128GB\",\"512GB\",\"256GB\"}, G183), {\"1TB\",\"2TB\",\"128GB\",\"512GB\",\"256GB\"}), \"\")","v":""},null,{"$f":"IFERROR(LOOKUP(2, 1/SEARCH({\"16-Inch\",\"15-Inch\",\"15.6-Inch\",\"18-Inch\",\"15.3-Inch\",\"13-Inch\",\"13.4-Inch\",\"13.8-Inch\",\"14-Inch\",\"17-Inch\",\"45-Inch\",\"27-Inch\",\"34-Inch\",\"32-Inch\",\"21.5-Inch\"}, G183), {\"16-Inch\",\"15-Inch\",\"15.6-Inch\",\"18-Inch\",\"15.3-Inch\",\"13-Inch\",\"13.4-Inch\",\"13.8-Inch\",\"14-Inch\",\"17-Inch\",\"45-Inch\",\"27-Inch\",\"34-Inch\",\"32-Inch\",\"21.5-Inch\"}), \"\")","v":""}]
[null,null,null,null,null,null,null,{"$f":"IFERROR(INDEX(BrandList!$A$2:$A$50,MATCH(TRUE,ISNUMBER(SEARCH(BrandList!$A$2:$A$50,G184)),0)),\"\")","v":""},{"$f":"IFERROR(INDEX(BrandList!$B$2:$B$200,MATCH(TRUE,ISNUMBER(SEARCH(BrandList!$B$2:$B$200,G184)),0)),\"\")","v":""},null,null,null,null,null,null,"",{"$f":"IFERROR(VLOOKUP(VALUE(A184),WEEKLY_DATA!$A:$H,2,0),0)","v":0},{"$f":"IFERROR(VLOOKUP(VALUE(A184),WEEKLY_DATA!$A:$H,3,0),0)","v":0},{"$f":"IFERROR(VLOOKUP(VALUE(A184),WEEKLY_DATA!$A:$H,4,0),0)","v":0},{"$f":"IFERROR(VLOOKUP(VALUE(A184),WEEKLY_DATA!$A:$H,5,0),0)","v":0},{"$f":"IFERROR(VLOOKUP(VALUE(A184),WEEKLY_DATA!$A:$H,6,0),0)","v":0},{"$f":"IFERROR(VLOOKUP(VALUE(A184),WEEKLY_DATA!$A:$H,7,0),0)","v":0},{"$f":"IFERROR(IF(OR(Q184=\"\",Q184=0),\"\",IF(VLOOKUP(VALUE($A184),WEEKLY_DATA!$A:$H,6,0)=0,\"No Sales\",Q184/(VLOOKUP(VALUE($A184),WEEKLY_DATA!$A:$H,6,0)/13))),\"\")","v":""},{"$f":"IFERROR(VLOOKUP(VALUE(A184),WEEKLY_DATA!$A:$H,8,0),0)","v":0},"—",null,null,null,null,null,null,"—",null,null,null,"—","—",null,{"$f":"IFERROR(LOOKUP(2, 1/SEARCH({\"Black\",\"White\",\"Grey\",\"Blue\",\"Silver\",\"Brown\",\"Green\",\"Blue\",\"Purple\",\"Red\",\"Pink\",\"Yellow\",\"Gold\"}, G184), {\"Black\",\"White\",\"Grey\",\"Blue\",\"Silver\",\"Brown\",\"Green\",\"Blue\",\"Purple\",\"Red\",\"Pink\",\"Yellow\",\"Gold\"}), \"\")","v":""},{"$f":"IFERROR(LOOKUP(2, 1/SEARCH({\"8GB\",\"16GB\",\"32GB\",\"64GB\"}, G184), {\"8GB\",\"16GB\",\"32GB\",\"64GB\"}), \"\")","v":""},{"$f":"IFERROR(LOOKUP(2, 1/SEARCH({\"1TB\",\"2TB\",\"128GB\",\"512GB\",\"256GB\"}, G184), {\"1TB\",\"2TB\",\"128GB\",\"512GB\",\"256GB\"}), \"\")","v":""},null,{"$f":"IFERROR(LOOKUP(2, 1/SEARCH({\"16-Inch\",\"15-Inch\",\"15.6-Inch\",\"18-Inch\",\"15.3-Inch\",\"13-Inch\",\"13.4-Inch\",\"13.8-Inch\",\"14-Inch\",\"17-Inch\",\"45-Inch\",\"27-Inch\",\"34-Inch\",\"32-Inch\",\"21.5-Inch\"}, G184), {\"16-Inch\",\"15-Inch\",\"15.6-Inch\",\"18-Inch\",\"15.3-Inch\",\"13-Inch\",\"13.4-Inch\",\"13.8-Inch\",\"14-Inch\",\"17-Inch\",\"45-Inch\",\"27-Inch\",\"34-Inch\",\"32-Inch\",\"21.5-Inch\"}), \"\")","v":""}]
[null,null,null,null,null,null,null,{"$f":"IFERROR(INDEX(BrandList!$A$2:$A$50,MATCH(TRUE,ISNUMBER(SEARCH(BrandList!$A$2:$A$50,G185)),0)),\"\")","v":""},{"$f":"IFERROR(INDEX(BrandList!$B$2:$B$200,MATCH(TRUE,ISNUMBER(SEARCH(BrandList!$B$2:$B$200,G185)),0)),\"\")","v":""},null,null,null,null,null,null,"",{"$f":"IFERROR(VLOOKUP(VALUE(A185),WEEKLY_DATA!$A:$H,2,0),0)","v":0},{"$f":"IFERROR(VLOOKUP(VALUE(A185),WEEKLY_DATA!$A:$H,3,0),0)","v":0},{"$f":"IFERROR(VLOOKUP(VALUE(A185),WEEKLY_DATA!$A:$H,4,0),0)","v":0},{"$f":"IFERROR(VLOOKUP(VALUE(A185),WEEKLY_DATA!$A:$H,5,0),0)","v":0},{"$f":"IFERROR(VLOOKUP(VALUE(A185),WEEKLY_DATA!$A:$H,6,0),0)","v":0},{"$f":"IFERROR(VLOOKUP(VALUE(A185),WEEKLY_DATA!$A:$H,7,0),0)","v":0},{"$f":"IFERROR(IF(OR(Q185=\"\",Q185=0),\"\",IF(VLOOKUP(VALUE($A185),WEEKLY_DATA!$A:$H,6,0)=0,\"No Sales\",Q185/(VLOOKUP(VALUE($A185),WEEKLY_DATA!$A:$H,6,0)/13))),\"\")","v":""},{"$f":"IFERROR(VLOOKUP(VALUE(A185),WEEKLY_DATA!$A:$H,8,0),0)","v":0},"—",null,null,null,null,null,null,"—",null,null,null,"—","—",null,{"$f":"IFERROR(LOOKUP(2, 1/SEARCH({\"Black\",\"White\",\"Grey\",\"Blue\",\"Silver\",\"Brown\",\"Green\",\"Blue\",\"Purple\",\"Red\",\"Pink\",\"Yellow\",\"Gold\"}, G185), {\"Black\",\"White\",\"Grey\",\"Blue\",\"Silver\",\"Brown\",\"Green\",\"Blue\",\"Purple\",\"Red\",\"Pink\",\"Yellow\",\"Gold\"}), \"\")","v":""},{"$f":"IFERROR(LOOKUP(2, 1/SEARCH({\"8GB\",\"16GB\",\"32GB\",\"64GB\"}, G185), {\"8GB\",\"16GB\",\"32GB\",\"64GB\"}), \"\")","v":""},{"$f":"IFERROR(LOOKUP(2, 1/SEARCH({\"1TB\",\"2TB\",\"128GB\",\"512GB\",\"256GB\"}, G185), {\"1TB\",\"2TB\",\"128GB\",\"512GB\",\"256GB\"}), \"\")","v":""},null,{"$f":"IFERROR(LOOKUP(2, 1/SEARCH({\"16-Inch\",\"15-Inch\",\"15.6-Inch\",\"18-Inch\",\"15.3-Inch\",\"13-Inch\",\"13.4-Inch\",\"13.8-Inch\",\"14-Inch\",\"17-Inch\",\"45-Inch\",\"27-Inch\",\"34-Inch\",\"32-Inch\",\"21.5-Inch\"}, G185), {\"16-Inch\",\"15-Inch\",\"15.6-Inch\",\"18-Inch\",\"15.3-Inch\",\"13-Inch\",\"13.4-Inch\",\"13.8-Inch\",\"14-Inch\",\"17-Inch\",\"45-Inch\",\"27-Inch\",\"34-Inch\",\"32-Inch\",\"21.5-Inch\"}), \"\")","v":""}]
[null,null,null,null,null,null,null,{"$f":"IFERROR(INDEX(BrandList!$A$2:$A$50,MATCH(TRUE,ISNUMBER(SEARCH(BrandList!$A$2:$A$50,G186)),0)),\"\")","v":""},{"$f":"IFERROR(INDEX(BrandList!$B$2:$B$200,MATCH(TRUE,ISNUMBER(SEARCH(BrandList!$B$2:$B$200,G186)),0)),\"\")","v":""},null,null,null,null,null,null,"",{"$f":"IFERROR(VLOOKUP(VALUE(A186),WEEKLY_DATA!$A:$H,2,0),0)","v":0},{"$f":"IFERROR(VLOOKUP(VALUE(A186),WEEKLY_DATA!$A:$H,3,0),0)","v":0},{"$f":"IFERROR(VLOOKUP(VALUE(A186),WEEKLY_DATA!$A:$H,4,0),0)","v":0},{"$f":"IFERROR(VLOOKUP(VALUE(A186),WEEKLY_DATA!$A:$H,5,0),0)","v":0},{"$f":"IFERROR(VLOOKUP(VALUE(A186),WEEKLY_DATA!$A:$H,6,0),0)","v":0},{"$f":"IFERROR(VLOOKUP(VALUE(A186),WEEKLY_DATA!$A:$H,7,0),0)","v":0},{"$f":"IFERROR(IF(OR(Q186=\"\",Q186=0),\"\",IF(VLOOKUP(VALUE($A186),WEEKLY_DATA!$A:$H,6,0)=0,\"No Sales\",Q186/(VLOOKUP(VALUE($A186),WEEKLY_DATA!$A:$H,6,0)/13))),\"\")","v":""},{"$f":"IFERROR(VLOOKUP(VALUE(A186),WEEKLY_DATA!$A:$H,8,0),0)","v":0},"—",null,null,null,null,null,null,"—",null,null,null,"—","—",null,{"$f":"IFERROR(LOOKUP(2, 1/SEARCH({\"Black\",\"White\",\"Grey\",\"Blue\",\"Silver\",\"Brown\",\"Green\",\"Blue\",\"Purple\",\"Red\",\"Pink\",\"Yellow\",\"Gold\"}, G186), {\"Black\",\"White\",\"Grey\",\"Blue\",\"Silver\",\"Brown\",\"Green\",\"Blue\",\"Purple\",\"Red\",\"Pink\",\"Yellow\",\"Gold\"}), \"\")","v":""},{"$f":"IFERROR(LOOKUP(2, 1/SEARCH({\"8GB\",\"16GB\",\"32GB\",\"64GB\"}, G186), {\"8GB\",\"16GB\",\"32GB\",\"64GB\"}), \"\")","v":""},{"$f":"IFERROR(LOOKUP(2, 1/SEARCH({\"1TB\",\"2TB\",\"128GB\",\"512GB\",\"256GB\"}, G186), {\"1TB\",\"2TB\",\"128GB\",\"512GB\",\"256GB\"}), \"\")","v":""},null,{"$f":"IFERROR(LOOKUP(2, 1/SEARCH({\"16-Inch\",\"15-Inch\",\"15.6-Inch\",\"18-Inch\",\"15.3-Inch\",\"13-Inch\",\"13.4-Inch\",\"13.8-Inch\",\"14-Inch\",\"17-Inch\",\"45-Inch\",\"27-Inch\",\"34-Inch\",\"32-Inch\",\"21.5-Inch\"}, G186), {\"16-Inch\",\"15-Inch\",\"15.6-Inch\",\"18-Inch\",\"15.3-Inch\",\"13-Inch\",\"13.4-Inch\",\"13.8-Inch\",\"14-Inch\",\"17-Inch\",\"45-Inch\",\"27-Inch\",\"34-Inch\",\"32-Inch\",\"21.5-Inch\"}), \"\")","v":""}]
[null,null,null,null,null,null,null,{"$f":"IFERROR(INDEX(BrandList!$A$2:$A$50,MATCH(TRUE,ISNUMBER(SEARCH(BrandList!$A$2:$A$50,G187)),0)),\"\")","v":""},{"$f":"IFERROR(INDEX(BrandList!$B$2:$B$200,MATCH(TRUE,ISNUMBER(SEARCH(BrandList!$B$2:$B$200,G187)),0)),\"\")","v":""},null,null,null,null,null,null,"",{"$f":"IFERROR(VLOOKUP(VALUE(A187),WEEKLY_DATA!$A:$H,2,0),0)","v":0},{"$f":"IFERROR(VLOOKUP(VALUE(A187),WEEKLY_DATA!$A:$H,3,0),0)","v":0},{"$f":"IFERROR(VLOOKUP(VALUE(A187),WEEKLY_DATA!$A:$H,4,0),0)","v":0},{"$f":"IFERROR(VLOOKUP(VALUE(A187),WEEKLY_DATA!$A:$H,5,0),0)","v":0},{"$f":"IFERROR(VLOOKUP(VALUE(A187),WEEKLY_DATA!$A:$H,6,0),0)","v":0},{"$f":"IFERROR(VLOOKUP(VALUE(A187),WEEKLY_DATA!$A:$H,7,0),0)","v":0},{"$f":"IFERROR(IF(OR(Q187=\"\",Q187=0),\"\",IF(VLOOKUP(VALUE($A187),WEEKLY_DATA!$A:$H,6,0)=0,\"No Sales\",Q187/(VLOOKUP(VALUE($A187),WEEKLY_DATA!$A:$H,6,0)/13))),\"\")","v":""},{"$f":"IFERROR(VLOOKUP(VALUE(A187),WEEKLY_DATA!$A:$H,8,0),0)","v":0},"—",null,null,null,null,null,null,"—",null,null,null,"—","—",null,{"$f":"IFERROR(LOOKUP(2, 1/SEARCH({\"Black\",\"White\",\"Grey\",\"Blue\",\"Silver\",\"Brown\",\"Green\",\"Blue\",\"Purple\",\"Red\",\"Pink\",\"Yellow\",\"Gold\"}, G187), {\"Black\",\"White\",\"Grey\",\"Blue\",\"Silver\",\"Brown\",\"Green\",\"Blue\",\"Purple\",\"Red\",\"Pink\",\"Yellow\",\"Gold\"}), \"\")","v":""},{"$f":"IFERROR(LOOKUP(2, 1/SEARCH({\"8GB\",\"16GB\",\"32GB\",\"64GB\"}, G187), {\"8GB\",\"16GB\",\"32GB\",\"64GB\"}), \"\")","v":""},{"$f":"IFERROR(LOOKUP(2, 1/SEARCH({\"1TB\",\"2TB\",\"128GB\",\"512GB\",\"256GB\"}, G187), {\"1TB\",\"2TB\",\"128GB\",\"512GB\",\"256GB\"}), \"\")","v":""},null,{"$f":"IFERROR(LOOKUP(2, 1/SEARCH({\"16-Inch\",\"15-Inch\",\"15.6-Inch\",\"18-Inch\",\"15.3-Inch\",\"13-Inch\",\"13.4-Inch\",\"13.8-Inch\",\"14-Inch\",\"17-Inch\",\"45-Inch\",\"27-Inch\",\"34-Inch\",\"32-Inch\",\"21.5-Inch\"}, G187), {\"16-Inch\",\"15-Inch\",\"15.6-Inch\",\"18-Inch\",\"15.3-Inch\",\"13-Inch\",\"13.4-Inch\",\"13.8-Inch\",\"14-Inch\",\"17-Inch\",\"45-Inch\",\"27-Inch\",\"34-Inch\",\"32-Inch\",\"21.5-Inch\"}), \"\")","v":""}]
[null,null,null,null,null,null,null,{"$f":"IFERROR(INDEX(BrandList!$A$2:$A$50,MATCH(TRUE,ISNUMBER(SEARCH(BrandList!$A$2:$A$50,G188)),0)),\"\")","v":""},{"$f":"IFERROR(INDEX(BrandList!$B$2:$B$200,MATCH(TRUE,ISNUMBER(SEARCH(BrandList!$B$2:$B$200,G188)),0)),\"\")","v":""},null,null,null,null,null,null,"",{"$f":"IFERROR(VLOOKUP(VALUE(A188),WEEKLY_DATA!$A:$H,2,0),0)","v":0},{"$f":"IFERROR(VLOOKUP(VALUE(A188),WEEKLY_DATA!$A:$H,3,0),0)","v":0},{"$f":"IFERROR(VLOOKUP(VALUE(A188),WEEKLY_DATA!$A:$H,4,0),0)","v":0},{"$f":"IFERROR(VLOOKUP(VALUE(A188),WEEKLY_DATA!$A:$H,5,0),0)","v":0},{"$f":"IFERROR(VLOOKUP(VALUE(A188),WEEKLY_DATA!$A:$H,6,0),0)","v":0},{"$f":"IFERROR(VLOOKUP(VALUE(A188),WEEKLY_DATA!$A:$H,7,0),0)","v":0},{"$f":"IFERROR(IF(OR(Q188=\"\",Q188=0),\"\",IF(VLOOKUP(VALUE($A188),WEEKLY_DATA!$A:$H,6,0)=0,\"No Sales\",Q188/(VLOOKUP(VALUE($A188),WEEKLY_DATA!$A:$H,6,0)/13))),\"\")","v":""},{"$f":"IFERROR(VLOOKUP(VALUE(A188),WEEKLY_DATA!$A:$H,8,0),0)","v":0},"—",null,null,null,null,null,null,"—",null,null,null,"—","—",null,{"$f":"IFERROR(LOOKUP(2, 1/SEARCH({\"Black\",\"White\",\"Grey\",\"Blue\",\"Silver\",\"Brown\",\"Green\",\"Blue\",\"Purple\",\"Red\",\"Pink\",\"Yellow\",\"Gold\"}, G188), {\"Black\",\"White\",\"Grey\",\"Blue\",\"Silver\",\"Brown\",\"Green\",\"Blue\",\"Purple\",\"Red\",\"Pink\",\"Yellow\",\"Gold\"}), \"\")","v":""},{"$f":"IFERROR(LOOKUP(2, 1/SEARCH({\"8GB\",\"16GB\",\"32GB\",\"64GB\"}, G188), {\"8GB\",\"16GB\",\"32GB\",\"64GB\"}), \"\")","v":""},{"$f":"IFERROR(LOOKUP(2, 1/SEARCH({\"1TB\",\"2TB\",\"128GB\",\"512GB\",\"256GB\"}, G188), {\"1TB\",\"2TB\",\"128GB\",\"512GB\",\"256GB\"}), \"\")","v":""},null,{"$f":"IFERROR(LOOKUP(2, 1/SEARCH({\"16-Inch\",\"15-Inch\",\"15.6-Inch\",\"18-Inch\",\"15.3-Inch\",\"13-Inch\",\"13.4-Inch\",\"13.8-Inch\",\"14-Inch\",\"17-Inch\",\"45-Inch\",\"27-Inch\",\"34-Inch\",\"32-Inch\",\"21.5-Inch\"}, G188), {\"16-Inch\",\"15-Inch\",\"15.6-Inch\",\"18-Inch\",\"15.3-Inch\",\"13-Inch\",\"13.4-Inch\",\"13.8-Inch\",\"14-Inch\",\"17-Inch\",\"45-Inch\",\"27-Inch\",\"34-Inch\",\"32-Inch\",\"21.5-Inch\"}), \"\")","v":""}]
[null,null,null,null,null,null,null,{"$f":"IFERROR(INDEX(BrandList!$A$2:$A$50,MATCH(TRUE,ISNUMBER(SEARCH(BrandList!$A$2:$A$50,G189)),0)),\"\")","v":""},{"$f":"IFERROR(INDEX(BrandList!$B$2:$B$200,MATCH(TRUE,ISNUMBER(SEARCH(BrandList!$B$2:$B$200,G189)),0)),\"\")","v":""},null,null,null,null,null,null,"",{"$f":"IFERROR(VLOOKUP(VALUE(A189),WEEKLY_DATA!$A:$H,2,0),0)","v":0},{"$f":"IFERROR(VLOOKUP(VALUE(A189),WEEKLY_DATA!$A:$H,3,0),0)","v":0},{"$f":"IFERROR(VLOOKUP(VALUE(A189),WEEKLY_DATA!$A:$H,4,0),0)","v":0},{"$f":"IFERROR(VLOOKUP(VALUE(A189),WEEKLY_DATA!$A:$H,5,0),0)","v":0},{"$f":"IFERROR(VLOOKUP(VALUE(A189),WEEKLY_DATA!$A:$H,6,0),0)","v":0},{"$f":"IFERROR(VLOOKUP(VALUE(A189),WEEKLY_DATA!$A:$H,7,0),0)","v":0},{"$f":"IFERROR(IF(OR(Q189=\"\",Q189=0),\"\",IF(VLOOKUP(VALUE($A189),WEEKLY_DATA!$A:$H,6,0)=0,\"No Sales\",Q189/(VLOOKUP(VALUE($A189),WEEKLY_DATA!$A:$H,6,0)/13))),\"\")","v":""},{"$f":"IFERROR(VLOOKUP(VALUE(A189),WEEKLY_DATA!$A:$H,8,0),0)","v":0},"—",null,null,null,null,null,null,"—",null,null,null,"—","—",null,{"$f":"IFERROR(LOOKUP(2, 1/SEARCH({\"Black\",\"White\",\"Grey\",\"Blue\",\"Silver\",\"Brown\",\"Green\",\"Blue\",\"Purple\",\"Red\",\"Pink\",\"Yellow\",\"Gold\"}, G189), {\"Black\",\"White\",\"Grey\",\"Blue\",\"Silver\",\"Brown\",\"Green\",\"Blue\",\"Purple\",\"Red\",\"Pink\",\"Yellow\",\"Gold\"}), \"\")","v":""},{"$f":"IFERROR(LOOKUP(2, 1/SEARCH({\"8GB\",\"16GB\",\"32GB\",\"64GB\"}, G189), {\"8GB\",\"16GB\",\"32GB\",\"64GB\"}), \"\")","v":""},{"$f":"IFERROR(LOOKUP(2, 1/SEARCH({\"1TB\",\"2TB\",\"128GB\",\"512GB\",\"256GB\"}, G189), {\"1TB\",\"2TB\",\"128GB\",\"512GB\",\"256GB\"}), \"\")","v":""},null,{"$f":"IFERROR(LOOKUP(2, 1/SEARCH({\"16-Inch\",\"15-Inch\",\"15.6-Inch\",\"18-Inch\",\"15.3-Inch\",\"13-Inch\",\"13.4-Inch\",\"13.8-Inch\",\"14-Inch\",\"17-Inch\",\"45-Inch\",\"27-Inch\",\"34-Inch\",\"32-Inch\",\"21.5-Inch\"}, G189), {\"16-Inch\",\"15-Inch\",\"15.6-Inch\",\"18-Inch\",\"15.3-Inch\",\"13-Inch\",\"13.4-Inch\",\"13.8-Inch\",\"14-Inch\",\"17-Inch\",\"45-Inch\",\"27-Inch\",\"34-Inch\",\"32-Inch\",\"21.5-Inch\"}), \"\")","v":""}]
[null,null,null,null,null,null,null,{"$f":"IFERROR(INDEX(BrandList!$A$2:$A$50,MATCH(TRUE,ISNUMBER(SEARCH(BrandList!$A$2:$A$50,G190)),0)),\"\")","v":""},{"$f":"IFERROR(INDEX(BrandList!$B$2:$B$200,MATCH(TRUE,ISNUMBER(SEARCH(BrandList!$B$2:$B$200,G190)),0)),\"\")","v":""},null,null,null,null,null,null,"",{"$f":"IFERROR(VLOOKUP(VALUE(A190),WEEKLY_DATA!$A:$H,2,0),0)","v":0},{"$f":"IFERROR(VLOOKUP(VALUE(A190),WEEKLY_DATA!$A:$H,3,0),0)","v":0},{"$f":"IFERROR(VLOOKUP(VALUE(A190),WEEKLY_DATA!$A:$H,4,0),0)","v":0},{"$f":"IFERROR(VLOOKUP(VALUE(A190),WEEKLY_DATA!$A:$H,5,0),0)","v":0},{"$f":"IFERROR(VLOOKUP(VALUE(A190),WEEKLY_DATA!$A:$H,6,0),0)","v":0},{"$f":"IFERROR(VLOOKUP(VALUE(A190),WEEKLY_DATA!$A:$H,7,0),0)","v":0},{"$f":"IFERROR(IF(OR(Q190=\"\",Q190=0),\"\",IF(VLOOKUP(VALUE($A190),WEEKLY_DATA!$A:$H,6,0)=0,\"No Sales\",Q190/(VLOOKUP(VALUE($A190),WEEKLY_DATA!$A:$H,6,0)/13))),\"\")","v":""},{"$f":"IFERROR(VLOOKUP(VALUE(A190),WEEKLY_DATA!$A:$H,8,0),0)","v":0},"—",null,null,null,null,null,null,"—",null,null,null,"—","—",null,{"$f":"IFERROR(LOOKUP(2, 1/SEARCH({\"Black\",\"White\",\"Grey\",\"Blue\",\"Silver\",\"Brown\",\"Green\",\"Blue\",\"Purple\",\"Red\",\"Pink\",\"Yellow\",\"Gold\"}, G190), {\"Black\",\"White\",\"Grey\",\"Blue\",\"Silver\",\"Brown\",\"Green\",\"Blue\",\"Purple\",\"Red\",\"Pink\",\"Yellow\",\"Gold\"}), \"\")","v":""},{"$f":"IFERROR(LOOKUP(2, 1/SEARCH({\"8GB\",\"16GB\",\"32GB\",\"64GB\"}, G190), {\"8GB\",\"16GB\",\"32GB\",\"64GB\"}), \"\")","v":""},{"$f":"IFERROR(LOOKUP(2, 1/SEARCH({\"1TB\",\"2TB\",\"128GB\",\"512GB\",\"256GB\"}, G190), {\"1TB\",\"2TB\",\"128GB\",\"512GB\",\"256GB\"}), \"\")","v":""},null,{"$f":"IFERROR(LOOKUP(2, 1/SEARCH({\"16-Inch\",\"15-Inch\",\"15.6-Inch\",\"18-Inch\",\"15.3-Inch\",\"13-Inch\",\"13.4-Inch\",\"13.8-Inch\",\"14-Inch\",\"17-Inch\",\"45-Inch\",\"27-Inch\",\"34-Inch\",\"32-Inch\",\"21.5-Inch\"}, G190), {\"16-Inch\",\"15-Inch\",\"15.6-Inch\",\"18-Inch\",\"15.3-Inch\",\"13-Inch\",\"13.4-Inch\",\"13.8-Inch\",\"14-Inch\",\"17-Inch\",\"45-Inch\",\"27-Inch\",\"34-Inch\",\"32-Inch\",\"21.5-Inch\"}), \"\")","v":""}]
[null,null,null,null,null,null,null,{"$f":"IFERROR(INDEX(BrandList!$A$2:$A$50,MATCH(TRUE,ISNUMBER(SEARCH(BrandList!$A$2:$A$50,G191)),0)),\"\")","v":""},{"$f":"IFERROR(INDEX(BrandList!$B$2:$B$200,MATCH(TRUE,ISNUMBER(SEARCH(BrandList!$B$2:$B$200,G191)),0)),\"\")","v":""},null,null,null,null,null,null,"",{"$f":"IFERROR(VLOOKUP(VALUE(A191),WEEKLY_DATA!$A:$H,2,0),0)","v":0},{"$f":"IFERROR(VLOOKUP(VALUE(A191),WEEKLY_DATA!$A:$H,3,0),0)","v":0},{"$f":"IFERROR(VLOOKUP(VALUE(A191),WEEKLY_DATA!$A:$H,4,0),0)","v":0},{"$f":"IFERROR(VLOOKUP(VALUE(A191),WEEKLY_DATA!$A:$H,5,0),0)","v":0},{"$f":"IFERROR(VLOOKUP(VALUE(A191),WEEKLY_DATA!$A:$H,6,0),0)","v":0},{"$f":"IFERROR(VLOOKUP(VALUE(A191),WEEKLY_DATA!$A:$H,7,0),0)","v":0},{"$f":"IFERROR(IF(OR(Q191=\"\",Q191=0),\"\",IF(VLOOKUP(VALUE($A191),WEEKLY_DATA!$A:$H,6,0)=0,\"No Sales\",Q191/(VLOOKUP(VALUE($A191),WEEKLY_DATA!$A:$H,6,0)/13))),\"\")","v":""},{"$f":"IFERROR(VLOOKUP(VALUE(A191),WEEKLY_DATA!$A:$H,8,0),0)","v":0},"—",null,null,null,null,null,null,"—",null,null,null,"—","—",null,{"$f":"IFERROR(LOOKUP(2, 1/SEARCH({\"Black\",\"White\",\"Grey\",\"Blue\",\"Silver\",\"Brown\",\"Green\",\"Blue\",\"Purple\",\"Red\",\"Pink\",\"Yellow\",\"Gold\"}, G191), {\"Black\",\"White\",\"Grey\",\"Blue\",\"Silver\",\"Brown\",\"Green\",\"Blue\",\"Purple\",\"Red\",\"Pink\",\"Yellow\",\"Gold\"}), \"\")","v":""},{"$f":"IFERROR(LOOKUP(2, 1/SEARCH({\"8GB\",\"16GB\",\"32GB\",\"64GB\"}, G191), {\"8GB\",\"16GB\",\"32GB\",\"64GB\"}), \"\")","v":""},{"$f":"IFERROR(LOOKUP(2, 1/SEARCH({\"1TB\",\"2TB\",\"128GB\",\"512GB\",\"256GB\"}, G191), {\"1TB\",\"2TB\",\"128GB\",\"512GB\",\"256GB\"}), \"\")","v":""},null,{"$f":"IFERROR(LOOKUP(2, 1/SEARCH({\"16-Inch\",\"15-Inch\",\"15.6-Inch\",\"18-Inch\",\"15.3-Inch\",\"13-Inch\",\"13.4-Inch\",\"13.8-Inch\",\"14-Inch\",\"17-Inch\",\"45-Inch\",\"27-Inch\",\"34-Inch\",\"32-Inch\",\"21.5-Inch\"}, G191), {\"16-Inch\",\"15-Inch\",\"15.6-Inch\",\"18-Inch\",\"15.3-Inch\",\"13-Inch\",\"13.4-Inch\",\"13.8-Inch\",\"14-Inch\",\"17-Inch\",\"45-Inch\",\"27-Inch\",\"34-Inch\",\"32-Inch\",\"21.5-Inch\"}), \"\")","v":""}]
[null,null,null,null,null,null,null,{"$f":"IFERROR(INDEX(BrandList!$A$2:$A$50,MATCH(TRUE,ISNUMBER(SEARCH(BrandList!$A$2:$A$50,G192)),0)),\"\")","v":""},{"$f":"IFERROR(INDEX(BrandList!$B$2:$B$200,MATCH(TRUE,ISNUMBER(SEARCH(BrandList!$B$2:$B$200,G192)),0)),\"\")","v":""},null,null,null,null,null,null,"",{"$f":"IFERROR(VLOOKUP(VALUE(A192),WEEKLY_DATA!$A:$H,2,0),0)","v":0},{"$f":"IFERROR(VLOOKUP(VALUE(A192),WEEKLY_DATA!$A:$H,3,0),0)","v":0},{"$f":"IFERROR(VLOOKUP(VALUE(A192),WEEKLY_DATA!$A:$H,4,0),0)","v":0},{"$f":"IFERROR(VLOOKUP(VALUE(A192),WEEKLY_DATA!$A:$H,5,0),0)","v":0},{"$f":"IFERROR(VLOOKUP(VALUE(A192),WEEKLY_DATA!$A:$H,6,0),0)","v":0},{"$f":"IFERROR(VLOOKUP(VALUE(A192),WEEKLY_DATA!$A:$H,7,0),0)","v":0},{"$f":"IFERROR(IF(OR(Q192=\"\",Q192=0),\"\",IF(VLOOKUP(VALUE($A192),WEEKLY_DATA!$A:$H,6,0)=0,\"No Sales\",Q192/(VLOOKUP(VALUE($A192),WEEKLY_DATA!$A:$H,6,0)/13))),\"\")","v":""},{"$f":"IFERROR(VLOOKUP(VALUE(A192),WEEKLY_DATA!$A:$H,8,0),0)","v":0},"—",null,null,null,null,null,null,"—",null,null,null,"—","—",null,{"$f":"IFERROR(LOOKUP(2, 1/SEARCH({\"Black\",\"White\",\"Grey\",\"Blue\",\"Silver\",\"Brown\",\"Green\",\"Blue\",\"Purple\",\"Red\",\"Pink\",\"Yellow\",\"Gold\"}, G192), {\"Black\",\"White\",\"Grey\",\"Blue\",\"Silver\",\"Brown\",\"Green\",\"Blue\",\"Purple\",\"Red\",\"Pink\",\"Yellow\",\"Gold\"}), \"\")","v":""},{"$f":"IFERROR(LOOKUP(2, 1/SEARCH({\"8GB\",\"16GB\",\"32GB\",\"64GB\"}, G192), {\"8GB\",\"16GB\",\"32GB\",\"64GB\"}), \"\")","v":""},{"$f":"IFERROR(LOOKUP(2, 1/SEARCH({\"1TB\",\"2TB\",\"128GB\",\"512GB\",\"256GB\"}, G192), {\"1TB\",\"2TB\",\"128GB\",\"512GB\",\"256GB\"}), \"\")","v":""},null,{"$f":"IFERROR(LOOKUP(2, 1/SEARCH({\"16-Inch\",\"15-Inch\",\"15.6-Inch\",\"18-Inch\",\"15.3-Inch\",\"13-Inch\",\"13.4-Inch\",\"13.8-Inch\",\"14-Inch\",\"17-Inch\",\"45-Inch\",\"27-Inch\",\"34-Inch\",\"32-Inch\",\"21.5-Inch\"}, G192), {\"16-Inch\",\"15-Inch\",\"15.6-Inch\",\"18-Inch\",\"15.3-Inch\",\"13-Inch\",\"13.4-Inch\",\"13.8-Inch\",\"14-Inch\",\"17-Inch\",\"45-Inch\",\"27-Inch\",\"34-Inch\",\"32-Inch\",\"21.5-Inch\"}), \"\")","v":""}]
[null,null,null,null,null,null,null,{"$f":"IFERROR(INDEX(BrandList!$A$2:$A$50,MATCH(TRUE,ISNUMBER(SEARCH(BrandList!$A$2:$A$50,G193)),0)),\"\")","v":""},{"$f":"IFERROR(INDEX(BrandList!$B$2:$B$200,MATCH(TRUE,ISNUMBER(SEARCH(BrandList!$B$2:$B$200,G193)),0)),\"\")","v":""},null,null,null,null,null,null,"",{"$f":"IFERROR(VLOOKUP(VALUE(A193),WEEKLY_DATA!$A:$H,2,0),0)","v":0},{"$f":"IFERROR(VLOOKUP(VALUE(A193),WEEKLY_DATA!$A:$H,3,0),0)","v":0},{"$f":"IFERROR(VLOOKUP(VALUE(A193),WEEKLY_DATA!$A:$H,4,0),0)","v":0},{"$f":"IFERROR(VLOOKUP(VALUE(A193),WEEKLY_DATA!$A:$H,5,0),0)","v":0},{"$f":"IFERROR(VLOOKUP(VALUE(A193),WEEKLY_DATA!$A:$H,6,0),0)","v":0},{"$f":"IFERROR(VLOOKUP(VALUE(A193),WEEKLY_DATA!$A:$H,7,0),0)","v":0},{"$f":"IFERROR(IF(OR(Q193=\"\",Q193=0),\"\",IF(VLOOKUP(VALUE($A193),WEEKLY_DATA!$A:$H,6,0)=0,\"No Sales\",Q193/(VLOOKUP(VALUE($A193),WEEKLY_DATA!$A:$H,6,0)/13))),\"\")","v":""},{"$f":"IFERROR(VLOOKUP(VALUE(A193),WEEKLY_DATA!$A:$H,8,0),0)","v":0},"—",null,null,null,null,null,null,null,null,null,null,null,null,null,{"$f":"IFERROR(LOOKUP(2, 1/SEARCH({\"Black\",\"White\",\"Grey\",\"Blue\",\"Silver\",\"Brown\",\"Green\",\"Blue\",\"Purple\",\"Red\",\"Pink\",\"Yellow\",\"Gold\"}, G193), {\"Black\",\"White\",\"Grey\",\"Blue\",\"Silver\",\"Brown\",\"Green\",\"Blue\",\"Purple\",\"Red\",\"Pink\",\"Yellow\",\"Gold\"}), \"\")","v":""},{"$f":"IFERROR(LOOKUP(2, 1/SEARCH({\"8GB\",\"16GB\",\"32GB\",\"64GB\"}, G193), {\"8GB\",\"16GB\",\"32GB\",\"64GB\"}), \"\")","v":""},{"$f":"IFERROR(LOOKUP(2, 1/SEARCH({\"1TB\",\"2TB\",\"128GB\",\"512GB\",\"256GB\"}, G193), {\"1TB\",\"2TB\",\"128GB\",\"512GB\",\"256GB\"}), \"\")","v":""},null,{"$f":"IFERROR(LOOKUP(2, 1/SEARCH({\"16-Inch\",\"15-Inch\",\"15.6-Inch\",\"18-Inch\",\"15.3-Inch\",\"13-Inch\",\"13.4-Inch\",\"13.8-Inch\",\"14-Inch\",\"17-Inch\",\"45-Inch\",\"27-Inch\",\"34-Inch\",\"32-Inch\",\"21.5-Inch\"}, G193), {\"16-Inch\",\"15-Inch\",\"15.6-Inch\",\"18-Inch\",\"15.3-Inch\",\"13-Inch\",\"13.4-Inch\",\"13.8-Inch\",\"14-Inch\",\"17-Inch\",\"45-Inch\",\"27-Inch\",\"34-Inch\",\"32-Inch\",\"21.5-Inch\"}), \"\")","v":""}]
[null,null,null,null,null,null,null,{"$f":"IFERROR(INDEX(BrandList!$A$2:$A$50,MATCH(TRUE,ISNUMBER(SEARCH(BrandList!$A$2:$A$50,G194)),0)),\"\")","v":""},{"$f":"IFERROR(INDEX(BrandList!$B$2:$B$200,MATCH(TRUE,ISNUMBER(SEARCH(BrandList!$B$2:$B$200,G194)),0)),\"\")","v":""},null,null,null,null,null,null,"",{"$f":"IFERROR(VLOOKUP(VALUE(A194),WEEKLY_DATA!$A:$H,2,0),0)","v":0},{"$f":"IFERROR(VLOOKUP(VALUE(A194),WEEKLY_DATA!$A:$H,3,0),0)","v":0},{"$f":"IFERROR(VLOOKUP(VALUE(A194),WEEKLY_DATA!$A:$H,4,0),0)","v":0},{"$f":"IFERROR(VLOOKUP(VALUE(A194),WEEKLY_DATA!$A:$H,5,0),0)","v":0},{"$f":"IFERROR(VLOOKUP(VALUE(A194),WEEKLY_DATA!$A:$H,6,0),0)","v":0},{"$f":"IFERROR(VLOOKUP(VALUE(A194),WEEKLY_DATA!$A:$H,7,0),0)","v":0},{"$f":"IFERROR(IF(OR(Q194=\"\",Q194=0),\"\",IF(VLOOKUP(VALUE($A194),WEEKLY_DATA!$A:$H,6,0)=0,\"No Sales\",Q194/(VLOOKUP(VALUE($A194),WEEKLY_DATA!$A:$H,6,0)/13))),\"\")","v":""},{"$f":"IFERROR(VLOOKUP(VALUE(A194),WEEKLY_DATA!$A:$H,8,0),0)","v":0},"—",null,null,null,null,null,null,null,null,null,null,null,null,null,{"$f":"IFERROR(LOOKUP(2, 1/SEARCH({\"Black\",\"White\",\"Grey\",\"Blue\",\"Silver\",\"Brown\",\"Green\",\"Blue\",\"Purple\",\"Red\",\"Pink\",\"Yellow\",\"Gold\"}, G194), {\"Black\",\"White\",\"Grey\",\"Blue\",\"Silver\",\"Brown\",\"Green\",\"Blue\",\"Purple\",\"Red\",\"Pink\",\"Yellow\",\"Gold\"}), \"\")","v":""},{"$f":"IFERROR(LOOKUP(2, 1/SEARCH({\"8GB\",\"16GB\",\"32GB\",\"64GB\"}, G194), {\"8GB\",\"16GB\",\"32GB\",\"64GB\"}), \"\")","v":""},{"$f":"IFERROR(LOOKUP(2, 1/SEARCH({\"1TB\",\"2TB\",\"128GB\",\"512GB\",\"256GB\"}, G194), {\"1TB\",\"2TB\",\"128GB\",\"512GB\",\"256GB\"}), \"\")","v":""},null,{"$f":"IFERROR(LOOKUP(2, 1/SEARCH({\"16-Inch\",\"15-Inch\",\"15.6-Inch\",\"18-Inch\",\"15.3-Inch\",\"13-Inch\",\"13.4-Inch\",\"13.8-Inch\",\"14-Inch\",\"17-Inch\",\"45-Inch\",\"27-Inch\",\"34-Inch\",\"32-Inch\",\"21.5-Inch\"}, G194), {\"16-Inch\",\"15-Inch\",\"15.6-Inch\",\"18-Inch\",\"15.3-Inch\",\"13-Inch\",\"13.4-Inch\",\"13.8-Inch\",\"14-Inch\",\"17-Inch\",\"45-Inch\",\"27-Inch\",\"34-Inch\",\"32-Inch\",\"21.5-Inch\"}), \"\")","v":""}]
[null,null,null,null,null,null,null,{"$f":"IFERROR(INDEX(BrandList!$A$2:$A$50,MATCH(TRUE,ISNUMBER(SEARCH(BrandList!$A$2:$A$50,G195)),0)),\"\")","v":""},{"$f":"IFERROR(INDEX(BrandList!$B$2:$B$200,MATCH(TRUE,ISNUMBER(SEARCH(BrandList!$B$2:$B$200,G195)),0)),\"\")","v":""},null,null,null,null,null,null,"",{"$f":"IFERROR(VLOOKUP(VALUE(A195),WEEKLY_DATA!$A:$H,2,0),0)","v":0},{"$f":"IFERROR(VLOOKUP(VALUE(A195),WEEKLY_DATA!$A:$H,3,0),0)","v":0},{"$f":"IFERROR(VLOOKUP(VALUE(A195),WEEKLY_DATA!$A:$H,4,0),0)","v":0},{"$f":"IFERROR(VLOOKUP(VALUE(A195),WEEKLY_DATA!$A:$H,5,0),0)","v":0},{"$f":"IFERROR(VLOOKUP(VALUE(A195),WEEKLY_DATA!$A:$H,6,0),0)","v":0},{"$f":"IFERROR(VLOOKUP(VALUE(A195),WEEKLY_DATA!$A:$H,7,0),0)","v":0},{"$f":"IFERROR(IF(OR(Q195=\"\",Q195=0),\"\",IF(VLOOKUP(VALUE($A195),WEEKLY_DATA!$A:$H,6,0)=0,\"No Sales\",Q195/(VLOOKUP(VALUE($A195),WEEKLY_DATA!$A:$H,6,0)/13))),\"\")","v":""},{"$f":"IFERROR(VLOOKUP(VALUE(A195),WEEKLY_DATA!$A:$H,8,0),0)","v":0},"—",null,null,null,null,null,null,null,null,null,null,null,null,null,{"$f":"IFERROR(LOOKUP(2, 1/SEARCH({\"Black\",\"White\",\"Grey\",\"Blue\",\"Silver\",\"Brown\",\"Green\",\"Blue\",\"Purple\",\"Red\",\"Pink\",\"Yellow\",\"Gold\"}, G195), {\"Black\",\"White\",\"Grey\",\"Blue\",\"Silver\",\"Brown\",\"Green\",\"Blue\",\"Purple\",\"Red\",\"Pink\",\"Yellow\",\"Gold\"}), \"\")","v":""},{"$f":"IFERROR(LOOKUP(2, 1/SEARCH({\"8GB\",\"16GB\",\"32GB\",\"64GB\"}, G195), {\"8GB\",\"16GB\",\"32GB\",\"64GB\"}), \"\")","v":""},{"$f":"IFERROR(LOOKUP(2, 1/SEARCH({\"1TB\",\"2TB\",\"128GB\",\"512GB\",\"256GB\"}, G195), {\"1TB\",\"2TB\",\"128GB\",\"512GB\",\"256GB\"}), \"\")","v":""},null,{"$f":"IFERROR(LOOKUP(2, 1/SEARCH({\"16-Inch\",\"15-Inch\",\"15.6-Inch\",\"18-Inch\",\"15.3-Inch\",\"13-Inch\",\"13.4-Inch\",\"13.8-Inch\",\"14-Inch\",\"17-Inch\",\"45-Inch\",\"27-Inch\",\"34-Inch\",\"32-Inch\",\"21.5-Inch\"}, G195), {\"16-Inch\",\"15-Inch\",\"15.6-Inch\",\"18-Inch\",\"15.3-Inch\",\"13-Inch\",\"13.4-Inch\",\"13.8-Inch\",\"14-Inch\",\"17-Inch\",\"45-Inch\",\"27-Inch\",\"34-Inch\",\"32-Inch\",\"21.5-Inch\"}), \"\")","v":""}]
[null,null,null,null,null,null,null,{"$f":"IFERROR(INDEX(BrandList!$A$2:$A$50,MATCH(TRUE,ISNUMBER(SEARCH(BrandList!$A$2:$A$50,G196)),0)),\"\")","v":""},{"$f":"IFERROR(INDEX(BrandList!$B$2:$B$200,MATCH(TRUE,ISNUMBER(SEARCH(BrandList!$B$2:$B$200,G196)),0)),\"\")","v":""},null,null,null,null,null,null,"",{"$f":"IFERROR(VLOOKUP(VALUE(A196),WEEKLY_DATA!$A:$H,2,0),0)","v":0},{"$f":"IFERROR(VLOOKUP(VALUE(A196),WEEKLY_DATA!$A:$H,3,0),0)","v":0},{"$f":"IFERROR(VLOOKUP(VALUE(A196),WEEKLY_DATA!$A:$H,4,0),0)","v":0},{"$f":"IFERROR(VLOOKUP(VALUE(A196),WEEKLY_DATA!$A:$H,5,0),0)","v":0},{"$f":"IFERROR(VLOOKUP(VALUE(A196),WEEKLY_DATA!$A:$H,6,0),0)","v":0},{"$f":"IFERROR(VLOOKUP(VALUE(A196),WEEKLY_DATA!$A:$H,7,0),0)","v":0},{"$f":"IFERROR(IF(OR(Q196=\"\",Q196=0),\"\",IF(VLOOKUP(VALUE($A196),WEEKLY_DATA!$A:$H,6,0)=0,\"No Sales\",Q196/(VLOOKUP(VALUE($A196),WEEKLY_DATA!$A:$H,6,0)/13))),\"\")","v":""},{"$f":"IFERROR(VLOOKUP(VALUE(A196),WEEKLY_DATA!$A:$H,8,0),0)","v":0},"—",null,null,null,null,null,null,null,null,null,null,null,null,null,{"$f":"IFERROR(LOOKUP(2, 1/SEARCH({\"Black\",\"White\",\"Grey\",\"Blue\",\"Silver\",\"Brown\",\"Green\",\"Blue\",\"Purple\",\"Red\",\"Pink\",\"Yellow\",\"Gold\"}, G196), {\"Black\",\"White\",\"Grey\",\"Blue\",\"Silver\",\"Brown\",\"Green\",\"Blue\",\"Purple\",\"Red\",\"Pink\",\"Yellow\",\"Gold\"}), \"\")","v":""},{"$f":"IFERROR(LOOKUP(2, 1/SEARCH({\"8GB\",\"16GB\",\"32GB\",\"64GB\"}, G196), {\"8GB\",\"16GB\",\"32GB\",\"64GB\"}), \"\")","v":""},{"$f":"IFERROR(LOOKUP(2, 1/SEARCH({\"1TB\",\"2TB\",\"128GB\",\"512GB\",\"256GB\"}, G196), {\"1TB\",\"2TB\",\"128GB\",\"512GB\",\"256GB\"}), \"\")","v":""},null,{"$f":"IFERROR(LOOKUP(2, 1/SEARCH({\"16-Inch\",\"15-Inch\",\"15.6-Inch\",\"18-Inch\",\"15.3-Inch\",\"13-Inch\",\"13.4-Inch\",\"13.8-Inch\",\"14-Inch\",\"17-Inch\",\"45-Inch\",\"27-Inch\",\"34-Inch\",\"32-Inch\",\"21.5-Inch\"}, G196), {\"16-Inch\",\"15-Inch\",\"15.6-Inch\",\"18-Inch\",\"15.3-Inch\",\"13-Inch\",\"13.4-Inch\",\"13.8-Inch\",\"14-Inch\",\"17-Inch\",\"45-Inch\",\"27-Inch\",\"34-Inch\",\"32-Inch\",\"21.5-Inch\"}), \"\")","v":""}]
[null,null,null,null,null,null,null,{"$f":"IFERROR(INDEX(BrandList!$A$2:$A$50,MATCH(TRUE,ISNUMBER(SEARCH(BrandList!$A$2:$A$50,G197)),0)),\"\")","v":""},{"$f":"IFERROR(INDEX(BrandList!$B$2:$B$200,MATCH(TRUE,ISNUMBER(SEARCH(BrandList!$B$2:$B$200,G197)),0)),\"\")","v":""},null,null,null,null,null,null,"",{"$f":"IFERROR(VLOOKUP(VALUE(A197),WEEKLY_DATA!$A:$H,2,0),0)","v":0},{"$f":"IFERROR(VLOOKUP(VALUE(A197),WEEKLY_DATA!$A:$H,3,0),0)","v":0},{"$f":"IFERROR(VLOOKUP(VALUE(A197),WEEKLY_DATA!$A:$H,4,0),0)","v":0},{"$f":"IFERROR(VLOOKUP(VALUE(A197),WEEKLY_DATA!$A:$H,5,0),0)","v":0},{"$f":"IFERROR(VLOOKUP(VALUE(A197),WEEKLY_DATA!$A:$H,6,0),0)","v":0},{"$f":"IFERROR(VLOOKUP(VALUE(A197),WEEKLY_DATA!$A:$H,7,0),0)","v":0},{"$f":"IFERROR(IF(OR(Q197=\"\",Q197=0),\"\",IF(VLOOKUP(VALUE($A197),WEEKLY_DATA!$A:$H,6,0)=0,\"No Sales\",Q197/(VLOOKUP(VALUE($A197),WEEKLY_DATA!$A:$H,6,0)/13))),\"\")","v":""},{"$f":"IFERROR(VLOOKUP(VALUE(A197),WEEKLY_DATA!$A:$H,8,0),0)","v":0},"—",null,null,null,null,null,null,"—",null,null,null,"—","—",null,{"$f":"IFERROR(LOOKUP(2, 1/SEARCH({\"Black\",\"White\",\"Grey\",\"Blue\",\"Silver\",\"Brown\",\"Green\",\"Blue\",\"Purple\",\"Red\",\"Pink\",\"Yellow\",\"Gold\"}, G197), {\"Black\",\"White\",\"Grey\",\"Blue\",\"Silver\",\"Brown\",\"Green\",\"Blue\",\"Purple\",\"Red\",\"Pink\",\"Yellow\",\"Gold\"}), \"\")","v":""},{"$f":"IFERROR(LOOKUP(2, 1/SEARCH({\"8GB\",\"16GB\",\"32GB\",\"64GB\"}, G197), {\"8GB\",\"16GB\",\"32GB\",\"64GB\"}), \"\")","v":""},{"$f":"IFERROR(LOOKUP(2, 1/SEARCH({\"1TB\",\"2TB\",\"128GB\",\"512GB\",\"256GB\"}, G197), {\"1TB\",\"2TB\",\"128GB\",\"512GB\",\"256GB\"}), \"\")","v":""},null,{"$f":"IFERROR(LOOKUP(2, 1/SEARCH({\"16-Inch\",\"15-Inch\",\"15.6-Inch\",\"18-Inch\",\"15.3-Inch\",\"13-Inch\",\"13.4-Inch\",\"13.8-Inch\",\"14-Inch\",\"17-Inch\",\"45-Inch\",\"27-Inch\",\"34-Inch\",\"32-Inch\",\"21.5-Inch\"}, G197), {\"16-Inch\",\"15-Inch\",\"15.6-Inch\",\"18-Inch\",\"15.3-Inch\",\"13-Inch\",\"13.4-Inch\",\"13.8-Inch\",\"14-Inch\",\"17-Inch\",\"45-Inch\",\"27-Inch\",\"34-Inch\",\"32-Inch\",\"21.5-Inch\"}), \"\")","v":""}]
[null,null,null,null,null,null,null,{"$f":"IFERROR(INDEX(BrandList!$A$2:$A$50,MATCH(TRUE,ISNUMBER(SEARCH(BrandList!$A$2:$A$50,G198)),0)),\"\")","v":""},{"$f":"IFERROR(INDEX(BrandList!$B$2:$B$200,MATCH(TRUE,ISNUMBER(SEARCH(BrandList!$B$2:$B$200,G198)),0)),\"\")","v":""},null,null,null,null,null,null,"",{"$f":"IFERROR(VLOOKUP(VALUE(A198),WEEKLY_DATA!$A:$H,2,0),0)","v":0},{"$f":"IFERROR(VLOOKUP(VALUE(A198),WEEKLY_DATA!$A:$H,3,0),0)","v":0},{"$f":"IFERROR(VLOOKUP(VALUE(A198),WEEKLY_DATA!$A:$H,4,0),0)","v":0},{"$f":"IFERROR(VLOOKUP(VALUE(A198),WEEKLY_DATA!$A:$H,5,0),0)","v":0},{"$f":"IFERROR(VLOOKUP(VALUE(A198),WEEKLY_DATA!$A:$H,6,0),0)","v":0},{"$f":"IFERROR(VLOOKUP(VALUE(A198),WEEKLY_DATA!$A:$H,7,0),0)","v":0},{"$f":"IFERROR(IF(OR(Q198=\"\",Q198=0),\"\",IF(VLOOKUP(VALUE($A198),WEEKLY_DATA!$A:$H,6,0)=0,\"No Sales\",Q198/(VLOOKUP(VALUE($A198),WEEKLY_DATA!$A:$H,6,0)/13))),\"\")","v":""},{"$f":"IFERROR(VLOOKUP(VALUE(A198),WEEKLY_DATA!$A:$H,8,0),0)","v":0},{"$f":"IFERROR(\nIF(J198=\"Discontinued\",\"🔴 EOL\",\nIF(J198=\"Drop Ship\",\"📦 Drop Ship\",\nIF(J198=\"New\",\"🆕 New\",\nIF(W198=\"\",\"—\",\nIF(W198<2,\"🔴 Critical\",\nIF(W198<4,\"🟡 Low\",\nIF(W198>26,\"🔵 Overstock\",\"🟢 Healthy\")\n)))))),\"\")","v":"—"},null,null,null,null,null,null,null,null,null,null,null,null,null,{"$f":"IFERROR(LOOKUP(2, 1/SEARCH({\"Black\",\"White\",\"Grey\",\"Blue\",\"Silver\",\"Brown\",\"Green\",\"Blue\",\"Purple\",\"Red\",\"Pink\",\"Yellow\",\"Gold\"}, G198), {\"Black\",\"White\",\"Grey\",\"Blue\",\"Silver\",\"Brown\",\"Green\",\"Blue\",\"Purple\",\"Red\",\"Pink\",\"Yellow\",\"Gold\"}), \"\")","v":""},{"$f":"IFERROR(LOOKUP(2, 1/SEARCH({\"8GB\",\"16GB\",\"32GB\",\"64GB\"}, G198), {\"8GB\",\"16GB\",\"32GB\",\"64GB\"}), \"\")","v":""},{"$f":"IFERROR(LOOKUP(2, 1/SEARCH({\"1TB\",\"2TB\",\"128GB\",\"512GB\",\"256GB\"}, G198), {\"1TB\",\"2TB\",\"128GB\",\"512GB\",\"256GB\"}), \"\")","v":""},null,{"$f":"IFERROR(LOOKUP(2, 1/SEARCH({\"16-Inch\",\"15-Inch\",\"15.6-Inch\",\"18-Inch\",\"15.3-Inch\",\"13-Inch\",\"13.4-Inch\",\"13.8-Inch\",\"14-Inch\",\"17-Inch\",\"45-Inch\",\"27-Inch\",\"34-Inch\",\"32-Inch\",\"21.5-Inch\"}, G198), {\"16-Inch\",\"15-Inch\",\"15.6-Inch\",\"18-Inch\",\"15.3-Inch\",\"13-Inch\",\"13.4-Inch\",\"13.8-Inch\",\"14-Inch\",\"17-Inch\",\"45-Inch\",\"27-Inch\",\"34-Inch\",\"32-Inch\",\"21.5-Inch\"}), \"\")","v":""}]
[null,null,null,null,null,null,null,{"$f":"IFERROR(INDEX(BrandList!$A$2:$A$50,MATCH(TRUE,ISNUMBER(SEARCH(BrandList!$A$2:$A$50,G199)),0)),\"\")","v":""},{"$f":"IFERROR(INDEX(BrandList!$B$2:$B$200,MATCH(TRUE,ISNUMBER(SEARCH(BrandList!$B$2:$B$200,G199)),0)),\"\")","v":""},null,null,null,null,null,null,{"$f":"IFERROR(IF(OR(E199=\"\",F199=\"\",F199=0),\"\",(F199-E199)/F199),\"\")","v":""},{"$f":"IFERROR(VLOOKUP(VALUE(A199),WEEKLY_DATA!$A:$H,2,0),0)","v":0},{"$f":"IFERROR(VLOOKUP(VALUE(A199),WEEKLY_DATA!$A:$H,3,0),0)","v":0},{"$f":"IFERROR(VLOOKUP(VALUE(A199),WEEKLY_DATA!$A:$H,4,0),0)","v":0},{"$f":"IFERROR(VLOOKUP(VALUE(A199),WEEKLY_DATA!$A:$H,5,0),0)","v":0},{"$f":"IFERROR(VLOOKUP(VALUE(A199),WEEKLY_DATA!$A:$H,6,0),0)","v":0},{"$f":"IFERROR(VLOOKUP(VALUE(A199),WEEKLY_DATA!$A:$H,7,0),0)","v":0},{"$f":"IFERROR(IF(OR(Q199=\"\",Q199=0),\"\",IF(VLOOKUP(VALUE($A199),WEEKLY_DATA!$A:$H,6,0)=0,\"No Sales\",Q199/(VLOOKUP(VALUE($A199),WEEKLY_DATA!$A:$H,6,0)/13))),\"\")","v":""},{"$f":"IFERROR(VLOOKUP(VALUE(A199),WEEKLY_DATA!$A:$H,8,0),0)","v":0},"—",null,null,null,null,null,null,null,null,null,null,null,null,null,{"$f":"IFERROR(LOOKUP(2, 1/SEARCH({\"Black\",\"White\",\"Grey\",\"Blue\",\"Silver\",\"Brown\",\"Green\",\"Blue\",\"Purple\",\"Red\",\"Pink\",\"Yellow\",\"Gold\"}, G199), {\"Black\",\"White\",\"Grey\",\"Blue\",\"Silver\",\"Brown\",\"Green\",\"Blue\",\"Purple\",\"Red\",\"Pink\",\"Yellow\",\"Gold\"}), \"\")","v":""},{"$f":"IFERROR(LOOKUP(2, 1/SEARCH({\"8GB\",\"16GB\",\"32GB\",\"64GB\"}, G199), {\"8GB\",\"16GB\",\"32GB\",\"64GB\"}), \"\")","v":""},{"$f":"IFERROR(LOOKUP(2, 1/SEARCH({\"1TB\",\"2TB\",\"128GB\",\"512GB\",\"256GB\"}, G199), {\"1TB\",\"2TB\",\"128GB\",\"512GB\",\"256GB\"}), \"\")","v":""},null,{"$f":"IFERROR(LOOKUP(2, 1/SEARCH({\"16-Inch\",\"15-Inch\",\"15.6-Inch\",\"18-Inch\",\"15.3-Inch\",\"13-Inch\",\"13.4-Inch\",\"13.8-Inch\",\"14-Inch\",\"17-Inch\",\"45-Inch\",\"27-Inch\",\"34-Inch\",\"32-Inch\",\"21.5-Inch\"}, G199), {\"16-Inch\",\"15-Inch\",\"15.6-Inch\",\"18-Inch\",\"15.3-Inch\",\"13-Inch\",\"13.4-Inch\",\"13.8-Inch\",\"14-Inch\",\"17-Inch\",\"45-Inch\",\"27-Inch\",\"34-Inch\",\"32-Inch\",\"21.5-Inch\"}), \"\")","v":""}]
[null,null,null,null,null,null,null,{"$f":"IFERROR(INDEX(BrandList!$A$2:$A$50,MATCH(TRUE,ISNUMBER(SEARCH(BrandList!$A$2:$A$50,G200)),0)),\"\")","v":""},{"$f":"IFERROR(INDEX(BrandList!$B$2:$B$200,MATCH(TRUE,ISNUMBER(SEARCH(BrandList!$B$2:$B$200,G200)),0)),\"\")","v":""},null,null,null,null,null,null,"",{"$f":"IFERROR(VLOOKUP(VALUE(A200),WEEKLY_DATA!$A:$H,2,0),0)","v":0},{"$f":"IFERROR(VLOOKUP(VALUE(A200),WEEKLY_DATA!$A:$H,3,0),0)","v":0},{"$f":"IFERROR(VLOOKUP(VALUE(A200),WEEKLY_DATA!$A:$H,4,0),0)","v":0},{"$f":"IFERROR(VLOOKUP(VALUE(A200),WEEKLY_DATA!$A:$H,5,0),0)","v":0},{"$f":"IFERROR(VLOOKUP(VALUE(A200),WEEKLY_DATA!$A:$H,6,0),0)","v":0},{"$f":"IFERROR(VLOOKUP(VALUE(A200),WEEKLY_DATA!$A:$H,7,0),0)","v":0},{"$f":"IFERROR(IF(OR(Q200=\"\",Q200=0),\"\",IF(VLOOKUP(VALUE($A200),WEEKLY_DATA!$A:$H,6,0)=0,\"No Sales\",Q200/(VLOOKUP(VALUE($A200),WEEKLY_DATA!$A:$H,6,0)/13))),\"\")","v":""},{"$f":"IFERROR(VLOOKUP(VALUE(A200),WEEKLY_DATA!$A:$H,8,0),0)","v":0},"—",null,null,null,null,null,null,null,null,null,null,null,null,null,{"$f":"IFERROR(LOOKUP(2, 1/SEARCH({\"Black\",\"White\",\"Grey\",\"Blue\",\"Silver\",\"Brown\",\"Green\",\"Blue\",\"Purple\",\"Red\",\"Pink\",\"Yellow\",\"Gold\"}, G200), {\"Black\",\"White\",\"Grey\",\"Blue\",\"Silver\",\"Brown\",\"Green\",\"Blue\",\"Purple\",\"Red\",\"Pink\",\"Yellow\",\"Gold\"}), \"\")","v":""},{"$f":"IFERROR(LOOKUP(2, 1/SEARCH({\"8GB\",\"16GB\",\"32GB\",\"64GB\"}, G200), {\"8GB\",\"16GB\",\"32GB\",\"64GB\"}), \"\")","v":""},{"$f":"IFERROR(LOOKUP(2, 1/SEARCH({\"1TB\",\"2TB\",\"128GB\",\"512GB\",\"256GB\"}, G200), {\"1TB\",\"2TB\",\"128GB\",\"512GB\",\"256GB\"}), \"\")","v":""},null,{"$f":"IFERROR(LOOKUP(2, 1/SEARCH({\"16-Inch\",\"15-Inch\",\"15.6-Inch\",\"18-Inch\",\"15.3-Inch\",\"13-Inch\",\"13.4-Inch\",\"13.8-Inch\",\"14-Inch\",\"17-Inch\",\"45-Inch\",\"27-Inch\",\"34-Inch\",\"32-Inch\",\"21.5-Inch\"}, G200), {\"16-Inch\",\"15-Inch\",\"15.6-Inch\",\"18-Inch\",\"15.3-Inch\",\"13-Inch\",\"13.4-Inch\",\"13.8-Inch\",\"14-Inch\",\"17-Inch\",\"45-Inch\",\"27-Inch\",\"34-Inch\",\"32-Inch\",\"21.5-Inch\"}), \"\")","v":""}]
[null,null,null,null,null,null,null,{"$f":"IFERROR(INDEX(BrandList!$A$2:$A$50,MATCH(TRUE,ISNUMBER(SEARCH(BrandList!$A$2:$A$50,G201)),0)),\"\")","v":""},{"$f":"IFERROR(INDEX(BrandList!$B$2:$B$200,MATCH(TRUE,ISNUMBER(SEARCH(BrandList!$B$2:$B$200,G201)),0)),\"\")","v":""},null,null,null,null,null,null,"",{"$f":"IFERROR(VLOOKUP(VALUE(A201),WEEKLY_DATA!$A:$H,2,0),0)","v":0},{"$f":"IFERROR(VLOOKUP(VALUE(A201),WEEKLY_DATA!$A:$H,3,0),0)","v":0},{"$f":"IFERROR(VLOOKUP(VALUE(A201),WEEKLY_DATA!$A:$H,4,0),0)","v":0},{"$f":"IFERROR(VLOOKUP(VALUE(A201),WEEKLY_DATA!$A:$H,5,0),0)","v":0},{"$f":"IFERROR(VLOOKUP(VALUE(A201),WEEKLY_DATA!$A:$H,6,0),0)","v":0},{"$f":"IFERROR(VLOOKUP(VALUE(A201),WEEKLY_DATA!$A:$H,7,0),0)","v":0},{"$f":"IFERROR(IF(OR(Q201=\"\",Q201=0),\"\",IF(VLOOKUP(VALUE($A201),WEEKLY_DATA!$A:$H,6,0)=0,\"No Sales\",Q201/(VLOOKUP(VALUE($A201),WEEKLY_DATA!$A:$H,6,0)/13))),\"\")","v":""},{"$f":"IFERROR(VLOOKUP(VALUE(A201),WEEKLY_DATA!$A:$H,8,0),0)","v":0},"—",null,null,null,null,null,null,null,null,null,null,null,null,null,{"$f":"IFERROR(LOOKUP(2, 1/SEARCH({\"Black\",\"White\",\"Grey\",\"Blue\",\"Silver\",\"Brown\",\"Green\",\"Blue\",\"Purple\",\"Red\",\"Pink\",\"Yellow\",\"Gold\"}, G201), {\"Black\",\"White\",\"Grey\",\"Blue\",\"Silver\",\"Brown\",\"Green\",\"Blue\",\"Purple\",\"Red\",\"Pink\",\"Yellow\",\"Gold\"}), \"\")","v":""},{"$f":"IFERROR(LOOKUP(2, 1/SEARCH({\"8GB\",\"16GB\",\"32GB\",\"64GB\"}, G201), {\"8GB\",\"16GB\",\"32GB\",\"64GB\"}), \"\")","v":""},{"$f":"IFERROR(LOOKUP(2, 1/SEARCH({\"1TB\",\"2TB\",\"128GB\",\"512GB\",\"256GB\"}, G201), {\"1TB\",\"2TB\",\"128GB\",\"512GB\",\"256GB\"}), \"\")","v":""},null,{"$f":"IFERROR(LOOKUP(2, 1/SEARCH({\"16-Inch\",\"15-Inch\",\"15.6-Inch\",\"18-Inch\",\"15.3-Inch\",\"13-Inch\",\"13.4-Inch\",\"13.8-Inch\",\"14-Inch\",\"17-Inch\",\"45-Inch\",\"27-Inch\",\"34-Inch\",\"32-Inch\",\"21.5-Inch\"}, G201), {\"16-Inch\",\"15-Inch\",\"15.6-Inch\",\"18-Inch\",\"15.3-Inch\",\"13-Inch\",\"13.4-Inch\",\"13.8-Inch\",\"14-Inch\",\"17-Inch\",\"45-Inch\",\"27-Inch\",\"34-Inch\",\"32-Inch\",\"21.5-Inch\"}), \"\")","v":""}]
[null,null,null,null,null,null,null,{"$f":"IFERROR(INDEX(BrandList!$A$2:$A$50,MATCH(TRUE,ISNUMBER(SEARCH(BrandList!$A$2:$A$50,G202)),0)),\"\")","v":""},{"$f":"IFERROR(INDEX(BrandList!$B$2:$B$200,MATCH(TRUE,ISNUMBER(SEARCH(BrandList!$B$2:$B$200,G202)),0)),\"\")","v":""},null,null,null,null,null,null,"",{"$f":"IFERROR(VLOOKUP(VALUE(A202),WEEKLY_DATA!$A:$H,2,0),0)","v":0},{"$f":"IFERROR(VLOOKUP(VALUE(A202),WEEKLY_DATA!$A:$H,3,0),0)","v":0},{"$f":"IFERROR(VLOOKUP(VALUE(A202),WEEKLY_DATA!$A:$H,4,0),0)","v":0},{"$f":"IFERROR(VLOOKUP(VALUE(A202),WEEKLY_DATA!$A:$H,5,0),0)","v":0},{"$f":"IFERROR(VLOOKUP(VALUE(A202),WEEKLY_DATA!$A:$H,6,0),0)","v":0},{"$f":"IFERROR(VLOOKUP(VALUE(A202),WEEKLY_DATA!$A:$H,7,0),0)","v":0},{"$f":"IFERROR(IF(OR(Q202=\"\",Q202=0),\"\",IF(VLOOKUP(VALUE($A202),WEEKLY_DATA!$A:$H,6,0)=0,\"No Sales\",Q202/(VLOOKUP(VALUE($A202),WEEKLY_DATA!$A:$H,6,0)/13))),\"\")","v":""},{"$f":"IFERROR(VLOOKUP(VALUE(A202),WEEKLY_DATA!$A:$H,8,0),0)","v":0},"—",null,null,null,null,null,null,"—",null,null,null,"—","—",null,{"$f":"IFERROR(LOOKUP(2, 1/SEARCH({\"Black\",\"White\",\"Grey\",\"Blue\",\"Silver\",\"Brown\",\"Green\",\"Blue\",\"Purple\",\"Red\",\"Pink\",\"Yellow\",\"Gold\"}, G202), {\"Black\",\"White\",\"Grey\",\"Blue\",\"Silver\",\"Brown\",\"Green\",\"Blue\",\"Purple\",\"Red\",\"Pink\",\"Yellow\",\"Gold\"}), \"\")","v":""},{"$f":"IFERROR(LOOKUP(2, 1/SEARCH({\"8GB\",\"16GB\",\"32GB\",\"64GB\"}, G202), {\"8GB\",\"16GB\",\"32GB\",\"64GB\"}), \"\")","v":""},{"$f":"IFERROR(LOOKUP(2, 1/SEARCH({\"1TB\",\"2TB\",\"128GB\",\"512GB\",\"256GB\"}, G202), {\"1TB\",\"2TB\",\"128GB\",\"512GB\",\"256GB\"}), \"\")","v":""},null,{"$f":"IFERROR(LOOKUP(2, 1/SEARCH({\"16-Inch\",\"15-Inch\",\"15.6-Inch\",\"18-Inch\",\"15.3-Inch\",\"13-Inch\",\"13.4-Inch\",\"13.8-Inch\",\"14-Inch\",\"17-Inch\",\"45-Inch\",\"27-Inch\",\"34-Inch\",\"32-Inch\",\"21.5-Inch\"}, G202), {\"16-Inch\",\"15-Inch\",\"15.6-Inch\",\"18-Inch\",\"15.3-Inch\",\"13-Inch\",\"13.4-Inch\",\"13.8-Inch\",\"14-Inch\",\"17-Inch\",\"45-Inch\",\"27-Inch\",\"34-Inch\",\"32-Inch\",\"21.5-Inch\"}), \"\")","v":""}]
[null,null,null,null,null,null,null,{"$f":"IFERROR(INDEX(BrandList!$A$2:$A$50,MATCH(TRUE,ISNUMBER(SEARCH(BrandList!$A$2:$A$50,G203)),0)),\"\")","v":""},{"$f":"IFERROR(INDEX(BrandList!$B$2:$B$200,MATCH(TRUE,ISNUMBER(SEARCH(BrandList!$B$2:$B$200,G203)),0)),\"\")","v":""},null,null,null,null,null,null,"",{"$f":"IFERROR(VLOOKUP(VALUE(A203),WEEKLY_DATA!$A:$H,2,0),0)","v":0},{"$f":"IFERROR(VLOOKUP(VALUE(A203),WEEKLY_DATA!$A:$H,3,0),0)","v":0},{"$f":"IFERROR(VLOOKUP(VALUE(A203),WEEKLY_DATA!$A:$H,4,0),0)","v":0},{"$f":"IFERROR(VLOOKUP(VALUE(A203),WEEKLY_DATA!$A:$H,5,0),0)","v":0},{"$f":"IFERROR(VLOOKUP(VALUE(A203),WEEKLY_DATA!$A:$H,6,0),0)","v":0},{"$f":"IFERROR(VLOOKUP(VALUE(A203),WEEKLY_DATA!$A:$H,7,0),0)","v":0},{"$f":"IFERROR(IF(OR(Q203=\"\",Q203=0),\"\",IF(VLOOKUP(VALUE($A203),WEEKLY_DATA!$A:$H,6,0)=0,\"No Sales\",Q203/(VLOOKUP(VALUE($A203),WEEKLY_DATA!$A:$H,6,0)/13))),\"\")","v":""},{"$f":"IFERROR(VLOOKUP(VALUE(A203),WEEKLY_DATA!$A:$H,8,0),0)","v":0},"—",null,null,null,null,null,null,"—",null,null,null,"—","—",null,{"$f":"IFERROR(LOOKUP(2, 1/SEARCH({\"Black\",\"White\",\"Grey\",\"Blue\",\"Silver\",\"Brown\",\"Green\",\"Blue\",\"Purple\",\"Red\",\"Pink\",\"Yellow\",\"Gold\"}, G203), {\"Black\",\"White\",\"Grey\",\"Blue\",\"Silver\",\"Brown\",\"Green\",\"Blue\",\"Purple\",\"Red\",\"Pink\",\"Yellow\",\"Gold\"}), \"\")","v":""},{"$f":"IFERROR(LOOKUP(2, 1/SEARCH({\"8GB\",\"16GB\",\"32GB\",\"64GB\"}, G203), {\"8GB\",\"16GB\",\"32GB\",\"64GB\"}), \"\")","v":""},{"$f":"IFERROR(LOOKUP(2, 1/SEARCH({\"1TB\",\"2TB\",\"128GB\",\"512GB\",\"256GB\"}, G203), {\"1TB\",\"2TB\",\"128GB\",\"512GB\",\"256GB\"}), \"\")","v":""},null,{"$f":"IFERROR(LOOKUP(2, 1/SEARCH({\"16-Inch\",\"15-Inch\",\"15.6-Inch\",\"18-Inch\",\"15.3-Inch\",\"13-Inch\",\"13.4-Inch\",\"13.8-Inch\",\"14-Inch\",\"17-Inch\",\"45-Inch\",\"27-Inch\",\"34-Inch\",\"32-Inch\",\"21.5-Inch\"}, G203), {\"16-Inch\",\"15-Inch\",\"15.6-Inch\",\"18-Inch\",\"15.3-Inch\",\"13-Inch\",\"13.4-Inch\",\"13.8-Inch\",\"14-Inch\",\"17-Inch\",\"45-Inch\",\"27-Inch\",\"34-Inch\",\"32-Inch\",\"21.5-Inch\"}), \"\")","v":""}]
[null,null,null,null,null,null,null,{"$f":"IFERROR(INDEX(BrandList!$A$2:$A$50,MATCH(TRUE,ISNUMBER(SEARCH(BrandList!$A$2:$A$50,G204)),0)),\"\")","v":""},{"$f":"IFERROR(INDEX(BrandList!$B$2:$B$200,MATCH(TRUE,ISNUMBER(SEARCH(BrandList!$B$2:$B$200,G204)),0)),\"\")","v":""},null,null,null,null,null,null,"",{"$f":"IFERROR(VLOOKUP(VALUE(A204),WEEKLY_DATA!$A:$H,2,0),0)","v":0},{"$f":"IFERROR(VLOOKUP(VALUE(A204),WEEKLY_DATA!$A:$H,3,0),0)","v":0},{"$f":"IFERROR(VLOOKUP(VALUE(A204),WEEKLY_DATA!$A:$H,4,0),0)","v":0},{"$f":"IFERROR(VLOOKUP(VALUE(A204),WEEKLY_DATA!$A:$H,5,0),0)","v":0},{"$f":"IFERROR(VLOOKUP(VALUE(A204),WEEKLY_DATA!$A:$H,6,0),0)","v":0},{"$f":"IFERROR(VLOOKUP(VALUE(A204),WEEKLY_DATA!$A:$H,7,0),0)","v":0},{"$f":"IFERROR(IF(OR(Q204=\"\",Q204=0),\"\",IF(VLOOKUP(VALUE($A204),WEEKLY_DATA!$A:$H,6,0)=0,\"No Sales\",Q204/(VLOOKUP(VALUE($A204),WEEKLY_DATA!$A:$H,6,0)/13))),\"\")","v":""},{"$f":"IFERROR(VLOOKUP(VALUE(A204),WEEKLY_DATA!$A:$H,8,0),0)","v":0},"—",null,null,null,null,null,null,"—",null,null,null,"—","—",null,{"$f":"IFERROR(LOOKUP(2, 1/SEARCH({\"Black\",\"White\",\"Grey\",\"Blue\",\"Silver\",\"Brown\",\"Green\",\"Blue\",\"Purple\",\"Red\",\"Pink\",\"Yellow\",\"Gold\"}, G204), {\"Black\",\"White\",\"Grey\",\"Blue\",\"Silver\",\"Brown\",\"Green\",\"Blue\",\"Purple\",\"Red\",\"Pink\",\"Yellow\",\"Gold\"}), \"\")","v":""},{"$f":"IFERROR(LOOKUP(2, 1/SEARCH({\"8GB\",\"16GB\",\"32GB\",\"64GB\"}, G204), {\"8GB\",\"16GB\",\"32GB\",\"64GB\"}), \"\")","v":""},{"$f":"IFERROR(LOOKUP(2, 1/SEARCH({\"1TB\",\"2TB\",\"128GB\",\"512GB\",\"256GB\"}, G204), {\"1TB\",\"2TB\",\"128GB\",\"512GB\",\"256GB\"}), \"\")","v":""},null,{"$f":"IFERROR(LOOKUP(2, 1/SEARCH({\"16-Inch\",\"15-Inch\",\"15.6-Inch\",\"18-Inch\",\"15.3-Inch\",\"13-Inch\",\"13.4-Inch\",\"13.8-Inch\",\"14-Inch\",\"17-Inch\",\"45-Inch\",\"27-Inch\",\"34-Inch\",\"32-Inch\",\"21.5-Inch\"}, G204), {\"16-Inch\",\"15-Inch\",\"15.6-Inch\",\"18-Inch\",\"15.3-Inch\",\"13-Inch\",\"13.4-Inch\",\"13.8-Inch\",\"14-Inch\",\"17-Inch\",\"45-Inch\",\"27-Inch\",\"34-Inch\",\"32-Inch\",\"21.5-Inch\"}), \"\")","v":""}]
[null,null,null,null,null,null,null,{"$f":"IFERROR(INDEX(BrandList!$A$2:$A$50,MATCH(TRUE,ISNUMBER(SEARCH(BrandList!$A$2:$A$50,G205)),0)),\"\")","v":""},{"$f":"IFERROR(INDEX(BrandList!$B$2:$B$200,MATCH(TRUE,ISNUMBER(SEARCH(BrandList!$B$2:$B$200,G205)),0)),\"\")","v":""},null,null,null,null,null,null,"",{"$f":"IFERROR(VLOOKUP(VALUE(A205),WEEKLY_DATA!$A:$H,2,0),0)","v":0},{"$f":"IFERROR(VLOOKUP(VALUE(A205),WEEKLY_DATA!$A:$H,3,0),0)","v":0},{"$f":"IFERROR(VLOOKUP(VALUE(A205),WEEKLY_DATA!$A:$H,4,0),0)","v":0},{"$f":"IFERROR(VLOOKUP(VALUE(A205),WEEKLY_DATA!$A:$H,5,0),0)","v":0},{"$f":"IFERROR(VLOOKUP(VALUE(A205),WEEKLY_DATA!$A:$H,6,0),0)","v":0},{"$f":"IFERROR(VLOOKUP(VALUE(A205),WEEKLY_DATA!$A:$H,7,0),0)","v":0},{"$f":"IFERROR(IF(OR(Q205=\"\",Q205=0),\"\",IF(VLOOKUP(VALUE($A205),WEEKLY_DATA!$A:$H,6,0)=0,\"No Sales\",Q205/(VLOOKUP(VALUE($A205),WEEKLY_DATA!$A:$H,6,0)/13))),\"\")","v":""},{"$f":"IFERROR(VLOOKUP(VALUE(A205),WEEKLY_DATA!$A:$H,8,0),0)","v":0},"—",null,null,null,null,null,null,"—",null,null,null,"—","—",null,{"$f":"IFERROR(LOOKUP(2, 1/SEARCH({\"Black\",\"White\",\"Grey\",\"Blue\",\"Silver\",\"Brown\",\"Green\",\"Blue\",\"Purple\",\"Red\",\"Pink\",\"Yellow\",\"Gold\"}, G205), {\"Black\",\"White\",\"Grey\",\"Blue\",\"Silver\",\"Brown\",\"Green\",\"Blue\",\"Purple\",\"Red\",\"Pink\",\"Yellow\",\"Gold\"}), \"\")","v":""},{"$f":"IFERROR(LOOKUP(2, 1/SEARCH({\"8GB\",\"16GB\",\"32GB\",\"64GB\"}, G205), {\"8GB\",\"16GB\",\"32GB\",\"64GB\"}), \"\")","v":""},{"$f":"IFERROR(LOOKUP(2, 1/SEARCH({\"1TB\",\"2TB\",\"128GB\",\"512GB\",\"256GB\"}, G205), {\"1TB\",\"2TB\",\"128GB\",\"512GB\",\"256GB\"}), \"\")","v":""},null,{"$f":"IFERROR(LOOKUP(2, 1/SEARCH({\"16-Inch\",\"15-Inch\",\"15.6-Inch\",\"18-Inch\",\"15.3-Inch\",\"13-Inch\",\"13.4-Inch\",\"13.8-Inch\",\"14-Inch\",\"17-Inch\",\"45-Inch\",\"27-Inch\",\"34-Inch\",\"32-Inch\",\"21.5-Inch\"}, G205), {\"16-Inch\",\"15-Inch\",\"15.6-Inch\",\"18-Inch\",\"15.3-Inch\",\"13-Inch\",\"13.4-Inch\",\"13.8-Inch\",\"14-Inch\",\"17-Inch\",\"45-Inch\",\"27-Inch\",\"34-Inch\",\"32-Inch\",\"21.5-Inch\"}), \"\")","v":""}]
[null,null,null,null,null,null,null,{"$f":"IFERROR(INDEX(BrandList!$A$2:$A$50,MATCH(TRUE,ISNUMBER(SEARCH(BrandList!$A$2:$A$50,G206)),0)),\"\")","v":""},{"$f":"IFERROR(INDEX(BrandList!$B$2:$B$200,MATCH(TRUE,ISNUMBER(SEARCH(BrandList!$B$2:$B$200,G206)),0)),\"\")","v":""},null,null,null,null,null,null,"",{"$f":"IFERROR(VLOOKUP(VALUE(A206),WEEKLY_DATA!$A:$H,2,0),0)","v":0},{"$f":"IFERROR(VLOOKUP(VALUE(A206),WEEKLY_DATA!$A:$H,3,0),0)","v":0},{"$f":"IFERROR(VLOOKUP(VALUE(A206),WEEKLY_DATA!$A:$H,4,0),0)","v":0},{"$f":"IFERROR(VLOOKUP(VALUE(A206),WEEKLY_DATA!$A:$H,5,0),0)","v":0},{"$f":"IFERROR(VLOOKUP(VALUE(A206),WEEKLY_DATA!$A:$H,6,0),0)","v":0},{"$f":"IFERROR(VLOOKUP(VALUE(A206),WEEKLY_DATA!$A:$H,7,0),0)","v":0},{"$f":"IFERROR(IF(OR(Q206=\"\",Q206=0),\"\",IF(VLOOKUP(VALUE($A206),WEEKLY_DATA!$A:$H,6,0)=0,\"No Sales\",Q206/(VLOOKUP(VALUE($A206),WEEKLY_DATA!$A:$H,6,0)/13))),\"\")","v":""},{"$f":"IFERROR(VLOOKUP(VALUE(A206),WEEKLY_DATA!$A:$H,8,0),0)","v":0},"—",null,null,null,null,null,null,"—",null,null,null,"—","—",null,{"$f":"IFERROR(LOOKUP(2, 1/SEARCH({\"Black\",\"White\",\"Grey\",\"Blue\",\"Silver\",\"Brown\",\"Green\",\"Blue\",\"Purple\",\"Red\",\"Pink\",\"Yellow\",\"Gold\"}, G206), {\"Black\",\"White\",\"Grey\",\"Blue\",\"Silver\",\"Brown\",\"Green\",\"Blue\",\"Purple\",\"Red\",\"Pink\",\"Yellow\",\"Gold\"}), \"\")","v":""},{"$f":"IFERROR(LOOKUP(2, 1/SEARCH({\"8GB\",\"16GB\",\"32GB\",\"64GB\"}, G206), {\"8GB\",\"16GB\",\"32GB\",\"64GB\"}), \"\")","v":""},{"$f":"IFERROR(LOOKUP(2, 1/SEARCH({\"1TB\",\"2TB\",\"128GB\",\"512GB\",\"256GB\"}, G206), {\"1TB\",\"2TB\",\"128GB\",\"512GB\",\"256GB\"}), \"\")","v":""},null,{"$f":"IFERROR(LOOKUP(2, 1/SEARCH({\"16-Inch\",\"15-Inch\",\"15.6-Inch\",\"18-Inch\",\"15.3-Inch\",\"13-Inch\",\"13.4-Inch\",\"13.8-Inch\",\"14-Inch\",\"17-Inch\",\"45-Inch\",\"27-Inch\",\"34-Inch\",\"32-Inch\",\"21.5-Inch\"}, G206), {\"16-Inch\",\"15-Inch\",\"15.6-Inch\",\"18-Inch\",\"15.3-Inch\",\"13-Inch\",\"13.4-Inch\",\"13.8-Inch\",\"14-Inch\",\"17-Inch\",\"45-Inch\",\"27-Inch\",\"34-Inch\",\"32-Inch\",\"21.5-Inch\"}), \"\")","v":""}]
[null,null,null,null,null,null,null,{"$f":"IFERROR(INDEX(BrandList!$A$2:$A$50,MATCH(TRUE,ISNUMBER(SEARCH(BrandList!$A$2:$A$50,G207)),0)),\"\")","v":""},{"$f":"IFERROR(INDEX(BrandList!$B$2:$B$200,MATCH(TRUE,ISNUMBER(SEARCH(BrandList!$B$2:$B$200,G207)),0)),\"\")","v":""},null,null,null,null,null,null,"",{"$f":"IFERROR(VLOOKUP(VALUE(A207),WEEKLY_DATA!$A:$H,2,0),0)","v":0},{"$f":"IFERROR(VLOOKUP(VALUE(A207),WEEKLY_DATA!$A:$H,3,0),0)","v":0},{"$f":"IFERROR(VLOOKUP(VALUE(A207),WEEKLY_DATA!$A:$H,4,0),0)","v":0},{"$f":"IFERROR(VLOOKUP(VALUE(A207),WEEKLY_DATA!$A:$H,5,0),0)","v":0},{"$f":"IFERROR(VLOOKUP(VALUE(A207),WEEKLY_DATA!$A:$H,6,0),0)","v":0},{"$f":"IFERROR(VLOOKUP(VALUE(A207),WEEKLY_DATA!$A:$H,7,0),0)","v":0},{"$f":"IFERROR(IF(OR(Q207=\"\",Q207=0),\"\",IF(VLOOKUP(VALUE($A207),WEEKLY_DATA!$A:$H,6,0)=0,\"No Sales\",Q207/(VLOOKUP(VALUE($A207),WEEKLY_DATA!$A:$H,6,0)/13))),\"\")","v":""},{"$f":"IFERROR(VLOOKUP(VALUE(A207),WEEKLY_DATA!$A:$H,8,0),0)","v":0},"—",null,null,null,null,null,null,"—",null,null,null,"—","—",null,{"$f":"IFERROR(LOOKUP(2, 1/SEARCH({\"Black\",\"White\",\"Grey\",\"Blue\",\"Silver\",\"Brown\",\"Green\",\"Blue\",\"Purple\",\"Red\",\"Pink\",\"Yellow\",\"Gold\"}, G207), {\"Black\",\"White\",\"Grey\",\"Blue\",\"Silver\",\"Brown\",\"Green\",\"Blue\",\"Purple\",\"Red\",\"Pink\",\"Yellow\",\"Gold\"}), \"\")","v":""},{"$f":"IFERROR(LOOKUP(2, 1/SEARCH({\"8GB\",\"16GB\",\"32GB\",\"64GB\"}, G207), {\"8GB\",\"16GB\",\"32GB\",\"64GB\"}), \"\")","v":""},{"$f":"IFERROR(LOOKUP(2, 1/SEARCH({\"1TB\",\"2TB\",\"128GB\",\"512GB\",\"256GB\"}, G207), {\"1TB\",\"2TB\",\"128GB\",\"512GB\",\"256GB\"}), \"\")","v":""},null,{"$f":"IFERROR(LOOKUP(2, 1/SEARCH({\"16-Inch\",\"15-Inch\",\"15.6-Inch\",\"18-Inch\",\"15.3-Inch\",\"13-Inch\",\"13.4-Inch\",\"13.8-Inch\",\"14-Inch\",\"17-Inch\",\"45-Inch\",\"27-Inch\",\"34-Inch\",\"32-Inch\",\"21.5-Inch\"}, G207), {\"16-Inch\",\"15-Inch\",\"15.6-Inch\",\"18-Inch\",\"15.3-Inch\",\"13-Inch\",\"13.4-Inch\",\"13.8-Inch\",\"14-Inch\",\"17-Inch\",\"45-Inch\",\"27-Inch\",\"34-Inch\",\"32-Inch\",\"21.5-Inch\"}), \"\")","v":""}]
[null,null,null,null,null,null,null,{"$f":"IFERROR(INDEX(BrandList!$A$2:$A$50,MATCH(TRUE,ISNUMBER(SEARCH(BrandList!$A$2:$A$50,G208)),0)),\"\")","v":""},{"$f":"IFERROR(INDEX(BrandList!$B$2:$B$200,MATCH(TRUE,ISNUMBER(SEARCH(BrandList!$B$2:$B$200,G208)),0)),\"\")","v":""},null,null,null,null,null,null,"",{"$f":"IFERROR(VLOOKUP(VALUE(A208),WEEKLY_DATA!$A:$H,2,0),0)","v":0},{"$f":"IFERROR(VLOOKUP(VALUE(A208),WEEKLY_DATA!$A:$H,3,0),0)","v":0},{"$f":"IFERROR(VLOOKUP(VALUE(A208),WEEKLY_DATA!$A:$H,4,0),0)","v":0},{"$f":"IFERROR(VLOOKUP(VALUE(A208),WEEKLY_DATA!$A:$H,5,0),0)","v":0},{"$f":"IFERROR(VLOOKUP(VALUE(A208),WEEKLY_DATA!$A:$H,6,0),0)","v":0},{"$f":"IFERROR(VLOOKUP(VALUE(A208),WEEKLY_DATA!$A:$H,7,0),0)","v":0},{"$f":"IFERROR(IF(OR(Q208=\"\",Q208=0),\"\",IF(VLOOKUP(VALUE($A208),WEEKLY_DATA!$A:$H,6,0)=0,\"No Sales\",Q208/(VLOOKUP(VALUE($A208),WEEKLY_DATA!$A:$H,6,0)/13))),\"\")","v":""},{"$f":"IFERROR(VLOOKUP(VALUE(A208),WEEKLY_DATA!$A:$H,8,0),0)","v":0},"—",null,null,null,null,null,null,"—",null,null,null,"—","—",null,{"$f":"IFERROR(LOOKUP(2, 1/SEARCH({\"Black\",\"White\",\"Grey\",\"Blue\",\"Silver\",\"Brown\",\"Green\",\"Blue\",\"Purple\",\"Red\",\"Pink\",\"Yellow\",\"Gold\"}, G208), {\"Black\",\"White\",\"Grey\",\"Blue\",\"Silver\",\"Brown\",\"Green\",\"Blue\",\"Purple\",\"Red\",\"Pink\",\"Yellow\",\"Gold\"}), \"\")","v":""},{"$f":"IFERROR(LOOKUP(2, 1/SEARCH({\"8GB\",\"16GB\",\"32GB\",\"64GB\"}, G208), {\"8GB\",\"16GB\",\"32GB\",\"64GB\"}), \"\")","v":""},{"$f":"IFERROR(LOOKUP(2, 1/SEARCH({\"1TB\",\"2TB\",\"128GB\",\"512GB\",\"256GB\"}, G208), {\"1TB\",\"2TB\",\"128GB\",\"512GB\",\"256GB\"}), \"\")","v":""},null,{"$f":"IFERROR(LOOKUP(2, 1/SEARCH({\"16-Inch\",\"15-Inch\",\"15.6-Inch\",\"18-Inch\",\"15.3-Inch\",\"13-Inch\",\"13.4-Inch\",\"13.8-Inch\",\"14-Inch\",\"17-Inch\",\"45-Inch\",\"27-Inch\",\"34-Inch\",\"32-Inch\",\"21.5-Inch\"}, G208), {\"16-Inch\",\"15-Inch\",\"15.6-Inch\",\"18-Inch\",\"15.3-Inch\",\"13-Inch\",\"13.4-Inch\",\"13.8-Inch\",\"14-Inch\",\"17-Inch\",\"45-Inch\",\"27-Inch\",\"34-Inch\",\"32-Inch\",\"21.5-Inch\"}), \"\")","v":""}]
[null,null,null,null,null,null,null,{"$f":"IFERROR(INDEX(BrandList!$A$2:$A$50,MATCH(TRUE,ISNUMBER(SEARCH(BrandList!$A$2:$A$50,G209)),0)),\"\")","v":""},{"$f":"IFERROR(INDEX(BrandList!$B$2:$B$200,MATCH(TRUE,ISNUMBER(SEARCH(BrandList!$B$2:$B$200,G209)),0)),\"\")","v":""},null,null,null,null,null,null,"",{"$f":"IFERROR(VLOOKUP(VALUE(A209),WEEKLY_DATA!$A:$H,2,0),0)","v":0},{"$f":"IFERROR(VLOOKUP(VALUE(A209),WEEKLY_DATA!$A:$H,3,0),0)","v":0},{"$f":"IFERROR(VLOOKUP(VALUE(A209),WEEKLY_DATA!$A:$H,4,0),0)","v":0},{"$f":"IFERROR(VLOOKUP(VALUE(A209),WEEKLY_DATA!$A:$H,5,0),0)","v":0},{"$f":"IFERROR(VLOOKUP(VALUE(A209),WEEKLY_DATA!$A:$H,6,0),0)","v":0},{"$f":"IFERROR(VLOOKUP(VALUE(A209),WEEKLY_DATA!$A:$H,7,0),0)","v":0},{"$f":"IFERROR(IF(OR(Q209=\"\",Q209=0),\"\",IF(VLOOKUP(VALUE($A209),WEEKLY_DATA!$A:$H,6,0)=0,\"No Sales\",Q209/(VLOOKUP(VALUE($A209),WEEKLY_DATA!$A:$H,6,0)/13))),\"\")","v":""},{"$f":"IFERROR(VLOOKUP(VALUE(A209),WEEKLY_DATA!$A:$H,8,0),0)","v":0},"—",null,null,null,null,null,null,"—",null,null,null,"—","—",null,{"$f":"IFERROR(LOOKUP(2, 1/SEARCH({\"Black\",\"White\",\"Grey\",\"Blue\",\"Silver\",\"Brown\",\"Green\",\"Blue\",\"Purple\",\"Red\",\"Pink\",\"Yellow\",\"Gold\"}, G209), {\"Black\",\"White\",\"Grey\",\"Blue\",\"Silver\",\"Brown\",\"Green\",\"Blue\",\"Purple\",\"Red\",\"Pink\",\"Yellow\",\"Gold\"}), \"\")","v":""},{"$f":"IFERROR(LOOKUP(2, 1/SEARCH({\"8GB\",\"16GB\",\"32GB\",\"64GB\"}, G209), {\"8GB\",\"16GB\",\"32GB\",\"64GB\"}), \"\")","v":""},{"$f":"IFERROR(LOOKUP(2, 1/SEARCH({\"1TB\",\"2TB\",\"128GB\",\"512GB\",\"256GB\"}, G209), {\"1TB\",\"2TB\",\"128GB\",\"512GB\",\"256GB\"}), \"\")","v":""},null,{"$f":"IFERROR(LOOKUP(2, 1/SEARCH({\"16-Inch\",\"15-Inch\",\"15.6-Inch\",\"18-Inch\",\"15.3-Inch\",\"13-Inch\",\"13.4-Inch\",\"13.8-Inch\",\"14-Inch\",\"17-Inch\",\"45-Inch\",\"27-Inch\",\"34-Inch\",\"32-Inch\",\"21.5-Inch\"}, G209), {\"16-Inch\",\"15-Inch\",\"15.6-Inch\",\"18-Inch\",\"15.3-Inch\",\"13-Inch\",\"13.4-Inch\",\"13.8-Inch\",\"14-Inch\",\"17-Inch\",\"45-Inch\",\"27-Inch\",\"34-Inch\",\"32-Inch\",\"21.5-Inch\"}), \"\")","v":""}]
[null,null,null,null,null,null,null,{"$f":"IFERROR(INDEX(BrandList!$A$2:$A$50,MATCH(TRUE,ISNUMBER(SEARCH(BrandList!$A$2:$A$50,G210)),0)),\"\")","v":""},{"$f":"IFERROR(INDEX(BrandList!$B$2:$B$200,MATCH(TRUE,ISNUMBER(SEARCH(BrandList!$B$2:$B$200,G210)),0)),\"\")","v":""},null,null,null,null,null,null,"",{"$f":"IFERROR(VLOOKUP(VALUE(A210),WEEKLY_DATA!$A:$H,2,0),0)","v":0},{"$f":"IFERROR(VLOOKUP(VALUE(A210),WEEKLY_DATA!$A:$H,3,0),0)","v":0},{"$f":"IFERROR(VLOOKUP(VALUE(A210),WEEKLY_DATA!$A:$H,4,0),0)","v":0},{"$f":"IFERROR(VLOOKUP(VALUE(A210),WEEKLY_DATA!$A:$H,5,0),0)","v":0},{"$f":"IFERROR(VLOOKUP(VALUE(A210),WEEKLY_DATA!$A:$H,6,0),0)","v":0},{"$f":"IFERROR(VLOOKUP(VALUE(A210),WEEKLY_DATA!$A:$H,7,0),0)","v":0},{"$f":"IFERROR(IF(OR(Q210=\"\",Q210=0),\"\",IF(VLOOKUP(VALUE($A210),WEEKLY_DATA!$A:$H,6,0)=0,\"No Sales\",Q210/(VLOOKUP(VALUE($A210),WEEKLY_DATA!$A:$H,6,0)/13))),\"\")","v":""},{"$f":"IFERROR(VLOOKUP(VALUE(A210),WEEKLY_DATA!$A:$H,8,0),0)","v":0},"—",null,null,null,null,null,null,"—",null,null,null,"—","—",null,{"$f":"IFERROR(LOOKUP(2, 1/SEARCH({\"Black\",\"White\",\"Grey\",\"Blue\",\"Silver\",\"Brown\",\"Green\",\"Blue\",\"Purple\",\"Red\",\"Pink\",\"Yellow\",\"Gold\"}, G210), {\"Black\",\"White\",\"Grey\",\"Blue\",\"Silver\",\"Brown\",\"Green\",\"Blue\",\"Purple\",\"Red\",\"Pink\",\"Yellow\",\"Gold\"}), \"\")","v":""},{"$f":"IFERROR(LOOKUP(2, 1/SEARCH({\"8GB\",\"16GB\",\"32GB\",\"64GB\"}, G210), {\"8GB\",\"16GB\",\"32GB\",\"64GB\"}), \"\")","v":""},{"$f":"IFERROR(LOOKUP(2, 1/SEARCH({\"1TB\",\"2TB\",\"128GB\",\"512GB\",\"256GB\"}, G210), {\"1TB\",\"2TB\",\"128GB\",\"512GB\",\"256GB\"}), \"\")","v":""},null,{"$f":"IFERROR(LOOKUP(2, 1/SEARCH({\"16-Inch\",\"15-Inch\",\"15.6-Inch\",\"18-Inch\",\"15.3-Inch\",\"13-Inch\",\"13.4-Inch\",\"13.8-Inch\",\"14-Inch\",\"17-Inch\",\"45-Inch\",\"27-Inch\",\"34-Inch\",\"32-Inch\",\"21.5-Inch\"}, G210), {\"16-Inch\",\"15-Inch\",\"15.6-Inch\",\"18-Inch\",\"15.3-Inch\",\"13-Inch\",\"13.4-Inch\",\"13.8-Inch\",\"14-Inch\",\"17-Inch\",\"45-Inch\",\"27-Inch\",\"34-Inch\",\"32-Inch\",\"21.5-Inch\"}), \"\")","v":""}]
[null,null,null,null,null,null,null,{"$f":"IFERROR(INDEX(BrandList!$A$2:$A$50,MATCH(TRUE,ISNUMBER(SEARCH(BrandList!$A$2:$A$50,G211)),0)),\"\")","v":""},{"$f":"IFERROR(INDEX(BrandList!$B$2:$B$200,MATCH(TRUE,ISNUMBER(SEARCH(BrandList!$B$2:$B$200,G211)),0)),\"\")","v":""},null,null,null,null,null,null,"",{"$f":"IFERROR(VLOOKUP(VALUE(A211),WEEKLY_DATA!$A:$H,2,0),0)","v":0},{"$f":"IFERROR(VLOOKUP(VALUE(A211),WEEKLY_DATA!$A:$H,3,0),0)","v":0},{"$f":"IFERROR(VLOOKUP(VALUE(A211),WEEKLY_DATA!$A:$H,4,0),0)","v":0},{"$f":"IFERROR(VLOOKUP(VALUE(A211),WEEKLY_DATA!$A:$H,5,0),0)","v":0},{"$f":"IFERROR(VLOOKUP(VALUE(A211),WEEKLY_DATA!$A:$H,6,0),0)","v":0},{"$f":"IFERROR(VLOOKUP(VALUE(A211),WEEKLY_DATA!$A:$H,7,0),0)","v":0},{"$f":"IFERROR(IF(OR(Q211=\"\",Q211=0),\"\",IF(VLOOKUP(VALUE($A211),WEEKLY_DATA!$A:$H,6,0)=0,\"No Sales\",Q211/(VLOOKUP(VALUE($A211),WEEKLY_DATA!$A:$H,6,0)/13))),\"\")","v":""},{"$f":"IFERROR(VLOOKUP(VALUE(A211),WEEKLY_DATA!$A:$H,8,0),0)","v":0},"—",null,null,null,null,null,null,"—",null,null,null,"—","—",null,{"$f":"IFERROR(LOOKUP(2, 1/SEARCH({\"Black\",\"White\",\"Grey\",\"Blue\",\"Silver\",\"Brown\",\"Green\",\"Blue\",\"Purple\",\"Red\",\"Pink\",\"Yellow\",\"Gold\"}, G211), {\"Black\",\"White\",\"Grey\",\"Blue\",\"Silver\",\"Brown\",\"Green\",\"Blue\",\"Purple\",\"Red\",\"Pink\",\"Yellow\",\"Gold\"}), \"\")","v":""},{"$f":"IFERROR(LOOKUP(2, 1/SEARCH({\"8GB\",\"16GB\",\"32GB\",\"64GB\"}, G211), {\"8GB\",\"16GB\",\"32GB\",\"64GB\"}), \"\")","v":""},{"$f":"IFERROR(LOOKUP(2, 1/SEARCH({\"1TB\",\"2TB\",\"128GB\",\"512GB\",\"256GB\"}, G211), {\"1TB\",\"2TB\",\"128GB\",\"512GB\",\"256GB\"}), \"\")","v":""},null,{"$f":"IFERROR(LOOKUP(2, 1/SEARCH({\"16-Inch\",\"15-Inch\",\"15.6-Inch\",\"18-Inch\",\"15.3-Inch\",\"13-Inch\",\"13.4-Inch\",\"13.8-Inch\",\"14-Inch\",\"17-Inch\",\"45-Inch\",\"27-Inch\",\"34-Inch\",\"32-Inch\",\"21.5-Inch\"}, G211), {\"16-Inch\",\"15-Inch\",\"15.6-Inch\",\"18-Inch\",\"15.3-Inch\",\"13-Inch\",\"13.4-Inch\",\"13.8-Inch\",\"14-Inch\",\"17-Inch\",\"45-Inch\",\"27-Inch\",\"34-Inch\",\"32-Inch\",\"21.5-Inch\"}), \"\")","v":""}]
[null,null,null,null,null,null,null,{"$f":"IFERROR(INDEX(BrandList!$A$2:$A$50,MATCH(TRUE,ISNUMBER(SEARCH(BrandList!$A$2:$A$50,G212)),0)),\"\")","v":""},{"$f":"IFERROR(INDEX(BrandList!$B$2:$B$200,MATCH(TRUE,ISNUMBER(SEARCH(BrandList!$B$2:$B$200,G212)),0)),\"\")","v":""},null,null,null,null,null,null,"",{"$f":"IFERROR(VLOOKUP(VALUE(A212),WEEKLY_DATA!$A:$H,2,0),0)","v":0},{"$f":"IFERROR(VLOOKUP(VALUE(A212),WEEKLY_DATA!$A:$H,3,0),0)","v":0},{"$f":"IFERROR(VLOOKUP(VALUE(A212),WEEKLY_DATA!$A:$H,4,0),0)","v":0},{"$f":"IFERROR(VLOOKUP(VALUE(A212),WEEKLY_DATA!$A:$H,5,0),0)","v":0},{"$f":"IFERROR(VLOOKUP(VALUE(A212),WEEKLY_DATA!$A:$H,6,0),0)","v":0},{"$f":"IFERROR(VLOOKUP(VALUE(A212),WEEKLY_DATA!$A:$H,7,0),0)","v":0},{"$f":"IFERROR(IF(OR(Q212=\"\",Q212=0),\"\",IF(VLOOKUP(VALUE($A212),WEEKLY_DATA!$A:$H,6,0)=0,\"No Sales\",Q212/(VLOOKUP(VALUE($A212),WEEKLY_DATA!$A:$H,6,0)/13))),\"\")","v":""},{"$f":"IFERROR(VLOOKUP(VALUE(A212),WEEKLY_DATA!$A:$H,8,0),0)","v":0},"—",null,null,null,null,null,null,"—",null,null,null,"—","—",null,{"$f":"IFERROR(LOOKUP(2, 1/SEARCH({\"Black\",\"White\",\"Grey\",\"Blue\",\"Silver\",\"Brown\",\"Green\",\"Blue\",\"Purple\",\"Red\",\"Pink\",\"Yellow\",\"Gold\"}, G212), {\"Black\",\"White\",\"Grey\",\"Blue\",\"Silver\",\"Brown\",\"Green\",\"Blue\",\"Purple\",\"Red\",\"Pink\",\"Yellow\",\"Gold\"}), \"\")","v":""},{"$f":"IFERROR(LOOKUP(2, 1/SEARCH({\"8GB\",\"16GB\",\"32GB\",\"64GB\"}, G212), {\"8GB\",\"16GB\",\"32GB\",\"64GB\"}), \"\")","v":""},{"$f":"IFERROR(LOOKUP(2, 1/SEARCH({\"1TB\",\"2TB\",\"128GB\",\"512GB\",\"256GB\"}, G212), {\"1TB\",\"2TB\",\"128GB\",\"512GB\",\"256GB\"}), \"\")","v":""},null,{"$f":"IFERROR(LOOKUP(2, 1/SEARCH({\"16-Inch\",\"15-Inch\",\"15.6-Inch\",\"18-Inch\",\"15.3-Inch\",\"13-Inch\",\"13.4-Inch\",\"13.8-Inch\",\"14-Inch\",\"17-Inch\",\"45-Inch\",\"27-Inch\",\"34-Inch\",\"32-Inch\",\"21.5-Inch\"}, G212), {\"16-Inch\",\"15-Inch\",\"15.6-Inch\",\"18-Inch\",\"15.3-Inch\",\"13-Inch\",\"13.4-Inch\",\"13.8-Inch\",\"14-Inch\",\"17-Inch\",\"45-Inch\",\"27-Inch\",\"34-Inch\",\"32-Inch\",\"21.5-Inch\"}), \"\")","v":""}]
[null,null,null,null,null,null,null,{"$f":"IFERROR(INDEX(BrandList!$A$2:$A$50,MATCH(TRUE,ISNUMBER(SEARCH(BrandList!$A$2:$A$50,G213)),0)),\"\")","v":""},{"$f":"IFERROR(INDEX(BrandList!$B$2:$B$200,MATCH(TRUE,ISNUMBER(SEARCH(BrandList!$B$2:$B$200,G213)),0)),\"\")","v":""},null,null,null,null,null,null,"",{"$f":"IFERROR(VLOOKUP(VALUE(A213),WEEKLY_DATA!$A:$H,2,0),0)","v":0},{"$f":"IFERROR(VLOOKUP(VALUE(A213),WEEKLY_DATA!$A:$H,3,0),0)","v":0},{"$f":"IFERROR(VLOOKUP(VALUE(A213),WEEKLY_DATA!$A:$H,4,0),0)","v":0},{"$f":"IFERROR(VLOOKUP(VALUE(A213),WEEKLY_DATA!$A:$H,5,0),0)","v":0},{"$f":"IFERROR(VLOOKUP(VALUE(A213),WEEKLY_DATA!$A:$H,6,0),0)","v":0},{"$f":"IFERROR(VLOOKUP(VALUE(A213),WEEKLY_DATA!$A:$H,7,0),0)","v":0},{"$f":"IFERROR(IF(OR(Q213=\"\",Q213=0),\"\",IF(VLOOKUP(VALUE($A213),WEEKLY_DATA!$A:$H,6,0)=0,\"No Sales\",Q213/(VLOOKUP(VALUE($A213),WEEKLY_DATA!$A:$H,6,0)/13))),\"\")","v":""},{"$f":"IFERROR(VLOOKUP(VALUE(A213),WEEKLY_DATA!$A:$H,8,0),0)","v":0},"—",null,null,null,null,null,null,"—",null,null,null,"—","—",null,{"$f":"IFERROR(LOOKUP(2, 1/SEARCH({\"Black\",\"White\",\"Grey\",\"Blue\",\"Silver\",\"Brown\",\"Green\",\"Blue\",\"Purple\",\"Red\",\"Pink\",\"Yellow\",\"Gold\"}, G213), {\"Black\",\"White\",\"Grey\",\"Blue\",\"Silver\",\"Brown\",\"Green\",\"Blue\",\"Purple\",\"Red\",\"Pink\",\"Yellow\",\"Gold\"}), \"\")","v":""},{"$f":"IFERROR(LOOKUP(2, 1/SEARCH({\"8GB\",\"16GB\",\"32GB\",\"64GB\"}, G213), {\"8GB\",\"16GB\",\"32GB\",\"64GB\"}), \"\")","v":""},{"$f":"IFERROR(LOOKUP(2, 1/SEARCH({\"1TB\",\"2TB\",\"128GB\",\"512GB\",\"256GB\"}, G213), {\"1TB\",\"2TB\",\"128GB\",\"512GB\",\"256GB\"}), \"\")","v":""},null,{"$f":"IFERROR(LOOKUP(2, 1/SEARCH({\"16-Inch\",\"15-Inch\",\"15.6-Inch\",\"18-Inch\",\"15.3-Inch\",\"13-Inch\",\"13.4-Inch\",\"13.8-Inch\",\"14-Inch\",\"17-Inch\",\"45-Inch\",\"27-Inch\",\"34-Inch\",\"32-Inch\",\"21.5-Inch\"}, G213), {\"16-Inch\",\"15-Inch\",\"15.6-Inch\",\"18-Inch\",\"15.3-Inch\",\"13-Inch\",\"13.4-Inch\",\"13.8-Inch\",\"14-Inch\",\"17-Inch\",\"45-Inch\",\"27-Inch\",\"34-Inch\",\"32-Inch\",\"21.5-Inch\"}), \"\")","v":""}]
[null,null,null,null,null,null,null,{"$f":"IFERROR(INDEX(BrandList!$A$2:$A$50,MATCH(TRUE,ISNUMBER(SEARCH(BrandList!$A$2:$A$50,G214)),0)),\"\")","v":""},{"$f":"IFERROR(INDEX(BrandList!$B$2:$B$200,MATCH(TRUE,ISNUMBER(SEARCH(BrandList!$B$2:$B$200,G214)),0)),\"\")","v":""},null,null,null,null,null,null,"",{"$f":"IFERROR(VLOOKUP(VALUE(A214),WEEKLY_DATA!$A:$H,2,0),0)","v":0},{"$f":"IFERROR(VLOOKUP(VALUE(A214),WEEKLY_DATA!$A:$H,3,0),0)","v":0},{"$f":"IFERROR(VLOOKUP(VALUE(A214),WEEKLY_DATA!$A:$H,4,0),0)","v":0},{"$f":"IFERROR(VLOOKUP(VALUE(A214),WEEKLY_DATA!$A:$H,5,0),0)","v":0},{"$f":"IFERROR(VLOOKUP(VALUE(A214),WEEKLY_DATA!$A:$H,6,0),0)","v":0},{"$f":"IFERROR(VLOOKUP(VALUE(A214),WEEKLY_DATA!$A:$H,7,0),0)","v":0},{"$f":"IFERROR(IF(OR(Q214=\"\",Q214=0),\"\",IF(VLOOKUP(VALUE($A214),WEEKLY_DATA!$A:$H,6,0)=0,\"No Sales\",Q214/(VLOOKUP(VALUE($A214),WEEKLY_DATA!$A:$H,6,0)/13))),\"\")","v":""},{"$f":"IFERROR(VLOOKUP(VALUE(A214),WEEKLY_DATA!$A:$H,8,0),0)","v":0},"—",null,null,null,null,null,null,"—",null,null,null,"—","—",null,{"$f":"IFERROR(LOOKUP(2, 1/SEARCH({\"Black\",\"White\",\"Grey\",\"Blue\",\"Silver\",\"Brown\",\"Green\",\"Blue\",\"Purple\",\"Red\",\"Pink\",\"Yellow\",\"Gold\"}, G214), {\"Black\",\"White\",\"Grey\",\"Blue\",\"Silver\",\"Brown\",\"Green\",\"Blue\",\"Purple\",\"Red\",\"Pink\",\"Yellow\",\"Gold\"}), \"\")","v":""},{"$f":"IFERROR(LOOKUP(2, 1/SEARCH({\"8GB\",\"16GB\",\"32GB\",\"64GB\"}, G214), {\"8GB\",\"16GB\",\"32GB\",\"64GB\"}), \"\")","v":""},{"$f":"IFERROR(LOOKUP(2, 1/SEARCH({\"1TB\",\"2TB\",\"128GB\",\"512GB\",\"256GB\"}, G214), {\"1TB\",\"2TB\",\"128GB\",\"512GB\",\"256GB\"}), \"\")","v":""},null,{"$f":"IFERROR(LOOKUP(2, 1/SEARCH({\"16-Inch\",\"15-Inch\",\"15.6-Inch\",\"18-Inch\",\"15.3-Inch\",\"13-Inch\",\"13.4-Inch\",\"13.8-Inch\",\"14-Inch\",\"17-Inch\",\"45-Inch\",\"27-Inch\",\"34-Inch\",\"32-Inch\",\"21.5-Inch\"}, G214), {\"16-Inch\",\"15-Inch\",\"15.6-Inch\",\"18-Inch\",\"15.3-Inch\",\"13-Inch\",\"13.4-Inch\",\"13.8-Inch\",\"14-Inch\",\"17-Inch\",\"45-Inch\",\"27-Inch\",\"34-Inch\",\"32-Inch\",\"21.5-Inch\"}), \"\")","v":""}]
[null,null,null,null,null,null,null,{"$f":"IFERROR(INDEX(BrandList!$A$2:$A$50,MATCH(TRUE,ISNUMBER(SEARCH(BrandList!$A$2:$A$50,G215)),0)),\"\")","v":""},{"$f":"IFERROR(INDEX(BrandList!$B$2:$B$200,MATCH(TRUE,ISNUMBER(SEARCH(BrandList!$B$2:$B$200,G215)),0)),\"\")","v":""},null,null,null,null,null,null,"",{"$f":"IFERROR(VLOOKUP(VALUE(A215),WEEKLY_DATA!$A:$H,2,0),0)","v":0},{"$f":"IFERROR(VLOOKUP(VALUE(A215),WEEKLY_DATA!$A:$H,3,0),0)","v":0},{"$f":"IFERROR(VLOOKUP(VALUE(A215),WEEKLY_DATA!$A:$H,4,0),0)","v":0},{"$f":"IFERROR(VLOOKUP(VALUE(A215),WEEKLY_DATA!$A:$H,5,0),0)","v":0},{"$f":"IFERROR(VLOOKUP(VALUE(A215),WEEKLY_DATA!$A:$H,6,0),0)","v":0},{"$f":"IFERROR(VLOOKUP(VALUE(A215),WEEKLY_DATA!$A:$H,7,0),0)","v":0},{"$f":"IFERROR(IF(OR(Q215=\"\",Q215=0),\"\",IF(VLOOKUP(VALUE($A215),WEEKLY_DATA!$A:$H,6,0)=0,\"No Sales\",Q215/(VLOOKUP(VALUE($A215),WEEKLY_DATA!$A:$H,6,0)/13))),\"\")","v":""},{"$f":"IFERROR(VLOOKUP(VALUE(A215),WEEKLY_DATA!$A:$H,8,0),0)","v":0},"—",null,null,null,null,null,null,"—",null,null,null,"—","—",null,{"$f":"IFERROR(LOOKUP(2, 1/SEARCH({\"Black\",\"White\",\"Grey\",\"Blue\",\"Silver\",\"Brown\",\"Green\",\"Blue\",\"Purple\",\"Red\",\"Pink\",\"Yellow\",\"Gold\"}, G215), {\"Black\",\"White\",\"Grey\",\"Blue\",\"Silver\",\"Brown\",\"Green\",\"Blue\",\"Purple\",\"Red\",\"Pink\",\"Yellow\",\"Gold\"}), \"\")","v":""},{"$f":"IFERROR(LOOKUP(2, 1/SEARCH({\"8GB\",\"16GB\",\"32GB\",\"64GB\"}, G215), {\"8GB\",\"16GB\",\"32GB\",\"64GB\"}), \"\")","v":""},{"$f":"IFERROR(LOOKUP(2, 1/SEARCH({\"1TB\",\"2TB\",\"128GB\",\"512GB\",\"256GB\"}, G215), {\"1TB\",\"2TB\",\"128GB\",\"512GB\",\"256GB\"}), \"\")","v":""},null,{"$f":"IFERROR(LOOKUP(2, 1/SEARCH({\"16-Inch\",\"15-Inch\",\"15.6-Inch\",\"18-Inch\",\"15.3-Inch\",\"13-Inch\",\"13.4-Inch\",\"13.8-Inch\",\"14-Inch\",\"17-Inch\",\"45-Inch\",\"27-Inch\",\"34-Inch\",\"32-Inch\",\"21.5-Inch\"}, G215), {\"16-Inch\",\"15-Inch\",\"15.6-Inch\",\"18-Inch\",\"15.3-Inch\",\"13-Inch\",\"13.4-Inch\",\"13.8-Inch\",\"14-Inch\",\"17-Inch\",\"45-Inch\",\"27-Inch\",\"34-Inch\",\"32-Inch\",\"21.5-Inch\"}), \"\")","v":""}]
[null,null,null,null,null,null,null,{"$f":"IFERROR(INDEX(BrandList!$A$2:$A$50,MATCH(TRUE,ISNUMBER(SEARCH(BrandList!$A$2:$A$50,G216)),0)),\"\")","v":""},{"$f":"IFERROR(INDEX(BrandList!$B$2:$B$200,MATCH(TRUE,ISNUMBER(SEARCH(BrandList!$B$2:$B$200,G216)),0)),\"\")","v":""},null,null,null,null,null,null,"",{"$f":"IFERROR(VLOOKUP(VALUE(A216),WEEKLY_DATA!$A:$H,2,0),0)","v":0},{"$f":"IFERROR(VLOOKUP(VALUE(A216),WEEKLY_DATA!$A:$H,3,0),0)","v":0},{"$f":"IFERROR(VLOOKUP(VALUE(A216),WEEKLY_DATA!$A:$H,4,0),0)","v":0},{"$f":"IFERROR(VLOOKUP(VALUE(A216),WEEKLY_DATA!$A:$H,5,0),0)","v":0},{"$f":"IFERROR(VLOOKUP(VALUE(A216),WEEKLY_DATA!$A:$H,6,0),0)","v":0},{"$f":"IFERROR(VLOOKUP(VALUE(A216),WEEKLY_DATA!$A:$H,7,0),0)","v":0},{"$f":"IFERROR(IF(OR(Q216=\"\",Q216=0),\"\",IF(VLOOKUP(VALUE($A216),WEEKLY_DATA!$A:$H,6,0)=0,\"No Sales\",Q216/(VLOOKUP(VALUE($A216),WEEKLY_DATA!$A:$H,6,0)/13))),\"\")","v":""},{"$f":"IFERROR(VLOOKUP(VALUE(A216),WEEKLY_DATA!$A:$H,8,0),0)","v":0},"—",null,null,null,null,null,null,null,null,null,null,null,null,null,{"$f":"IFERROR(LOOKUP(2, 1/SEARCH({\"Black\",\"White\",\"Grey\",\"Blue\",\"Silver\",\"Brown\",\"Green\",\"Blue\",\"Purple\",\"Red\",\"Pink\",\"Yellow\",\"Gold\"}, G216), {\"Black\",\"White\",\"Grey\",\"Blue\",\"Silver\",\"Brown\",\"Green\",\"Blue\",\"Purple\",\"Red\",\"Pink\",\"Yellow\",\"Gold\"}), \"\")","v":""},{"$f":"IFERROR(LOOKUP(2, 1/SEARCH({\"8GB\",\"16GB\",\"32GB\",\"64GB\"}, G216), {\"8GB\",\"16GB\",\"32GB\",\"64GB\"}), \"\")","v":""},{"$f":"IFERROR(LOOKUP(2, 1/SEARCH({\"1TB\",\"2TB\",\"128GB\",\"512GB\",\"256GB\"}, G216), {\"1TB\",\"2TB\",\"128GB\",\"512GB\",\"256GB\"}), \"\")","v":""},null,{"$f":"IFERROR(LOOKUP(2, 1/SEARCH({\"16-Inch\",\"15-Inch\",\"15.6-Inch\",\"18-Inch\",\"15.3-Inch\",\"13-Inch\",\"13.4-Inch\",\"13.8-Inch\",\"14-Inch\",\"17-Inch\",\"45-Inch\",\"27-Inch\",\"34-Inch\",\"32-Inch\",\"21.5-Inch\"}, G216), {\"16-Inch\",\"15-Inch\",\"15.6-Inch\",\"18-Inch\",\"15.3-Inch\",\"13-Inch\",\"13.4-Inch\",\"13.8-Inch\",\"14-Inch\",\"17-Inch\",\"45-Inch\",\"27-Inch\",\"34-Inch\",\"32-Inch\",\"21.5-Inch\"}), \"\")","v":""}]
[null,null,null,null,null,null,null,{"$f":"IFERROR(INDEX(BrandList!$A$2:$A$50,MATCH(TRUE,ISNUMBER(SEARCH(BrandList!$A$2:$A$50,G217)),0)),\"\")","v":""},{"$f":"IFERROR(INDEX(BrandList!$B$2:$B$200,MATCH(TRUE,ISNUMBER(SEARCH(BrandList!$B$2:$B$200,G217)),0)),\"\")","v":""},null,null,null,null,null,null,"",{"$f":"IFERROR(VLOOKUP(VALUE(A217),WEEKLY_DATA!$A:$H,2,0),0)","v":0},{"$f":"IFERROR(VLOOKUP(VALUE(A217),WEEKLY_DATA!$A:$H,3,0),0)","v":0},{"$f":"IFERROR(VLOOKUP(VALUE(A217),WEEKLY_DATA!$A:$H,4,0),0)","v":0},{"$f":"IFERROR(VLOOKUP(VALUE(A217),WEEKLY_DATA!$A:$H,5,0),0)","v":0},{"$f":"IFERROR(VLOOKUP(VALUE(A217),WEEKLY_DATA!$A:$H,6,0),0)","v":0},{"$f":"IFERROR(VLOOKUP(VALUE(A217),WEEKLY_DATA!$A:$H,7,0),0)","v":0},{"$f":"IFERROR(IF(OR(Q217=\"\",Q217=0),\"\",IF(VLOOKUP(VALUE($A217),WEEKLY_DATA!$A:$H,6,0)=0,\"No Sales\",Q217/(VLOOKUP(VALUE($A217),WEEKLY_DATA!$A:$H,6,0)/13))),\"\")","v":""},{"$f":"IFERROR(VLOOKUP(VALUE(A217),WEEKLY_DATA!$A:$H,8,0),0)","v":0},"—",null,null,null,null,null,null,"—",null,null,null,"—","—",null,{"$f":"IFERROR(LOOKUP(2, 1/SEARCH({\"Black\",\"White\",\"Grey\",\"Blue\",\"Silver\",\"Brown\",\"Green\",\"Blue\",\"Purple\",\"Red\",\"Pink\",\"Yellow\",\"Gold\"}, G217), {\"Black\",\"White\",\"Grey\",\"Blue\",\"Silver\",\"Brown\",\"Green\",\"Blue\",\"Purple\",\"Red\",\"Pink\",\"Yellow\",\"Gold\"}), \"\")","v":""},{"$f":"IFERROR(LOOKUP(2, 1/SEARCH({\"8GB\",\"16GB\",\"32GB\",\"64GB\"}, G217), {\"8GB\",\"16GB\",\"32GB\",\"64GB\"}), \"\")","v":""},{"$f":"IFERROR(LOOKUP(2, 1/SEARCH({\"1TB\",\"2TB\",\"128GB\",\"512GB\",\"256GB\"}, G217), {\"1TB\",\"2TB\",\"128GB\",\"512GB\",\"256GB\"}), \"\")","v":""},null,{"$f":"IFERROR(LOOKUP(2, 1/SEARCH({\"16-Inch\",\"15-Inch\",\"15.6-Inch\",\"18-Inch\",\"15.3-Inch\",\"13-Inch\",\"13.4-Inch\",\"13.8-Inch\",\"14-Inch\",\"17-Inch\",\"45-Inch\",\"27-Inch\",\"34-Inch\",\"32-Inch\",\"21.5-Inch\"}, G217), {\"16-Inch\",\"15-Inch\",\"15.6-Inch\",\"18-Inch\",\"15.3-Inch\",\"13-Inch\",\"13.4-Inch\",\"13.8-Inch\",\"14-Inch\",\"17-Inch\",\"45-Inch\",\"27-Inch\",\"34-Inch\",\"32-Inch\",\"21.5-Inch\"}), \"\")","v":""}]
[null,null,null,null,null,null,null,{"$f":"IFERROR(INDEX(BrandList!$A$2:$A$50,MATCH(TRUE,ISNUMBER(SEARCH(BrandList!$A$2:$A$50,G218)),0)),\"\")","v":""},{"$f":"IFERROR(INDEX(BrandList!$B$2:$B$200,MATCH(TRUE,ISNUMBER(SEARCH(BrandList!$B$2:$B$200,G218)),0)),\"\")","v":""},null,null,null,null,null,null,"",{"$f":"IFERROR(VLOOKUP(VALUE(A218),WEEKLY_DATA!$A:$H,2,0),0)","v":0},{"$f":"IFERROR(VLOOKUP(VALUE(A218),WEEKLY_DATA!$A:$H,3,0),0)","v":0},{"$f":"IFERROR(VLOOKUP(VALUE(A218),WEEKLY_DATA!$A:$H,4,0),0)","v":0},{"$f":"IFERROR(VLOOKUP(VALUE(A218),WEEKLY_DATA!$A:$H,5,0),0)","v":0},{"$f":"IFERROR(VLOOKUP(VALUE(A218),WEEKLY_DATA!$A:$H,6,0),0)","v":0},{"$f":"IFERROR(VLOOKUP(VALUE(A218),WEEKLY_DATA!$A:$H,7,0),0)","v":0},{"$f":"IFERROR(IF(OR(Q218=\"\",Q218=0),\"\",IF(VLOOKUP(VALUE($A218),WEEKLY_DATA!$A:$H,6,0)=0,\"No Sales\",Q218/(VLOOKUP(VALUE($A218),WEEKLY_DATA!$A:$H,6,0)/13))),\"\")","v":""},{"$f":"IFERROR(VLOOKUP(VALUE(A218),WEEKLY_DATA!$A:$H,8,0),0)","v":0},"—",null,null,null,null,null,null,"—",null,null,null,"—","—",null,{"$f":"IFERROR(LOOKUP(2, 1/SEARCH({\"Black\",\"White\",\"Grey\",\"Blue\",\"Silver\",\"Brown\",\"Green\",\"Blue\",\"Purple\",\"Red\",\"Pink\",\"Yellow\",\"Gold\"}, G218), {\"Black\",\"White\",\"Grey\",\"Blue\",\"Silver\",\"Brown\",\"Green\",\"Blue\",\"Purple\",\"Red\",\"Pink\",\"Yellow\",\"Gold\"}), \"\")","v":""},{"$f":"IFERROR(LOOKUP(2, 1/SEARCH({\"8GB\",\"16GB\",\"32GB\",\"64GB\"}, G218), {\"8GB\",\"16GB\",\"32GB\",\"64GB\"}), \"\")","v":""},{"$f":"IFERROR(LOOKUP(2, 1/SEARCH({\"1TB\",\"2TB\",\"128GB\",\"512GB\",\"256GB\"}, G218), {\"1TB\",\"2TB\",\"128GB\",\"512GB\",\"256GB\"}), \"\")","v":""},null,{"$f":"IFERROR(LOOKUP(2, 1/SEARCH({\"16-Inch\",\"15-Inch\",\"15.6-Inch\",\"18-Inch\",\"15.3-Inch\",\"13-Inch\",\"13.4-Inch\",\"13.8-Inch\",\"14-Inch\",\"17-Inch\",\"45-Inch\",\"27-Inch\",\"34-Inch\",\"32-Inch\",\"21.5-Inch\"}, G218), {\"16-Inch\",\"15-Inch\",\"15.6-Inch\",\"18-Inch\",\"15.3-Inch\",\"13-Inch\",\"13.4-Inch\",\"13.8-Inch\",\"14-Inch\",\"17-Inch\",\"45-Inch\",\"27-Inch\",\"34-Inch\",\"32-Inch\",\"21.5-Inch\"}), \"\")","v":""}]
[null,null,null,null,null,null,null,{"$f":"IFERROR(INDEX(BrandList!$A$2:$A$50,MATCH(TRUE,ISNUMBER(SEARCH(BrandList!$A$2:$A$50,G219)),0)),\"\")","v":""},{"$f":"IFERROR(INDEX(BrandList!$B$2:$B$200,MATCH(TRUE,ISNUMBER(SEARCH(BrandList!$B$2:$B$200,G219)),0)),\"\")","v":""},null,null,null,null,null,null,"",{"$f":"IFERROR(VLOOKUP(VALUE(A219),WEEKLY_DATA!$A:$H,2,0),0)","v":0},{"$f":"IFERROR(VLOOKUP(VALUE(A219),WEEKLY_DATA!$A:$H,3,0),0)","v":0},{"$f":"IFERROR(VLOOKUP(VALUE(A219),WEEKLY_DATA!$A:$H,4,0),0)","v":0},{"$f":"IFERROR(VLOOKUP(VALUE(A219),WEEKLY_DATA!$A:$H,5,0),0)","v":0},{"$f":"IFERROR(VLOOKUP(VALUE(A219),WEEKLY_DATA!$A:$H,6,0),0)","v":0},{"$f":"IFERROR(VLOOKUP(VALUE(A219),WEEKLY_DATA!$A:$H,7,0),0)","v":0},{"$f":"IFERROR(IF(OR(Q219=\"\",Q219=0),\"\",IF(VLOOKUP(VALUE($A219),WEEKLY_DATA!$A:$H,6,0)=0,\"No Sales\",Q219/(VLOOKUP(VALUE($A219),WEEKLY_DATA!$A:$H,6,0)/13))),\"\")","v":""},{"$f":"IFERROR(VLOOKUP(VALUE(A219),WEEKLY_DATA!$A:$H,8,0),0)","v":0},"—",null,null,null,null,null,null,null,null,null,null,null,null,null,{"$f":"IFERROR(LOOKUP(2, 1/SEARCH({\"Black\",\"White\",\"Grey\",\"Blue\",\"Silver\",\"Brown\",\"Green\",\"Blue\",\"Purple\",\"Red\",\"Pink\",\"Yellow\",\"Gold\"}, G219), {\"Black\",\"White\",\"Grey\",\"Blue\",\"Silver\",\"Brown\",\"Green\",\"Blue\",\"Purple\",\"Red\",\"Pink\",\"Yellow\",\"Gold\"}), \"\")","v":""},{"$f":"IFERROR(LOOKUP(2, 1/SEARCH({\"8GB\",\"16GB\",\"32GB\",\"64GB\"}, G219), {\"8GB\",\"16GB\",\"32GB\",\"64GB\"}), \"\")","v":""},{"$f":"IFERROR(LOOKUP(2, 1/SEARCH({\"1TB\",\"2TB\",\"128GB\",\"512GB\",\"256GB\"}, G219), {\"1TB\",\"2TB\",\"128GB\",\"512GB\",\"256GB\"}), \"\")","v":""},null,{"$f":"IFERROR(LOOKUP(2, 1/SEARCH({\"16-Inch\",\"15-Inch\",\"15.6-Inch\",\"18-Inch\",\"15.3-Inch\",\"13-Inch\",\"13.4-Inch\",\"13.8-Inch\",\"14-Inch\",\"17-Inch\",\"45-Inch\",\"27-Inch\",\"34-Inch\",\"32-Inch\",\"21.5-Inch\"}, G219), {\"16-Inch\",\"15-Inch\",\"15.6-Inch\",\"18-Inch\",\"15.3-Inch\",\"13-Inch\",\"13.4-Inch\",\"13.8-Inch\",\"14-Inch\",\"17-Inch\",\"45-Inch\",\"27-Inch\",\"34-Inch\",\"32-Inch\",\"21.5-Inch\"}), \"\")","v":""}]
[null,null,null,null,null,null,null,{"$f":"IFERROR(INDEX(BrandList!$A$2:$A$50,MATCH(TRUE,ISNUMBER(SEARCH(BrandList!$A$2:$A$50,G220)),0)),\"\")","v":""},{"$f":"IFERROR(INDEX(BrandList!$B$2:$B$200,MATCH(TRUE,ISNUMBER(SEARCH(BrandList!$B$2:$B$200,G220)),0)),\"\")","v":""},null,null,null,null,null,null,"",{"$f":"IFERROR(VLOOKUP(VALUE(A220),WEEKLY_DATA!$A:$H,2,0),0)","v":0},{"$f":"IFERROR(VLOOKUP(VALUE(A220),WEEKLY_DATA!$A:$H,3,0),0)","v":0},{"$f":"IFERROR(VLOOKUP(VALUE(A220),WEEKLY_DATA!$A:$H,4,0),0)","v":0},{"$f":"IFERROR(VLOOKUP(VALUE(A220),WEEKLY_DATA!$A:$H,5,0),0)","v":0},{"$f":"IFERROR(VLOOKUP(VALUE(A220),WEEKLY_DATA!$A:$H,6,0),0)","v":0},{"$f":"IFERROR(VLOOKUP(VALUE(A220),WEEKLY_DATA!$A:$H,7,0),0)","v":0},{"$f":"IFERROR(IF(OR(Q220=\"\",Q220=0),\"\",IF(VLOOKUP(VALUE($A220),WEEKLY_DATA!$A:$H,6,0)=0,\"No Sales\",Q220/(VLOOKUP(VALUE($A220),WEEKLY_DATA!$A:$H,6,0)/13))),\"\")","v":""},{"$f":"IFERROR(VLOOKUP(VALUE(A220),WEEKLY_DATA!$A:$H,8,0),0)","v":0},"—",null,null,null,null,null,null,"—",null,null,null,"—","—",null,{"$f":"IFERROR(LOOKUP(2, 1/SEARCH({\"Black\",\"White\",\"Grey\",\"Blue\",\"Silver\",\"Brown\",\"Green\",\"Blue\",\"Purple\",\"Red\",\"Pink\",\"Yellow\",\"Gold\"}, G220), {\"Black\",\"White\",\"Grey\",\"Blue\",\"Silver\",\"Brown\",\"Green\",\"Blue\",\"Purple\",\"Red\",\"Pink\",\"Yellow\",\"Gold\"}), \"\")","v":""},{"$f":"IFERROR(LOOKUP(2, 1/SEARCH({\"8GB\",\"16GB\",\"32GB\",\"64GB\"}, G220), {\"8GB\",\"16GB\",\"32GB\",\"64GB\"}), \"\")","v":""},{"$f":"IFERROR(LOOKUP(2, 1/SEARCH({\"1TB\",\"2TB\",\"128GB\",\"512GB\",\"256GB\"}, G220), {\"1TB\",\"2TB\",\"128GB\",\"512GB\",\"256GB\"}), \"\")","v":""},null,{"$f":"IFERROR(LOOKUP(2, 1/SEARCH({\"16-Inch\",\"15-Inch\",\"15.6-Inch\",\"18-Inch\",\"15.3-Inch\",\"13-Inch\",\"13.4-Inch\",\"13.8-Inch\",\"14-Inch\",\"17-Inch\",\"45-Inch\",\"27-Inch\",\"34-Inch\",\"32-Inch\",\"21.5-Inch\"}, G220), {\"16-Inch\",\"15-Inch\",\"15.6-Inch\",\"18-Inch\",\"15.3-Inch\",\"13-Inch\",\"13.4-Inch\",\"13.8-Inch\",\"14-Inch\",\"17-Inch\",\"45-Inch\",\"27-Inch\",\"34-Inch\",\"32-Inch\",\"21.5-Inch\"}), \"\")","v":""}]
[null,null,null,null,null,null,null,{"$f":"IFERROR(INDEX(BrandList!$A$2:$A$50,MATCH(TRUE,ISNUMBER(SEARCH(BrandList!$A$2:$A$50,G221)),0)),\"\")","v":""},{"$f":"IFERROR(INDEX(BrandList!$B$2:$B$200,MATCH(TRUE,ISNUMBER(SEARCH(BrandList!$B$2:$B$200,G221)),0)),\"\")","v":""},null,null,null,null,null,null,"",{"$f":"IFERROR(VLOOKUP(VALUE(A221),WEEKLY_DATA!$A:$H,2,0),0)","v":0},{"$f":"IFERROR(VLOOKUP(VALUE(A221),WEEKLY_DATA!$A:$H,3,0),0)","v":0},{"$f":"IFERROR(VLOOKUP(VALUE(A221),WEEKLY_DATA!$A:$H,4,0),0)","v":0},{"$f":"IFERROR(VLOOKUP(VALUE(A221),WEEKLY_DATA!$A:$H,5,0),0)","v":0},{"$f":"IFERROR(VLOOKUP(VALUE(A221),WEEKLY_DATA!$A:$H,6,0),0)","v":0},{"$f":"IFERROR(VLOOKUP(VALUE(A221),WEEKLY_DATA!$A:$H,7,0),0)","v":0},{"$f":"IFERROR(IF(OR(Q221=\"\",Q221=0),\"\",IF(VLOOKUP(VALUE($A221),WEEKLY_DATA!$A:$H,6,0)=0,\"No Sales\",Q221/(VLOOKUP(VALUE($A221),WEEKLY_DATA!$A:$H,6,0)/13))),\"\")","v":""},{"$f":"IFERROR(VLOOKUP(VALUE(A221),WEEKLY_DATA!$A:$H,8,0),0)","v":0},"—",null,null,null,null,null,null,"—",null,null,null,"—","—",null,{"$f":"IFERROR(LOOKUP(2, 1/SEARCH({\"Black\",\"White\",\"Grey\",\"Blue\",\"Silver\",\"Brown\",\"Green\",\"Blue\",\"Purple\",\"Red\",\"Pink\",\"Yellow\",\"Gold\"}, G221), {\"Black\",\"White\",\"Grey\",\"Blue\",\"Silver\",\"Brown\",\"Green\",\"Blue\",\"Purple\",\"Red\",\"Pink\",\"Yellow\",\"Gold\"}), \"\")","v":""},{"$f":"IFERROR(LOOKUP(2, 1/SEARCH({\"8GB\",\"16GB\",\"32GB\",\"64GB\"}, G221), {\"8GB\",\"16GB\",\"32GB\",\"64GB\"}), \"\")","v":""},{"$f":"IFERROR(LOOKUP(2, 1/SEARCH({\"1TB\",\"2TB\",\"128GB\",\"512GB\",\"256GB\"}, G221), {\"1TB\",\"2TB\",\"128GB\",\"512GB\",\"256GB\"}), \"\")","v":""},null,{"$f":"IFERROR(LOOKUP(2, 1/SEARCH({\"16-Inch\",\"15-Inch\",\"15.6-Inch\",\"18-Inch\",\"15.3-Inch\",\"13-Inch\",\"13.4-Inch\",\"13.8-Inch\",\"14-Inch\",\"17-Inch\",\"45-Inch\",\"27-Inch\",\"34-Inch\",\"32-Inch\",\"21.5-Inch\"}, G221), {\"16-Inch\",\"15-Inch\",\"15.6-Inch\",\"18-Inch\",\"15.3-Inch\",\"13-Inch\",\"13.4-Inch\",\"13.8-Inch\",\"14-Inch\",\"17-Inch\",\"45-Inch\",\"27-Inch\",\"34-Inch\",\"32-Inch\",\"21.5-Inch\"}), \"\")","v":""}]
[null,null,null,null,null,null,null,{"$f":"IFERROR(INDEX(BrandList!$A$2:$A$50,MATCH(TRUE,ISNUMBER(SEARCH(BrandList!$A$2:$A$50,G222)),0)),\"\")","v":""},{"$f":"IFERROR(INDEX(BrandList!$B$2:$B$200,MATCH(TRUE,ISNUMBER(SEARCH(BrandList!$B$2:$B$200,G222)),0)),\"\")","v":""},null,null,null,null,null,null,"",{"$f":"IFERROR(VLOOKUP(VALUE(A222),WEEKLY_DATA!$A:$H,2,0),0)","v":0},{"$f":"IFERROR(VLOOKUP(VALUE(A222),WEEKLY_DATA!$A:$H,3,0),0)","v":0},{"$f":"IFERROR(VLOOKUP(VALUE(A222),WEEKLY_DATA!$A:$H,4,0),0)","v":0},{"$f":"IFERROR(VLOOKUP(VALUE(A222),WEEKLY_DATA!$A:$H,5,0),0)","v":0},{"$f":"IFERROR(VLOOKUP(VALUE(A222),WEEKLY_DATA!$A:$H,6,0),0)","v":0},{"$f":"IFERROR(VLOOKUP(VALUE(A222),WEEKLY_DATA!$A:$H,7,0),0)","v":0},{"$f":"IFERROR(IF(OR(Q222=\"\",Q222=0),\"\",IF(VLOOKUP(VALUE($A222),WEEKLY_DATA!$A:$H,6,0)=0,\"No Sales\",Q222/(VLOOKUP(VALUE($A222),WEEKLY_DATA!$A:$H,6,0)/13))),\"\")","v":""},{"$f":"IFERROR(VLOOKUP(VALUE(A222),WEEKLY_DATA!$A:$H,8,0),0)","v":0},"—",null,null,null,null,null,null,"—",null,null,null,"—","—",null,{"$f":"IFERROR(LOOKUP(2, 1/SEARCH({\"Black\",\"White\",\"Grey\",\"Blue\",\"Silver\",\"Brown\",\"Green\",\"Blue\",\"Purple\",\"Red\",\"Pink\",\"Yellow\",\"Gold\"}, G222), {\"Black\",\"White\",\"Grey\",\"Blue\",\"Silver\",\"Brown\",\"Green\",\"Blue\",\"Purple\",\"Red\",\"Pink\",\"Yellow\",\"Gold\"}), \"\")","v":""},{"$f":"IFERROR(LOOKUP(2, 1/SEARCH({\"8GB\",\"16GB\",\"32GB\",\"64GB\"}, G222), {\"8GB\",\"16GB\",\"32GB\",\"64GB\"}), \"\")","v":""},{"$f":"IFERROR(LOOKUP(2, 1/SEARCH({\"1TB\",\"2TB\",\"128GB\",\"512GB\",\"256GB\"}, G222), {\"1TB\",\"2TB\",\"128GB\",\"512GB\",\"256GB\"}), \"\")","v":""},null,{"$f":"IFERROR(LOOKUP(2, 1/SEARCH({\"16-Inch\",\"15-Inch\",\"15.6-Inch\",\"18-Inch\",\"15.3-Inch\",\"13-Inch\",\"13.4-Inch\",\"13.8-Inch\",\"14-Inch\",\"17-Inch\",\"45-Inch\",\"27-Inch\",\"34-Inch\",\"32-Inch\",\"21.5-Inch\"}, G222), {\"16-Inch\",\"15-Inch\",\"15.6-Inch\",\"18-Inch\",\"15.3-Inch\",\"13-Inch\",\"13.4-Inch\",\"13.8-Inch\",\"14-Inch\",\"17-Inch\",\"45-Inch\",\"27-Inch\",\"34-Inch\",\"32-Inch\",\"21.5-Inch\"}), \"\")","v":""}]
[null,null,null,null,null,null,null,{"$f":"IFERROR(INDEX(BrandList!$A$2:$A$50,MATCH(TRUE,ISNUMBER(SEARCH(BrandList!$A$2:$A$50,G223)),0)),\"\")","v":""},{"$f":"IFERROR(INDEX(BrandList!$B$2:$B$200,MATCH(TRUE,ISNUMBER(SEARCH(BrandList!$B$2:$B$200,G223)),0)),\"\")","v":""},null,null,null,null,null,null,"",{"$f":"IFERROR(VLOOKUP(VALUE(A223),WEEKLY_DATA!$A:$H,2,0),0)","v":0},{"$f":"IFERROR(VLOOKUP(VALUE(A223),WEEKLY_DATA!$A:$H,3,0),0)","v":0},{"$f":"IFERROR(VLOOKUP(VALUE(A223),WEEKLY_DATA!$A:$H,4,0),0)","v":0},{"$f":"IFERROR(VLOOKUP(VALUE(A223),WEEKLY_DATA!$A:$H,5,0),0)","v":0},{"$f":"IFERROR(VLOOKUP(VALUE(A223),WEEKLY_DATA!$A:$H,6,0),0)","v":0},{"$f":"IFERROR(VLOOKUP(VALUE(A223),WEEKLY_DATA!$A:$H,7,0),0)","v":0},{"$f":"IFERROR(IF(OR(Q223=\"\",Q223=0),\"\",IF(VLOOKUP(VALUE($A223),WEEKLY_DATA!$A:$H,6,0)=0,\"No Sales\",Q223/(VLOOKUP(VALUE($A223),WEEKLY_DATA!$A:$H,6,0)/13))),\"\")","v":""},{"$f":"IFERROR(VLOOKUP(VALUE(A223),WEEKLY_DATA!$A:$H,8,0),0)","v":0},"—",null,null,null,null,null,null,"—",null,null,null,"—","—",null,{"$f":"IFERROR(LOOKUP(2, 1/SEARCH({\"Black\",\"White\",\"Grey\",\"Blue\",\"Silver\",\"Brown\",\"Green\",\"Blue\",\"Purple\",\"Red\",\"Pink\",\"Yellow\",\"Gold\"}, G223), {\"Black\",\"White\",\"Grey\",\"Blue\",\"Silver\",\"Brown\",\"Green\",\"Blue\",\"Purple\",\"Red\",\"Pink\",\"Yellow\",\"Gold\"}), \"\")","v":""},{"$f":"IFERROR(LOOKUP(2, 1/SEARCH({\"8GB\",\"16GB\",\"32GB\",\"64GB\"}, G223), {\"8GB\",\"16GB\",\"32GB\",\"64GB\"}), \"\")","v":""},{"$f":"IFERROR(LOOKUP(2, 1/SEARCH({\"1TB\",\"2TB\",\"128GB\",\"512GB\",\"256GB\"}, G223), {\"1TB\",\"2TB\",\"128GB\",\"512GB\",\"256GB\"}), \"\")","v":""},null,{"$f":"IFERROR(LOOKUP(2, 1/SEARCH({\"16-Inch\",\"15-Inch\",\"15.6-Inch\",\"18-Inch\",\"15.3-Inch\",\"13-Inch\",\"13.4-Inch\",\"13.8-Inch\",\"14-Inch\",\"17-Inch\",\"45-Inch\",\"27-Inch\",\"34-Inch\",\"32-Inch\",\"21.5-Inch\"}, G223), {\"16-Inch\",\"15-Inch\",\"15.6-Inch\",\"18-Inch\",\"15.3-Inch\",\"13-Inch\",\"13.4-Inch\",\"13.8-Inch\",\"14-Inch\",\"17-Inch\",\"45-Inch\",\"27-Inch\",\"34-Inch\",\"32-Inch\",\"21.5-Inch\"}), \"\")","v":""}]
[null,null,null,null,null,null,null,{"$f":"IFERROR(INDEX(BrandList!$A$2:$A$50,MATCH(TRUE,ISNUMBER(SEARCH(BrandList!$A$2:$A$50,G224)),0)),\"\")","v":""},{"$f":"IFERROR(INDEX(BrandList!$B$2:$B$200,MATCH(TRUE,ISNUMBER(SEARCH(BrandList!$B$2:$B$200,G224)),0)),\"\")","v":""},null,null,null,null,null,null,"",{"$f":"IFERROR(VLOOKUP(VALUE(A224),WEEKLY_DATA!$A:$H,2,0),0)","v":0},{"$f":"IFERROR(VLOOKUP(VALUE(A224),WEEKLY_DATA!$A:$H,3,0),0)","v":0},{"$f":"IFERROR(VLOOKUP(VALUE(A224),WEEKLY_DATA!$A:$H,4,0),0)","v":0},{"$f":"IFERROR(VLOOKUP(VALUE(A224),WEEKLY_DATA!$A:$H,5,0),0)","v":0},{"$f":"IFERROR(VLOOKUP(VALUE(A224),WEEKLY_DATA!$A:$H,6,0),0)","v":0},{"$f":"IFERROR(VLOOKUP(VALUE(A224),WEEKLY_DATA!$A:$H,7,0),0)","v":0},{"$f":"IFERROR(IF(OR(Q224=\"\",Q224=0),\"\",IF(VLOOKUP(VALUE($A224),WEEKLY_DATA!$A:$H,6,0)=0,\"No Sales\",Q224/(VLOOKUP(VALUE($A224),WEEKLY_DATA!$A:$H,6,0)/13))),\"\")","v":""},{"$f":"IFERROR(VLOOKUP(VALUE(A224),WEEKLY_DATA!$A:$H,8,0),0)","v":0},"—",null,null,null,null,null,null,"—",null,null,null,"—","—",null,{"$f":"IFERROR(LOOKUP(2, 1/SEARCH({\"Black\",\"White\",\"Grey\",\"Blue\",\"Silver\",\"Brown\",\"Green\",\"Blue\",\"Purple\",\"Red\",\"Pink\",\"Yellow\",\"Gold\"}, G224), {\"Black\",\"White\",\"Grey\",\"Blue\",\"Silver\",\"Brown\",\"Green\",\"Blue\",\"Purple\",\"Red\",\"Pink\",\"Yellow\",\"Gold\"}), \"\")","v":""},{"$f":"IFERROR(LOOKUP(2, 1/SEARCH({\"8GB\",\"16GB\",\"32GB\",\"64GB\"}, G224), {\"8GB\",\"16GB\",\"32GB\",\"64GB\"}), \"\")","v":""},{"$f":"IFERROR(LOOKUP(2, 1/SEARCH({\"1TB\",\"2TB\",\"128GB\",\"512GB\",\"256GB\"}, G224), {\"1TB\",\"2TB\",\"128GB\",\"512GB\",\"256GB\"}), \"\")","v":""},null,{"$f":"IFERROR(LOOKUP(2, 1/SEARCH({\"16-Inch\",\"15-Inch\",\"15.6-Inch\",\"18-Inch\",\"15.3-Inch\",\"13-Inch\",\"13.4-Inch\",\"13.8-Inch\",\"14-Inch\",\"17-Inch\",\"45-Inch\",\"27-Inch\",\"34-Inch\",\"32-Inch\",\"21.5-Inch\"}, G224), {\"16-Inch\",\"15-Inch\",\"15.6-Inch\",\"18-Inch\",\"15.3-Inch\",\"13-Inch\",\"13.4-Inch\",\"13.8-Inch\",\"14-Inch\",\"17-Inch\",\"45-Inch\",\"27-Inch\",\"34-Inch\",\"32-Inch\",\"21.5-Inch\"}), \"\")","v":""}]
[null,null,null,null,null,null,null,{"$f":"IFERROR(INDEX(BrandList!$A$2:$A$50,MATCH(TRUE,ISNUMBER(SEARCH(BrandList!$A$2:$A$50,G225)),0)),\"\")","v":""},{"$f":"IFERROR(INDEX(BrandList!$B$2:$B$200,MATCH(TRUE,ISNUMBER(SEARCH(BrandList!$B$2:$B$200,G225)),0)),\"\")","v":""},null,null,null,null,null,null,"",{"$f":"IFERROR(VLOOKUP(VALUE(A225),WEEKLY_DATA!$A:$H,2,0),0)","v":0},{"$f":"IFERROR(VLOOKUP(VALUE(A225),WEEKLY_DATA!$A:$H,3,0),0)","v":0},{"$f":"IFERROR(VLOOKUP(VALUE(A225),WEEKLY_DATA!$A:$H,4,0),0)","v":0},{"$f":"IFERROR(VLOOKUP(VALUE(A225),WEEKLY_DATA!$A:$H,5,0),0)","v":0},{"$f":"IFERROR(VLOOKUP(VALUE(A225),WEEKLY_DATA!$A:$H,6,0),0)","v":0},{"$f":"IFERROR(VLOOKUP(VALUE(A225),WEEKLY_DATA!$A:$H,7,0),0)","v":0},{"$f":"IFERROR(IF(OR(Q225=\"\",Q225=0),\"\",IF(VLOOKUP(VALUE($A225),WEEKLY_DATA!$A:$H,6,0)=0,\"No Sales\",Q225/(VLOOKUP(VALUE($A225),WEEKLY_DATA!$A:$H,6,0)/13))),\"\")","v":""},{"$f":"IFERROR(VLOOKUP(VALUE(A225),WEEKLY_DATA!$A:$H,8,0),0)","v":0},"—",null,null,null,null,null,null,"—",null,null,null,"—","—",null,{"$f":"IFERROR(LOOKUP(2, 1/SEARCH({\"Black\",\"White\",\"Grey\",\"Blue\",\"Silver\",\"Brown\",\"Green\",\"Blue\",\"Purple\",\"Red\",\"Pink\",\"Yellow\",\"Gold\"}, G225), {\"Black\",\"White\",\"Grey\",\"Blue\",\"Silver\",\"Brown\",\"Green\",\"Blue\",\"Purple\",\"Red\",\"Pink\",\"Yellow\",\"Gold\"}), \"\")","v":""},{"$f":"IFERROR(LOOKUP(2, 1/SEARCH({\"8GB\",\"16GB\",\"32GB\",\"64GB\"}, G225), {\"8GB\",\"16GB\",\"32GB\",\"64GB\"}), \"\")","v":""},{"$f":"IFERROR(LOOKUP(2, 1/SEARCH({\"1TB\",\"2TB\",\"128GB\",\"512GB\",\"256GB\"}, G225), {\"1TB\",\"2TB\",\"128GB\",\"512GB\",\"256GB\"}), \"\")","v":""},null,{"$f":"IFERROR(LOOKUP(2, 1/SEARCH({\"16-Inch\",\"15-Inch\",\"15.6-Inch\",\"18-Inch\",\"15.3-Inch\",\"13-Inch\",\"13.4-Inch\",\"13.8-Inch\",\"14-Inch\",\"17-Inch\",\"45-Inch\",\"27-Inch\",\"34-Inch\",\"32-Inch\",\"21.5-Inch\"}, G225), {\"16-Inch\",\"15-Inch\",\"15.6-Inch\",\"18-Inch\",\"15.3-Inch\",\"13-Inch\",\"13.4-Inch\",\"13.8-Inch\",\"14-Inch\",\"17-Inch\",\"45-Inch\",\"27-Inch\",\"34-Inch\",\"32-Inch\",\"21.5-Inch\"}), \"\")","v":""}]
[null,null,null,null,null,null,null,null,{"$f":"IFERROR(INDEX(BrandList!$B$2:$B$200,MATCH(TRUE,ISNUMBER(SEARCH(BrandList!$B$2:$B$200,G226)),0)),\"\")","v":""},null,null,null,null,null,null,"",{"$f":"IFERROR(VLOOKUP(VALUE(A226),WEEKLY_DATA!$A:$H,2,0),0)","v":0},{"$f":"IFERROR(VLOOKUP(VALUE(A226),WEEKLY_DATA!$A:$H,3,0),0)","v":0},{"$f":"IFERROR(VLOOKUP(VALUE(A226),WEEKLY_DATA!$A:$H,4,0),0)","v":0},{"$f":"IFERROR(VLOOKUP(VALUE(A226),WEEKLY_DATA!$A:$H,5,0),0)","v":0},{"$f":"IFERROR(VLOOKUP(VALUE(A226),WEEKLY_DATA!$A:$H,6,0),0)","v":0},{"$f":"IFERROR(VLOOKUP(VALUE(A226),WEEKLY_DATA!$A:$H,7,0),0)","v":0},{"$f":"IFERROR(IF(OR(Q226=\"\",Q226=0),\"\",IF(VLOOKUP(VALUE($A226),WEEKLY_DATA!$A:$H,6,0)=0,\"No Sales\",Q226/(VLOOKUP(VALUE($A226),WEEKLY_DATA!$A:$H,6,0)/13))),\"\")","v":""},{"$f":"IFERROR(VLOOKUP(VALUE(A226),WEEKLY_DATA!$A:$H,8,0),0)","v":0},"—"]
[null,null,null,null,null,null,null,{"$f":"IFERROR(INDEX(BrandList!$A$2:$A$250,MATCH(TRUE,ISNUMBER(SEARCH(BrandList!$A$2:$A$250,G227)),0)),\"\")","v":""},{"$f":"IFERROR(INDEX(BrandList!$B$2:$B$200,MATCH(TRUE,ISNUMBER(SEARCH(BrandList!$B$2:$B$200,G227)),0)),\"\")","v":""},null,null,null,null,null,null,"",{"$f":"IFERROR(VLOOKUP(VALUE(A227),WEEKLY_DATA!$A:$H,2,0),0)","v":0},{"$f":"IFERROR(VLOOKUP(VALUE(A227),WEEKLY_DATA!$A:$H,3,0),0)","v":0},{"$f":"IFERROR(VLOOKUP(VALUE(A227),WEEKLY_DATA!$A:$H,4,0),0)","v":0},{"$f":"IFERROR(VLOOKUP(VALUE(A227),WEEKLY_DATA!$A:$H,5,0),0)","v":0},{"$f":"IFERROR(VLOOKUP(VALUE(A227),WEEKLY_DATA!$A:$H,6,0),0)","v":0},{"$f":"IFERROR(VLOOKUP(VALUE(A227),WEEKLY_DATA!$A:$H,7,0),0)","v":0},{"$f":"IFERROR(IF(OR(Q227=\"\",Q227=0),\"\",IF(VLOOKUP(VALUE($A227),WEEKLY_DATA!$A:$H,6,0)=0,\"No Sales\",Q227/(VLOOKUP(VALUE($A227),WEEKLY_DATA!$A:$H,6,0)/13))),\"\")","v":""},{"$f":"IFERROR(VLOOKUP(VALUE(A227),WEEKLY_DATA!$A:$H,8,0),0)","v":0},"—"]
[null,null,null,null,null,null,null,{"$f":"IFERROR(INDEX(BrandList!$A$2:$A$250,MATCH(TRUE,ISNUMBER(SEARCH(BrandList!$A$2:$A$250,G228)),0)),\"\")","v":""},{"$f":"IFERROR(INDEX(BrandList!$B$2:$B$200,MATCH(TRUE,ISNUMBER(SEARCH(BrandList!$B$2:$B$200,G228)),0)),\"\")","v":""},null,null,null,null,null,null,"",{"$f":"IFERROR(VLOOKUP(VALUE(A228),WEEKLY_DATA!$A:$H,2,0),0)","v":0},{"$f":"IFERROR(VLOOKUP(VALUE(A228),WEEKLY_DATA!$A:$H,3,0),0)","v":0},{"$f":"IFERROR(VLOOKUP(VALUE(A228),WEEKLY_DATA!$A:$H,4,0),0)","v":0},{"$f":"IFERROR(VLOOKUP(VALUE(A228),WEEKLY_DATA!$A:$H,5,0),0)","v":0},{"$f":"IFERROR(VLOOKUP(VALUE(A228),WEEKLY_DATA!$A:$H,6,0),0)","v":0},{"$f":"IFERROR(VLOOKUP(VALUE(A228),WEEKLY_DATA!$A:$H,7,0),0)","v":0},{"$f":"IFERROR(IF(OR(Q228=\"\",Q228=0),\"\",IF(VLOOKUP(VALUE($A228),WEEKLY_DATA!$A:$H,6,0)=0,\"No Sales\",Q228/(VLOOKUP(VALUE($A228),WEEKLY_DATA!$A:$H,6,0)/13))),\"\")","v":""},{"$f":"IFERROR(VLOOKUP(VALUE(A228),WEEKLY_DATA!$A:$H,8,0),0)","v":0},"—"]
[null,null,null,null,null,null,null,{"$f":"IFERROR(INDEX(BrandList!$A$2:$A$250,MATCH(TRUE,ISNUMBER(SEARCH(BrandList!$A$2:$A$250,G229)),0)),\"\")","v":""},{"$f":"IFERROR(INDEX(BrandList!$B$2:$B$200,MATCH(TRUE,ISNUMBER(SEARCH(BrandList!$B$2:$B$200,G229)),0)),\"\")","v":""},null,null,null,null,null,null,"",{"$f":"IFERROR(VLOOKUP(VALUE(A229),WEEKLY_DATA!$A:$H,2,0),0)","v":0},{"$f":"IFERROR(VLOOKUP(VALUE(A229),WEEKLY_DATA!$A:$H,3,0),0)","v":0},{"$f":"IFERROR(VLOOKUP(VALUE(A229),WEEKLY_DATA!$A:$H,4,0),0)","v":0},{"$f":"IFERROR(VLOOKUP(VALUE(A229),WEEKLY_DATA!$A:$H,5,0),0)","v":0},{"$f":"IFERROR(VLOOKUP(VALUE(A229),WEEKLY_DATA!$A:$H,6,0),0)","v":0},{"$f":"IFERROR(VLOOKUP(VALUE(A229),WEEKLY_DATA!$A:$H,7,0),0)","v":0},{"$f":"IFERROR(IF(OR(Q229=\"\",Q229=0),\"\",IF(VLOOKUP(VALUE($A229),WEEKLY_DATA!$A:$H,6,0)=0,\"No Sales\",Q229/(VLOOKUP(VALUE($A229),WEEKLY_DATA!$A:$H,6,0)/13))),\"\")","v":""},{"$f":"IFERROR(VLOOKUP(VALUE(A229),WEEKLY_DATA!$A:$H,8,0),0)","v":0},"—"]
[null,null,null,null,null,null,null,{"$f":"IFERROR(INDEX(BrandList!$A$2:$A$250,MATCH(TRUE,ISNUMBER(SEARCH(BrandList!$A$2:$A$250,G230)),0)),\"\")","v":""},{"$f":"IFERROR(INDEX(BrandList!$B$2:$B$200,MATCH(TRUE,ISNUMBER(SEARCH(BrandList!$B$2:$B$200,G230)),0)),\"\")","v":""},null,null,null,null,null,null,"",{"$f":"IFERROR(VLOOKUP(VALUE(A230),WEEKLY_DATA!$A:$H,2,0),0)","v":0},{"$f":"IFERROR(VLOOKUP(VALUE(A230),WEEKLY_DATA!$A:$H,3,0),0)","v":0},{"$f":"IFERROR(VLOOKUP(VALUE(A230),WEEKLY_DATA!$A:$H,4,0),0)","v":0},{"$f":"IFERROR(VLOOKUP(VALUE(A230),WEEKLY_DATA!$A:$H,5,0),0)","v":0},{"$f":"IFERROR(VLOOKUP(VALUE(A230),WEEKLY_DATA!$A:$H,6,0),0)","v":0},{"$f":"IFERROR(VLOOKUP(VALUE(A230),WEEKLY_DATA!$A:$H,7,0),0)","v":0},{"$f":"IFERROR(IF(OR(Q230=\"\",Q230=0),\"\",IF(VLOOKUP(VALUE($A230),WEEKLY_DATA!$A:$H,6,0)=0,\"No Sales\",Q230/(VLOOKUP(VALUE($A230),WEEKLY_DATA!$A:$H,6,0)/13))),\"\")","v":""},{"$f":"IFERROR(VLOOKUP(VALUE(A230),WEEKLY_DATA!$A:$H,8,0),0)","v":0},"—"]
[null,null,null,null,null,null,null,{"$f":"IFERROR(INDEX(BrandList!$A$2:$A$250,MATCH(TRUE,ISNUMBER(SEARCH(BrandList!$A$2:$A$250,G231)),0)),\"\")","v":""},{"$f":"IFERROR(INDEX(BrandList!$B$2:$B$200,MATCH(TRUE,ISNUMBER(SEARCH(BrandList!$B$2:$B$200,G231)),0)),\"\")","v":""},null,null,null,null,null,null,"",{"$f":"IFERROR(VLOOKUP(VALUE(A231),WEEKLY_DATA!$A:$H,2,0),0)","v":0},{"$f":"IFERROR(VLOOKUP(VALUE(A231),WEEKLY_DATA!$A:$H,3,0),0)","v":0},{"$f":"IFERROR(VLOOKUP(VALUE(A231),WEEKLY_DATA!$A:$H,4,0),0)","v":0},{"$f":"IFERROR(VLOOKUP(VALUE(A231),WEEKLY_DATA!$A:$H,5,0),0)","v":0},{"$f":"IFERROR(VLOOKUP(VALUE(A231),WEEKLY_DATA!$A:$H,6,0),0)","v":0},{"$f":"IFERROR(VLOOKUP(VALUE(A231),WEEKLY_DATA!$A:$H,7,0),0)","v":0},{"$f":"IFERROR(IF(OR(Q231=\"\",Q231=0),\"\",IF(VLOOKUP(VALUE($A231),WEEKLY_DATA!$A:$H,6,0)=0,\"No Sales\",Q231/(VLOOKUP(VALUE($A231),WEEKLY_DATA!$A:$H,6,0)/13))),\"\")","v":""},{"$f":"IFERROR(VLOOKUP(VALUE(A231),WEEKLY_DATA!$A:$H,8,0),0)","v":0},"—"]
[null,null,null,null,null,null,null,{"$f":"IFERROR(INDEX(BrandList!$A$2:$A$250,MATCH(TRUE,ISNUMBER(SEARCH(BrandList!$A$2:$A$250,G232)),0)),\"\")","v":""},{"$f":"IFERROR(INDEX(BrandList!$B$2:$B$200,MATCH(TRUE,ISNUMBER(SEARCH(BrandList!$B$2:$B$200,G232)),0)),\"\")","v":""},null,null,null,null,null,null,"",{"$f":"IFERROR(VLOOKUP(VALUE(A232),WEEKLY_DATA!$A:$H,2,0),0)","v":0},{"$f":"IFERROR(VLOOKUP(VALUE(A232),WEEKLY_DATA!$A:$H,3,0),0)","v":0},{"$f":"IFERROR(VLOOKUP(VALUE(A232),WEEKLY_DATA!$A:$H,4,0),0)","v":0},{"$f":"IFERROR(VLOOKUP(VALUE(A232),WEEKLY_DATA!$A:$H,5,0),0)","v":0},{"$f":"IFERROR(VLOOKUP(VALUE(A232),WEEKLY_DATA!$A:$H,6,0),0)","v":0},{"$f":"IFERROR(VLOOKUP(VALUE(A232),WEEKLY_DATA!$A:$H,7,0),0)","v":0},{"$f":"IFERROR(IF(OR(Q232=\"\",Q232=0),\"\",IF(VLOOKUP(VALUE($A232),WEEKLY_DATA!$A:$H,6,0)=0,\"No Sales\",Q232/(VLOOKUP(VALUE($A232),WEEKLY_DATA!$A:$H,6,0)/13))),\"\")","v":""},{"$f":"IFERROR(VLOOKUP(VALUE(A232),WEEKLY_DATA!$A:$H,8,0),0)","v":0},"—"]
[null,null,null,null,null,null,null,{"$f":"IFERROR(INDEX(BrandList!$A$2:$A$250,MATCH(TRUE,ISNUMBER(SEARCH(BrandList!$A$2:$A$250,G233)),0)),\"\")","v":""},{"$f":"IFERROR(INDEX(BrandList!$B$2:$B$200,MATCH(TRUE,ISNUMBER(SEARCH(BrandList!$B$2:$B$200,G233)),0)),\"\")","v":""},null,null,null,null,null,null,"",{"$f":"IFERROR(VLOOKUP(VALUE(A233),WEEKLY_DATA!$A:$H,2,0),0)","v":0},{"$f":"IFERROR(VLOOKUP(VALUE(A233),WEEKLY_DATA!$A:$H,3,0),0)","v":0},{"$f":"IFERROR(VLOOKUP(VALUE(A233),WEEKLY_DATA!$A:$H,4,0),0)","v":0},{"$f":"IFERROR(VLOOKUP(VALUE(A233),WEEKLY_DATA!$A:$H,5,0),0)","v":0},{"$f":"IFERROR(VLOOKUP(VALUE(A233),WEEKLY_DATA!$A:$H,6,0),0)","v":0},{"$f":"IFERROR(VLOOKUP(VALUE(A233),WEEKLY_DATA!$A:$H,7,0),0)","v":0},{"$f":"IFERROR(IF(OR(Q233=\"\",Q233=0),\"\",IF(VLOOKUP(VALUE($A233),WEEKLY_DATA!$A:$H,6,0)=0,\"No Sales\",Q233/(VLOOKUP(VALUE($A233),WEEKLY_DATA!$A:$H,6,0)/13))),\"\")","v":""},{"$f":"IFERROR(VLOOKUP(VALUE(A233),WEEKLY_DATA!$A:$H,8,0),0)","v":0},"—"]
[null,null,null,null,null,null,null,{"$f":"IFERROR(INDEX(BrandList!$A$2:$A$250,MATCH(TRUE,ISNUMBER(SEARCH(BrandList!$A$2:$A$250,G234)),0)),\"\")","v":""},{"$f":"IFERROR(INDEX(BrandList!$B$2:$B$200,MATCH(TRUE,ISNUMBER(SEARCH(BrandList!$B$2:$B$200,G234)),0)),\"\")","v":""},null,null,null,null,null,null,"",{"$f":"IFERROR(VLOOKUP(VALUE(A234),WEEKLY_DATA!$A:$H,2,0),0)","v":0},{"$f":"IFERROR(VLOOKUP(VALUE(A234),WEEKLY_DATA!$A:$H,3,0),0)","v":0},{"$f":"IFERROR(VLOOKUP(VALUE(A234),WEEKLY_DATA!$A:$H,4,0),0)","v":0},{"$f":"IFERROR(VLOOKUP(VALUE(A234),WEEKLY_DATA!$A:$H,5,0),0)","v":0},{"$f":"IFERROR(VLOOKUP(VALUE(A234),WEEKLY_DATA!$A:$H,6,0),0)","v":0},{"$f":"IFERROR(VLOOKUP(VALUE(A234),WEEKLY_DATA!$A:$H,7,0),0)","v":0},{"$f":"IFERROR(IF(OR(Q234=\"\",Q234=0),\"\",IF(VLOOKUP(VALUE($A234),WEEKLY_DATA!$A:$H,6,0)=0,\"No Sales\",Q234/(VLOOKUP(VALUE($A234),WEEKLY_DATA!$A:$H,6,0)/13))),\"\")","v":""},{"$f":"IFERROR(VLOOKUP(VALUE(A234),WEEKLY_DATA!$A:$H,8,0),0)","v":0},"—"]
[null,null,null,null,null,null,null,null,{"$f":"IFERROR(INDEX(BrandList!$B$2:$B$200,MATCH(TRUE,ISNUMBER(SEARCH(BrandList!$B$2:$B$200,G235)),0)),\"\")","v":""},null,null,null,null,null,null,"",{"$f":"IFERROR(VLOOKUP(VALUE(A235),WEEKLY_DATA!$A:$H,2,0),0)","v":0},{"$f":"IFERROR(VLOOKUP(VALUE(A235),WEEKLY_DATA!$A:$H,3,0),0)","v":0},{"$f":"IFERROR(VLOOKUP(VALUE(A235),WEEKLY_DATA!$A:$H,4,0),0)","v":0},{"$f":"IFERROR(VLOOKUP(VALUE(A235),WEEKLY_DATA!$A:$H,5,0),0)","v":0},{"$f":"IFERROR(VLOOKUP(VALUE(A235),WEEKLY_DATA!$A:$H,6,0),0)","v":0},{"$f":"IFERROR(VLOOKUP(VALUE(A235),WEEKLY_DATA!$A:$H,7,0),0)","v":0},{"$f":"IFERROR(IF(OR(Q235=\"\",Q235=0),\"\",IF(VLOOKUP(VALUE($A235),WEEKLY_DATA!$A:$H,6,0)=0,\"No Sales\",Q235/(VLOOKUP(VALUE($A235),WEEKLY_DATA!$A:$H,6,0)/13))),\"\")","v":""},{"$f":"IFERROR(VLOOKUP(VALUE(A235),WEEKLY_DATA!$A:$H,8,0),0)","v":0},"—"]
[null,null,null,null,null,null,null,null,{"$f":"IFERROR(INDEX(BrandList!$B$2:$B$200,MATCH(TRUE,ISNUMBER(SEARCH(BrandList!$B$2:$B$200,G236)),0)),\"\")","v":""},null,null,null,null,null,null,"",{"$f":"IFERROR(VLOOKUP(VALUE(A236),WEEKLY_DATA!$A:$H,2,0),0)","v":0},{"$f":"IFERROR(VLOOKUP(VALUE(A236),WEEKLY_DATA!$A:$H,3,0),0)","v":0},{"$f":"IFERROR(VLOOKUP(VALUE(A236),WEEKLY_DATA!$A:$H,4,0),0)","v":0},{"$f":"IFERROR(VLOOKUP(VALUE(A236),WEEKLY_DATA!$A:$H,5,0),0)","v":0},{"$f":"IFERROR(VLOOKUP(VALUE(A236),WEEKLY_DATA!$A:$H,6,0),0)","v":0},{"$f":"IFERROR(VLOOKUP(VALUE(A236),WEEKLY_DATA!$A:$H,7,0),0)","v":0},{"$f":"IFERROR(IF(OR(Q236=\"\",Q236=0),\"\",IF(VLOOKUP(VALUE($A236),WEEKLY_DATA!$A:$H,6,0)=0,\"No Sales\",Q236/(VLOOKUP(VALUE($A236),WEEKLY_DATA!$A:$H,6,0)/13))),\"\")","v":""},{"$f":"IFERROR(VLOOKUP(VALUE(A236),WEEKLY_DATA!$A:$H,8,0),0)","v":0},"—"]
[null,null,null,null,null,null,null,null,{"$f":"IFERROR(INDEX(BrandList!$B$2:$B$200,MATCH(TRUE,ISNUMBER(SEARCH(BrandList!$B$2:$B$200,G237)),0)),\"\")","v":""},null,null,null,null,null,null,"",{"$f":"IFERROR(VLOOKUP(VALUE(A237),WEEKLY_DATA!$A:$H,2,0),0)","v":0},{"$f":"IFERROR(VLOOKUP(VALUE(A237),WEEKLY_DATA!$A:$H,3,0),0)","v":0},{"$f":"IFERROR(VLOOKUP(VALUE(A237),WEEKLY_DATA!$A:$H,4,0),0)","v":0},{"$f":"IFERROR(VLOOKUP(VALUE(A237),WEEKLY_DATA!$A:$H,5,0),0)","v":0},{"$f":"IFERROR(VLOOKUP(VALUE(A237),WEEKLY_DATA!$A:$H,6,0),0)","v":0},{"$f":"IFERROR(VLOOKUP(VALUE(A237),WEEKLY_DATA!$A:$H,7,0),0)","v":0},{"$f":"IFERROR(IF(OR(Q237=\"\",Q237=0),\"\",IF(VLOOKUP(VALUE($A237),WEEKLY_DATA!$A:$H,6,0)=0,\"No Sales\",Q237/(VLOOKUP(VALUE($A237),WEEKLY_DATA!$A:$H,6,0)/13))),\"\")","v":""},{"$f":"IFERROR(VLOOKUP(VALUE(A237),WEEKLY_DATA!$A:$H,8,0),0)","v":0},"—"]
[null,null,null,null,null,null,null,null,{"$f":"IFERROR(INDEX(BrandList!$B$2:$B$200,MATCH(TRUE,ISNUMBER(SEARCH(BrandList!$B$2:$B$200,G238)),0)),\"\")","v":""},null,null,null,null,null,null,"",{"$f":"IFERROR(VLOOKUP(VALUE(A238),WEEKLY_DATA!$A:$H,2,0),0)","v":0},{"$f":"IFERROR(VLOOKUP(VALUE(A238),WEEKLY_DATA!$A:$H,3,0),0)","v":0},{"$f":"IFERROR(VLOOKUP(VALUE(A238),WEEKLY_DATA!$A:$H,4,0),0)","v":0},{"$f":"IFERROR(VLOOKUP(VALUE(A238),WEEKLY_DATA!$A:$H,5,0),0)","v":0},{"$f":"IFERROR(VLOOKUP(VALUE(A238),WEEKLY_DATA!$A:$H,6,0),0)","v":0},{"$f":"IFERROR(VLOOKUP(VALUE(A238),WEEKLY_DATA!$A:$H,7,0),0)","v":0},{"$f":"IFERROR(IF(OR(Q238=\"\",Q238=0),\"\",IF(VLOOKUP(VALUE($A238),WEEKLY_DATA!$A:$H,6,0)=0,\"No Sales\",Q238/(VLOOKUP(VALUE($A238),WEEKLY_DATA!$A:$H,6,0)/13))),\"\")","v":""},{"$f":"IFERROR(VLOOKUP(VALUE(A238),WEEKLY_DATA!$A:$H,8,0),0)","v":0},"—"]
[null,null,null,null,null,null,null,null,{"$f":"IFERROR(INDEX(BrandList!$B$2:$B$200,MATCH(TRUE,ISNUMBER(SEARCH(BrandList!$B$2:$B$200,G239)),0)),\"\")","v":""},null,null,null,null,null,null,"",{"$f":"IFERROR(VLOOKUP(VALUE(A239),WEEKLY_DATA!$A:$H,2,0),0)","v":0},{"$f":"IFERROR(VLOOKUP(VALUE(A239),WEEKLY_DATA!$A:$H,3,0),0)","v":0},{"$f":"IFERROR(VLOOKUP(VALUE(A239),WEEKLY_DATA!$A:$H,4,0),0)","v":0},{"$f":"IFERROR(VLOOKUP(VALUE(A239),WEEKLY_DATA!$A:$H,5,0),0)","v":0},{"$f":"IFERROR(VLOOKUP(VALUE(A239),WEEKLY_DATA!$A:$H,6,0),0)","v":0},{"$f":"IFERROR(VLOOKUP(VALUE(A239),WEEKLY_DATA!$A:$H,7,0),0)","v":0},{"$f":"IFERROR(IF(OR(Q239=\"\",Q239=0),\"\",IF(VLOOKUP(VALUE($A239),WEEKLY_DATA!$A:$H,6,0)=0,\"No Sales\",Q239/(VLOOKUP(VALUE($A239),WEEKLY_DATA!$A:$H,6,0)/13))),\"\")","v":""},{"$f":"IFERROR(VLOOKUP(VALUE(A239),WEEKLY_DATA!$A:$H,8,0),0)","v":0},"—"]
[null,null,null,null,null,null,null,null,{"$f":"IFERROR(INDEX(BrandList!$B$2:$B$200,MATCH(TRUE,ISNUMBER(SEARCH(BrandList!$B$2:$B$200,G240)),0)),\"\")","v":""},null,null,null,null,null,null,"",{"$f":"IFERROR(VLOOKUP(VALUE(A240),WEEKLY_DATA!$A:$H,2,0),0)","v":0},{"$f":"IFERROR(VLOOKUP(VALUE(A240),WEEKLY_DATA!$A:$H,3,0),0)","v":0},{"$f":"IFERROR(VLOOKUP(VALUE(A240),WEEKLY_DATA!$A:$H,4,0),0)","v":0},{"$f":"IFERROR(VLOOKUP(VALUE(A240),WEEKLY_DATA!$A:$H,5,0),0)","v":0},{"$f":"IFERROR(VLOOKUP(VALUE(A240),WEEKLY_DATA!$A:$H,6,0),0)","v":0},{"$f":"IFERROR(VLOOKUP(VALUE(A240),WEEKLY_DATA!$A:$H,7,0),0)","v":0},{"$f":"IFERROR(IF(OR(Q240=\"\",Q240=0),\"\",IF(VLOOKUP(VALUE($A240),WEEKLY_DATA!$A:$H,6,0)=0,\"No Sales\",Q240/(VLOOKUP(VALUE($A240),WEEKLY_DATA!$A:$H,6,0)/13))),\"\")","v":""},{"$f":"IFERROR(VLOOKUP(VALUE(A240),WEEKLY_DATA!$A:$H,8,0),0)","v":0},"—"]
[null,null,null,null,null,null,null,null,{"$f":"IFERROR(INDEX(BrandList!$B$2:$B$200,MATCH(TRUE,ISNUMBER(SEARCH(BrandList!$B$2:$B$200,G241)),0)),\"\")","v":""},null,null,null,null,null,null,"",{"$f":"IFERROR(VLOOKUP(VALUE(A241),WEEKLY_DATA!$A:$H,2,0),0)","v":0},{"$f":"IFERROR(VLOOKUP(VALUE(A241),WEEKLY_DATA!$A:$H,3,0),0)","v":0},{"$f":"IFERROR(VLOOKUP(VALUE(A241),WEEKLY_DATA!$A:$H,4,0),0)","v":0},{"$f":"IFERROR(VLOOKUP(VALUE(A241),WEEKLY_DATA!$A:$H,5,0),0)","v":0},{"$f":"IFERROR(VLOOKUP(VALUE(A241),WEEKLY_DATA!$A:$H,6,0),0)","v":0},{"$f":"IFERROR(VLOOKUP(VALUE(A241),WEEKLY_DATA!$A:$H,7,0),0)","v":0},{"$f":"IFERROR(IF(OR(Q241=\"\",Q241=0),\"\",IF(VLOOKUP(VALUE($A241),WEEKLY_DATA!$A:$H,6,0)=0,\"No Sales\",Q241/(VLOOKUP(VALUE($A241),WEEKLY_DATA!$A:$H,6,0)/13))),\"\")","v":""},{"$f":"IFERROR(VLOOKUP(VALUE(A241),WEEKLY_DATA!$A:$H,8,0),0)","v":0},"—"]
[null,null,null,null,null,null,null,null,{"$f":"IFERROR(INDEX(BrandList!$B$2:$B$200,MATCH(TRUE,ISNUMBER(SEARCH(BrandList!$B$2:$B$200,G242)),0)),\"\")","v":""},null,null,null,null,null,null,"",{"$f":"IFERROR(VLOOKUP(VALUE(A242),WEEKLY_DATA!$A:$H,2,0),0)","v":0},{"$f":"IFERROR(VLOOKUP(VALUE(A242),WEEKLY_DATA!$A:$H,3,0),0)","v":0},{"$f":"IFERROR(VLOOKUP(VALUE(A242),WEEKLY_DATA!$A:$H,4,0),0)","v":0},{"$f":"IFERROR(VLOOKUP(VALUE(A242),WEEKLY_DATA!$A:$H,5,0),0)","v":0},{"$f":"IFERROR(VLOOKUP(VALUE(A242),WEEKLY_DATA!$A:$H,6,0),0)","v":0},{"$f":"IFERROR(VLOOKUP(VALUE(A242),WEEKLY_DATA!$A:$H,7,0),0)","v":0},{"$f":"IFERROR(IF(OR(Q242=\"\",Q242=0),\"\",IF(VLOOKUP(VALUE($A242),WEEKLY_DATA!$A:$H,6,0)=0,\"No Sales\",Q242/(VLOOKUP(VALUE($A242),WEEKLY_DATA!$A:$H,6,0)/13))),\"\")","v":""},{"$f":"IFERROR(VLOOKUP(VALUE(A242),WEEKLY_DATA!$A:$H,8,0),0)","v":0},"—"]
[null,null,null,null,null,null,null,null,{"$f":"IFERROR(INDEX(BrandList!$B$2:$B$200,MATCH(TRUE,ISNUMBER(SEARCH(BrandList!$B$2:$B$200,G243)),0)),\"\")","v":""},null,null,null,null,null,null,"",{"$f":"IFERROR(VLOOKUP(VALUE(A243),WEEKLY_DATA!$A:$H,2,0),0)","v":0},{"$f":"IFERROR(VLOOKUP(VALUE(A243),WEEKLY_DATA!$A:$H,3,0),0)","v":0},{"$f":"IFERROR(VLOOKUP(VALUE(A243),WEEKLY_DATA!$A:$H,4,0),0)","v":0},{"$f":"IFERROR(VLOOKUP(VALUE(A243),WEEKLY_DATA!$A:$H,5,0),0)","v":0},{"$f":"IFERROR(VLOOKUP(VALUE(A243),WEEKLY_DATA!$A:$H,6,0),0)","v":0},{"$f":"IFERROR(VLOOKUP(VALUE(A243),WEEKLY_DATA!$A:$H,7,0),0)","v":0},{"$f":"IFERROR(IF(OR(Q243=\"\",Q243=0),\"\",IF(VLOOKUP(VALUE($A243),WEEKLY_DATA!$A:$H,6,0)=0,\"No Sales\",Q243/(VLOOKUP(VALUE($A243),WEEKLY_DATA!$A:$H,6,0)/13))),\"\")","v":""},{"$f":"IFERROR(VLOOKUP(VALUE(A243),WEEKLY_DATA!$A:$H,8,0),0)","v":0},"—"]
[null,null,null,null,null,null,null,null,{"$f":"IFERROR(INDEX(BrandList!$B$2:$B$200,MATCH(TRUE,ISNUMBER(SEARCH(BrandList!$B$2:$B$200,G244)),0)),\"\")","v":""},null,null,null,null,null,null,"",{"$f":"IFERROR(VLOOKUP(VALUE(A244),WEEKLY_DATA!$A:$H,2,0),0)","v":0},{"$f":"IFERROR(VLOOKUP(VALUE(A244),WEEKLY_DATA!$A:$H,3,0),0)","v":0},{"$f":"IFERROR(VLOOKUP(VALUE(A244),WEEKLY_DATA!$A:$H,4,0),0)","v":0},{"$f":"IFERROR(VLOOKUP(VALUE(A244),WEEKLY_DATA!$A:$H,5,0),0)","v":0},{"$f":"IFERROR(VLOOKUP(VALUE(A244),WEEKLY_DATA!$A:$H,6,0),0)","v":0},{"$f":"IFERROR(VLOOKUP(VALUE(A244),WEEKLY_DATA!$A:$H,7,0),0)","v":0},{"$f":"IFERROR(IF(OR(Q244=\"\",Q244=0),\"\",IF(VLOOKUP(VALUE($A244),WEEKLY_DATA!$A:$H,6,0)=0,\"No Sales\",Q244/(VLOOKUP(VALUE($A244),WEEKLY_DATA!$A:$H,6,0)/13))),\"\")","v":""},{"$f":"IFERROR(VLOOKUP(VALUE(A244),WEEKLY_DATA!$A:$H,8,0),0)","v":0},"—"]
[null,null,null,null,null,null,null,null,{"$f":"IFERROR(INDEX(BrandList!$B$2:$B$200,MATCH(TRUE,ISNUMBER(SEARCH(BrandList!$B$2:$B$200,G245)),0)),\"\")","v":""},null,null,null,null,null,null,"",{"$f":"IFERROR(VLOOKUP(VALUE(A245),WEEKLY_DATA!$A:$H,2,0),0)","v":0},{"$f":"IFERROR(VLOOKUP(VALUE(A245),WEEKLY_DATA!$A:$H,3,0),0)","v":0},{"$f":"IFERROR(VLOOKUP(VALUE(A245),WEEKLY_DATA!$A:$H,4,0),0)","v":0},{"$f":"IFERROR(VLOOKUP(VALUE(A245),WEEKLY_DATA!$A:$H,5,0),0)","v":0},{"$f":"IFERROR(VLOOKUP(VALUE(A245),WEEKLY_DATA!$A:$H,6,0),0)","v":0},{"$f":"IFERROR(VLOOKUP(VALUE(A245),WEEKLY_DATA!$A:$H,7,0),0)","v":0},{"$f":"IFERROR(IF(OR(Q245=\"\",Q245=0),\"\",IF(VLOOKUP(VALUE($A245),WEEKLY_DATA!$A:$H,6,0)=0,\"No Sales\",Q245/(VLOOKUP(VALUE($A245),WEEKLY_DATA!$A:$H,6,0)/13))),\"\")","v":""},{"$f":"IFERROR(VLOOKUP(VALUE(A245),WEEKLY_DATA!$A:$H,8,0),0)","v":0},"—"]
[null,null,null,null,null,null,null,null,{"$f":"IFERROR(INDEX(BrandList!$B$2:$B$200,MATCH(TRUE,ISNUMBER(SEARCH(BrandList!$B$2:$B$200,G246)),0)),\"\")","v":""},null,null,null,null,null,null,"",{"$f":"IFERROR(VLOOKUP(VALUE(A246),WEEKLY_DATA!$A:$H,2,0),0)","v":0},{"$f":"IFERROR(VLOOKUP(VALUE(A246),WEEKLY_DATA!$A:$H,3,0),0)","v":0},{"$f":"IFERROR(VLOOKUP(VALUE(A246),WEEKLY_DATA!$A:$H,4,0),0)","v":0},{"$f":"IFERROR(VLOOKUP(VALUE(A246),WEEKLY_DATA!$A:$H,5,0),0)","v":0},{"$f":"IFERROR(VLOOKUP(VALUE(A246),WEEKLY_DATA!$A:$H,6,0),0)","v":0},{"$f":"IFERROR(VLOOKUP(VALUE(A246),WEEKLY_DATA!$A:$H,7,0),0)","v":0},{"$f":"IFERROR(IF(OR(Q246=\"\",Q246=0),\"\",IF(VLOOKUP(VALUE($A246),WEEKLY_DATA!$A:$H,6,0)=0,\"No Sales\",Q246/(VLOOKUP(VALUE($A246),WEEKLY_DATA!$A:$H,6,0)/13))),\"\")","v":""},{"$f":"IFERROR(VLOOKUP(VALUE(A246),WEEKLY_DATA!$A:$H,8,0),0)","v":0},"—"]
[null,null,null,null,null,null,null,null,{"$f":"IFERROR(INDEX(BrandList!$B$2:$B$200,MATCH(TRUE,ISNUMBER(SEARCH(BrandList!$B$2:$B$200,G247)),0)),\"\")","v":""},null,null,null,null,null,null,"",{"$f":"IFERROR(VLOOKUP(VALUE(A247),WEEKLY_DATA!$A:$H,2,0),0)","v":0},{"$f":"IFERROR(VLOOKUP(VALUE(A247),WEEKLY_DATA!$A:$H,3,0),0)","v":0},{"$f":"IFERROR(VLOOKUP(VALUE(A247),WEEKLY_DATA!$A:$H,4,0),0)","v":0},{"$f":"IFERROR(VLOOKUP(VALUE(A247),WEEKLY_DATA!$A:$H,5,0),0)","v":0},{"$f":"IFERROR(VLOOKUP(VALUE(A247),WEEKLY_DATA!$A:$H,6,0),0)","v":0},{"$f":"IFERROR(VLOOKUP(VALUE(A247),WEEKLY_DATA!$A:$H,7,0),0)","v":0},{"$f":"IFERROR(IF(OR(Q247=\"\",Q247=0),\"\",IF(VLOOKUP(VALUE($A247),WEEKLY_DATA!$A:$H,6,0)=0,\"No Sales\",Q247/(VLOOKUP(VALUE($A247),WEEKLY_DATA!$A:$H,6,0)/13))),\"\")","v":""},{"$f":"IFERROR(VLOOKUP(VALUE(A247),WEEKLY_DATA!$A:$H,8,0),0)","v":0},"—"]
[null,null,null,null,null,null,null,null,{"$f":"IFERROR(INDEX(BrandList!$B$2:$B$200,MATCH(TRUE,ISNUMBER(SEARCH(BrandList!$B$2:$B$200,G248)),0)),\"\")","v":""},null,null,null,null,null,null,"",{"$f":"IFERROR(VLOOKUP(VALUE(A248),WEEKLY_DATA!$A:$H,2,0),0)","v":0},{"$f":"IFERROR(VLOOKUP(VALUE(A248),WEEKLY_DATA!$A:$H,3,0),0)","v":0},{"$f":"IFERROR(VLOOKUP(VALUE(A248),WEEKLY_DATA!$A:$H,4,0),0)","v":0},{"$f":"IFERROR(VLOOKUP(VALUE(A248),WEEKLY_DATA!$A:$H,5,0),0)","v":0},{"$f":"IFERROR(VLOOKUP(VALUE(A248),WEEKLY_DATA!$A:$H,6,0),0)","v":0},{"$f":"IFERROR(VLOOKUP(VALUE(A248),WEEKLY_DATA!$A:$H,7,0),0)","v":0},{"$f":"IFERROR(IF(OR(Q248=\"\",Q248=0),\"\",IF(VLOOKUP(VALUE($A248),WEEKLY_DATA!$A:$H,6,0)=0,\"No Sales\",Q248/(VLOOKUP(VALUE($A248),WEEKLY_DATA!$A:$H,6,0)/13))),\"\")","v":""},{"$f":"IFERROR(VLOOKUP(VALUE(A248),WEEKLY_DATA!$A:$H,8,0),0)","v":0},"—"]
[null,null,null,null,null,null,null,null,{"$f":"IFERROR(INDEX(BrandList!$B$2:$B$200,MATCH(TRUE,ISNUMBER(SEARCH(BrandList!$B$2:$B$200,G249)),0)),\"\")","v":""},null,null,null,null,null,null,"",{"$f":"IFERROR(VLOOKUP(VALUE(A249),WEEKLY_DATA!$A:$H,2,0),0)","v":0},{"$f":"IFERROR(VLOOKUP(VALUE(A249),WEEKLY_DATA!$A:$H,3,0),0)","v":0},{"$f":"IFERROR(VLOOKUP(VALUE(A249),WEEKLY_DATA!$A:$H,4,0),0)","v":0},{"$f":"IFERROR(VLOOKUP(VALUE(A249),WEEKLY_DATA!$A:$H,5,0),0)","v":0},{"$f":"IFERROR(VLOOKUP(VALUE(A249),WEEKLY_DATA!$A:$H,6,0),0)","v":0},{"$f":"IFERROR(VLOOKUP(VALUE(A249),WEEKLY_DATA!$A:$H,7,0),0)","v":0},{"$f":"IFERROR(IF(OR(Q249=\"\",Q249=0),\"\",IF(VLOOKUP(VALUE($A249),WEEKLY_DATA!$A:$H,6,0)=0,\"No Sales\",Q249/(VLOOKUP(VALUE($A249),WEEKLY_DATA!$A:$H,6,0)/13))),\"\")","v":""},{"$f":"IFERROR(VLOOKUP(VALUE(A249),WEEKLY_DATA!$A:$H,8,0),0)","v":0},"—"]
[null,null,null,null,null,null,null,null,{"$f":"IFERROR(INDEX(BrandList!$B$2:$B$200,MATCH(TRUE,ISNUMBER(SEARCH(BrandList!$B$2:$B$200,G250)),0)),\"\")","v":""},null,null,null,null,null,null,"",{"$f":"IFERROR(VLOOKUP(VALUE(A250),WEEKLY_DATA!$A:$H,2,0),0)","v":0},{"$f":"IFERROR(VLOOKUP(VALUE(A250),WEEKLY_DATA!$A:$H,3,0),0)","v":0},{"$f":"IFERROR(VLOOKUP(VALUE(A250),WEEKLY_DATA!$A:$H,4,0),0)","v":0},{"$f":"IFERROR(VLOOKUP(VALUE(A250),WEEKLY_DATA!$A:$H,5,0),0)","v":0},{"$f":"IFERROR(VLOOKUP(VALUE(A250),WEEKLY_DATA!$A:$H,6,0),0)","v":0},{"$f":"IFERROR(VLOOKUP(VALUE(A250),WEEKLY_DATA!$A:$H,7,0),0)","v":0},{"$f":"IFERROR(IF(OR(Q250=\"\",Q250=0),\"\",IF(VLOOKUP(VALUE($A250),WEEKLY_DATA!$A:$H,6,0)=0,\"No Sales\",Q250/(VLOOKUP(VALUE($A250),WEEKLY_DATA!$A:$H,6,0)/13))),\"\")","v":""},{"$f":"IFERROR(VLOOKUP(VALUE(A250),WEEKLY_DATA!$A:$H,8,0),0)","v":0},"—"]
[null,null,null,null,null,null,null,null,{"$f":"IFERROR(INDEX(BrandList!$B$2:$B$200,MATCH(TRUE,ISNUMBER(SEARCH(BrandList!$B$2:$B$200,G251)),0)),\"\")","v":""},null,null,null,null,null,null,"",{"$f":"IFERROR(VLOOKUP(VALUE(A251),WEEKLY_DATA!$A:$H,2,0),0)","v":0},{"$f":"IFERROR(VLOOKUP(VALUE(A251),WEEKLY_DATA!$A:$H,3,0),0)","v":0},{"$f":"IFERROR(VLOOKUP(VALUE(A251),WEEKLY_DATA!$A:$H,4,0),0)","v":0},{"$f":"IFERROR(VLOOKUP(VALUE(A251),WEEKLY_DATA!$A:$H,5,0),0)","v":0},{"$f":"IFERROR(VLOOKUP(VALUE(A251),WEEKLY_DATA!$A:$H,6,0),0)","v":0},{"$f":"IFERROR(VLOOKUP(VALUE(A251),WEEKLY_DATA!$A:$H,7,0),0)","v":0},{"$f":"IFERROR(IF(OR(Q251=\"\",Q251=0),\"\",IF(VLOOKUP(VALUE($A251),WEEKLY_DATA!$A:$H,6,0)=0,\"No Sales\",Q251/(VLOOKUP(VALUE($A251),WEEKLY_DATA!$A:$H,6,0)/13))),\"\")","v":""},{"$f":"IFERROR(VLOOKUP(VALUE(A251),WEEKLY_DATA!$A:$H,8,0),0)","v":0},"—"]
[null,null,null,null,null,null,null,null,{"$f":"IFERROR(INDEX(BrandList!$B$2:$B$200,MATCH(TRUE,ISNUMBER(SEARCH(BrandList!$B$2:$B$200,G252)),0)),\"\")","v":""},null,null,null,null,null,null,"",{"$f":"IFERROR(VLOOKUP(VALUE(A252),WEEKLY_DATA!$A:$H,2,0),0)","v":0},{"$f":"IFERROR(VLOOKUP(VALUE(A252),WEEKLY_DATA!$A:$H,3,0),0)","v":0},{"$f":"IFERROR(VLOOKUP(VALUE(A252),WEEKLY_DATA!$A:$H,4,0),0)","v":0},{"$f":"IFERROR(VLOOKUP(VALUE(A252),WEEKLY_DATA!$A:$H,5,0),0)","v":0},{"$f":"IFERROR(VLOOKUP(VALUE(A252),WEEKLY_DATA!$A:$H,6,0),0)","v":0},{"$f":"IFERROR(VLOOKUP(VALUE(A252),WEEKLY_DATA!$A:$H,7,0),0)","v":0},{"$f":"IFERROR(IF(OR(Q252=\"\",Q252=0),\"\",IF(VLOOKUP(VALUE($A252),WEEKLY_DATA!$A:$H,6,0)=0,\"No Sales\",Q252/(VLOOKUP(VALUE($A252),WEEKLY_DATA!$A:$H,6,0)/13))),\"\")","v":""},{"$f":"IFERROR(VLOOKUP(VALUE(A252),WEEKLY_DATA!$A:$H,8,0),0)","v":0},"—"]
[null,null,null,null,null,null,null,null,{"$f":"IFERROR(INDEX(BrandList!$B$2:$B$200,MATCH(TRUE,ISNUMBER(SEARCH(BrandList!$B$2:$B$200,G253)),0)),\"\")","v":""},null,null,null,null,null,null,"",{"$f":"IFERROR(VLOOKUP(VALUE(A253),WEEKLY_DATA!$A:$H,2,0),0)","v":0},{"$f":"IFERROR(VLOOKUP(VALUE(A253),WEEKLY_DATA!$A:$H,3,0),0)","v":0},{"$f":"IFERROR(VLOOKUP(VALUE(A253),WEEKLY_DATA!$A:$H,4,0),0)","v":0},{"$f":"IFERROR(VLOOKUP(VALUE(A253),WEEKLY_DATA!$A:$H,5,0),0)","v":0},{"$f":"IFERROR(VLOOKUP(VALUE(A253),WEEKLY_DATA!$A:$H,6,0),0)","v":0},{"$f":"IFERROR(VLOOKUP(VALUE(A253),WEEKLY_DATA!$A:$H,7,0),0)","v":0},{"$f":"IFERROR(IF(OR(Q253=\"\",Q253=0),\"\",IF(VLOOKUP(VALUE($A253),WEEKLY_DATA!$A:$H,6,0)=0,\"No Sales\",Q253/(VLOOKUP(VALUE($A253),WEEKLY_DATA!$A:$H,6,0)/13))),\"\")","v":""},{"$f":"IFERROR(VLOOKUP(VALUE(A253),WEEKLY_DATA!$A:$H,8,0),0)","v":0},"—"]
[null,null,null,null,null,null,null,null,{"$f":"IFERROR(INDEX(BrandList!$B$2:$B$200,MATCH(TRUE,ISNUMBER(SEARCH(BrandList!$B$2:$B$200,G254)),0)),\"\")","v":""},null,null,null,null,null,null,"",{"$f":"IFERROR(VLOOKUP(VALUE(A254),WEEKLY_DATA!$A:$H,2,0),0)","v":0},{"$f":"IFERROR(VLOOKUP(VALUE(A254),WEEKLY_DATA!$A:$H,3,0),0)","v":0},{"$f":"IFERROR(VLOOKUP(VALUE(A254),WEEKLY_DATA!$A:$H,4,0),0)","v":0},{"$f":"IFERROR(VLOOKUP(VALUE(A254),WEEKLY_DATA!$A:$H,5,0),0)","v":0},{"$f":"IFERROR(VLOOKUP(VALUE(A254),WEEKLY_DATA!$A:$H,6,0),0)","v":0},{"$f":"IFERROR(VLOOKUP(VALUE(A254),WEEKLY_DATA!$A:$H,7,0),0)","v":0},{"$f":"IFERROR(IF(OR(Q254=\"\",Q254=0),\"\",IF(VLOOKUP(VALUE($A254),WEEKLY_DATA!$A:$H,6,0)=0,\"No Sales\",Q254/(VLOOKUP(VALUE($A254),WEEKLY_DATA!$A:$H,6,0)/13))),\"\")","v":""},{"$f":"IFERROR(VLOOKUP(VALUE(A254),WEEKLY_DATA!$A:$H,8,0),0)","v":0},"—"]
[null,null,null,null,null,null,null,null,{"$f":"IFERROR(INDEX(BrandList!$B$2:$B$200,MATCH(TRUE,ISNUMBER(SEARCH(BrandList!$B$2:$B$200,G255)),0)),\"\")","v":""},null,null,null,null,null,null,"",{"$f":"IFERROR(VLOOKUP(VALUE(A255),WEEKLY_DATA!$A:$H,2,0),0)","v":0},{"$f":"IFERROR(VLOOKUP(VALUE(A255),WEEKLY_DATA!$A:$H,3,0),0)","v":0},{"$f":"IFERROR(VLOOKUP(VALUE(A255),WEEKLY_DATA!$A:$H,4,0),0)","v":0},{"$f":"IFERROR(VLOOKUP(VALUE(A255),WEEKLY_DATA!$A:$H,5,0),0)","v":0},{"$f":"IFERROR(VLOOKUP(VALUE(A255),WEEKLY_DATA!$A:$H,6,0),0)","v":0},{"$f":"IFERROR(VLOOKUP(VALUE(A255),WEEKLY_DATA!$A:$H,7,0),0)","v":0},{"$f":"IFERROR(IF(OR(Q255=\"\",Q255=0),\"\",IF(VLOOKUP(VALUE($A255),WEEKLY_DATA!$A:$H,6,0)=0,\"No Sales\",Q255/(VLOOKUP(VALUE($A255),WEEKLY_DATA!$A:$H,6,0)/13))),\"\")","v":""},{"$f":"IFERROR(VLOOKUP(VALUE(A255),WEEKLY_DATA!$A:$H,8,0),0)","v":0},"—"]
[null,null,null,null,null,null,null,null,{"$f":"IFERROR(INDEX(BrandList!$B$2:$B$200,MATCH(TRUE,ISNUMBER(SEARCH(BrandList!$B$2:$B$200,G256)),0)),\"\")","v":""},null,null,null,null,null,null,"",{"$f":"IFERROR(VLOOKUP(VALUE(A256),WEEKLY_DATA!$A:$H,2,0),0)","v":0},{"$f":"IFERROR(VLOOKUP(VALUE(A256),WEEKLY_DATA!$A:$H,3,0),0)","v":0},{"$f":"IFERROR(VLOOKUP(VALUE(A256),WEEKLY_DATA!$A:$H,4,0),0)","v":0},{"$f":"IFERROR(VLOOKUP(VALUE(A256),WEEKLY_DATA!$A:$H,5,0),0)","v":0},{"$f":"IFERROR(VLOOKUP(VALUE(A256),WEEKLY_DATA!$A:$H,6,0),0)","v":0},{"$f":"IFERROR(VLOOKUP(VALUE(A256),WEEKLY_DATA!$A:$H,7,0),0)","v":0},{"$f":"IFERROR(IF(OR(Q256=\"\",Q256=0),\"\",IF(VLOOKUP(VALUE($A256),WEEKLY_DATA!$A:$H,6,0)=0,\"No Sales\",Q256/(VLOOKUP(VALUE($A256),WEEKLY_DATA!$A:$H,6,0)/13))),\"\")","v":""},{"$f":"IFERROR(VLOOKUP(VALUE(A256),WEEKLY_DATA!$A:$H,8,0),0)","v":0},"—"]
[null,null,null,null,null,null,null,null,{"$f":"IFERROR(INDEX(BrandList!$B$2:$B$200,MATCH(TRUE,ISNUMBER(SEARCH(BrandList!$B$2:$B$200,G257)),0)),\"\")","v":""},null,null,null,null,null,null,"",{"$f":"IFERROR(VLOOKUP(VALUE(A257),WEEKLY_DATA!$A:$H,2,0),0)","v":0},{"$f":"IFERROR(VLOOKUP(VALUE(A257),WEEKLY_DATA!$A:$H,3,0),0)","v":0},{"$f":"IFERROR(VLOOKUP(VALUE(A257),WEEKLY_DATA!$A:$H,4,0),0)","v":0},{"$f":"IFERROR(VLOOKUP(VALUE(A257),WEEKLY_DATA!$A:$H,5,0),0)","v":0},{"$f":"IFERROR(VLOOKUP(VALUE(A257),WEEKLY_DATA!$A:$H,6,0),0)","v":0},{"$f":"IFERROR(VLOOKUP(VALUE(A257),WEEKLY_DATA!$A:$H,7,0),0)","v":0},{"$f":"IFERROR(IF(OR(Q257=\"\",Q257=0),\"\",IF(VLOOKUP(VALUE($A257),WEEKLY_DATA!$A:$H,6,0)=0,\"No Sales\",Q257/(VLOOKUP(VALUE($A257),WEEKLY_DATA!$A:$H,6,0)/13))),\"\")","v":""},{"$f":"IFERROR(VLOOKUP(VALUE(A257),WEEKLY_DATA!$A:$H,8,0),0)","v":0},"—"]
[null,null,null,null,null,null,null,null,{"$f":"IFERROR(INDEX(BrandList!$B$2:$B$200,MATCH(TRUE,ISNUMBER(SEARCH(BrandList!$B$2:$B$200,G258)),0)),\"\")","v":""},null,null,null,null,null,null,"",{"$f":"IFERROR(VLOOKUP(VALUE(A258),WEEKLY_DATA!$A:$H,2,0),0)","v":0},{"$f":"IFERROR(VLOOKUP(VALUE(A258),WEEKLY_DATA!$A:$H,3,0),0)","v":0},{"$f":"IFERROR(VLOOKUP(VALUE(A258),WEEKLY_DATA!$A:$H,4,0),0)","v":0},{"$f":"IFERROR(VLOOKUP(VALUE(A258),WEEKLY_DATA!$A:$H,5,0),0)","v":0},{"$f":"IFERROR(VLOOKUP(VALUE(A258),WEEKLY_DATA!$A:$H,6,0),0)","v":0},{"$f":"IFERROR(VLOOKUP(VALUE(A258),WEEKLY_DATA!$A:$H,7,0),0)","v":0},{"$f":"IFERROR(IF(OR(Q258=\"\",Q258=0),\"\",IF(VLOOKUP(VALUE($A258),WEEKLY_DATA!$A:$H,6,0)=0,\"No Sales\",Q258/(VLOOKUP(VALUE($A258),WEEKLY_DATA!$A:$H,6,0)/13))),\"\")","v":""},{"$f":"IFERROR(VLOOKUP(VALUE(A258),WEEKLY_DATA!$A:$H,8,0),0)","v":0},"—"]
[null,null,null,null,null,null,null,null,{"$f":"IFERROR(INDEX(BrandList!$B$2:$B$200,MATCH(TRUE,ISNUMBER(SEARCH(BrandList!$B$2:$B$200,G259)),0)),\"\")","v":""},null,null,null,null,null,null,"",{"$f":"IFERROR(VLOOKUP(VALUE(A259),WEEKLY_DATA!$A:$H,2,0),0)","v":0},{"$f":"IFERROR(VLOOKUP(VALUE(A259),WEEKLY_DATA!$A:$H,3,0),0)","v":0},{"$f":"IFERROR(VLOOKUP(VALUE(A259),WEEKLY_DATA!$A:$H,4,0),0)","v":0},{"$f":"IFERROR(VLOOKUP(VALUE(A259),WEEKLY_DATA!$A:$H,5,0),0)","v":0},{"$f":"IFERROR(VLOOKUP(VALUE(A259),WEEKLY_DATA!$A:$H,6,0),0)","v":0},{"$f":"IFERROR(VLOOKUP(VALUE(A259),WEEKLY_DATA!$A:$H,7,0),0)","v":0},{"$f":"IFERROR(IF(OR(Q259=\"\",Q259=0),\"\",IF(VLOOKUP(VALUE($A259),WEEKLY_DATA!$A:$H,6,0)=0,\"No Sales\",Q259/(VLOOKUP(VALUE($A259),WEEKLY_DATA!$A:$H,6,0)/13))),\"\")","v":""},{"$f":"IFERROR(VLOOKUP(VALUE(A259),WEEKLY_DATA!$A:$H,8,0),0)","v":0},"—"]
[null,null,null,null,null,null,null,null,{"$f":"IFERROR(INDEX(BrandList!$B$2:$B$200,MATCH(TRUE,ISNUMBER(SEARCH(BrandList!$B$2:$B$200,G260)),0)),\"\")","v":""},null,null,null,null,null,null,"",{"$f":"IFERROR(VLOOKUP(VALUE(A260),WEEKLY_DATA!$A:$H,2,0),0)","v":0},{"$f":"IFERROR(VLOOKUP(VALUE(A260),WEEKLY_DATA!$A:$H,3,0),0)","v":0},{"$f":"IFERROR(VLOOKUP(VALUE(A260),WEEKLY_DATA!$A:$H,4,0),0)","v":0},{"$f":"IFERROR(VLOOKUP(VALUE(A260),WEEKLY_DATA!$A:$H,5,0),0)","v":0},{"$f":"IFERROR(VLOOKUP(VALUE(A260),WEEKLY_DATA!$A:$H,6,0),0)","v":0},{"$f":"IFERROR(VLOOKUP(VALUE(A260),WEEKLY_DATA!$A:$H,7,0),0)","v":0},{"$f":"IFERROR(IF(OR(Q260=\"\",Q260=0),\"\",IF(VLOOKUP(VALUE($A260),WEEKLY_DATA!$A:$H,6,0)=0,\"No Sales\",Q260/(VLOOKUP(VALUE($A260),WEEKLY_DATA!$A:$H,6,0)/13))),\"\")","v":""},{"$f":"IFERROR(VLOOKUP(VALUE(A260),WEEKLY_DATA!$A:$H,8,0),0)","v":0},"—"]
[null,null,null,null,null,null,null,null,{"$f":"IFERROR(INDEX(BrandList!$B$2:$B$200,MATCH(TRUE,ISNUMBER(SEARCH(BrandList!$B$2:$B$200,G261)),0)),\"\")","v":""},null,null,null,null,null,null,"",{"$f":"IFERROR(VLOOKUP(VALUE(A261),WEEKLY_DATA!$A:$H,2,0),0)","v":0},{"$f":"IFERROR(VLOOKUP(VALUE(A261),WEEKLY_DATA!$A:$H,3,0),0)","v":0},{"$f":"IFERROR(VLOOKUP(VALUE(A261),WEEKLY_DATA!$A:$H,4,0),0)","v":0},{"$f":"IFERROR(VLOOKUP(VALUE(A261),WEEKLY_DATA!$A:$H,5,0),0)","v":0},{"$f":"IFERROR(VLOOKUP(VALUE(A261),WEEKLY_DATA!$A:$H,6,0),0)","v":0},{"$f":"IFERROR(VLOOKUP(VALUE(A261),WEEKLY_DATA!$A:$H,7,0),0)","v":0},{"$f":"IFERROR(IF(OR(Q261=\"\",Q261=0),\"\",IF(VLOOKUP(VALUE($A261),WEEKLY_DATA!$A:$H,6,0)=0,\"No Sales\",Q261/(VLOOKUP(VALUE($A261),WEEKLY_DATA!$A:$H,6,0)/13))),\"\")","v":""},{"$f":"IFERROR(VLOOKUP(VALUE(A261),WEEKLY_DATA!$A:$H,8,0),0)","v":0},"—"]
[null,null,null,null,null,null,null,null,{"$f":"IFERROR(INDEX(BrandList!$B$2:$B$200,MATCH(TRUE,ISNUMBER(SEARCH(BrandList!$B$2:$B$200,G262)),0)),\"\")","v":""},null,null,null,null,null,null,"",{"$f":"IFERROR(VLOOKUP(VALUE(A262),WEEKLY_DATA!$A:$H,2,0),0)","v":0},{"$f":"IFERROR(VLOOKUP(VALUE(A262),WEEKLY_DATA!$A:$H,3,0),0)","v":0},{"$f":"IFERROR(VLOOKUP(VALUE(A262),WEEKLY_DATA!$A:$H,4,0),0)","v":0},{"$f":"IFERROR(VLOOKUP(VALUE(A262),WEEKLY_DATA!$A:$H,5,0),0)","v":0},{"$f":"IFERROR(VLOOKUP(VALUE(A262),WEEKLY_DATA!$A:$H,6,0),0)","v":0},{"$f":"IFERROR(VLOOKUP(VALUE(A262),WEEKLY_DATA!$A:$H,7,0),0)","v":0},{"$f":"IFERROR(IF(OR(Q262=\"\",Q262=0),\"\",IF(VLOOKUP(VALUE($A262),WEEKLY_DATA!$A:$H,6,0)=0,\"No Sales\",Q262/(VLOOKUP(VALUE($A262),WEEKLY_DATA!$A:$H,6,0)/13))),\"\")","v":""},{"$f":"IFERROR(VLOOKUP(VALUE(A262),WEEKLY_DATA!$A:$H,8,0),0)","v":0},{"$f":"IFERROR(\nIF(J262=\"Discontinued\",\"🔴 EOL\",\nIF(J262=\"Drop Ship\",\"📦 Drop Ship\",\nIF(J262=\"New\",\"🆕 New\",\nIF(W262=\"\",\"—\",\nIF(W262<2,\"🔴 Critical\",\nIF(W262<4,\"🟡 Low\",\nIF(W262>26,\"🔵 Overstock\",\"🟢 Healthy\")\n)))))),\"\")","v":"—"}]
[null,null,null,null,null,null,null,null,{"$f":"IFERROR(INDEX(BrandList!$B$2:$B$200,MATCH(TRUE,ISNUMBER(SEARCH(BrandList!$B$2:$B$200,G263)),0)),\"\")","v":""},null,null,null,null,null,null,{"$f":"IFERROR(IF(OR(E263=\"\",F263=\"\",F263=0),\"\",(F263-E263)/F263),\"\")","v":""},{"$f":"IFERROR(VLOOKUP(VALUE(A263),WEEKLY_DATA!$A:$H,2,0),0)","v":0},{"$f":"IFERROR(VLOOKUP(VALUE(A263),WEEKLY_DATA!$A:$H,3,0),0)","v":0},{"$f":"IFERROR(VLOOKUP(VALUE(A263),WEEKLY_DATA!$A:$H,4,0),0)","v":0},{"$f":"IFERROR(VLOOKUP(VALUE(A263),WEEKLY_DATA!$A:$H,5,0),0)","v":0},{"$f":"IFERROR(VLOOKUP(VALUE(A263),WEEKLY_DATA!$A:$H,6,0),0)","v":0},{"$f":"IFERROR(VLOOKUP(VALUE(A263),WEEKLY_DATA!$A:$H,7,0),0)","v":0},{"$f":"IFERROR(IF(OR(Q263=\"\",Q263=0),\"\",IF(VLOOKUP(VALUE($A263),WEEKLY_DATA!$A:$H,6,0)=0,\"No Sales\",Q263/(VLOOKUP(VALUE($A263),WEEKLY_DATA!$A:$H,6,0)/13))),\"\")","v":""},{"$f":"IFERROR(VLOOKUP(VALUE(A263),WEEKLY_DATA!$A:$H,8,0),0)","v":0},"—"]
[null,null,null,null,null,null,null,null,{"$f":"IFERROR(INDEX(BrandList!$B$2:$B$200,MATCH(TRUE,ISNUMBER(SEARCH(BrandList!$B$2:$B$200,G264)),0)),\"\")","v":""},null,null,null,null,null,null,"",{"$f":"IFERROR(VLOOKUP(VALUE(A264),WEEKLY_DATA!$A:$H,2,0),0)","v":0},{"$f":"IFERROR(VLOOKUP(VALUE(A264),WEEKLY_DATA!$A:$H,3,0),0)","v":0},{"$f":"IFERROR(VLOOKUP(VALUE(A264),WEEKLY_DATA!$A:$H,4,0),0)","v":0},{"$f":"IFERROR(VLOOKUP(VALUE(A264),WEEKLY_DATA!$A:$H,5,0),0)","v":0},{"$f":"IFERROR(VLOOKUP(VALUE(A264),WEEKLY_DATA!$A:$H,6,0),0)","v":0},{"$f":"IFERROR(VLOOKUP(VALUE(A264),WEEKLY_DATA!$A:$H,7,0),0)","v":0},{"$f":"IFERROR(IF(OR(Q264=\"\",Q264=0),\"\",IF(VLOOKUP(VALUE($A264),WEEKLY_DATA!$A:$H,6,0)=0,\"No Sales\",Q264/(VLOOKUP(VALUE($A264),WEEKLY_DATA!$A:$H,6,0)/13))),\"\")","v":""},{"$f":"IFERROR(VLOOKUP(VALUE(A264),WEEKLY_DATA!$A:$H,8,0),0)","v":0},"—"]
[null,null,null,null,null,null,null,null,{"$f":"IFERROR(INDEX(BrandList!$B$2:$B$200,MATCH(TRUE,ISNUMBER(SEARCH(BrandList!$B$2:$B$200,G265)),0)),\"\")","v":""},null,null,null,null,null,null,"",{"$f":"IFERROR(VLOOKUP(VALUE(A265),WEEKLY_DATA!$A:$H,2,0),0)","v":0},{"$f":"IFERROR(VLOOKUP(VALUE(A265),WEEKLY_DATA!$A:$H,3,0),0)","v":0},{"$f":"IFERROR(VLOOKUP(VALUE(A265),WEEKLY_DATA!$A:$H,4,0),0)","v":0},{"$f":"IFERROR(VLOOKUP(VALUE(A265),WEEKLY_DATA!$A:$H,5,0),0)","v":0},{"$f":"IFERROR(VLOOKUP(VALUE(A265),WEEKLY_DATA!$A:$H,6,0),0)","v":0},{"$f":"IFERROR(VLOOKUP(VALUE(A265),WEEKLY_DATA!$A:$H,7,0),0)","v":0},{"$f":"IFERROR(IF(OR(Q265=\"\",Q265=0),\"\",IF(VLOOKUP(VALUE($A265),WEEKLY_DATA!$A:$H,6,0)=0,\"No Sales\",Q265/(VLOOKUP(VALUE($A265),WEEKLY_DATA!$A:$H,6,0)/13))),\"\")","v":""},{"$f":"IFERROR(VLOOKUP(VALUE(A265),WEEKLY_DATA!$A:$H,8,0),0)","v":0},"—"]
[null,null,null,null,null,null,null,null,{"$f":"IFERROR(INDEX(BrandList!$B$2:$B$200,MATCH(TRUE,ISNUMBER(SEARCH(BrandList!$B$2:$B$200,G266)),0)),\"\")","v":""},null,null,null,null,null,null,"",{"$f":"IFERROR(VLOOKUP(VALUE(A266),WEEKLY_DATA!$A:$H,2,0),0)","v":0},{"$f":"IFERROR(VLOOKUP(VALUE(A266),WEEKLY_DATA!$A:$H,3,0),0)","v":0},{"$f":"IFERROR(VLOOKUP(VALUE(A266),WEEKLY_DATA!$A:$H,4,0),0)","v":0},{"$f":"IFERROR(VLOOKUP(VALUE(A266),WEEKLY_DATA!$A:$H,5,0),0)","v":0},{"$f":"IFERROR(VLOOKUP(VALUE(A266),WEEKLY_DATA!$A:$H,6,0),0)","v":0},{"$f":"IFERROR(VLOOKUP(VALUE(A266),WEEKLY_DATA!$A:$H,7,0),0)","v":0},{"$f":"IFERROR(IF(OR(Q266=\"\",Q266=0),\"\",IF(VLOOKUP(VALUE($A266),WEEKLY_DATA!$A:$H,6,0)=0,\"No Sales\",Q266/(VLOOKUP(VALUE($A266),WEEKLY_DATA!$A:$H,6,0)/13))),\"\")","v":""},{"$f":"IFERROR(VLOOKUP(VALUE(A266),WEEKLY_DATA!$A:$H,8,0),0)","v":0},"—"]
[null,null,null,null,null,null,null,null,{"$f":"IFERROR(INDEX(BrandList!$B$2:$B$200,MATCH(TRUE,ISNUMBER(SEARCH(BrandList!$B$2:$B$200,G267)),0)),\"\")","v":""},null,null,null,null,null,null,"",{"$f":"IFERROR(VLOOKUP(VALUE(A267),WEEKLY_DATA!$A:$H,2,0),0)","v":0},{"$f":"IFERROR(VLOOKUP(VALUE(A267),WEEKLY_DATA!$A:$H,3,0),0)","v":0},{"$f":"IFERROR(VLOOKUP(VALUE(A267),WEEKLY_DATA!$A:$H,4,0),0)","v":0},{"$f":"IFERROR(VLOOKUP(VALUE(A267),WEEKLY_DATA!$A:$H,5,0),0)","v":0},{"$f":"IFERROR(VLOOKUP(VALUE(A267),WEEKLY_DATA!$A:$H,6,0),0)","v":0},{"$f":"IFERROR(VLOOKUP(VALUE(A267),WEEKLY_DATA!$A:$H,7,0),0)","v":0},{"$f":"IFERROR(IF(OR(Q267=\"\",Q267=0),\"\",IF(VLOOKUP(VALUE($A267),WEEKLY_DATA!$A:$H,6,0)=0,\"No Sales\",Q267/(VLOOKUP(VALUE($A267),WEEKLY_DATA!$A:$H,6,0)/13))),\"\")","v":""},{"$f":"IFERROR(VLOOKUP(VALUE(A267),WEEKLY_DATA!$A:$H,8,0),0)","v":0},"—"]
[null,null,null,null,null,null,null,null,{"$f":"IFERROR(INDEX(BrandList!$B$2:$B$200,MATCH(TRUE,ISNUMBER(SEARCH(BrandList!$B$2:$B$200,G268)),0)),\"\")","v":""},null,null,null,null,null,null,"",{"$f":"IFERROR(VLOOKUP(VALUE(A268),WEEKLY_DATA!$A:$H,2,0),0)","v":0},{"$f":"IFERROR(VLOOKUP(VALUE(A268),WEEKLY_DATA!$A:$H,3,0),0)","v":0},{"$f":"IFERROR(VLOOKUP(VALUE(A268),WEEKLY_DATA!$A:$H,4,0),0)","v":0},{"$f":"IFERROR(VLOOKUP(VALUE(A268),WEEKLY_DATA!$A:$H,5,0),0)","v":0},{"$f":"IFERROR(VLOOKUP(VALUE(A268),WEEKLY_DATA!$A:$H,6,0),0)","v":0},{"$f":"IFERROR(VLOOKUP(VALUE(A268),WEEKLY_DATA!$A:$H,7,0),0)","v":0},{"$f":"IFERROR(IF(OR(Q268=\"\",Q268=0),\"\",IF(VLOOKUP(VALUE($A268),WEEKLY_DATA!$A:$H,6,0)=0,\"No Sales\",Q268/(VLOOKUP(VALUE($A268),WEEKLY_DATA!$A:$H,6,0)/13))),\"\")","v":""},{"$f":"IFERROR(VLOOKUP(VALUE(A268),WEEKLY_DATA!$A:$H,8,0),0)","v":0},"—"]
[null,null,null,null,null,null,null,null,{"$f":"IFERROR(INDEX(BrandList!$B$2:$B$200,MATCH(TRUE,ISNUMBER(SEARCH(BrandList!$B$2:$B$200,G269)),0)),\"\")","v":""},null,null,null,null,null,null,"",{"$f":"IFERROR(VLOOKUP(VALUE(A269),WEEKLY_DATA!$A:$H,2,0),0)","v":0},{"$f":"IFERROR(VLOOKUP(VALUE(A269),WEEKLY_DATA!$A:$H,3,0),0)","v":0},{"$f":"IFERROR(VLOOKUP(VALUE(A269),WEEKLY_DATA!$A:$H,4,0),0)","v":0},{"$f":"IFERROR(VLOOKUP(VALUE(A269),WEEKLY_DATA!$A:$H,5,0),0)","v":0},{"$f":"IFERROR(VLOOKUP(VALUE(A269),WEEKLY_DATA!$A:$H,6,0),0)","v":0},{"$f":"IFERROR(VLOOKUP(VALUE(A269),WEEKLY_DATA!$A:$H,7,0),0)","v":0},{"$f":"IFERROR(IF(OR(Q269=\"\",Q269=0),\"\",IF(VLOOKUP(VALUE($A269),WEEKLY_DATA!$A:$H,6,0)=0,\"No Sales\",Q269/(VLOOKUP(VALUE($A269),WEEKLY_DATA!$A:$H,6,0)/13))),\"\")","v":""},{"$f":"IFERROR(VLOOKUP(VALUE(A269),WEEKLY_DATA!$A:$H,8,0),0)","v":0},"—"]
[null,null,null,null,null,null,null,null,{"$f":"IFERROR(INDEX(BrandList!$B$2:$B$200,MATCH(TRUE,ISNUMBER(SEARCH(BrandList!$B$2:$B$200,G270)),0)),\"\")","v":""},null,null,null,null,null,null,"",{"$f":"IFERROR(VLOOKUP(VALUE(A270),WEEKLY_DATA!$A:$H,2,0),0)","v":0},{"$f":"IFERROR(VLOOKUP(VALUE(A270),WEEKLY_DATA!$A:$H,3,0),0)","v":0},{"$f":"IFERROR(VLOOKUP(VALUE(A270),WEEKLY_DATA!$A:$H,4,0),0)","v":0},{"$f":"IFERROR(VLOOKUP(VALUE(A270),WEEKLY_DATA!$A:$H,5,0),0)","v":0},{"$f":"IFERROR(VLOOKUP(VALUE(A270),WEEKLY_DATA!$A:$H,6,0),0)","v":0},{"$f":"IFERROR(VLOOKUP(VALUE(A270),WEEKLY_DATA!$A:$H,7,0),0)","v":0},{"$f":"IFERROR(IF(OR(Q270=\"\",Q270=0),\"\",IF(VLOOKUP(VALUE($A270),WEEKLY_DATA!$A:$H,6,0)=0,\"No Sales\",Q270/(VLOOKUP(VALUE($A270),WEEKLY_DATA!$A:$H,6,0)/13))),\"\")","v":""},{"$f":"IFERROR(VLOOKUP(VALUE(A270),WEEKLY_DATA!$A:$H,8,0),0)","v":0},"—"]
[null,null,null,null,null,null,null,null,{"$f":"IFERROR(INDEX(BrandList!$B$2:$B$200,MATCH(TRUE,ISNUMBER(SEARCH(BrandList!$B$2:$B$200,G271)),0)),\"\")","v":""},null,null,null,null,null,null,"",{"$f":"IFERROR(VLOOKUP(VALUE(A271),WEEKLY_DATA!$A:$H,2,0),0)","v":0},{"$f":"IFERROR(VLOOKUP(VALUE(A271),WEEKLY_DATA!$A:$H,3,0),0)","v":0},{"$f":"IFERROR(VLOOKUP(VALUE(A271),WEEKLY_DATA!$A:$H,4,0),0)","v":0},{"$f":"IFERROR(VLOOKUP(VALUE(A271),WEEKLY_DATA!$A:$H,5,0),0)","v":0},{"$f":"IFERROR(VLOOKUP(VALUE(A271),WEEKLY_DATA!$A:$H,6,0),0)","v":0},{"$f":"IFERROR(VLOOKUP(VALUE(A271),WEEKLY_DATA!$A:$H,7,0),0)","v":0},{"$f":"IFERROR(IF(OR(Q271=\"\",Q271=0),\"\",IF(VLOOKUP(VALUE($A271),WEEKLY_DATA!$A:$H,6,0)=0,\"No Sales\",Q271/(VLOOKUP(VALUE($A271),WEEKLY_DATA!$A:$H,6,0)/13))),\"\")","v":""},{"$f":"IFERROR(VLOOKUP(VALUE(A271),WEEKLY_DATA!$A:$H,8,0),0)","v":0},"—"]
[null,null,null,null,null,null,null,null,{"$f":"IFERROR(INDEX(BrandList!$B$2:$B$200,MATCH(TRUE,ISNUMBER(SEARCH(BrandList!$B$2:$B$200,G272)),0)),\"\")","v":""},null,null,null,null,null,null,"",{"$f":"IFERROR(VLOOKUP(VALUE(A272),WEEKLY_DATA!$A:$H,2,0),0)","v":0},{"$f":"IFERROR(VLOOKUP(VALUE(A272),WEEKLY_DATA!$A:$H,3,0),0)","v":0},{"$f":"IFERROR(VLOOKUP(VALUE(A272),WEEKLY_DATA!$A:$H,4,0),0)","v":0},{"$f":"IFERROR(VLOOKUP(VALUE(A272),WEEKLY_DATA!$A:$H,5,0),0)","v":0},{"$f":"IFERROR(VLOOKUP(VALUE(A272),WEEKLY_DATA!$A:$H,6,0),0)","v":0},{"$f":"IFERROR(VLOOKUP(VALUE(A272),WEEKLY_DATA!$A:$H,7,0),0)","v":0},{"$f":"IFERROR(IF(OR(Q272=\"\",Q272=0),\"\",IF(VLOOKUP(VALUE($A272),WEEKLY_DATA!$A:$H,6,0)=0,\"No Sales\",Q272/(VLOOKUP(VALUE($A272),WEEKLY_DATA!$A:$H,6,0)/13))),\"\")","v":""},{"$f":"IFERROR(VLOOKUP(VALUE(A272),WEEKLY_DATA!$A:$H,8,0),0)","v":0},"—"]
[null,null,null,null,null,null,null,null,{"$f":"IFERROR(INDEX(BrandList!$B$2:$B$200,MATCH(TRUE,ISNUMBER(SEARCH(BrandList!$B$2:$B$200,G273)),0)),\"\")","v":""},null,null,null,null,null,null,"",{"$f":"IFERROR(VLOOKUP(VALUE(A273),WEEKLY_DATA!$A:$H,2,0),0)","v":0},{"$f":"IFERROR(VLOOKUP(VALUE(A273),WEEKLY_DATA!$A:$H,3,0),0)","v":0},{"$f":"IFERROR(VLOOKUP(VALUE(A273),WEEKLY_DATA!$A:$H,4,0),0)","v":0},{"$f":"IFERROR(VLOOKUP(VALUE(A273),WEEKLY_DATA!$A:$H,5,0),0)","v":0},{"$f":"IFERROR(VLOOKUP(VALUE(A273),WEEKLY_DATA!$A:$H,6,0),0)","v":0},{"$f":"IFERROR(VLOOKUP(VALUE(A273),WEEKLY_DATA!$A:$H,7,0),0)","v":0},{"$f":"IFERROR(IF(OR(Q273=\"\",Q273=0),\"\",IF(VLOOKUP(VALUE($A273),WEEKLY_DATA!$A:$H,6,0)=0,\"No Sales\",Q273/(VLOOKUP(VALUE($A273),WEEKLY_DATA!$A:$H,6,0)/13))),\"\")","v":""},{"$f":"IFERROR(VLOOKUP(VALUE(A273),WEEKLY_DATA!$A:$H,8,0),0)","v":0},"—"]
[null,null,null,null,null,null,null,null,{"$f":"IFERROR(INDEX(BrandList!$B$2:$B$200,MATCH(TRUE,ISNUMBER(SEARCH(BrandList!$B$2:$B$200,G274)),0)),\"\")","v":""},null,null,null,null,null,null,"",{"$f":"IFERROR(VLOOKUP(VALUE(A274),WEEKLY_DATA!$A:$H,2,0),0)","v":0},{"$f":"IFERROR(VLOOKUP(VALUE(A274),WEEKLY_DATA!$A:$H,3,0),0)","v":0},{"$f":"IFERROR(VLOOKUP(VALUE(A274),WEEKLY_DATA!$A:$H,4,0),0)","v":0},{"$f":"IFERROR(VLOOKUP(VALUE(A274),WEEKLY_DATA!$A:$H,5,0),0)","v":0},{"$f":"IFERROR(VLOOKUP(VALUE(A274),WEEKLY_DATA!$A:$H,6,0),0)","v":0},{"$f":"IFERROR(VLOOKUP(VALUE(A274),WEEKLY_DATA!$A:$H,7,0),0)","v":0},{"$f":"IFERROR(IF(OR(Q274=\"\",Q274=0),\"\",IF(VLOOKUP(VALUE($A274),WEEKLY_DATA!$A:$H,6,0)=0,\"No Sales\",Q274/(VLOOKUP(VALUE($A274),WEEKLY_DATA!$A:$H,6,0)/13))),\"\")","v":""},{"$f":"IFERROR(VLOOKUP(VALUE(A274),WEEKLY_DATA!$A:$H,8,0),0)","v":0},"—"]
[null,null,null,null,null,null,null,null,{"$f":"IFERROR(INDEX(BrandList!$B$2:$B$200,MATCH(TRUE,ISNUMBER(SEARCH(BrandList!$B$2:$B$200,G275)),0)),\"\")","v":""},null,null,null,null,null,null,"",{"$f":"IFERROR(VLOOKUP(VALUE(A275),WEEKLY_DATA!$A:$H,2,0),0)","v":0},{"$f":"IFERROR(VLOOKUP(VALUE(A275),WEEKLY_DATA!$A:$H,3,0),0)","v":0},{"$f":"IFERROR(VLOOKUP(VALUE(A275),WEEKLY_DATA!$A:$H,4,0),0)","v":0},{"$f":"IFERROR(VLOOKUP(VALUE(A275),WEEKLY_DATA!$A:$H,5,0),0)","v":0},{"$f":"IFERROR(VLOOKUP(VALUE(A275),WEEKLY_DATA!$A:$H,6,0),0)","v":0},{"$f":"IFERROR(VLOOKUP(VALUE(A275),WEEKLY_DATA!$A:$H,7,0),0)","v":0},{"$f":"IFERROR(IF(OR(Q275=\"\",Q275=0),\"\",IF(VLOOKUP(VALUE($A275),WEEKLY_DATA!$A:$H,6,0)=0,\"No Sales\",Q275/(VLOOKUP(VALUE($A275),WEEKLY_DATA!$A:$H,6,0)/13))),\"\")","v":""},{"$f":"IFERROR(VLOOKUP(VALUE(A275),WEEKLY_DATA!$A:$H,8,0),0)","v":0},"—"]
[null,null,null,null,null,null,null,null,{"$f":"IFERROR(INDEX(BrandList!$B$2:$B$200,MATCH(TRUE,ISNUMBER(SEARCH(BrandList!$B$2:$B$200,G276)),0)),\"\")","v":""},null,null,null,null,null,null,"",{"$f":"IFERROR(VLOOKUP(VALUE(A276),WEEKLY_DATA!$A:$H,2,0),0)","v":0},{"$f":"IFERROR(VLOOKUP(VALUE(A276),WEEKLY_DATA!$A:$H,3,0),0)","v":0},{"$f":"IFERROR(VLOOKUP(VALUE(A276),WEEKLY_DATA!$A:$H,4,0),0)","v":0},{"$f":"IFERROR(VLOOKUP(VALUE(A276),WEEKLY_DATA!$A:$H,5,0),0)","v":0},{"$f":"IFERROR(VLOOKUP(VALUE(A276),WEEKLY_DATA!$A:$H,6,0),0)","v":0},{"$f":"IFERROR(VLOOKUP(VALUE(A276),WEEKLY_DATA!$A:$H,7,0),0)","v":0},{"$f":"IFERROR(IF(OR(Q276=\"\",Q276=0),\"\",IF(VLOOKUP(VALUE($A276),WEEKLY_DATA!$A:$H,6,0)=0,\"No Sales\",Q276/(VLOOKUP(VALUE($A276),WEEKLY_DATA!$A:$H,6,0)/13))),\"\")","v":""},{"$f":"IFERROR(VLOOKUP(VALUE(A276),WEEKLY_DATA!$A:$H,8,0),0)","v":0},"—"]
[null,null,null,null,null,null,null,null,{"$f":"IFERROR(INDEX(BrandList!$B$2:$B$200,MATCH(TRUE,ISNUMBER(SEARCH(BrandList!$B$2:$B$200,G277)),0)),\"\")","v":""},null,null,null,null,null,null,"",{"$f":"IFERROR(VLOOKUP(VALUE(A277),WEEKLY_DATA!$A:$H,2,0),0)","v":0},{"$f":"IFERROR(VLOOKUP(VALUE(A277),WEEKLY_DATA!$A:$H,3,0),0)","v":0},{"$f":"IFERROR(VLOOKUP(VALUE(A277),WEEKLY_DATA!$A:$H,4,0),0)","v":0},{"$f":"IFERROR(VLOOKUP(VALUE(A277),WEEKLY_DATA!$A:$H,5,0),0)","v":0},{"$f":"IFERROR(VLOOKUP(VALUE(A277),WEEKLY_DATA!$A:$H,6,0),0)","v":0},{"$f":"IFERROR(VLOOKUP(VALUE(A277),WEEKLY_DATA!$A:$H,7,0),0)","v":0},{"$f":"IFERROR(IF(OR(Q277=\"\",Q277=0),\"\",IF(VLOOKUP(VALUE($A277),WEEKLY_DATA!$A:$H,6,0)=0,\"No Sales\",Q277/(VLOOKUP(VALUE($A277),WEEKLY_DATA!$A:$H,6,0)/13))),\"\")","v":""},{"$f":"IFERROR(VLOOKUP(VALUE(A277),WEEKLY_DATA!$A:$H,8,0),0)","v":0},"—"]
[null,null,null,null,null,null,null,null,{"$f":"IFERROR(INDEX(BrandList!$B$2:$B$200,MATCH(TRUE,ISNUMBER(SEARCH(BrandList!$B$2:$B$200,G278)),0)),\"\")","v":""},null,null,null,null,null,null,"",{"$f":"IFERROR(VLOOKUP(VALUE(A278),WEEKLY_DATA!$A:$H,2,0),0)","v":0},{"$f":"IFERROR(VLOOKUP(VALUE(A278),WEEKLY_DATA!$A:$H,3,0),0)","v":0},{"$f":"IFERROR(VLOOKUP(VALUE(A278),WEEKLY_DATA!$A:$H,4,0),0)","v":0},{"$f":"IFERROR(VLOOKUP(VALUE(A278),WEEKLY_DATA!$A:$H,5,0),0)","v":0},{"$f":"IFERROR(VLOOKUP(VALUE(A278),WEEKLY_DATA!$A:$H,6,0),0)","v":0},{"$f":"IFERROR(VLOOKUP(VALUE(A278),WEEKLY_DATA!$A:$H,7,0),0)","v":0},{"$f":"IFERROR(IF(OR(Q278=\"\",Q278=0),\"\",IF(VLOOKUP(VALUE($A278),WEEKLY_DATA!$A:$H,6,0)=0,\"No Sales\",Q278/(VLOOKUP(VALUE($A278),WEEKLY_DATA!$A:$H,6,0)/13))),\"\")","v":""},{"$f":"IFERROR(VLOOKUP(VALUE(A278),WEEKLY_DATA!$A:$H,8,0),0)","v":0},"—"]
[null,null,null,null,null,null,null,null,{"$f":"IFERROR(INDEX(BrandList!$B$2:$B$200,MATCH(TRUE,ISNUMBER(SEARCH(BrandList!$B$2:$B$200,G279)),0)),\"\")","v":""},null,null,null,null,null,null,"",{"$f":"IFERROR(VLOOKUP(VALUE(A279),WEEKLY_DATA!$A:$H,2,0),0)","v":0},{"$f":"IFERROR(VLOOKUP(VALUE(A279),WEEKLY_DATA!$A:$H,3,0),0)","v":0},{"$f":"IFERROR(VLOOKUP(VALUE(A279),WEEKLY_DATA!$A:$H,4,0),0)","v":0},{"$f":"IFERROR(VLOOKUP(VALUE(A279),WEEKLY_DATA!$A:$H,5,0),0)","v":0},{"$f":"IFERROR(VLOOKUP(VALUE(A279),WEEKLY_DATA!$A:$H,6,0),0)","v":0},{"$f":"IFERROR(VLOOKUP(VALUE(A279),WEEKLY_DATA!$A:$H,7,0),0)","v":0},{"$f":"IFERROR(IF(OR(Q279=\"\",Q279=0),\"\",IF(VLOOKUP(VALUE($A279),WEEKLY_DATA!$A:$H,6,0)=0,\"No Sales\",Q279/(VLOOKUP(VALUE($A279),WEEKLY_DATA!$A:$H,6,0)/13))),\"\")","v":""},{"$f":"IFERROR(VLOOKUP(VALUE(A279),WEEKLY_DATA!$A:$H,8,0),0)","v":0},"—"]
[null,null,null,null,null,null,null,null,{"$f":"IFERROR(INDEX(BrandList!$B$2:$B$200,MATCH(TRUE,ISNUMBER(SEARCH(BrandList!$B$2:$B$200,G280)),0)),\"\")","v":""},null,null,null,null,null,null,"",{"$f":"IFERROR(VLOOKUP(VALUE(A280),WEEKLY_DATA!$A:$H,2,0),0)","v":0},{"$f":"IFERROR(VLOOKUP(VALUE(A280),WEEKLY_DATA!$A:$H,3,0),0)","v":0},{"$f":"IFERROR(VLOOKUP(VALUE(A280),WEEKLY_DATA!$A:$H,4,0),0)","v":0},{"$f":"IFERROR(VLOOKUP(VALUE(A280),WEEKLY_DATA!$A:$H,5,0),0)","v":0},{"$f":"IFERROR(VLOOKUP(VALUE(A280),WEEKLY_DATA!$A:$H,6,0),0)","v":0},{"$f":"IFERROR(VLOOKUP(VALUE(A280),WEEKLY_DATA!$A:$H,7,0),0)","v":0},{"$f":"IFERROR(IF(OR(Q280=\"\",Q280=0),\"\",IF(VLOOKUP(VALUE($A280),WEEKLY_DATA!$A:$H,6,0)=0,\"No Sales\",Q280/(VLOOKUP(VALUE($A280),WEEKLY_DATA!$A:$H,6,0)/13))),\"\")","v":""},{"$f":"IFERROR(VLOOKUP(VALUE(A280),WEEKLY_DATA!$A:$H,8,0),0)","v":0},"—"]
[null,null,null,null,null,null,null,null,{"$f":"IFERROR(INDEX(BrandList!$B$2:$B$200,MATCH(TRUE,ISNUMBER(SEARCH(BrandList!$B$2:$B$200,G281)),0)),\"\")","v":""},null,null,null,null,null,null,"",{"$f":"IFERROR(VLOOKUP(VALUE(A281),WEEKLY_DATA!$A:$H,2,0),0)","v":0},{"$f":"IFERROR(VLOOKUP(VALUE(A281),WEEKLY_DATA!$A:$H,3,0),0)","v":0},{"$f":"IFERROR(VLOOKUP(VALUE(A281),WEEKLY_DATA!$A:$H,4,0),0)","v":0},{"$f":"IFERROR(VLOOKUP(VALUE(A281),WEEKLY_DATA!$A:$H,5,0),0)","v":0},{"$f":"IFERROR(VLOOKUP(VALUE(A281),WEEKLY_DATA!$A:$H,6,0),0)","v":0},{"$f":"IFERROR(VLOOKUP(VALUE(A281),WEEKLY_DATA!$A:$H,7,0),0)","v":0},{"$f":"IFERROR(IF(OR(Q281=\"\",Q281=0),\"\",IF(VLOOKUP(VALUE($A281),WEEKLY_DATA!$A:$H,6,0)=0,\"No Sales\",Q281/(VLOOKUP(VALUE($A281),WEEKLY_DATA!$A:$H,6,0)/13))),\"\")","v":""},{"$f":"IFERROR(VLOOKUP(VALUE(A281),WEEKLY_DATA!$A:$H,8,0),0)","v":0},"—"]
[null,null,null,null,null,null,null,null,{"$f":"IFERROR(INDEX(BrandList!$B$2:$B$200,MATCH(TRUE,ISNUMBER(SEARCH(BrandList!$B$2:$B$200,G282)),0)),\"\")","v":""},null,null,null,null,null,null,"",{"$f":"IFERROR(VLOOKUP(VALUE(A282),WEEKLY_DATA!$A:$H,2,0),0)","v":0},{"$f":"IFERROR(VLOOKUP(VALUE(A282),WEEKLY_DATA!$A:$H,3,0),0)","v":0},{"$f":"IFERROR(VLOOKUP(VALUE(A282),WEEKLY_DATA!$A:$H,4,0),0)","v":0},{"$f":"IFERROR(VLOOKUP(VALUE(A282),WEEKLY_DATA!$A:$H,5,0),0)","v":0},{"$f":"IFERROR(VLOOKUP(VALUE(A282),WEEKLY_DATA!$A:$H,6,0),0)","v":0},{"$f":"IFERROR(VLOOKUP(VALUE(A282),WEEKLY_DATA!$A:$H,7,0),0)","v":0},{"$f":"IFERROR(IF(OR(Q282=\"\",Q282=0),\"\",IF(VLOOKUP(VALUE($A282),WEEKLY_DATA!$A:$H,6,0)=0,\"No Sales\",Q282/(VLOOKUP(VALUE($A282),WEEKLY_DATA!$A:$H,6,0)/13))),\"\")","v":""},{"$f":"IFERROR(VLOOKUP(VALUE(A282),WEEKLY_DATA!$A:$H,8,0),0)","v":0},"—"]
[null,null,null,null,null,null,null,null,{"$f":"IFERROR(INDEX(BrandList!$B$2:$B$200,MATCH(TRUE,ISNUMBER(SEARCH(BrandList!$B$2:$B$200,G283)),0)),\"\")","v":""},null,null,null,null,null,null,"",{"$f":"IFERROR(VLOOKUP(VALUE(A283),WEEKLY_DATA!$A:$H,2,0),0)","v":0},{"$f":"IFERROR(VLOOKUP(VALUE(A283),WEEKLY_DATA!$A:$H,3,0),0)","v":0},{"$f":"IFERROR(VLOOKUP(VALUE(A283),WEEKLY_DATA!$A:$H,4,0),0)","v":0},{"$f":"IFERROR(VLOOKUP(VALUE(A283),WEEKLY_DATA!$A:$H,5,0),0)","v":0},{"$f":"IFERROR(VLOOKUP(VALUE(A283),WEEKLY_DATA!$A:$H,6,0),0)","v":0},{"$f":"IFERROR(VLOOKUP(VALUE(A283),WEEKLY_DATA!$A:$H,7,0),0)","v":0},{"$f":"IFERROR(IF(OR(Q283=\"\",Q283=0),\"\",IF(VLOOKUP(VALUE($A283),WEEKLY_DATA!$A:$H,6,0)=0,\"No Sales\",Q283/(VLOOKUP(VALUE($A283),WEEKLY_DATA!$A:$H,6,0)/13))),\"\")","v":""},{"$f":"IFERROR(VLOOKUP(VALUE(A283),WEEKLY_DATA!$A:$H,8,0),0)","v":0},"—"]
[null,null,null,null,null,null,null,null,{"$f":"IFERROR(INDEX(BrandList!$B$2:$B$200,MATCH(TRUE,ISNUMBER(SEARCH(BrandList!$B$2:$B$200,G284)),0)),\"\")","v":""},null,null,null,null,null,null,"",{"$f":"IFERROR(VLOOKUP(VALUE(A284),WEEKLY_DATA!$A:$H,2,0),0)","v":0},{"$f":"IFERROR(VLOOKUP(VALUE(A284),WEEKLY_DATA!$A:$H,3,0),0)","v":0},{"$f":"IFERROR(VLOOKUP(VALUE(A284),WEEKLY_DATA!$A:$H,4,0),0)","v":0},{"$f":"IFERROR(VLOOKUP(VALUE(A284),WEEKLY_DATA!$A:$H,5,0),0)","v":0},{"$f":"IFERROR(VLOOKUP(VALUE(A284),WEEKLY_DATA!$A:$H,6,0),0)","v":0},{"$f":"IFERROR(VLOOKUP(VALUE(A284),WEEKLY_DATA!$A:$H,7,0),0)","v":0},{"$f":"IFERROR(IF(OR(Q284=\"\",Q284=0),\"\",IF(VLOOKUP(VALUE($A284),WEEKLY_DATA!$A:$H,6,0)=0,\"No Sales\",Q284/(VLOOKUP(VALUE($A284),WEEKLY_DATA!$A:$H,6,0)/13))),\"\")","v":""},{"$f":"IFERROR(VLOOKUP(VALUE(A284),WEEKLY_DATA!$A:$H,8,0),0)","v":0},"—"]
[null,null,null,null,null,null,null,null,{"$f":"IFERROR(INDEX(BrandList!$B$2:$B$200,MATCH(TRUE,ISNUMBER(SEARCH(BrandList!$B$2:$B$200,G285)),0)),\"\")","v":""},null,null,null,null,null,null,"",{"$f":"IFERROR(VLOOKUP(VALUE(A285),WEEKLY_DATA!$A:$H,2,0),0)","v":0},{"$f":"IFERROR(VLOOKUP(VALUE(A285),WEEKLY_DATA!$A:$H,3,0),0)","v":0},{"$f":"IFERROR(VLOOKUP(VALUE(A285),WEEKLY_DATA!$A:$H,4,0),0)","v":0},{"$f":"IFERROR(VLOOKUP(VALUE(A285),WEEKLY_DATA!$A:$H,5,0),0)","v":0},{"$f":"IFERROR(VLOOKUP(VALUE(A285),WEEKLY_DATA!$A:$H,6,0),0)","v":0},{"$f":"IFERROR(VLOOKUP(VALUE(A285),WEEKLY_DATA!$A:$H,7,0),0)","v":0},{"$f":"IFERROR(IF(OR(Q285=\"\",Q285=0),\"\",IF(VLOOKUP(VALUE($A285),WEEKLY_DATA!$A:$H,6,0)=0,\"No Sales\",Q285/(VLOOKUP(VALUE($A285),WEEKLY_DATA!$A:$H,6,0)/13))),\"\")","v":""},{"$f":"IFERROR(VLOOKUP(VALUE(A285),WEEKLY_DATA!$A:$H,8,0),0)","v":0},"—"]
[null,null,null,null,null,null,null,null,{"$f":"IFERROR(INDEX(BrandList!$B$2:$B$200,MATCH(TRUE,ISNUMBER(SEARCH(BrandList!$B$2:$B$200,G286)),0)),\"\")","v":""},null,null,null,null,null,null,"",{"$f":"IFERROR(VLOOKUP(VALUE(A286),WEEKLY_DATA!$A:$H,2,0),0)","v":0},{"$f":"IFERROR(VLOOKUP(VALUE(A286),WEEKLY_DATA!$A:$H,3,0),0)","v":0},{"$f":"IFERROR(VLOOKUP(VALUE(A286),WEEKLY_DATA!$A:$H,4,0),0)","v":0},{"$f":"IFERROR(VLOOKUP(VALUE(A286),WEEKLY_DATA!$A:$H,5,0),0)","v":0},{"$f":"IFERROR(VLOOKUP(VALUE(A286),WEEKLY_DATA!$A:$H,6,0),0)","v":0},{"$f":"IFERROR(VLOOKUP(VALUE(A286),WEEKLY_DATA!$A:$H,7,0),0)","v":0},{"$f":"IFERROR(IF(OR(Q286=\"\",Q286=0),\"\",IF(VLOOKUP(VALUE($A286),WEEKLY_DATA!$A:$H,6,0)=0,\"No Sales\",Q286/(VLOOKUP(VALUE($A286),WEEKLY_DATA!$A:$H,6,0)/13))),\"\")","v":""},{"$f":"IFERROR(VLOOKUP(VALUE(A286),WEEKLY_DATA!$A:$H,8,0),0)","v":0},"—"]
[null,null,null,null,null,null,null,null,{"$f":"IFERROR(INDEX(BrandList!$B$2:$B$200,MATCH(TRUE,ISNUMBER(SEARCH(BrandList!$B$2:$B$200,G287)),0)),\"\")","v":""},null,null,null,null,null,null,"",{"$f":"IFERROR(VLOOKUP(VALUE(A287),WEEKLY_DATA!$A:$H,2,0),0)","v":0},{"$f":"IFERROR(VLOOKUP(VALUE(A287),WEEKLY_DATA!$A:$H,3,0),0)","v":0},{"$f":"IFERROR(VLOOKUP(VALUE(A287),WEEKLY_DATA!$A:$H,4,0),0)","v":0},{"$f":"IFERROR(VLOOKUP(VALUE(A287),WEEKLY_DATA!$A:$H,5,0),0)","v":0},{"$f":"IFERROR(VLOOKUP(VALUE(A287),WEEKLY_DATA!$A:$H,6,0),0)","v":0},{"$f":"IFERROR(VLOOKUP(VALUE(A287),WEEKLY_DATA!$A:$H,7,0),0)","v":0},{"$f":"IFERROR(IF(OR(Q287=\"\",Q287=0),\"\",IF(VLOOKUP(VALUE($A287),WEEKLY_DATA!$A:$H,6,0)=0,\"No Sales\",Q287/(VLOOKUP(VALUE($A287),WEEKLY_DATA!$A:$H,6,0)/13))),\"\")","v":""},{"$f":"IFERROR(VLOOKUP(VALUE(A287),WEEKLY_DATA!$A:$H,8,0),0)","v":0},"—"]
[null,null,null,null,null,null,null,null,{"$f":"IFERROR(INDEX(BrandList!$B$2:$B$200,MATCH(TRUE,ISNUMBER(SEARCH(BrandList!$B$2:$B$200,G288)),0)),\"\")","v":""},null,null,null,null,null,null,"",{"$f":"IFERROR(VLOOKUP(VALUE(A288),WEEKLY_DATA!$A:$H,2,0),0)","v":0},{"$f":"IFERROR(VLOOKUP(VALUE(A288),WEEKLY_DATA!$A:$H,3,0),0)","v":0},{"$f":"IFERROR(VLOOKUP(VALUE(A288),WEEKLY_DATA!$A:$H,4,0),0)","v":0},{"$f":"IFERROR(VLOOKUP(VALUE(A288),WEEKLY_DATA!$A:$H,5,0),0)","v":0},{"$f":"IFERROR(VLOOKUP(VALUE(A288),WEEKLY_DATA!$A:$H,6,0),0)","v":0},{"$f":"IFERROR(VLOOKUP(VALUE(A288),WEEKLY_DATA!$A:$H,7,0),0)","v":0},{"$f":"IFERROR(IF(OR(Q288=\"\",Q288=0),\"\",IF(VLOOKUP(VALUE($A288),WEEKLY_DATA!$A:$H,6,0)=0,\"No Sales\",Q288/(VLOOKUP(VALUE($A288),WEEKLY_DATA!$A:$H,6,0)/13))),\"\")","v":""},{"$f":"IFERROR(VLOOKUP(VALUE(A288),WEEKLY_DATA!$A:$H,8,0),0)","v":0},"—"]
[null,null,null,null,null,null,null,null,{"$f":"IFERROR(INDEX(BrandList!$B$2:$B$200,MATCH(TRUE,ISNUMBER(SEARCH(BrandList!$B$2:$B$200,G289)),0)),\"\")","v":""},null,null,null,null,null,null,"",{"$f":"IFERROR(VLOOKUP(VALUE(A289),WEEKLY_DATA!$A:$H,2,0),0)","v":0},{"$f":"IFERROR(VLOOKUP(VALUE(A289),WEEKLY_DATA!$A:$H,3,0),0)","v":0},{"$f":"IFERROR(VLOOKUP(VALUE(A289),WEEKLY_DATA!$A:$H,4,0),0)","v":0},{"$f":"IFERROR(VLOOKUP(VALUE(A289),WEEKLY_DATA!$A:$H,5,0),0)","v":0},{"$f":"IFERROR(VLOOKUP(VALUE(A289),WEEKLY_DATA!$A:$H,6,0),0)","v":0},{"$f":"IFERROR(VLOOKUP(VALUE(A289),WEEKLY_DATA!$A:$H,7,0),0)","v":0},{"$f":"IFERROR(IF(OR(Q289=\"\",Q289=0),\"\",IF(VLOOKUP(VALUE($A289),WEEKLY_DATA!$A:$H,6,0)=0,\"No Sales\",Q289/(VLOOKUP(VALUE($A289),WEEKLY_DATA!$A:$H,6,0)/13))),\"\")","v":""},{"$f":"IFERROR(VLOOKUP(VALUE(A289),WEEKLY_DATA!$A:$H,8,0),0)","v":0},"—"]
[null,null,null,null,null,null,null,null,{"$f":"IFERROR(INDEX(BrandList!$B$2:$B$200,MATCH(TRUE,ISNUMBER(SEARCH(BrandList!$B$2:$B$200,G290)),0)),\"\")","v":""},null,null,null,null,null,null,"",{"$f":"IFERROR(VLOOKUP(VALUE(A290),WEEKLY_DATA!$A:$H,2,0),0)","v":0},{"$f":"IFERROR(VLOOKUP(VALUE(A290),WEEKLY_DATA!$A:$H,3,0),0)","v":0},{"$f":"IFERROR(VLOOKUP(VALUE(A290),WEEKLY_DATA!$A:$H,4,0),0)","v":0},{"$f":"IFERROR(VLOOKUP(VALUE(A290),WEEKLY_DATA!$A:$H,5,0),0)","v":0},{"$f":"IFERROR(VLOOKUP(VALUE(A290),WEEKLY_DATA!$A:$H,6,0),0)","v":0},{"$f":"IFERROR(VLOOKUP(VALUE(A290),WEEKLY_DATA!$A:$H,7,0),0)","v":0},{"$f":"IFERROR(IF(OR(Q290=\"\",Q290=0),\"\",IF(VLOOKUP(VALUE($A290),WEEKLY_DATA!$A:$H,6,0)=0,\"No Sales\",Q290/(VLOOKUP(VALUE($A290),WEEKLY_DATA!$A:$H,6,0)/13))),\"\")","v":""},{"$f":"IFERROR(VLOOKUP(VALUE(A290),WEEKLY_DATA!$A:$H,8,0),0)","v":0},"—"]
[null,null,null,null,null,null,null,null,{"$f":"IFERROR(INDEX(BrandList!$B$2:$B$200,MATCH(TRUE,ISNUMBER(SEARCH(BrandList!$B$2:$B$200,G291)),0)),\"\")","v":""},null,null,null,null,null,null,"",{"$f":"IFERROR(VLOOKUP(VALUE(A291),WEEKLY_DATA!$A:$H,2,0),0)","v":0},{"$f":"IFERROR(VLOOKUP(VALUE(A291),WEEKLY_DATA!$A:$H,3,0),0)","v":0},{"$f":"IFERROR(VLOOKUP(VALUE(A291),WEEKLY_DATA!$A:$H,4,0),0)","v":0},{"$f":"IFERROR(VLOOKUP(VALUE(A291),WEEKLY_DATA!$A:$H,5,0),0)","v":0},{"$f":"IFERROR(VLOOKUP(VALUE(A291),WEEKLY_DATA!$A:$H,6,0),0)","v":0},{"$f":"IFERROR(VLOOKUP(VALUE(A291),WEEKLY_DATA!$A:$H,7,0),0)","v":0},{"$f":"IFERROR(IF(OR(Q291=\"\",Q291=0),\"\",IF(VLOOKUP(VALUE($A291),WEEKLY_DATA!$A:$H,6,0)=0,\"No Sales\",Q291/(VLOOKUP(VALUE($A291),WEEKLY_DATA!$A:$H,6,0)/13))),\"\")","v":""},{"$f":"IFERROR(VLOOKUP(VALUE(A291),WEEKLY_DATA!$A:$H,8,0),0)","v":0},"—"]
[null,null,null,null,null,null,null,null,{"$f":"IFERROR(INDEX(BrandList!$B$2:$B$200,MATCH(TRUE,ISNUMBER(SEARCH(BrandList!$B$2:$B$200,G292)),0)),\"\")","v":""},null,null,null,null,null,null,"",{"$f":"IFERROR(VLOOKUP(VALUE(A292),WEEKLY_DATA!$A:$H,2,0),0)","v":0},{"$f":"IFERROR(VLOOKUP(VALUE(A292),WEEKLY_DATA!$A:$H,3,0),0)","v":0},{"$f":"IFERROR(VLOOKUP(VALUE(A292),WEEKLY_DATA!$A:$H,4,0),0)","v":0},{"$f":"IFERROR(VLOOKUP(VALUE(A292),WEEKLY_DATA!$A:$H,5,0),0)","v":0},{"$f":"IFERROR(VLOOKUP(VALUE(A292),WEEKLY_DATA!$A:$H,6,0),0)","v":0},{"$f":"IFERROR(VLOOKUP(VALUE(A292),WEEKLY_DATA!$A:$H,7,0),0)","v":0},{"$f":"IFERROR(IF(OR(Q292=\"\",Q292=0),\"\",IF(VLOOKUP(VALUE($A292),WEEKLY_DATA!$A:$H,6,0)=0,\"No Sales\",Q292/(VLOOKUP(VALUE($A292),WEEKLY_DATA!$A:$H,6,0)/13))),\"\")","v":""},{"$f":"IFERROR(VLOOKUP(VALUE(A292),WEEKLY_DATA!$A:$H,8,0),0)","v":0},"—"]
[null,null,null,null,null,null,null,null,{"$f":"IFERROR(INDEX(BrandList!$B$2:$B$200,MATCH(TRUE,ISNUMBER(SEARCH(BrandList!$B$2:$B$200,G293)),0)),\"\")","v":""},null,null,null,null,null,null,"",{"$f":"IFERROR(VLOOKUP(VALUE(A293),WEEKLY_DATA!$A:$H,2,0),0)","v":0},{"$f":"IFERROR(VLOOKUP(VALUE(A293),WEEKLY_DATA!$A:$H,3,0),0)","v":0},{"$f":"IFERROR(VLOOKUP(VALUE(A293),WEEKLY_DATA!$A:$H,4,0),0)","v":0},{"$f":"IFERROR(VLOOKUP(VALUE(A293),WEEKLY_DATA!$A:$H,5,0),0)","v":0},{"$f":"IFERROR(VLOOKUP(VALUE(A293),WEEKLY_DATA!$A:$H,6,0),0)","v":0},{"$f":"IFERROR(VLOOKUP(VALUE(A293),WEEKLY_DATA!$A:$H,7,0),0)","v":0},{"$f":"IFERROR(IF(OR(Q293=\"\",Q293=0),\"\",IF(VLOOKUP(VALUE($A293),WEEKLY_DATA!$A:$H,6,0)=0,\"No Sales\",Q293/(VLOOKUP(VALUE($A293),WEEKLY_DATA!$A:$H,6,0)/13))),\"\")","v":""},{"$f":"IFERROR(VLOOKUP(VALUE(A293),WEEKLY_DATA!$A:$H,8,0),0)","v":0},"—"]
[null,null,null,null,null,null,null,null,{"$f":"IFERROR(INDEX(BrandList!$B$2:$B$200,MATCH(TRUE,ISNUMBER(SEARCH(BrandList!$B$2:$B$200,G294)),0)),\"\")","v":""},null,null,null,null,null,null,"",{"$f":"IFERROR(VLOOKUP(VALUE(A294),WEEKLY_DATA!$A:$H,2,0),0)","v":0},{"$f":"IFERROR(VLOOKUP(VALUE(A294),WEEKLY_DATA!$A:$H,3,0),0)","v":0},{"$f":"IFERROR(VLOOKUP(VALUE(A294),WEEKLY_DATA!$A:$H,4,0),0)","v":0},{"$f":"IFERROR(VLOOKUP(VALUE(A294),WEEKLY_DATA!$A:$H,5,0),0)","v":0},{"$f":"IFERROR(VLOOKUP(VALUE(A294),WEEKLY_DATA!$A:$H,6,0),0)","v":0},{"$f":"IFERROR(VLOOKUP(VALUE(A294),WEEKLY_DATA!$A:$H,7,0),0)","v":0},{"$f":"IFERROR(IF(OR(Q294=\"\",Q294=0),\"\",IF(VLOOKUP(VALUE($A294),WEEKLY_DATA!$A:$H,6,0)=0,\"No Sales\",Q294/(VLOOKUP(VALUE($A294),WEEKLY_DATA!$A:$H,6,0)/13))),\"\")","v":""},{"$f":"IFERROR(VLOOKUP(VALUE(A294),WEEKLY_DATA!$A:$H,8,0),0)","v":0},"—"]
[null,null,null,null,null,null,null,null,{"$f":"IFERROR(INDEX(BrandList!$B$2:$B$200,MATCH(TRUE,ISNUMBER(SEARCH(BrandList!$B$2:$B$200,G295)),0)),\"\")","v":""},null,null,null,null,null,null,"",{"$f":"IFERROR(VLOOKUP(VALUE(A295),WEEKLY_DATA!$A:$H,2,0),0)","v":0},{"$f":"IFERROR(VLOOKUP(VALUE(A295),WEEKLY_DATA!$A:$H,3,0),0)","v":0},{"$f":"IFERROR(VLOOKUP(VALUE(A295),WEEKLY_DATA!$A:$H,4,0),0)","v":0},{"$f":"IFERROR(VLOOKUP(VALUE(A295),WEEKLY_DATA!$A:$H,5,0),0)","v":0},{"$f":"IFERROR(VLOOKUP(VALUE(A295),WEEKLY_DATA!$A:$H,6,0),0)","v":0},{"$f":"IFERROR(VLOOKUP(VALUE(A295),WEEKLY_DATA!$A:$H,7,0),0)","v":0},{"$f":"IFERROR(IF(OR(Q295=\"\",Q295=0),\"\",IF(VLOOKUP(VALUE($A295),WEEKLY_DATA!$A:$H,6,0)=0,\"No Sales\",Q295/(VLOOKUP(VALUE($A295),WEEKLY_DATA!$A:$H,6,0)/13))),\"\")","v":""},{"$f":"IFERROR(VLOOKUP(VALUE(A295),WEEKLY_DATA!$A:$H,8,0),0)","v":0},"—"]
[null,null,null,null,null,null,null,null,{"$f":"IFERROR(INDEX(BrandList!$B$2:$B$200,MATCH(TRUE,ISNUMBER(SEARCH(BrandList!$B$2:$B$200,G296)),0)),\"\")","v":""},null,null,null,null,null,null,"",{"$f":"IFERROR(VLOOKUP(VALUE(A296),WEEKLY_DATA!$A:$H,2,0),0)","v":0},{"$f":"IFERROR(VLOOKUP(VALUE(A296),WEEKLY_DATA!$A:$H,3,0),0)","v":0},{"$f":"IFERROR(VLOOKUP(VALUE(A296),WEEKLY_DATA!$A:$H,4,0),0)","v":0},{"$f":"IFERROR(VLOOKUP(VALUE(A296),WEEKLY_DATA!$A:$H,5,0),0)","v":0},{"$f":"IFERROR(VLOOKUP(VALUE(A296),WEEKLY_DATA!$A:$H,6,0),0)","v":0},{"$f":"IFERROR(VLOOKUP(VALUE(A296),WEEKLY_DATA!$A:$H,7,0),0)","v":0},{"$f":"IFERROR(IF(OR(Q296=\"\",Q296=0),\"\",IF(VLOOKUP(VALUE($A296),WEEKLY_DATA!$A:$H,6,0)=0,\"No Sales\",Q296/(VLOOKUP(VALUE($A296),WEEKLY_DATA!$A:$H,6,0)/13))),\"\")","v":""},{"$f":"IFERROR(VLOOKUP(VALUE(A296),WEEKLY_DATA!$A:$H,8,0),0)","v":0},"—"]
[null,null,null,null,null,null,null,null,{"$f":"IFERROR(INDEX(BrandList!$B$2:$B$200,MATCH(TRUE,ISNUMBER(SEARCH(BrandList!$B$2:$B$200,G297)),0)),\"\")","v":""},null,null,null,null,null,null,"",{"$f":"IFERROR(VLOOKUP(VALUE(A297),WEEKLY_DATA!$A:$H,2,0),0)","v":0},{"$f":"IFERROR(VLOOKUP(VALUE(A297),WEEKLY_DATA!$A:$H,3,0),0)","v":0},{"$f":"IFERROR(VLOOKUP(VALUE(A297),WEEKLY_DATA!$A:$H,4,0),0)","v":0},{"$f":"IFERROR(VLOOKUP(VALUE(A297),WEEKLY_DATA!$A:$H,5,0),0)","v":0},{"$f":"IFERROR(VLOOKUP(VALUE(A297),WEEKLY_DATA!$A:$H,6,0),0)","v":0},{"$f":"IFERROR(VLOOKUP(VALUE(A297),WEEKLY_DATA!$A:$H,7,0),0)","v":0},{"$f":"IFERROR(IF(OR(Q297=\"\",Q297=0),\"\",IF(VLOOKUP(VALUE($A297),WEEKLY_DATA!$A:$H,6,0)=0,\"No Sales\",Q297/(VLOOKUP(VALUE($A297),WEEKLY_DATA!$A:$H,6,0)/13))),\"\")","v":""},{"$f":"IFERROR(VLOOKUP(VALUE(A297),WEEKLY_DATA!$A:$H,8,0),0)","v":0},"—"]
[null,null,null,null,null,null,null,null,{"$f":"IFERROR(INDEX(BrandList!$B$2:$B$200,MATCH(TRUE,ISNUMBER(SEARCH(BrandList!$B$2:$B$200,G298)),0)),\"\")","v":""},null,null,null,null,null,null,"",{"$f":"IFERROR(VLOOKUP(VALUE(A298),WEEKLY_DATA!$A:$H,2,0),0)","v":0},{"$f":"IFERROR(VLOOKUP(VALUE(A298),WEEKLY_DATA!$A:$H,3,0),0)","v":0},{"$f":"IFERROR(VLOOKUP(VALUE(A298),WEEKLY_DATA!$A:$H,4,0),0)","v":0},{"$f":"IFERROR(VLOOKUP(VALUE(A298),WEEKLY_DATA!$A:$H,5,0),0)","v":0},{"$f":"IFERROR(VLOOKUP(VALUE(A298),WEEKLY_DATA!$A:$H,6,0),0)","v":0},{"$f":"IFERROR(VLOOKUP(VALUE(A298),WEEKLY_DATA!$A:$H,7,0),0)","v":0},{"$f":"IFERROR(IF(OR(Q298=\"\",Q298=0),\"\",IF(VLOOKUP(VALUE($A298),WEEKLY_DATA!$A:$H,6,0)=0,\"No Sales\",Q298/(VLOOKUP(VALUE($A298),WEEKLY_DATA!$A:$H,6,0)/13))),\"\")","v":""},{"$f":"IFERROR(VLOOKUP(VALUE(A298),WEEKLY_DATA!$A:$H,8,0),0)","v":0},"—"]
[null,null,null,null,null,null,null,null,{"$f":"IFERROR(INDEX(BrandList!$B$2:$B$200,MATCH(TRUE,ISNUMBER(SEARCH(BrandList!$B$2:$B$200,G299)),0)),\"\")","v":""},null,null,null,null,null,null,"",{"$f":"IFERROR(VLOOKUP(VALUE(A299),WEEKLY_DATA!$A:$H,2,0),0)","v":0},{"$f":"IFERROR(VLOOKUP(VALUE(A299),WEEKLY_DATA!$A:$H,3,0),0)","v":0},{"$f":"IFERROR(VLOOKUP(VALUE(A299),WEEKLY_DATA!$A:$H,4,0),0)","v":0},{"$f":"IFERROR(VLOOKUP(VALUE(A299),WEEKLY_DATA!$A:$H,5,0),0)","v":0},{"$f":"IFERROR(VLOOKUP(VALUE(A299),WEEKLY_DATA!$A:$H,6,0),0)","v":0},{"$f":"IFERROR(VLOOKUP(VALUE(A299),WEEKLY_DATA!$A:$H,7,0),0)","v":0},{"$f":"IFERROR(IF(OR(Q299=\"\",Q299=0),\"\",IF(VLOOKUP(VALUE($A299),WEEKLY_DATA!$A:$H,6,0)=0,\"No Sales\",Q299/(VLOOKUP(VALUE($A299),WEEKLY_DATA!$A:$H,6,0)/13))),\"\")","v":""},{"$f":"IFERROR(VLOOKUP(VALUE(A299),WEEKLY_DATA!$A:$H,8,0),0)","v":0},"—"]
[null,null,null,null,null,null,null,null,{"$f":"IFERROR(INDEX(BrandList!$B$2:$B$200,MATCH(TRUE,ISNUMBER(SEARCH(BrandList!$B$2:$B$200,G300)),0)),\"\")","v":""},null,null,null,null,null,null,"",{"$f":"IFERROR(VLOOKUP(VALUE(A300),WEEKLY_DATA!$A:$H,2,0),0)","v":0},{"$f":"IFERROR(VLOOKUP(VALUE(A300),WEEKLY_DATA!$A:$H,3,0),0)","v":0},{"$f":"IFERROR(VLOOKUP(VALUE(A300),WEEKLY_DATA!$A:$H,4,0),0)","v":0},{"$f":"IFERROR(VLOOKUP(VALUE(A300),WEEKLY_DATA!$A:$H,5,0),0)","v":0},{"$f":"IFERROR(VLOOKUP(VALUE(A300),WEEKLY_DATA!$A:$H,6,0),0)","v":0},{"$f":"IFERROR(VLOOKUP(VALUE(A300),WEEKLY_DATA!$A:$H,7,0),0)","v":0},{"$f":"IFERROR(IF(OR(Q300=\"\",Q300=0),\"\",IF(VLOOKUP(VALUE($A300),WEEKLY_DATA!$A:$H,6,0)=0,\"No Sales\",Q300/(VLOOKUP(VALUE($A300),WEEKLY_DATA!$A:$H,6,0)/13))),\"\")","v":""},{"$f":"IFERROR(VLOOKUP(VALUE(A300),WEEKLY_DATA!$A:$H,8,0),0)","v":0},"—"]
[null,null,null,null,null,null,null,null,{"$f":"IFERROR(INDEX(BrandList!$B$2:$B$200,MATCH(TRUE,ISNUMBER(SEARCH(BrandList!$B$2:$B$200,G301)),0)),\"\")","v":""},null,null,null,null,null,null,"",{"$f":"IFERROR(VLOOKUP(VALUE(A301),WEEKLY_DATA!$A:$H,2,0),0)","v":0},{"$f":"IFERROR(VLOOKUP(VALUE(A301),WEEKLY_DATA!$A:$H,3,0),0)","v":0},{"$f":"IFERROR(VLOOKUP(VALUE(A301),WEEKLY_DATA!$A:$H,4,0),0)","v":0},{"$f":"IFERROR(VLOOKUP(VALUE(A301),WEEKLY_DATA!$A:$H,5,0),0)","v":0},{"$f":"IFERROR(VLOOKUP(VALUE(A301),WEEKLY_DATA!$A:$H,6,0),0)","v":0},{"$f":"IFERROR(VLOOKUP(VALUE(A301),WEEKLY_DATA!$A:$H,7,0),0)","v":0},{"$f":"IFERROR(IF(OR(Q301=\"\",Q301=0),\"\",IF(VLOOKUP(VALUE($A301),WEEKLY_DATA!$A:$H,6,0)=0,\"No Sales\",Q301/(VLOOKUP(VALUE($A301),WEEKLY_DATA!$A:$H,6,0)/13))),\"\")","v":""},{"$f":"IFERROR(VLOOKUP(VALUE(A301),WEEKLY_DATA!$A:$H,8,0),0)","v":0},"—"]
[null,null,null,null,null,null,null,null,{"$f":"IFERROR(INDEX(BrandList!$B$2:$B$200,MATCH(TRUE,ISNUMBER(SEARCH(BrandList!$B$2:$B$200,G302)),0)),\"\")","v":""},null,null,null,null,null,null,"",{"$f":"IFERROR(VLOOKUP(VALUE(A302),WEEKLY_DATA!$A:$H,2,0),0)","v":0},{"$f":"IFERROR(VLOOKUP(VALUE(A302),WEEKLY_DATA!$A:$H,3,0),0)","v":0},{"$f":"IFERROR(VLOOKUP(VALUE(A302),WEEKLY_DATA!$A:$H,4,0),0)","v":0},{"$f":"IFERROR(VLOOKUP(VALUE(A302),WEEKLY_DATA!$A:$H,5,0),0)","v":0},{"$f":"IFERROR(VLOOKUP(VALUE(A302),WEEKLY_DATA!$A:$H,6,0),0)","v":0},{"$f":"IFERROR(VLOOKUP(VALUE(A302),WEEKLY_DATA!$A:$H,7,0),0)","v":0},{"$f":"IFERROR(IF(OR(Q302=\"\",Q302=0),\"\",IF(VLOOKUP(VALUE($A302),WEEKLY_DATA!$A:$H,6,0)=0,\"No Sales\",Q302/(VLOOKUP(VALUE($A302),WEEKLY_DATA!$A:$H,6,0)/13))),\"\")","v":""},{"$f":"IFERROR(VLOOKUP(VALUE(A302),WEEKLY_DATA!$A:$H,8,0),0)","v":0},"—"]
[null,null,null,null,null,null,null,null,{"$f":"IFERROR(INDEX(BrandList!$B$2:$B$200,MATCH(TRUE,ISNUMBER(SEARCH(BrandList!$B$2:$B$200,G303)),0)),\"\")","v":""},null,null,null,null,null,null,"",{"$f":"IFERROR(VLOOKUP(VALUE(A303),WEEKLY_DATA!$A:$H,2,0),0)","v":0},{"$f":"IFERROR(VLOOKUP(VALUE(A303),WEEKLY_DATA!$A:$H,3,0),0)","v":0},{"$f":"IFERROR(VLOOKUP(VALUE(A303),WEEKLY_DATA!$A:$H,4,0),0)","v":0},{"$f":"IFERROR(VLOOKUP(VALUE(A303),WEEKLY_DATA!$A:$H,5,0),0)","v":0},{"$f":"IFERROR(VLOOKUP(VALUE(A303),WEEKLY_DATA!$A:$H,6,0),0)","v":0},{"$f":"IFERROR(VLOOKUP(VALUE(A303),WEEKLY_DATA!$A:$H,7,0),0)","v":0},{"$f":"IFERROR(IF(OR(Q303=\"\",Q303=0),\"\",IF(VLOOKUP(VALUE($A303),WEEKLY_DATA!$A:$H,6,0)=0,\"No Sales\",Q303/(VLOOKUP(VALUE($A303),WEEKLY_DATA!$A:$H,6,0)/13))),\"\")","v":""},{"$f":"IFERROR(VLOOKUP(VALUE(A303),WEEKLY_DATA!$A:$H,8,0),0)","v":0},"—"]
[null,null,null,null,null,null,null,null,{"$f":"IFERROR(INDEX(BrandList!$B$2:$B$200,MATCH(TRUE,ISNUMBER(SEARCH(BrandList!$B$2:$B$200,G304)),0)),\"\")","v":""},null,null,null,null,null,null,"",{"$f":"IFERROR(VLOOKUP(VALUE(A304),WEEKLY_DATA!$A:$H,2,0),0)","v":0},{"$f":"IFERROR(VLOOKUP(VALUE(A304),WEEKLY_DATA!$A:$H,3,0),0)","v":0},{"$f":"IFERROR(VLOOKUP(VALUE(A304),WEEKLY_DATA!$A:$H,4,0),0)","v":0},{"$f":"IFERROR(VLOOKUP(VALUE(A304),WEEKLY_DATA!$A:$H,5,0),0)","v":0},{"$f":"IFERROR(VLOOKUP(VALUE(A304),WEEKLY_DATA!$A:$H,6,0),0)","v":0},{"$f":"IFERROR(VLOOKUP(VALUE(A304),WEEKLY_DATA!$A:$H,7,0),0)","v":0},{"$f":"IFERROR(IF(OR(Q304=\"\",Q304=0),\"\",IF(VLOOKUP(VALUE($A304),WEEKLY_DATA!$A:$H,6,0)=0,\"No Sales\",Q304/(VLOOKUP(VALUE($A304),WEEKLY_DATA!$A:$H,6,0)/13))),\"\")","v":""},{"$f":"IFERROR(VLOOKUP(VALUE(A304),WEEKLY_DATA!$A:$H,8,0),0)","v":0},"—"]
[null,null,null,null,null,null,null,null,{"$f":"IFERROR(INDEX(BrandList!$B$2:$B$200,MATCH(TRUE,ISNUMBER(SEARCH(BrandList!$B$2:$B$200,G305)),0)),\"\")","v":""},null,null,null,null,null,null,"",{"$f":"IFERROR(VLOOKUP(VALUE(A305),WEEKLY_DATA!$A:$H,2,0),0)","v":0},{"$f":"IFERROR(VLOOKUP(VALUE(A305),WEEKLY_DATA!$A:$H,3,0),0)","v":0},{"$f":"IFERROR(VLOOKUP(VALUE(A305),WEEKLY_DATA!$A:$H,4,0),0)","v":0},{"$f":"IFERROR(VLOOKUP(VALUE(A305),WEEKLY_DATA!$A:$H,5,0),0)","v":0},{"$f":"IFERROR(VLOOKUP(VALUE(A305),WEEKLY_DATA!$A:$H,6,0),0)","v":0},{"$f":"IFERROR(VLOOKUP(VALUE(A305),WEEKLY_DATA!$A:$H,7,0),0)","v":0},{"$f":"IFERROR(IF(OR(Q305=\"\",Q305=0),\"\",IF(VLOOKUP(VALUE($A305),WEEKLY_DATA!$A:$H,6,0)=0,\"No Sales\",Q305/(VLOOKUP(VALUE($A305),WEEKLY_DATA!$A:$H,6,0)/13))),\"\")","v":""},{"$f":"IFERROR(VLOOKUP(VALUE(A305),WEEKLY_DATA!$A:$H,8,0),0)","v":0},"—"]
[null,null,null,null,null,null,null,null,{"$f":"IFERROR(INDEX(BrandList!$B$2:$B$200,MATCH(TRUE,ISNUMBER(SEARCH(BrandList!$B$2:$B$200,G306)),0)),\"\")","v":""},null,null,null,null,null,null,"",{"$f":"IFERROR(VLOOKUP(VALUE(A306),WEEKLY_DATA!$A:$H,2,0),0)","v":0},{"$f":"IFERROR(VLOOKUP(VALUE(A306),WEEKLY_DATA!$A:$H,3,0),0)","v":0},{"$f":"IFERROR(VLOOKUP(VALUE(A306),WEEKLY_DATA!$A:$H,4,0),0)","v":0},{"$f":"IFERROR(VLOOKUP(VALUE(A306),WEEKLY_DATA!$A:$H,5,0),0)","v":0},{"$f":"IFERROR(VLOOKUP(VALUE(A306),WEEKLY_DATA!$A:$H,6,0),0)","v":0},{"$f":"IFERROR(VLOOKUP(VALUE(A306),WEEKLY_DATA!$A:$H,7,0),0)","v":0},{"$f":"IFERROR(IF(OR(Q306=\"\",Q306=0),\"\",IF(VLOOKUP(VALUE($A306),WEEKLY_DATA!$A:$H,6,0)=0,\"No Sales\",Q306/(VLOOKUP(VALUE($A306),WEEKLY_DATA!$A:$H,6,0)/13))),\"\")","v":""},{"$f":"IFERROR(VLOOKUP(VALUE(A306),WEEKLY_DATA!$A:$H,8,0),0)","v":0},"—"]
[null,null,null,null,null,null,null,null,{"$f":"IFERROR(INDEX(BrandList!$B$2:$B$200,MATCH(TRUE,ISNUMBER(SEARCH(BrandList!$B$2:$B$200,G307)),0)),\"\")","v":""},null,null,null,null,null,null,"",{"$f":"IFERROR(VLOOKUP(VALUE(A307),WEEKLY_DATA!$A:$H,2,0),0)","v":0},{"$f":"IFERROR(VLOOKUP(VALUE(A307),WEEKLY_DATA!$A:$H,3,0),0)","v":0},{"$f":"IFERROR(VLOOKUP(VALUE(A307),WEEKLY_DATA!$A:$H,4,0),0)","v":0},{"$f":"IFERROR(VLOOKUP(VALUE(A307),WEEKLY_DATA!$A:$H,5,0),0)","v":0},{"$f":"IFERROR(VLOOKUP(VALUE(A307),WEEKLY_DATA!$A:$H,6,0),0)","v":0},{"$f":"IFERROR(VLOOKUP(VALUE(A307),WEEKLY_DATA!$A:$H,7,0),0)","v":0},{"$f":"IFERROR(IF(OR(Q307=\"\",Q307=0),\"\",IF(VLOOKUP(VALUE($A307),WEEKLY_DATA!$A:$H,6,0)=0,\"No Sales\",Q307/(VLOOKUP(VALUE($A307),WEEKLY_DATA!$A:$H,6,0)/13))),\"\")","v":""},{"$f":"IFERROR(VLOOKUP(VALUE(A307),WEEKLY_DATA!$A:$H,8,0),0)","v":0},"—"]
[null,null,null,null,null,null,null,null,{"$f":"IFERROR(INDEX(BrandList!$B$2:$B$200,MATCH(TRUE,ISNUMBER(SEARCH(BrandList!$B$2:$B$200,G308)),0)),\"\")","v":""},null,null,null,null,null,null,"",{"$f":"IFERROR(VLOOKUP(VALUE(A308),WEEKLY_DATA!$A:$H,2,0),0)","v":0},{"$f":"IFERROR(VLOOKUP(VALUE(A308),WEEKLY_DATA!$A:$H,3,0),0)","v":0},{"$f":"IFERROR(VLOOKUP(VALUE(A308),WEEKLY_DATA!$A:$H,4,0),0)","v":0},{"$f":"IFERROR(VLOOKUP(VALUE(A308),WEEKLY_DATA!$A:$H,5,0),0)","v":0},{"$f":"IFERROR(VLOOKUP(VALUE(A308),WEEKLY_DATA!$A:$H,6,0),0)","v":0},{"$f":"IFERROR(VLOOKUP(VALUE(A308),WEEKLY_DATA!$A:$H,7,0),0)","v":0},{"$f":"IFERROR(IF(OR(Q308=\"\",Q308=0),\"\",IF(VLOOKUP(VALUE($A308),WEEKLY_DATA!$A:$H,6,0)=0,\"No Sales\",Q308/(VLOOKUP(VALUE($A308),WEEKLY_DATA!$A:$H,6,0)/13))),\"\")","v":""},{"$f":"IFERROR(VLOOKUP(VALUE(A308),WEEKLY_DATA!$A:$H,8,0),0)","v":0},"—"]
[null,null,null,null,null,null,null,null,{"$f":"IFERROR(INDEX(BrandList!$B$2:$B$200,MATCH(TRUE,ISNUMBER(SEARCH(BrandList!$B$2:$B$200,G309)),0)),\"\")","v":""},null,null,null,null,null,null,"",{"$f":"IFERROR(VLOOKUP(VALUE(A309),WEEKLY_DATA!$A:$H,2,0),0)","v":0},{"$f":"IFERROR(VLOOKUP(VALUE(A309),WEEKLY_DATA!$A:$H,3,0),0)","v":0},{"$f":"IFERROR(VLOOKUP(VALUE(A309),WEEKLY_DATA!$A:$H,4,0),0)","v":0},{"$f":"IFERROR(VLOOKUP(VALUE(A309),WEEKLY_DATA!$A:$H,5,0),0)","v":0},{"$f":"IFERROR(VLOOKUP(VALUE(A309),WEEKLY_DATA!$A:$H,6,0),0)","v":0},{"$f":"IFERROR(VLOOKUP(VALUE(A309),WEEKLY_DATA!$A:$H,7,0),0)","v":0},{"$f":"IFERROR(IF(OR(Q309=\"\",Q309=0),\"\",IF(VLOOKUP(VALUE($A309),WEEKLY_DATA!$A:$H,6,0)=0,\"No Sales\",Q309/(VLOOKUP(VALUE($A309),WEEKLY_DATA!$A:$H,6,0)/13))),\"\")","v":""},{"$f":"IFERROR(VLOOKUP(VALUE(A309),WEEKLY_DATA!$A:$H,8,0),0)","v":0},"—"]
[null,null,null,null,null,null,null,null,{"$f":"IFERROR(INDEX(BrandList!$B$2:$B$200,MATCH(TRUE,ISNUMBER(SEARCH(BrandList!$B$2:$B$200,G310)),0)),\"\")","v":""},null,null,null,null,null,null,"",{"$f":"IFERROR(VLOOKUP(VALUE(A310),WEEKLY_DATA!$A:$H,2,0),0)","v":0},{"$f":"IFERROR(VLOOKUP(VALUE(A310),WEEKLY_DATA!$A:$H,3,0),0)","v":0},{"$f":"IFERROR(VLOOKUP(VALUE(A310),WEEKLY_DATA!$A:$H,4,0),0)","v":0},{"$f":"IFERROR(VLOOKUP(VALUE(A310),WEEKLY_DATA!$A:$H,5,0),0)","v":0},{"$f":"IFERROR(VLOOKUP(VALUE(A310),WEEKLY_DATA!$A:$H,6,0),0)","v":0},{"$f":"IFERROR(VLOOKUP(VALUE(A310),WEEKLY_DATA!$A:$H,7,0),0)","v":0},{"$f":"IFERROR(IF(OR(Q310=\"\",Q310=0),\"\",IF(VLOOKUP(VALUE($A310),WEEKLY_DATA!$A:$H,6,0)=0,\"No Sales\",Q310/(VLOOKUP(VALUE($A310),WEEKLY_DATA!$A:$H,6,0)/13))),\"\")","v":""},{"$f":"IFERROR(VLOOKUP(VALUE(A310),WEEKLY_DATA!$A:$H,8,0),0)","v":0},"—"]
[null,null,null,null,null,null,null,null,{"$f":"IFERROR(INDEX(BrandList!$B$2:$B$200,MATCH(TRUE,ISNUMBER(SEARCH(BrandList!$B$2:$B$200,G311)),0)),\"\")","v":""},null,null,null,null,null,null,"",{"$f":"IFERROR(VLOOKUP(VALUE(A311),WEEKLY_DATA!$A:$H,2,0),0)","v":0},{"$f":"IFERROR(VLOOKUP(VALUE(A311),WEEKLY_DATA!$A:$H,3,0),0)","v":0},{"$f":"IFERROR(VLOOKUP(VALUE(A311),WEEKLY_DATA!$A:$H,4,0),0)","v":0},{"$f":"IFERROR(VLOOKUP(VALUE(A311),WEEKLY_DATA!$A:$H,5,0),0)","v":0},{"$f":"IFERROR(VLOOKUP(VALUE(A311),WEEKLY_DATA!$A:$H,6,0),0)","v":0},{"$f":"IFERROR(VLOOKUP(VALUE(A311),WEEKLY_DATA!$A:$H,7,0),0)","v":0},{"$f":"IFERROR(IF(OR(Q311=\"\",Q311=0),\"\",IF(VLOOKUP(VALUE($A311),WEEKLY_DATA!$A:$H,6,0)=0,\"No Sales\",Q311/(VLOOKUP(VALUE($A311),WEEKLY_DATA!$A:$H,6,0)/13))),\"\")","v":""},{"$f":"IFERROR(VLOOKUP(VALUE(A311),WEEKLY_DATA!$A:$H,8,0),0)","v":0},"—"]
[null,null,null,null,null,null,null,null,{"$f":"IFERROR(INDEX(BrandList!$B$2:$B$200,MATCH(TRUE,ISNUMBER(SEARCH(BrandList!$B$2:$B$200,G312)),0)),\"\")","v":""},null,null,null,null,null,null,"",{"$f":"IFERROR(VLOOKUP(VALUE(A312),WEEKLY_DATA!$A:$H,2,0),0)","v":0},{"$f":"IFERROR(VLOOKUP(VALUE(A312),WEEKLY_DATA!$A:$H,3,0),0)","v":0},{"$f":"IFERROR(VLOOKUP(VALUE(A312),WEEKLY_DATA!$A:$H,4,0),0)","v":0},{"$f":"IFERROR(VLOOKUP(VALUE(A312),WEEKLY_DATA!$A:$H,5,0),0)","v":0},{"$f":"IFERROR(VLOOKUP(VALUE(A312),WEEKLY_DATA!$A:$H,6,0),0)","v":0},{"$f":"IFERROR(VLOOKUP(VALUE(A312),WEEKLY_DATA!$A:$H,7,0),0)","v":0},{"$f":"IFERROR(IF(OR(Q312=\"\",Q312=0),\"\",IF(VLOOKUP(VALUE($A312),WEEKLY_DATA!$A:$H,6,0)=0,\"No Sales\",Q312/(VLOOKUP(VALUE($A312),WEEKLY_DATA!$A:$H,6,0)/13))),\"\")","v":""},{"$f":"IFERROR(VLOOKUP(VALUE(A312),WEEKLY_DATA!$A:$H,8,0),0)","v":0},"—"]
[null,null,null,null,null,null,null,null,{"$f":"IFERROR(INDEX(BrandList!$B$2:$B$200,MATCH(TRUE,ISNUMBER(SEARCH(BrandList!$B$2:$B$200,G313)),0)),\"\")","v":""},null,null,null,null,null,null,"",{"$f":"IFERROR(VLOOKUP(VALUE(A313),WEEKLY_DATA!$A:$H,2,0),0)","v":0},{"$f":"IFERROR(VLOOKUP(VALUE(A313),WEEKLY_DATA!$A:$H,3,0),0)","v":0},{"$f":"IFERROR(VLOOKUP(VALUE(A313),WEEKLY_DATA!$A:$H,4,0),0)","v":0},{"$f":"IFERROR(VLOOKUP(VALUE(A313),WEEKLY_DATA!$A:$H,5,0),0)","v":0},{"$f":"IFERROR(VLOOKUP(VALUE(A313),WEEKLY_DATA!$A:$H,6,0),0)","v":0},{"$f":"IFERROR(VLOOKUP(VALUE(A313),WEEKLY_DATA!$A:$H,7,0),0)","v":0},{"$f":"IFERROR(IF(OR(Q313=\"\",Q313=0),\"\",IF(VLOOKUP(VALUE($A313),WEEKLY_DATA!$A:$H,6,0)=0,\"No Sales\",Q313/(VLOOKUP(VALUE($A313),WEEKLY_DATA!$A:$H,6,0)/13))),\"\")","v":""},{"$f":"IFERROR(VLOOKUP(VALUE(A313),WEEKLY_DATA!$A:$H,8,0),0)","v":0},"—"]
[null,null,null,null,null,null,null,null,{"$f":"IFERROR(INDEX(BrandList!$B$2:$B$200,MATCH(TRUE,ISNUMBER(SEARCH(BrandList!$B$2:$B$200,G314)),0)),\"\")","v":""},null,null,null,null,null,null,"",{"$f":"IFERROR(VLOOKUP(VALUE(A314),WEEKLY_DATA!$A:$H,2,0),0)","v":0},{"$f":"IFERROR(VLOOKUP(VALUE(A314),WEEKLY_DATA!$A:$H,3,0),0)","v":0},{"$f":"IFERROR(VLOOKUP(VALUE(A314),WEEKLY_DATA!$A:$H,4,0),0)","v":0},{"$f":"IFERROR(VLOOKUP(VALUE(A314),WEEKLY_DATA!$A:$H,5,0),0)","v":0},{"$f":"IFERROR(VLOOKUP(VALUE(A314),WEEKLY_DATA!$A:$H,6,0),0)","v":0},{"$f":"IFERROR(VLOOKUP(VALUE(A314),WEEKLY_DATA!$A:$H,7,0),0)","v":0},{"$f":"IFERROR(IF(OR(Q314=\"\",Q314=0),\"\",IF(VLOOKUP(VALUE($A314),WEEKLY_DATA!$A:$H,6,0)=0,\"No Sales\",Q314/(VLOOKUP(VALUE($A314),WEEKLY_DATA!$A:$H,6,0)/13))),\"\")","v":""},{"$f":"IFERROR(VLOOKUP(VALUE(A314),WEEKLY_DATA!$A:$H,8,0),0)","v":0},"—"]
[null,null,null,null,null,null,null,null,{"$f":"IFERROR(INDEX(BrandList!$B$2:$B$200,MATCH(TRUE,ISNUMBER(SEARCH(BrandList!$B$2:$B$200,G315)),0)),\"\")","v":""},null,null,null,null,null,null,"",{"$f":"IFERROR(VLOOKUP(VALUE(A315),WEEKLY_DATA!$A:$H,2,0),0)","v":0},{"$f":"IFERROR(VLOOKUP(VALUE(A315),WEEKLY_DATA!$A:$H,3,0),0)","v":0},{"$f":"IFERROR(VLOOKUP(VALUE(A315),WEEKLY_DATA!$A:$H,4,0),0)","v":0},{"$f":"IFERROR(VLOOKUP(VALUE(A315),WEEKLY_DATA!$A:$H,5,0),0)","v":0},{"$f":"IFERROR(VLOOKUP(VALUE(A315),WEEKLY_DATA!$A:$H,6,0),0)","v":0},{"$f":"IFERROR(VLOOKUP(VALUE(A315),WEEKLY_DATA!$A:$H,7,0),0)","v":0},{"$f":"IFERROR(IF(OR(Q315=\"\",Q315=0),\"\",IF(VLOOKUP(VALUE($A315),WEEKLY_DATA!$A:$H,6,0)=0,\"No Sales\",Q315/(VLOOKUP(VALUE($A315),WEEKLY_DATA!$A:$H,6,0)/13))),\"\")","v":""},{"$f":"IFERROR(VLOOKUP(VALUE(A315),WEEKLY_DATA!$A:$H,8,0),0)","v":0},"—"]
[null,null,null,null,null,null,null,null,{"$f":"IFERROR(INDEX(BrandList!$B$2:$B$200,MATCH(TRUE,ISNUMBER(SEARCH(BrandList!$B$2:$B$200,G316)),0)),\"\")","v":""},null,null,null,null,null,null,"",{"$f":"IFERROR(VLOOKUP(VALUE(A316),WEEKLY_DATA!$A:$H,2,0),0)","v":0},{"$f":"IFERROR(VLOOKUP(VALUE(A316),WEEKLY_DATA!$A:$H,3,0),0)","v":0},{"$f":"IFERROR(VLOOKUP(VALUE(A316),WEEKLY_DATA!$A:$H,4,0),0)","v":0},{"$f":"IFERROR(VLOOKUP(VALUE(A316),WEEKLY_DATA!$A:$H,5,0),0)","v":0},{"$f":"IFERROR(VLOOKUP(VALUE(A316),WEEKLY_DATA!$A:$H,6,0),0)","v":0},{"$f":"IFERROR(VLOOKUP(VALUE(A316),WEEKLY_DATA!$A:$H,7,0),0)","v":0},{"$f":"IFERROR(IF(OR(Q316=\"\",Q316=0),\"\",IF(VLOOKUP(VALUE($A316),WEEKLY_DATA!$A:$H,6,0)=0,\"No Sales\",Q316/(VLOOKUP(VALUE($A316),WEEKLY_DATA!$A:$H,6,0)/13))),\"\")","v":""},{"$f":"IFERROR(VLOOKUP(VALUE(A316),WEEKLY_DATA!$A:$H,8,0),0)","v":0},"—"]
[null,null,null,null,null,null,null,null,{"$f":"IFERROR(INDEX(BrandList!$B$2:$B$200,MATCH(TRUE,ISNUMBER(SEARCH(BrandList!$B$2:$B$200,G317)),0)),\"\")","v":""},null,null,null,null,null,null,"",{"$f":"IFERROR(VLOOKUP(VALUE(A317),WEEKLY_DATA!$A:$H,2,0),0)","v":0},{"$f":"IFERROR(VLOOKUP(VALUE(A317),WEEKLY_DATA!$A:$H,3,0),0)","v":0},{"$f":"IFERROR(VLOOKUP(VALUE(A317),WEEKLY_DATA!$A:$H,4,0),0)","v":0},{"$f":"IFERROR(VLOOKUP(VALUE(A317),WEEKLY_DATA!$A:$H,5,0),0)","v":0},{"$f":"IFERROR(VLOOKUP(VALUE(A317),WEEKLY_DATA!$A:$H,6,0),0)","v":0},{"$f":"IFERROR(VLOOKUP(VALUE(A317),WEEKLY_DATA!$A:$H,7,0),0)","v":0},{"$f":"IFERROR(IF(OR(Q317=\"\",Q317=0),\"\",IF(VLOOKUP(VALUE($A317),WEEKLY_DATA!$A:$H,6,0)=0,\"No Sales\",Q317/(VLOOKUP(VALUE($A317),WEEKLY_DATA!$A:$H,6,0)/13))),\"\")","v":""},{"$f":"IFERROR(VLOOKUP(VALUE(A317),WEEKLY_DATA!$A:$H,8,0),0)","v":0},"—"]
[null,null,null,null,null,null,null,null,{"$f":"IFERROR(INDEX(BrandList!$B$2:$B$200,MATCH(TRUE,ISNUMBER(SEARCH(BrandList!$B$2:$B$200,G318)),0)),\"\")","v":""},null,null,null,null,null,null,"",{"$f":"IFERROR(VLOOKUP(VALUE(A318),WEEKLY_DATA!$A:$H,2,0),0)","v":0},{"$f":"IFERROR(VLOOKUP(VALUE(A318),WEEKLY_DATA!$A:$H,3,0),0)","v":0},{"$f":"IFERROR(VLOOKUP(VALUE(A318),WEEKLY_DATA!$A:$H,4,0),0)","v":0},{"$f":"IFERROR(VLOOKUP(VALUE(A318),WEEKLY_DATA!$A:$H,5,0),0)","v":0},{"$f":"IFERROR(VLOOKUP(VALUE(A318),WEEKLY_DATA!$A:$H,6,0),0)","v":0},{"$f":"IFERROR(VLOOKUP(VALUE(A318),WEEKLY_DATA!$A:$H,7,0),0)","v":0},{"$f":"IFERROR(IF(OR(Q318=\"\",Q318=0),\"\",IF(VLOOKUP(VALUE($A318),WEEKLY_DATA!$A:$H,6,0)=0,\"No Sales\",Q318/(VLOOKUP(VALUE($A318),WEEKLY_DATA!$A:$H,6,0)/13))),\"\")","v":""},{"$f":"IFERROR(VLOOKUP(VALUE(A318),WEEKLY_DATA!$A:$H,8,0),0)","v":0},"—"]
[null,null,null,null,null,null,null,null,{"$f":"IFERROR(INDEX(BrandList!$B$2:$B$200,MATCH(TRUE,ISNUMBER(SEARCH(BrandList!$B$2:$B$200,G319)),0)),\"\")","v":""},null,null,null,null,null,null,"",{"$f":"IFERROR(VLOOKUP(VALUE(A319),WEEKLY_DATA!$A:$H,2,0),0)","v":0},{"$f":"IFERROR(VLOOKUP(VALUE(A319),WEEKLY_DATA!$A:$H,3,0),0)","v":0},{"$f":"IFERROR(VLOOKUP(VALUE(A319),WEEKLY_DATA!$A:$H,4,0),0)","v":0},{"$f":"IFERROR(VLOOKUP(VALUE(A319),WEEKLY_DATA!$A:$H,5,0),0)","v":0},{"$f":"IFERROR(VLOOKUP(VALUE(A319),WEEKLY_DATA!$A:$H,6,0),0)","v":0},{"$f":"IFERROR(VLOOKUP(VALUE(A319),WEEKLY_DATA!$A:$H,7,0),0)","v":0},{"$f":"IFERROR(IF(OR(Q319=\"\",Q319=0),\"\",IF(VLOOKUP(VALUE($A319),WEEKLY_DATA!$A:$H,6,0)=0,\"No Sales\",Q319/(VLOOKUP(VALUE($A319),WEEKLY_DATA!$A:$H,6,0)/13))),\"\")","v":""},{"$f":"IFERROR(VLOOKUP(VALUE(A319),WEEKLY_DATA!$A:$H,8,0),0)","v":0},"—"]
[null,null,null,null,null,null,null,null,{"$f":"IFERROR(INDEX(BrandList!$B$2:$B$200,MATCH(TRUE,ISNUMBER(SEARCH(BrandList!$B$2:$B$200,G320)),0)),\"\")","v":""},null,null,null,null,null,null,"",{"$f":"IFERROR(VLOOKUP(VALUE(A320),WEEKLY_DATA!$A:$H,2,0),0)","v":0},{"$f":"IFERROR(VLOOKUP(VALUE(A320),WEEKLY_DATA!$A:$H,3,0),0)","v":0},{"$f":"IFERROR(VLOOKUP(VALUE(A320),WEEKLY_DATA!$A:$H,4,0),0)","v":0},{"$f":"IFERROR(VLOOKUP(VALUE(A320),WEEKLY_DATA!$A:$H,5,0),0)","v":0},{"$f":"IFERROR(VLOOKUP(VALUE(A320),WEEKLY_DATA!$A:$H,6,0),0)","v":0},{"$f":"IFERROR(VLOOKUP(VALUE(A320),WEEKLY_DATA!$A:$H,7,0),0)","v":0},{"$f":"IFERROR(IF(OR(Q320=\"\",Q320=0),\"\",IF(VLOOKUP(VALUE($A320),WEEKLY_DATA!$A:$H,6,0)=0,\"No Sales\",Q320/(VLOOKUP(VALUE($A320),WEEKLY_DATA!$A:$H,6,0)/13))),\"\")","v":""},{"$f":"IFERROR(VLOOKUP(VALUE(A320),WEEKLY_DATA!$A:$H,8,0),0)","v":0},"—"]
[null,null,null,null,null,null,null,null,{"$f":"IFERROR(INDEX(BrandList!$B$2:$B$200,MATCH(TRUE,ISNUMBER(SEARCH(BrandList!$B$2:$B$200,G321)),0)),\"\")","v":""},null,null,null,null,null,null,"",{"$f":"IFERROR(VLOOKUP(VALUE(A321),WEEKLY_DATA!$A:$H,2,0),0)","v":0},{"$f":"IFERROR(VLOOKUP(VALUE(A321),WEEKLY_DATA!$A:$H,3,0),0)","v":0},{"$f":"IFERROR(VLOOKUP(VALUE(A321),WEEKLY_DATA!$A:$H,4,0),0)","v":0},{"$f":"IFERROR(VLOOKUP(VALUE(A321),WEEKLY_DATA!$A:$H,5,0),0)","v":0},{"$f":"IFERROR(VLOOKUP(VALUE(A321),WEEKLY_DATA!$A:$H,6,0),0)","v":0},{"$f":"IFERROR(VLOOKUP(VALUE(A321),WEEKLY_DATA!$A:$H,7,0),0)","v":0},{"$f":"IFERROR(IF(OR(Q321=\"\",Q321=0),\"\",IF(VLOOKUP(VALUE($A321),WEEKLY_DATA!$A:$H,6,0)=0,\"No Sales\",Q321/(VLOOKUP(VALUE($A321),WEEKLY_DATA!$A:$H,6,0)/13))),\"\")","v":""},{"$f":"IFERROR(VLOOKUP(VALUE(A321),WEEKLY_DATA!$A:$H,8,0),0)","v":0},"—"]
[null,null,null,null,null,null,null,null,{"$f":"IFERROR(INDEX(BrandList!$B$2:$B$200,MATCH(TRUE,ISNUMBER(SEARCH(BrandList!$B$2:$B$200,G322)),0)),\"\")","v":""},null,null,null,null,null,null,"",{"$f":"IFERROR(VLOOKUP(VALUE(A322),WEEKLY_DATA!$A:$H,2,0),0)","v":0},{"$f":"IFERROR(VLOOKUP(VALUE(A322),WEEKLY_DATA!$A:$H,3,0),0)","v":0},{"$f":"IFERROR(VLOOKUP(VALUE(A322),WEEKLY_DATA!$A:$H,4,0),0)","v":0},{"$f":"IFERROR(VLOOKUP(VALUE(A322),WEEKLY_DATA!$A:$H,5,0),0)","v":0},{"$f":"IFERROR(VLOOKUP(VALUE(A322),WEEKLY_DATA!$A:$H,6,0),0)","v":0},{"$f":"IFERROR(VLOOKUP(VALUE(A322),WEEKLY_DATA!$A:$H,7,0),0)","v":0},{"$f":"IFERROR(IF(OR(Q322=\"\",Q322=0),\"\",IF(VLOOKUP(VALUE($A322),WEEKLY_DATA!$A:$H,6,0)=0,\"No Sales\",Q322/(VLOOKUP(VALUE($A322),WEEKLY_DATA!$A:$H,6,0)/13))),\"\")","v":""},{"$f":"IFERROR(VLOOKUP(VALUE(A322),WEEKLY_DATA!$A:$H,8,0),0)","v":0},"—"]
[null,null,null,null,null,null,null,null,{"$f":"IFERROR(INDEX(BrandList!$B$2:$B$200,MATCH(TRUE,ISNUMBER(SEARCH(BrandList!$B$2:$B$200,G323)),0)),\"\")","v":""},null,null,null,null,null,null,"",{"$f":"IFERROR(VLOOKUP(VALUE(A323),WEEKLY_DATA!$A:$H,2,0),0)","v":0},{"$f":"IFERROR(VLOOKUP(VALUE(A323),WEEKLY_DATA!$A:$H,3,0),0)","v":0},{"$f":"IFERROR(VLOOKUP(VALUE(A323),WEEKLY_DATA!$A:$H,4,0),0)","v":0},{"$f":"IFERROR(VLOOKUP(VALUE(A323),WEEKLY_DATA!$A:$H,5,0),0)","v":0},{"$f":"IFERROR(VLOOKUP(VALUE(A323),WEEKLY_DATA!$A:$H,6,0),0)","v":0},{"$f":"IFERROR(VLOOKUP(VALUE(A323),WEEKLY_DATA!$A:$H,7,0),0)","v":0},{"$f":"IFERROR(IF(OR(Q323=\"\",Q323=0),\"\",IF(VLOOKUP(VALUE($A323),WEEKLY_DATA!$A:$H,6,0)=0,\"No Sales\",Q323/(VLOOKUP(VALUE($A323),WEEKLY_DATA!$A:$H,6,0)/13))),\"\")","v":""},{"$f":"IFERROR(VLOOKUP(VALUE(A323),WEEKLY_DATA!$A:$H,8,0),0)","v":0},"—"]
[null,null,null,null,null,null,null,null,{"$f":"IFERROR(INDEX(BrandList!$B$2:$B$200,MATCH(TRUE,ISNUMBER(SEARCH(BrandList!$B$2:$B$200,G324)),0)),\"\")","v":""},null,null,null,null,null,null,"",{"$f":"IFERROR(VLOOKUP(VALUE(A324),WEEKLY_DATA!$A:$H,2,0),0)","v":0},{"$f":"IFERROR(VLOOKUP(VALUE(A324),WEEKLY_DATA!$A:$H,3,0),0)","v":0},{"$f":"IFERROR(VLOOKUP(VALUE(A324),WEEKLY_DATA!$A:$H,4,0),0)","v":0},{"$f":"IFERROR(VLOOKUP(VALUE(A324),WEEKLY_DATA!$A:$H,5,0),0)","v":0},{"$f":"IFERROR(VLOOKUP(VALUE(A324),WEEKLY_DATA!$A:$H,6,0),0)","v":0},{"$f":"IFERROR(VLOOKUP(VALUE(A324),WEEKLY_DATA!$A:$H,7,0),0)","v":0},{"$f":"IFERROR(IF(OR(Q324=\"\",Q324=0),\"\",IF(VLOOKUP(VALUE($A324),WEEKLY_DATA!$A:$H,6,0)=0,\"No Sales\",Q324/(VLOOKUP(VALUE($A324),WEEKLY_DATA!$A:$H,6,0)/13))),\"\")","v":""},{"$f":"IFERROR(VLOOKUP(VALUE(A324),WEEKLY_DATA!$A:$H,8,0),0)","v":0},"—"]
[null,null,null,null,null,null,null,null,{"$f":"IFERROR(INDEX(BrandList!$B$2:$B$200,MATCH(TRUE,ISNUMBER(SEARCH(BrandList!$B$2:$B$200,G325)),0)),\"\")","v":""},null,null,null,null,null,null,"",{"$f":"IFERROR(VLOOKUP(VALUE(A325),WEEKLY_DATA!$A:$H,2,0),0)","v":0},{"$f":"IFERROR(VLOOKUP(VALUE(A325),WEEKLY_DATA!$A:$H,3,0),0)","v":0},{"$f":"IFERROR(VLOOKUP(VALUE(A325),WEEKLY_DATA!$A:$H,4,0),0)","v":0},{"$f":"IFERROR(VLOOKUP(VALUE(A325),WEEKLY_DATA!$A:$H,5,0),0)","v":0},{"$f":"IFERROR(VLOOKUP(VALUE(A325),WEEKLY_DATA!$A:$H,6,0),0)","v":0},{"$f":"IFERROR(VLOOKUP(VALUE(A325),WEEKLY_DATA!$A:$H,7,0),0)","v":0},{"$f":"IFERROR(IF(OR(Q325=\"\",Q325=0),\"\",IF(VLOOKUP(VALUE($A325),WEEKLY_DATA!$A:$H,6,0)=0,\"No Sales\",Q325/(VLOOKUP(VALUE($A325),WEEKLY_DATA!$A:$H,6,0)/13))),\"\")","v":""},{"$f":"IFERROR(VLOOKUP(VALUE(A325),WEEKLY_DATA!$A:$H,8,0),0)","v":0},"—"]
[null,null,null,null,null,null,null,null,{"$f":"IFERROR(INDEX(BrandList!$B$2:$B$200,MATCH(TRUE,ISNUMBER(SEARCH(BrandList!$B$2:$B$200,G326)),0)),\"\")","v":""},null,null,null,null,null,null,"",{"$f":"IFERROR(VLOOKUP(VALUE(A326),WEEKLY_DATA!$A:$H,2,0),0)","v":0},{"$f":"IFERROR(VLOOKUP(VALUE(A326),WEEKLY_DATA!$A:$H,3,0),0)","v":0},{"$f":"IFERROR(VLOOKUP(VALUE(A326),WEEKLY_DATA!$A:$H,4,0),0)","v":0},{"$f":"IFERROR(VLOOKUP(VALUE(A326),WEEKLY_DATA!$A:$H,5,0),0)","v":0},{"$f":"IFERROR(VLOOKUP(VALUE(A326),WEEKLY_DATA!$A:$H,6,0),0)","v":0},{"$f":"IFERROR(VLOOKUP(VALUE(A326),WEEKLY_DATA!$A:$H,7,0),0)","v":0},{"$f":"IFERROR(IF(OR(Q326=\"\",Q326=0),\"\",IF(VLOOKUP(VALUE($A326),WEEKLY_DATA!$A:$H,6,0)=0,\"No Sales\",Q326/(VLOOKUP(VALUE($A326),WEEKLY_DATA!$A:$H,6,0)/13))),\"\")","v":""},{"$f":"IFERROR(VLOOKUP(VALUE(A326),WEEKLY_DATA!$A:$H,8,0),0)","v":0},{"$f":"IFERROR(\nIF(J326=\"Discontinued\",\"🔴 EOL\",\nIF(J326=\"Drop Ship\",\"📦 Drop Ship\",\nIF(J326=\"New\",\"🆕 New\",\nIF(W326=\"\",\"—\",\nIF(W326<2,\"🔴 Critical\",\nIF(W326<4,\"🟡 Low\",\nIF(W326>26,\"🔵 Overstock\",\"🟢 Healthy\")\n)))))),\"\")","v":"—"}]
[null,null,null,null,null,null,null,null,{"$f":"IFERROR(INDEX(BrandList!$B$2:$B$200,MATCH(TRUE,ISNUMBER(SEARCH(BrandList!$B$2:$B$200,G327)),0)),\"\")","v":""},null,null,null,null,null,null,{"$f":"IFERROR(IF(OR(E327=\"\",F327=\"\",F327=0),\"\",(F327-E327)/F327),\"\")","v":""},{"$f":"IFERROR(VLOOKUP(VALUE(A327),WEEKLY_DATA!$A:$H,2,0),0)","v":0},{"$f":"IFERROR(VLOOKUP(VALUE(A327),WEEKLY_DATA!$A:$H,3,0),0)","v":0},{"$f":"IFERROR(VLOOKUP(VALUE(A327),WEEKLY_DATA!$A:$H,4,0),0)","v":0},{"$f":"IFERROR(VLOOKUP(VALUE(A327),WEEKLY_DATA!$A:$H,5,0),0)","v":0},{"$f":"IFERROR(VLOOKUP(VALUE(A327),WEEKLY_DATA!$A:$H,6,0),0)","v":0},{"$f":"IFERROR(VLOOKUP(VALUE(A327),WEEKLY_DATA!$A:$H,7,0),0)","v":0},{"$f":"IFERROR(IF(OR(Q327=\"\",Q327=0),\"\",IF(VLOOKUP(VALUE($A327),WEEKLY_DATA!$A:$H,6,0)=0,\"No Sales\",Q327/(VLOOKUP(VALUE($A327),WEEKLY_DATA!$A:$H,6,0)/13))),\"\")","v":""},{"$f":"IFERROR(VLOOKUP(VALUE(A327),WEEKLY_DATA!$A:$H,8,0),0)","v":0},"—"]
[null,null,null,null,null,null,null,null,{"$f":"IFERROR(INDEX(BrandList!$B$2:$B$200,MATCH(TRUE,ISNUMBER(SEARCH(BrandList!$B$2:$B$200,G328)),0)),\"\")","v":""},null,null,null,null,null,null,"",{"$f":"IFERROR(VLOOKUP(VALUE(A328),WEEKLY_DATA!$A:$H,2,0),0)","v":0},{"$f":"IFERROR(VLOOKUP(VALUE(A328),WEEKLY_DATA!$A:$H,3,0),0)","v":0},{"$f":"IFERROR(VLOOKUP(VALUE(A328),WEEKLY_DATA!$A:$H,4,0),0)","v":0},{"$f":"IFERROR(VLOOKUP(VALUE(A328),WEEKLY_DATA!$A:$H,5,0),0)","v":0},{"$f":"IFERROR(VLOOKUP(VALUE(A328),WEEKLY_DATA!$A:$H,6,0),0)","v":0},{"$f":"IFERROR(VLOOKUP(VALUE(A328),WEEKLY_DATA!$A:$H,7,0),0)","v":0},{"$f":"IFERROR(IF(OR(Q328=\"\",Q328=0),\"\",IF(VLOOKUP(VALUE($A328),WEEKLY_DATA!$A:$H,6,0)=0,\"No Sales\",Q328/(VLOOKUP(VALUE($A328),WEEKLY_DATA!$A:$H,6,0)/13))),\"\")","v":""},{"$f":"IFERROR(VLOOKUP(VALUE(A328),WEEKLY_DATA!$A:$H,8,0),0)","v":0},"—"]
[null,null,null,null,null,null,null,null,{"$f":"IFERROR(INDEX(BrandList!$B$2:$B$200,MATCH(TRUE,ISNUMBER(SEARCH(BrandList!$B$2:$B$200,G329)),0)),\"\")","v":""},null,null,null,null,null,null,"",{"$f":"IFERROR(VLOOKUP(VALUE(A329),WEEKLY_DATA!$A:$H,2,0),0)","v":0},{"$f":"IFERROR(VLOOKUP(VALUE(A329),WEEKLY_DATA!$A:$H,3,0),0)","v":0},{"$f":"IFERROR(VLOOKUP(VALUE(A329),WEEKLY_DATA!$A:$H,4,0),0)","v":0},{"$f":"IFERROR(VLOOKUP(VALUE(A329),WEEKLY_DATA!$A:$H,5,0),0)","v":0},{"$f":"IFERROR(VLOOKUP(VALUE(A329),WEEKLY_DATA!$A:$H,6,0),0)","v":0},{"$f":"IFERROR(VLOOKUP(VALUE(A329),WEEKLY_DATA!$A:$H,7,0),0)","v":0},{"$f":"IFERROR(IF(OR(Q329=\"\",Q329=0),\"\",IF(VLOOKUP(VALUE($A329),WEEKLY_DATA!$A:$H,6,0)=0,\"No Sales\",Q329/(VLOOKUP(VALUE($A329),WEEKLY_DATA!$A:$H,6,0)/13))),\"\")","v":""},{"$f":"IFERROR(VLOOKUP(VALUE(A329),WEEKLY_DATA!$A:$H,8,0),0)","v":0},"—"]
[null,null,null,null,null,null,null,null,{"$f":"IFERROR(INDEX(BrandList!$B$2:$B$200,MATCH(TRUE,ISNUMBER(SEARCH(BrandList!$B$2:$B$200,G330)),0)),\"\")","v":""},null,null,null,null,null,null,"",{"$f":"IFERROR(VLOOKUP(VALUE(A330),WEEKLY_DATA!$A:$H,2,0),0)","v":0},{"$f":"IFERROR(VLOOKUP(VALUE(A330),WEEKLY_DATA!$A:$H,3,0),0)","v":0},{"$f":"IFERROR(VLOOKUP(VALUE(A330),WEEKLY_DATA!$A:$H,4,0),0)","v":0},{"$f":"IFERROR(VLOOKUP(VALUE(A330),WEEKLY_DATA!$A:$H,5,0),0)","v":0},{"$f":"IFERROR(VLOOKUP(VALUE(A330),WEEKLY_DATA!$A:$H,6,0),0)","v":0},{"$f":"IFERROR(VLOOKUP(VALUE(A330),WEEKLY_DATA!$A:$H,7,0),0)","v":0},{"$f":"IFERROR(IF(OR(Q330=\"\",Q330=0),\"\",IF(VLOOKUP(VALUE($A330),WEEKLY_DATA!$A:$H,6,0)=0,\"No Sales\",Q330/(VLOOKUP(VALUE($A330),WEEKLY_DATA!$A:$H,6,0)/13))),\"\")","v":""},{"$f":"IFERROR(VLOOKUP(VALUE(A330),WEEKLY_DATA!$A:$H,8,0),0)","v":0},"—"]
[null,null,null,null,null,null,null,null,{"$f":"IFERROR(INDEX(BrandList!$B$2:$B$200,MATCH(TRUE,ISNUMBER(SEARCH(BrandList!$B$2:$B$200,G331)),0)),\"\")","v":""},null,null,null,null,null,null,"",{"$f":"IFERROR(VLOOKUP(VALUE(A331),WEEKLY_DATA!$A:$H,2,0),0)","v":0},{"$f":"IFERROR(VLOOKUP(VALUE(A331),WEEKLY_DATA!$A:$H,3,0),0)","v":0},{"$f":"IFERROR(VLOOKUP(VALUE(A331),WEEKLY_DATA!$A:$H,4,0),0)","v":0},{"$f":"IFERROR(VLOOKUP(VALUE(A331),WEEKLY_DATA!$A:$H,5,0),0)","v":0},{"$f":"IFERROR(VLOOKUP(VALUE(A331),WEEKLY_DATA!$A:$H,6,0),0)","v":0},{"$f":"IFERROR(VLOOKUP(VALUE(A331),WEEKLY_DATA!$A:$H,7,0),0)","v":0},{"$f":"IFERROR(IF(OR(Q331=\"\",Q331=0),\"\",IF(VLOOKUP(VALUE($A331),WEEKLY_DATA!$A:$H,6,0)=0,\"No Sales\",Q331/(VLOOKUP(VALUE($A331),WEEKLY_DATA!$A:$H,6,0)/13))),\"\")","v":""},{"$f":"IFERROR(VLOOKUP(VALUE(A331),WEEKLY_DATA!$A:$H,8,0),0)","v":0},"—"]
[null,null,null,null,null,null,null,null,{"$f":"IFERROR(INDEX(BrandList!$B$2:$B$200,MATCH(TRUE,ISNUMBER(SEARCH(BrandList!$B$2:$B$200,G332)),0)),\"\")","v":""},null,null,null,null,null,null,"",{"$f":"IFERROR(VLOOKUP(VALUE(A332),WEEKLY_DATA!$A:$H,2,0),0)","v":0},{"$f":"IFERROR(VLOOKUP(VALUE(A332),WEEKLY_DATA!$A:$H,3,0),0)","v":0},{"$f":"IFERROR(VLOOKUP(VALUE(A332),WEEKLY_DATA!$A:$H,4,0),0)","v":0},{"$f":"IFERROR(VLOOKUP(VALUE(A332),WEEKLY_DATA!$A:$H,5,0),0)","v":0},{"$f":"IFERROR(VLOOKUP(VALUE(A332),WEEKLY_DATA!$A:$H,6,0),0)","v":0},{"$f":"IFERROR(VLOOKUP(VALUE(A332),WEEKLY_DATA!$A:$H,7,0),0)","v":0},{"$f":"IFERROR(IF(OR(Q332=\"\",Q332=0),\"\",IF(VLOOKUP(VALUE($A332),WEEKLY_DATA!$A:$H,6,0)=0,\"No Sales\",Q332/(VLOOKUP(VALUE($A332),WEEKLY_DATA!$A:$H,6,0)/13))),\"\")","v":""},{"$f":"IFERROR(VLOOKUP(VALUE(A332),WEEKLY_DATA!$A:$H,8,0),0)","v":0},"—"]
[null,null,null,null,null,null,null,null,{"$f":"IFERROR(INDEX(BrandList!$B$2:$B$200,MATCH(TRUE,ISNUMBER(SEARCH(BrandList!$B$2:$B$200,G333)),0)),\"\")","v":""},null,null,null,null,null,null,"",{"$f":"IFERROR(VLOOKUP(VALUE(A333),WEEKLY_DATA!$A:$H,2,0),0)","v":0},{"$f":"IFERROR(VLOOKUP(VALUE(A333),WEEKLY_DATA!$A:$H,3,0),0)","v":0},{"$f":"IFERROR(VLOOKUP(VALUE(A333),WEEKLY_DATA!$A:$H,4,0),0)","v":0},{"$f":"IFERROR(VLOOKUP(VALUE(A333),WEEKLY_DATA!$A:$H,5,0),0)","v":0},{"$f":"IFERROR(VLOOKUP(VALUE(A333),WEEKLY_DATA!$A:$H,6,0),0)","v":0},{"$f":"IFERROR(VLOOKUP(VALUE(A333),WEEKLY_DATA!$A:$H,7,0),0)","v":0},{"$f":"IFERROR(IF(OR(Q333=\"\",Q333=0),\"\",IF(VLOOKUP(VALUE($A333),WEEKLY_DATA!$A:$H,6,0)=0,\"No Sales\",Q333/(VLOOKUP(VALUE($A333),WEEKLY_DATA!$A:$H,6,0)/13))),\"\")","v":""},{"$f":"IFERROR(VLOOKUP(VALUE(A333),WEEKLY_DATA!$A:$H,8,0),0)","v":0},"—"]
[null,null,null,null,null,null,null,null,{"$f":"IFERROR(INDEX(BrandList!$B$2:$B$200,MATCH(TRUE,ISNUMBER(SEARCH(BrandList!$B$2:$B$200,G334)),0)),\"\")","v":""},null,null,null,null,null,null,"",{"$f":"IFERROR(VLOOKUP(VALUE(A334),WEEKLY_DATA!$A:$H,2,0),0)","v":0},{"$f":"IFERROR(VLOOKUP(VALUE(A334),WEEKLY_DATA!$A:$H,3,0),0)","v":0},{"$f":"IFERROR(VLOOKUP(VALUE(A334),WEEKLY_DATA!$A:$H,4,0),0)","v":0},{"$f":"IFERROR(VLOOKUP(VALUE(A334),WEEKLY_DATA!$A:$H,5,0),0)","v":0},{"$f":"IFERROR(VLOOKUP(VALUE(A334),WEEKLY_DATA!$A:$H,6,0),0)","v":0},{"$f":"IFERROR(VLOOKUP(VALUE(A334),WEEKLY_DATA!$A:$H,7,0),0)","v":0},{"$f":"IFERROR(IF(OR(Q334=\"\",Q334=0),\"\",IF(VLOOKUP(VALUE($A334),WEEKLY_DATA!$A:$H,6,0)=0,\"No Sales\",Q334/(VLOOKUP(VALUE($A334),WEEKLY_DATA!$A:$H,6,0)/13))),\"\")","v":""},{"$f":"IFERROR(VLOOKUP(VALUE(A334),WEEKLY_DATA!$A:$H,8,0),0)","v":0},"—"]
[null,null,null,null,null,null,null,null,{"$f":"IFERROR(INDEX(BrandList!$B$2:$B$200,MATCH(TRUE,ISNUMBER(SEARCH(BrandList!$B$2:$B$200,G335)),0)),\"\")","v":""},null,null,null,null,null,null,"",{"$f":"IFERROR(VLOOKUP(VALUE(A335),WEEKLY_DATA!$A:$H,2,0),0)","v":0},{"$f":"IFERROR(VLOOKUP(VALUE(A335),WEEKLY_DATA!$A:$H,3,0),0)","v":0},{"$f":"IFERROR(VLOOKUP(VALUE(A335),WEEKLY_DATA!$A:$H,4,0),0)","v":0},{"$f":"IFERROR(VLOOKUP(VALUE(A335),WEEKLY_DATA!$A:$H,5,0),0)","v":0},{"$f":"IFERROR(VLOOKUP(VALUE(A335),WEEKLY_DATA!$A:$H,6,0),0)","v":0},{"$f":"IFERROR(VLOOKUP(VALUE(A335),WEEKLY_DATA!$A:$H,7,0),0)","v":0},{"$f":"IFERROR(IF(OR(Q335=\"\",Q335=0),\"\",IF(VLOOKUP(VALUE($A335),WEEKLY_DATA!$A:$H,6,0)=0,\"No Sales\",Q335/(VLOOKUP(VALUE($A335),WEEKLY_DATA!$A:$H,6,0)/13))),\"\")","v":""},{"$f":"IFERROR(VLOOKUP(VALUE(A335),WEEKLY_DATA!$A:$H,8,0),0)","v":0},"—"]
[null,null,null,null,null,null,null,null,{"$f":"IFERROR(INDEX(BrandList!$B$2:$B$200,MATCH(TRUE,ISNUMBER(SEARCH(BrandList!$B$2:$B$200,G336)),0)),\"\")","v":""},null,null,null,null,null,null,"",{"$f":"IFERROR(VLOOKUP(VALUE(A336),WEEKLY_DATA!$A:$H,2,0),0)","v":0},{"$f":"IFERROR(VLOOKUP(VALUE(A336),WEEKLY_DATA!$A:$H,3,0),0)","v":0},{"$f":"IFERROR(VLOOKUP(VALUE(A336),WEEKLY_DATA!$A:$H,4,0),0)","v":0},{"$f":"IFERROR(VLOOKUP(VALUE(A336),WEEKLY_DATA!$A:$H,5,0),0)","v":0},{"$f":"IFERROR(VLOOKUP(VALUE(A336),WEEKLY_DATA!$A:$H,6,0),0)","v":0},{"$f":"IFERROR(VLOOKUP(VALUE(A336),WEEKLY_DATA!$A:$H,7,0),0)","v":0},{"$f":"IFERROR(IF(OR(Q336=\"\",Q336=0),\"\",IF(VLOOKUP(VALUE($A336),WEEKLY_DATA!$A:$H,6,0)=0,\"No Sales\",Q336/(VLOOKUP(VALUE($A336),WEEKLY_DATA!$A:$H,6,0)/13))),\"\")","v":""},{"$f":"IFERROR(VLOOKUP(VALUE(A336),WEEKLY_DATA!$A:$H,8,0),0)","v":0},"—"]
[null,null,null,null,null,null,null,null,{"$f":"IFERROR(INDEX(BrandList!$B$2:$B$200,MATCH(TRUE,ISNUMBER(SEARCH(BrandList!$B$2:$B$200,G337)),0)),\"\")","v":""},null,null,null,null,null,null,"",{"$f":"IFERROR(VLOOKUP(VALUE(A337),WEEKLY_DATA!$A:$H,2,0),0)","v":0},{"$f":"IFERROR(VLOOKUP(VALUE(A337),WEEKLY_DATA!$A:$H,3,0),0)","v":0},{"$f":"IFERROR(VLOOKUP(VALUE(A337),WEEKLY_DATA!$A:$H,4,0),0)","v":0},{"$f":"IFERROR(VLOOKUP(VALUE(A337),WEEKLY_DATA!$A:$H,5,0),0)","v":0},{"$f":"IFERROR(VLOOKUP(VALUE(A337),WEEKLY_DATA!$A:$H,6,0),0)","v":0},{"$f":"IFERROR(VLOOKUP(VALUE(A337),WEEKLY_DATA!$A:$H,7,0),0)","v":0},{"$f":"IFERROR(IF(OR(Q337=\"\",Q337=0),\"\",IF(VLOOKUP(VALUE($A337),WEEKLY_DATA!$A:$H,6,0)=0,\"No Sales\",Q337/(VLOOKUP(VALUE($A337),WEEKLY_DATA!$A:$H,6,0)/13))),\"\")","v":""},{"$f":"IFERROR(VLOOKUP(VALUE(A337),WEEKLY_DATA!$A:$H,8,0),0)","v":0},"—"]
[null,null,null,null,null,null,null,null,{"$f":"IFERROR(INDEX(BrandList!$B$2:$B$200,MATCH(TRUE,ISNUMBER(SEARCH(BrandList!$B$2:$B$200,G338)),0)),\"\")","v":""},null,null,null,null,null,null,"",{"$f":"IFERROR(VLOOKUP(VALUE(A338),WEEKLY_DATA!$A:$H,2,0),0)","v":0},{"$f":"IFERROR(VLOOKUP(VALUE(A338),WEEKLY_DATA!$A:$H,3,0),0)","v":0},{"$f":"IFERROR(VLOOKUP(VALUE(A338),WEEKLY_DATA!$A:$H,4,0),0)","v":0},{"$f":"IFERROR(VLOOKUP(VALUE(A338),WEEKLY_DATA!$A:$H,5,0),0)","v":0},{"$f":"IFERROR(VLOOKUP(VALUE(A338),WEEKLY_DATA!$A:$H,6,0),0)","v":0},{"$f":"IFERROR(VLOOKUP(VALUE(A338),WEEKLY_DATA!$A:$H,7,0),0)","v":0},{"$f":"IFERROR(IF(OR(Q338=\"\",Q338=0),\"\",IF(VLOOKUP(VALUE($A338),WEEKLY_DATA!$A:$H,6,0)=0,\"No Sales\",Q338/(VLOOKUP(VALUE($A338),WEEKLY_DATA!$A:$H,6,0)/13))),\"\")","v":""},{"$f":"IFERROR(VLOOKUP(VALUE(A338),WEEKLY_DATA!$A:$H,8,0),0)","v":0},"—"]
[null,null,null,null,null,null,null,null,{"$f":"IFERROR(INDEX(BrandList!$B$2:$B$200,MATCH(TRUE,ISNUMBER(SEARCH(BrandList!$B$2:$B$200,G339)),0)),\"\")","v":""},null,null,null,null,null,null,"",{"$f":"IFERROR(VLOOKUP(VALUE(A339),WEEKLY_DATA!$A:$H,2,0),0)","v":0},{"$f":"IFERROR(VLOOKUP(VALUE(A339),WEEKLY_DATA!$A:$H,3,0),0)","v":0},{"$f":"IFERROR(VLOOKUP(VALUE(A339),WEEKLY_DATA!$A:$H,4,0),0)","v":0},{"$f":"IFERROR(VLOOKUP(VALUE(A339),WEEKLY_DATA!$A:$H,5,0),0)","v":0},{"$f":"IFERROR(VLOOKUP(VALUE(A339),WEEKLY_DATA!$A:$H,6,0),0)","v":0},{"$f":"IFERROR(VLOOKUP(VALUE(A339),WEEKLY_DATA!$A:$H,7,0),0)","v":0},{"$f":"IFERROR(IF(OR(Q339=\"\",Q339=0),\"\",IF(VLOOKUP(VALUE($A339),WEEKLY_DATA!$A:$H,6,0)=0,\"No Sales\",Q339/(VLOOKUP(VALUE($A339),WEEKLY_DATA!$A:$H,6,0)/13))),\"\")","v":""},{"$f":"IFERROR(VLOOKUP(VALUE(A339),WEEKLY_DATA!$A:$H,8,0),0)","v":0},"—"]
[null,null,null,null,null,null,null,null,{"$f":"IFERROR(INDEX(BrandList!$B$2:$B$200,MATCH(TRUE,ISNUMBER(SEARCH(BrandList!$B$2:$B$200,G340)),0)),\"\")","v":""},null,null,null,null,null,null,"",{"$f":"IFERROR(VLOOKUP(VALUE(A340),WEEKLY_DATA!$A:$H,2,0),0)","v":0},{"$f":"IFERROR(VLOOKUP(VALUE(A340),WEEKLY_DATA!$A:$H,3,0),0)","v":0},{"$f":"IFERROR(VLOOKUP(VALUE(A340),WEEKLY_DATA!$A:$H,4,0),0)","v":0},{"$f":"IFERROR(VLOOKUP(VALUE(A340),WEEKLY_DATA!$A:$H,5,0),0)","v":0},{"$f":"IFERROR(VLOOKUP(VALUE(A340),WEEKLY_DATA!$A:$H,6,0),0)","v":0},{"$f":"IFERROR(VLOOKUP(VALUE(A340),WEEKLY_DATA!$A:$H,7,0),0)","v":0},{"$f":"IFERROR(IF(OR(Q340=\"\",Q340=0),\"\",IF(VLOOKUP(VALUE($A340),WEEKLY_DATA!$A:$H,6,0)=0,\"No Sales\",Q340/(VLOOKUP(VALUE($A340),WEEKLY_DATA!$A:$H,6,0)/13))),\"\")","v":""},{"$f":"IFERROR(VLOOKUP(VALUE(A340),WEEKLY_DATA!$A:$H,8,0),0)","v":0},"—"]
[null,null,null,null,null,null,null,null,{"$f":"IFERROR(INDEX(BrandList!$B$2:$B$200,MATCH(TRUE,ISNUMBER(SEARCH(BrandList!$B$2:$B$200,G341)),0)),\"\")","v":""},null,null,null,null,null,null,"",{"$f":"IFERROR(VLOOKUP(VALUE(A341),WEEKLY_DATA!$A:$H,2,0),0)","v":0},{"$f":"IFERROR(VLOOKUP(VALUE(A341),WEEKLY_DATA!$A:$H,3,0),0)","v":0},{"$f":"IFERROR(VLOOKUP(VALUE(A341),WEEKLY_DATA!$A:$H,4,0),0)","v":0},{"$f":"IFERROR(VLOOKUP(VALUE(A341),WEEKLY_DATA!$A:$H,5,0),0)","v":0},{"$f":"IFERROR(VLOOKUP(VALUE(A341),WEEKLY_DATA!$A:$H,6,0),0)","v":0},{"$f":"IFERROR(VLOOKUP(VALUE(A341),WEEKLY_DATA!$A:$H,7,0),0)","v":0},{"$f":"IFERROR(IF(OR(Q341=\"\",Q341=0),\"\",IF(VLOOKUP(VALUE($A341),WEEKLY_DATA!$A:$H,6,0)=0,\"No Sales\",Q341/(VLOOKUP(VALUE($A341),WEEKLY_DATA!$A:$H,6,0)/13))),\"\")","v":""},{"$f":"IFERROR(VLOOKUP(VALUE(A341),WEEKLY_DATA!$A:$H,8,0),0)","v":0},"—"]
[null,null,null,null,null,null,null,null,{"$f":"IFERROR(INDEX(BrandList!$B$2:$B$200,MATCH(TRUE,ISNUMBER(SEARCH(BrandList!$B$2:$B$200,G342)),0)),\"\")","v":""},null,null,null,null,null,null,"",{"$f":"IFERROR(VLOOKUP(VALUE(A342),WEEKLY_DATA!$A:$H,2,0),0)","v":0},{"$f":"IFERROR(VLOOKUP(VALUE(A342),WEEKLY_DATA!$A:$H,3,0),0)","v":0},{"$f":"IFERROR(VLOOKUP(VALUE(A342),WEEKLY_DATA!$A:$H,4,0),0)","v":0},{"$f":"IFERROR(VLOOKUP(VALUE(A342),WEEKLY_DATA!$A:$H,5,0),0)","v":0},{"$f":"IFERROR(VLOOKUP(VALUE(A342),WEEKLY_DATA!$A:$H,6,0),0)","v":0},{"$f":"IFERROR(VLOOKUP(VALUE(A342),WEEKLY_DATA!$A:$H,7,0),0)","v":0},{"$f":"IFERROR(IF(OR(Q342=\"\",Q342=0),\"\",IF(VLOOKUP(VALUE($A342),WEEKLY_DATA!$A:$H,6,0)=0,\"No Sales\",Q342/(VLOOKUP(VALUE($A342),WEEKLY_DATA!$A:$H,6,0)/13))),\"\")","v":""},{"$f":"IFERROR(VLOOKUP(VALUE(A342),WEEKLY_DATA!$A:$H,8,0),0)","v":0},"—"]
[null,null,null,null,null,null,null,null,{"$f":"IFERROR(INDEX(BrandList!$B$2:$B$200,MATCH(TRUE,ISNUMBER(SEARCH(BrandList!$B$2:$B$200,G343)),0)),\"\")","v":""},null,null,null,null,null,null,"",{"$f":"IFERROR(VLOOKUP(VALUE(A343),WEEKLY_DATA!$A:$H,2,0),0)","v":0},{"$f":"IFERROR(VLOOKUP(VALUE(A343),WEEKLY_DATA!$A:$H,3,0),0)","v":0},{"$f":"IFERROR(VLOOKUP(VALUE(A343),WEEKLY_DATA!$A:$H,4,0),0)","v":0},{"$f":"IFERROR(VLOOKUP(VALUE(A343),WEEKLY_DATA!$A:$H,5,0),0)","v":0},{"$f":"IFERROR(VLOOKUP(VALUE(A343),WEEKLY_DATA!$A:$H,6,0),0)","v":0},{"$f":"IFERROR(VLOOKUP(VALUE(A343),WEEKLY_DATA!$A:$H,7,0),0)","v":0},{"$f":"IFERROR(IF(OR(Q343=\"\",Q343=0),\"\",IF(VLOOKUP(VALUE($A343),WEEKLY_DATA!$A:$H,6,0)=0,\"No Sales\",Q343/(VLOOKUP(VALUE($A343),WEEKLY_DATA!$A:$H,6,0)/13))),\"\")","v":""},{"$f":"IFERROR(VLOOKUP(VALUE(A343),WEEKLY_DATA!$A:$H,8,0),0)","v":0},"—"]
[null,null,null,null,null,null,null,null,{"$f":"IFERROR(INDEX(BrandList!$B$2:$B$200,MATCH(TRUE,ISNUMBER(SEARCH(BrandList!$B$2:$B$200,G344)),0)),\"\")","v":""},null,null,null,null,null,null,"",{"$f":"IFERROR(VLOOKUP(VALUE(A344),WEEKLY_DATA!$A:$H,2,0),0)","v":0},{"$f":"IFERROR(VLOOKUP(VALUE(A344),WEEKLY_DATA!$A:$H,3,0),0)","v":0},{"$f":"IFERROR(VLOOKUP(VALUE(A344),WEEKLY_DATA!$A:$H,4,0),0)","v":0},{"$f":"IFERROR(VLOOKUP(VALUE(A344),WEEKLY_DATA!$A:$H,5,0),0)","v":0},{"$f":"IFERROR(VLOOKUP(VALUE(A344),WEEKLY_DATA!$A:$H,6,0),0)","v":0},{"$f":"IFERROR(VLOOKUP(VALUE(A344),WEEKLY_DATA!$A:$H,7,0),0)","v":0},{"$f":"IFERROR(IF(OR(Q344=\"\",Q344=0),\"\",IF(VLOOKUP(VALUE($A344),WEEKLY_DATA!$A:$H,6,0)=0,\"No Sales\",Q344/(VLOOKUP(VALUE($A344),WEEKLY_DATA!$A:$H,6,0)/13))),\"\")","v":""},{"$f":"IFERROR(VLOOKUP(VALUE(A344),WEEKLY_DATA!$A:$H,8,0),0)","v":0},"—"]
[null,null,null,null,null,null,null,null,{"$f":"IFERROR(INDEX(BrandList!$B$2:$B$200,MATCH(TRUE,ISNUMBER(SEARCH(BrandList!$B$2:$B$200,G345)),0)),\"\")","v":""},null,null,null,null,null,null,"",{"$f":"IFERROR(VLOOKUP(VALUE(A345),WEEKLY_DATA!$A:$H,2,0),0)","v":0},{"$f":"IFERROR(VLOOKUP(VALUE(A345),WEEKLY_DATA!$A:$H,3,0),0)","v":0},{"$f":"IFERROR(VLOOKUP(VALUE(A345),WEEKLY_DATA!$A:$H,4,0),0)","v":0},{"$f":"IFERROR(VLOOKUP(VALUE(A345),WEEKLY_DATA!$A:$H,5,0),0)","v":0},{"$f":"IFERROR(VLOOKUP(VALUE(A345),WEEKLY_DATA!$A:$H,6,0),0)","v":0},{"$f":"IFERROR(VLOOKUP(VALUE(A345),WEEKLY_DATA!$A:$H,7,0),0)","v":0},{"$f":"IFERROR(IF(OR(Q345=\"\",Q345=0),\"\",IF(VLOOKUP(VALUE($A345),WEEKLY_DATA!$A:$H,6,0)=0,\"No Sales\",Q345/(VLOOKUP(VALUE($A345),WEEKLY_DATA!$A:$H,6,0)/13))),\"\")","v":""},{"$f":"IFERROR(VLOOKUP(VALUE(A345),WEEKLY_DATA!$A:$H,8,0),0)","v":0},"—"]
[null,null,null,null,null,null,null,null,{"$f":"IFERROR(INDEX(BrandList!$B$2:$B$200,MATCH(TRUE,ISNUMBER(SEARCH(BrandList!$B$2:$B$200,G346)),0)),\"\")","v":""},null,null,null,null,null,null,"",{"$f":"IFERROR(VLOOKUP(VALUE(A346),WEEKLY_DATA!$A:$H,2,0),0)","v":0},{"$f":"IFERROR(VLOOKUP(VALUE(A346),WEEKLY_DATA!$A:$H,3,0),0)","v":0},{"$f":"IFERROR(VLOOKUP(VALUE(A346),WEEKLY_DATA!$A:$H,4,0),0)","v":0},{"$f":"IFERROR(VLOOKUP(VALUE(A346),WEEKLY_DATA!$A:$H,5,0),0)","v":0},{"$f":"IFERROR(VLOOKUP(VALUE(A346),WEEKLY_DATA!$A:$H,6,0),0)","v":0},{"$f":"IFERROR(VLOOKUP(VALUE(A346),WEEKLY_DATA!$A:$H,7,0),0)","v":0},{"$f":"IFERROR(IF(OR(Q346=\"\",Q346=0),\"\",IF(VLOOKUP(VALUE($A346),WEEKLY_DATA!$A:$H,6,0)=0,\"No Sales\",Q346/(VLOOKUP(VALUE($A346),WEEKLY_DATA!$A:$H,6,0)/13))),\"\")","v":""},{"$f":"IFERROR(VLOOKUP(VALUE(A346),WEEKLY_DATA!$A:$H,8,0),0)","v":0},"—"]
[null,null,null,null,null,null,null,null,{"$f":"IFERROR(INDEX(BrandList!$B$2:$B$200,MATCH(TRUE,ISNUMBER(SEARCH(BrandList!$B$2:$B$200,G347)),0)),\"\")","v":""},null,null,null,null,null,null,"",{"$f":"IFERROR(VLOOKUP(VALUE(A347),WEEKLY_DATA!$A:$H,2,0),0)","v":0},{"$f":"IFERROR(VLOOKUP(VALUE(A347),WEEKLY_DATA!$A:$H,3,0),0)","v":0},{"$f":"IFERROR(VLOOKUP(VALUE(A347),WEEKLY_DATA!$A:$H,4,0),0)","v":0},{"$f":"IFERROR(VLOOKUP(VALUE(A347),WEEKLY_DATA!$A:$H,5,0),0)","v":0},{"$f":"IFERROR(VLOOKUP(VALUE(A347),WEEKLY_DATA!$A:$H,6,0),0)","v":0},{"$f":"IFERROR(VLOOKUP(VALUE(A347),WEEKLY_DATA!$A:$H,7,0),0)","v":0},{"$f":"IFERROR(IF(OR(Q347=\"\",Q347=0),\"\",IF(VLOOKUP(VALUE($A347),WEEKLY_DATA!$A:$H,6,0)=0,\"No Sales\",Q347/(VLOOKUP(VALUE($A347),WEEKLY_DATA!$A:$H,6,0)/13))),\"\")","v":""},{"$f":"IFERROR(VLOOKUP(VALUE(A347),WEEKLY_DATA!$A:$H,8,0),0)","v":0},"—"]
[null,null,null,null,null,null,null,null,{"$f":"IFERROR(INDEX(BrandList!$B$2:$B$200,MATCH(TRUE,ISNUMBER(SEARCH(BrandList!$B$2:$B$200,G348)),0)),\"\")","v":""},null,null,null,null,null,null,"",{"$f":"IFERROR(VLOOKUP(VALUE(A348),WEEKLY_DATA!$A:$H,2,0),0)","v":0},{"$f":"IFERROR(VLOOKUP(VALUE(A348),WEEKLY_DATA!$A:$H,3,0),0)","v":0},{"$f":"IFERROR(VLOOKUP(VALUE(A348),WEEKLY_DATA!$A:$H,4,0),0)","v":0},{"$f":"IFERROR(VLOOKUP(VALUE(A348),WEEKLY_DATA!$A:$H,5,0),0)","v":0},{"$f":"IFERROR(VLOOKUP(VALUE(A348),WEEKLY_DATA!$A:$H,6,0),0)","v":0},{"$f":"IFERROR(VLOOKUP(VALUE(A348),WEEKLY_DATA!$A:$H,7,0),0)","v":0},{"$f":"IFERROR(IF(OR(Q348=\"\",Q348=0),\"\",IF(VLOOKUP(VALUE($A348),WEEKLY_DATA!$A:$H,6,0)=0,\"No Sales\",Q348/(VLOOKUP(VALUE($A348),WEEKLY_DATA!$A:$H,6,0)/13))),\"\")","v":""},{"$f":"IFERROR(VLOOKUP(VALUE(A348),WEEKLY_DATA!$A:$H,8,0),0)","v":0},"—"]
[null,null,null,null,null,null,null,null,{"$f":"IFERROR(INDEX(BrandList!$B$2:$B$200,MATCH(TRUE,ISNUMBER(SEARCH(BrandList!$B$2:$B$200,G349)),0)),\"\")","v":""},null,null,null,null,null,null,"",{"$f":"IFERROR(VLOOKUP(VALUE(A349),WEEKLY_DATA!$A:$H,2,0),0)","v":0},{"$f":"IFERROR(VLOOKUP(VALUE(A349),WEEKLY_DATA!$A:$H,3,0),0)","v":0},{"$f":"IFERROR(VLOOKUP(VALUE(A349),WEEKLY_DATA!$A:$H,4,0),0)","v":0},{"$f":"IFERROR(VLOOKUP(VALUE(A349),WEEKLY_DATA!$A:$H,5,0),0)","v":0},{"$f":"IFERROR(VLOOKUP(VALUE(A349),WEEKLY_DATA!$A:$H,6,0),0)","v":0},{"$f":"IFERROR(VLOOKUP(VALUE(A349),WEEKLY_DATA!$A:$H,7,0),0)","v":0},{"$f":"IFERROR(IF(OR(Q349=\"\",Q349=0),\"\",IF(VLOOKUP(VALUE($A349),WEEKLY_DATA!$A:$H,6,0)=0,\"No Sales\",Q349/(VLOOKUP(VALUE($A349),WEEKLY_DATA!$A:$H,6,0)/13))),\"\")","v":""},{"$f":"IFERROR(VLOOKUP(VALUE(A349),WEEKLY_DATA!$A:$H,8,0),0)","v":0},"—"]
[null,null,null,null,null,null,null,null,{"$f":"IFERROR(INDEX(BrandList!$B$2:$B$200,MATCH(TRUE,ISNUMBER(SEARCH(BrandList!$B$2:$B$200,G350)),0)),\"\")","v":""},null,null,null,null,null,null,"",{"$f":"IFERROR(VLOOKUP(VALUE(A350),WEEKLY_DATA!$A:$H,2,0),0)","v":0},{"$f":"IFERROR(VLOOKUP(VALUE(A350),WEEKLY_DATA!$A:$H,3,0),0)","v":0},{"$f":"IFERROR(VLOOKUP(VALUE(A350),WEEKLY_DATA!$A:$H,4,0),0)","v":0},{"$f":"IFERROR(VLOOKUP(VALUE(A350),WEEKLY_DATA!$A:$H,5,0),0)","v":0},{"$f":"IFERROR(VLOOKUP(VALUE(A350),WEEKLY_DATA!$A:$H,6,0),0)","v":0},{"$f":"IFERROR(VLOOKUP(VALUE(A350),WEEKLY_DATA!$A:$H,7,0),0)","v":0},{"$f":"IFERROR(IF(OR(Q350=\"\",Q350=0),\"\",IF(VLOOKUP(VALUE($A350),WEEKLY_DATA!$A:$H,6,0)=0,\"No Sales\",Q350/(VLOOKUP(VALUE($A350),WEEKLY_DATA!$A:$H,6,0)/13))),\"\")","v":""},{"$f":"IFERROR(VLOOKUP(VALUE(A350),WEEKLY_DATA!$A:$H,8,0),0)","v":0},"—"]
[null,null,null,null,null,null,null,null,{"$f":"IFERROR(INDEX(BrandList!$B$2:$B$200,MATCH(TRUE,ISNUMBER(SEARCH(BrandList!$B$2:$B$200,G351)),0)),\"\")","v":""},null,null,null,null,null,null,"",{"$f":"IFERROR(VLOOKUP(VALUE(A351),WEEKLY_DATA!$A:$H,2,0),0)","v":0},{"$f":"IFERROR(VLOOKUP(VALUE(A351),WEEKLY_DATA!$A:$H,3,0),0)","v":0},{"$f":"IFERROR(VLOOKUP(VALUE(A351),WEEKLY_DATA!$A:$H,4,0),0)","v":0},{"$f":"IFERROR(VLOOKUP(VALUE(A351),WEEKLY_DATA!$A:$H,5,0),0)","v":0},{"$f":"IFERROR(VLOOKUP(VALUE(A351),WEEKLY_DATA!$A:$H,6,0),0)","v":0},{"$f":"IFERROR(VLOOKUP(VALUE(A351),WEEKLY_DATA!$A:$H,7,0),0)","v":0},{"$f":"IFERROR(IF(OR(Q351=\"\",Q351=0),\"\",IF(VLOOKUP(VALUE($A351),WEEKLY_DATA!$A:$H,6,0)=0,\"No Sales\",Q351/(VLOOKUP(VALUE($A351),WEEKLY_DATA!$A:$H,6,0)/13))),\"\")","v":""},{"$f":"IFERROR(VLOOKUP(VALUE(A351),WEEKLY_DATA!$A:$H,8,0),0)","v":0},"—"]
[null,null,null,null,null,null,null,null,{"$f":"IFERROR(INDEX(BrandList!$B$2:$B$200,MATCH(TRUE,ISNUMBER(SEARCH(BrandList!$B$2:$B$200,G352)),0)),\"\")","v":""},null,null,null,null,null,null,"",{"$f":"IFERROR(VLOOKUP(VALUE(A352),WEEKLY_DATA!$A:$H,2,0),0)","v":0},{"$f":"IFERROR(VLOOKUP(VALUE(A352),WEEKLY_DATA!$A:$H,3,0),0)","v":0},{"$f":"IFERROR(VLOOKUP(VALUE(A352),WEEKLY_DATA!$A:$H,4,0),0)","v":0},{"$f":"IFERROR(VLOOKUP(VALUE(A352),WEEKLY_DATA!$A:$H,5,0),0)","v":0},{"$f":"IFERROR(VLOOKUP(VALUE(A352),WEEKLY_DATA!$A:$H,6,0),0)","v":0},{"$f":"IFERROR(VLOOKUP(VALUE(A352),WEEKLY_DATA!$A:$H,7,0),0)","v":0},{"$f":"IFERROR(IF(OR(Q352=\"\",Q352=0),\"\",IF(VLOOKUP(VALUE($A352),WEEKLY_DATA!$A:$H,6,0)=0,\"No Sales\",Q352/(VLOOKUP(VALUE($A352),WEEKLY_DATA!$A:$H,6,0)/13))),\"\")","v":""},{"$f":"IFERROR(VLOOKUP(VALUE(A352),WEEKLY_DATA!$A:$H,8,0),0)","v":0},"—"]
[null,null,null,null,null,null,null,null,{"$f":"IFERROR(INDEX(BrandList!$B$2:$B$200,MATCH(TRUE,ISNUMBER(SEARCH(BrandList!$B$2:$B$200,G353)),0)),\"\")","v":""},null,null,null,null,null,null,"",{"$f":"IFERROR(VLOOKUP(VALUE(A353),WEEKLY_DATA!$A:$H,2,0),0)","v":0},{"$f":"IFERROR(VLOOKUP(VALUE(A353),WEEKLY_DATA!$A:$H,3,0),0)","v":0},{"$f":"IFERROR(VLOOKUP(VALUE(A353),WEEKLY_DATA!$A:$H,4,0),0)","v":0},{"$f":"IFERROR(VLOOKUP(VALUE(A353),WEEKLY_DATA!$A:$H,5,0),0)","v":0},{"$f":"IFERROR(VLOOKUP(VALUE(A353),WEEKLY_DATA!$A:$H,6,0),0)","v":0},{"$f":"IFERROR(VLOOKUP(VALUE(A353),WEEKLY_DATA!$A:$H,7,0),0)","v":0},{"$f":"IFERROR(IF(OR(Q353=\"\",Q353=0),\"\",IF(VLOOKUP(VALUE($A353),WEEKLY_DATA!$A:$H,6,0)=0,\"No Sales\",Q353/(VLOOKUP(VALUE($A353),WEEKLY_DATA!$A:$H,6,0)/13))),\"\")","v":""},{"$f":"IFERROR(VLOOKUP(VALUE(A353),WEEKLY_DATA!$A:$H,8,0),0)","v":0},"—"]
[null,null,null,null,null,null,null,null,{"$f":"IFERROR(INDEX(BrandList!$B$2:$B$200,MATCH(TRUE,ISNUMBER(SEARCH(BrandList!$B$2:$B$200,G354)),0)),\"\")","v":""},null,null,null,null,null,null,"",{"$f":"IFERROR(VLOOKUP(VALUE(A354),WEEKLY_DATA!$A:$H,2,0),0)","v":0},{"$f":"IFERROR(VLOOKUP(VALUE(A354),WEEKLY_DATA!$A:$H,3,0),0)","v":0},{"$f":"IFERROR(VLOOKUP(VALUE(A354),WEEKLY_DATA!$A:$H,4,0),0)","v":0},{"$f":"IFERROR(VLOOKUP(VALUE(A354),WEEKLY_DATA!$A:$H,5,0),0)","v":0},{"$f":"IFERROR(VLOOKUP(VALUE(A354),WEEKLY_DATA!$A:$H,6,0),0)","v":0},{"$f":"IFERROR(VLOOKUP(VALUE(A354),WEEKLY_DATA!$A:$H,7,0),0)","v":0},{"$f":"IFERROR(IF(OR(Q354=\"\",Q354=0),\"\",IF(VLOOKUP(VALUE($A354),WEEKLY_DATA!$A:$H,6,0)=0,\"No Sales\",Q354/(VLOOKUP(VALUE($A354),WEEKLY_DATA!$A:$H,6,0)/13))),\"\")","v":""},{"$f":"IFERROR(VLOOKUP(VALUE(A354),WEEKLY_DATA!$A:$H,8,0),0)","v":0},"—"]
[null,null,null,null,null,null,null,null,{"$f":"IFERROR(INDEX(BrandList!$B$2:$B$200,MATCH(TRUE,ISNUMBER(SEARCH(BrandList!$B$2:$B$200,G355)),0)),\"\")","v":""},null,null,null,null,null,null,"",{"$f":"IFERROR(VLOOKUP(VALUE(A355),WEEKLY_DATA!$A:$H,2,0),0)","v":0},{"$f":"IFERROR(VLOOKUP(VALUE(A355),WEEKLY_DATA!$A:$H,3,0),0)","v":0},{"$f":"IFERROR(VLOOKUP(VALUE(A355),WEEKLY_DATA!$A:$H,4,0),0)","v":0},{"$f":"IFERROR(VLOOKUP(VALUE(A355),WEEKLY_DATA!$A:$H,5,0),0)","v":0},{"$f":"IFERROR(VLOOKUP(VALUE(A355),WEEKLY_DATA!$A:$H,6,0),0)","v":0},{"$f":"IFERROR(VLOOKUP(VALUE(A355),WEEKLY_DATA!$A:$H,7,0),0)","v":0},{"$f":"IFERROR(IF(OR(Q355=\"\",Q355=0),\"\",IF(VLOOKUP(VALUE($A355),WEEKLY_DATA!$A:$H,6,0)=0,\"No Sales\",Q355/(VLOOKUP(VALUE($A355),WEEKLY_DATA!$A:$H,6,0)/13))),\"\")","v":""},{"$f":"IFERROR(VLOOKUP(VALUE(A355),WEEKLY_DATA!$A:$H,8,0),0)","v":0},"—"]
[null,null,null,null,null,null,null,null,{"$f":"IFERROR(INDEX(BrandList!$B$2:$B$200,MATCH(TRUE,ISNUMBER(SEARCH(BrandList!$B$2:$B$200,G356)),0)),\"\")","v":""},null,null,null,null,null,null,"",{"$f":"IFERROR(VLOOKUP(VALUE(A356),WEEKLY_DATA!$A:$H,2,0),0)","v":0},{"$f":"IFERROR(VLOOKUP(VALUE(A356),WEEKLY_DATA!$A:$H,3,0),0)","v":0},{"$f":"IFERROR(VLOOKUP(VALUE(A356),WEEKLY_DATA!$A:$H,4,0),0)","v":0},{"$f":"IFERROR(VLOOKUP(VALUE(A356),WEEKLY_DATA!$A:$H,5,0),0)","v":0},{"$f":"IFERROR(VLOOKUP(VALUE(A356),WEEKLY_DATA!$A:$H,6,0),0)","v":0},{"$f":"IFERROR(VLOOKUP(VALUE(A356),WEEKLY_DATA!$A:$H,7,0),0)","v":0},{"$f":"IFERROR(IF(OR(Q356=\"\",Q356=0),\"\",IF(VLOOKUP(VALUE($A356),WEEKLY_DATA!$A:$H,6,0)=0,\"No Sales\",Q356/(VLOOKUP(VALUE($A356),WEEKLY_DATA!$A:$H,6,0)/13))),\"\")","v":""},{"$f":"IFERROR(VLOOKUP(VALUE(A356),WEEKLY_DATA!$A:$H,8,0),0)","v":0},"—"]
[null,null,null,null,null,null,null,null,{"$f":"IFERROR(INDEX(BrandList!$B$2:$B$200,MATCH(TRUE,ISNUMBER(SEARCH(BrandList!$B$2:$B$200,G357)),0)),\"\")","v":""},null,null,null,null,null,null,"",{"$f":"IFERROR(VLOOKUP(VALUE(A357),WEEKLY_DATA!$A:$H,2,0),0)","v":0},{"$f":"IFERROR(VLOOKUP(VALUE(A357),WEEKLY_DATA!$A:$H,3,0),0)","v":0},{"$f":"IFERROR(VLOOKUP(VALUE(A357),WEEKLY_DATA!$A:$H,4,0),0)","v":0},{"$f":"IFERROR(VLOOKUP(VALUE(A357),WEEKLY_DATA!$A:$H,5,0),0)","v":0},{"$f":"IFERROR(VLOOKUP(VALUE(A357),WEEKLY_DATA!$A:$H,6,0),0)","v":0},{"$f":"IFERROR(VLOOKUP(VALUE(A357),WEEKLY_DATA!$A:$H,7,0),0)","v":0},{"$f":"IFERROR(IF(OR(Q357=\"\",Q357=0),\"\",IF(VLOOKUP(VALUE($A357),WEEKLY_DATA!$A:$H,6,0)=0,\"No Sales\",Q357/(VLOOKUP(VALUE($A357),WEEKLY_DATA!$A:$H,6,0)/13))),\"\")","v":""},{"$f":"IFERROR(VLOOKUP(VALUE(A357),WEEKLY_DATA!$A:$H,8,0),0)","v":0},"—"]
[null,null,null,null,null,null,null,null,{"$f":"IFERROR(INDEX(BrandList!$B$2:$B$200,MATCH(TRUE,ISNUMBER(SEARCH(BrandList!$B$2:$B$200,G358)),0)),\"\")","v":""},null,null,null,null,null,null,"",{"$f":"IFERROR(VLOOKUP(VALUE(A358),WEEKLY_DATA!$A:$H,2,0),0)","v":0},{"$f":"IFERROR(VLOOKUP(VALUE(A358),WEEKLY_DATA!$A:$H,3,0),0)","v":0},{"$f":"IFERROR(VLOOKUP(VALUE(A358),WEEKLY_DATA!$A:$H,4,0),0)","v":0},{"$f":"IFERROR(VLOOKUP(VALUE(A358),WEEKLY_DATA!$A:$H,5,0),0)","v":0},{"$f":"IFERROR(VLOOKUP(VALUE(A358),WEEKLY_DATA!$A:$H,6,0),0)","v":0},{"$f":"IFERROR(VLOOKUP(VALUE(A358),WEEKLY_DATA!$A:$H,7,0),0)","v":0},{"$f":"IFERROR(IF(OR(Q358=\"\",Q358=0),\"\",IF(VLOOKUP(VALUE($A358),WEEKLY_DATA!$A:$H,6,0)=0,\"No Sales\",Q358/(VLOOKUP(VALUE($A358),WEEKLY_DATA!$A:$H,6,0)/13))),\"\")","v":""},{"$f":"IFERROR(VLOOKUP(VALUE(A358),WEEKLY_DATA!$A:$H,8,0),0)","v":0},"—"]
[null,null,null,null,null,null,null,null,{"$f":"IFERROR(INDEX(BrandList!$B$2:$B$200,MATCH(TRUE,ISNUMBER(SEARCH(BrandList!$B$2:$B$200,G359)),0)),\"\")","v":""},null,null,null,null,null,null,"",{"$f":"IFERROR(VLOOKUP(VALUE(A359),WEEKLY_DATA!$A:$H,2,0),0)","v":0},{"$f":"IFERROR(VLOOKUP(VALUE(A359),WEEKLY_DATA!$A:$H,3,0),0)","v":0},{"$f":"IFERROR(VLOOKUP(VALUE(A359),WEEKLY_DATA!$A:$H,4,0),0)","v":0},{"$f":"IFERROR(VLOOKUP(VALUE(A359),WEEKLY_DATA!$A:$H,5,0),0)","v":0},{"$f":"IFERROR(VLOOKUP(VALUE(A359),WEEKLY_DATA!$A:$H,6,0),0)","v":0},{"$f":"IFERROR(VLOOKUP(VALUE(A359),WEEKLY_DATA!$A:$H,7,0),0)","v":0},{"$f":"IFERROR(IF(OR(Q359=\"\",Q359=0),\"\",IF(VLOOKUP(VALUE($A359),WEEKLY_DATA!$A:$H,6,0)=0,\"No Sales\",Q359/(VLOOKUP(VALUE($A359),WEEKLY_DATA!$A:$H,6,0)/13))),\"\")","v":""},{"$f":"IFERROR(VLOOKUP(VALUE(A359),WEEKLY_DATA!$A:$H,8,0),0)","v":0},"—"]
[null,null,null,null,null,null,null,null,{"$f":"IFERROR(INDEX(BrandList!$B$2:$B$200,MATCH(TRUE,ISNUMBER(SEARCH(BrandList!$B$2:$B$200,G360)),0)),\"\")","v":""},null,null,null,null,null,null,"",{"$f":"IFERROR(VLOOKUP(VALUE(A360),WEEKLY_DATA!$A:$H,2,0),0)","v":0},{"$f":"IFERROR(VLOOKUP(VALUE(A360),WEEKLY_DATA!$A:$H,3,0),0)","v":0},{"$f":"IFERROR(VLOOKUP(VALUE(A360),WEEKLY_DATA!$A:$H,4,0),0)","v":0},{"$f":"IFERROR(VLOOKUP(VALUE(A360),WEEKLY_DATA!$A:$H,5,0),0)","v":0},{"$f":"IFERROR(VLOOKUP(VALUE(A360),WEEKLY_DATA!$A:$H,6,0),0)","v":0},{"$f":"IFERROR(VLOOKUP(VALUE(A360),WEEKLY_DATA!$A:$H,7,0),0)","v":0},{"$f":"IFERROR(IF(OR(Q360=\"\",Q360=0),\"\",IF(VLOOKUP(VALUE($A360),WEEKLY_DATA!$A:$H,6,0)=0,\"No Sales\",Q360/(VLOOKUP(VALUE($A360),WEEKLY_DATA!$A:$H,6,0)/13))),\"\")","v":""},{"$f":"IFERROR(VLOOKUP(VALUE(A360),WEEKLY_DATA!$A:$H,8,0),0)","v":0},"—"]
[null,null,null,null,null,null,null,null,{"$f":"IFERROR(INDEX(BrandList!$B$2:$B$200,MATCH(TRUE,ISNUMBER(SEARCH(BrandList!$B$2:$B$200,G361)),0)),\"\")","v":""},null,null,null,null,null,null,"",{"$f":"IFERROR(VLOOKUP(VALUE(A361),WEEKLY_DATA!$A:$H,2,0),0)","v":0},{"$f":"IFERROR(VLOOKUP(VALUE(A361),WEEKLY_DATA!$A:$H,3,0),0)","v":0},{"$f":"IFERROR(VLOOKUP(VALUE(A361),WEEKLY_DATA!$A:$H,4,0),0)","v":0},{"$f":"IFERROR(VLOOKUP(VALUE(A361),WEEKLY_DATA!$A:$H,5,0),0)","v":0},{"$f":"IFERROR(VLOOKUP(VALUE(A361),WEEKLY_DATA!$A:$H,6,0),0)","v":0},{"$f":"IFERROR(VLOOKUP(VALUE(A361),WEEKLY_DATA!$A:$H,7,0),0)","v":0},{"$f":"IFERROR(IF(OR(Q361=\"\",Q361=0),\"\",IF(VLOOKUP(VALUE($A361),WEEKLY_DATA!$A:$H,6,0)=0,\"No Sales\",Q361/(VLOOKUP(VALUE($A361),WEEKLY_DATA!$A:$H,6,0)/13))),\"\")","v":""},{"$f":"IFERROR(VLOOKUP(VALUE(A361),WEEKLY_DATA!$A:$H,8,0),0)","v":0},"—"]
[null,null,null,null,null,null,null,null,{"$f":"IFERROR(INDEX(BrandList!$B$2:$B$200,MATCH(TRUE,ISNUMBER(SEARCH(BrandList!$B$2:$B$200,G362)),0)),\"\")","v":""},null,null,null,null,null,null,"",{"$f":"IFERROR(VLOOKUP(VALUE(A362),WEEKLY_DATA!$A:$H,2,0),0)","v":0},{"$f":"IFERROR(VLOOKUP(VALUE(A362),WEEKLY_DATA!$A:$H,3,0),0)","v":0},{"$f":"IFERROR(VLOOKUP(VALUE(A362),WEEKLY_DATA!$A:$H,4,0),0)","v":0},{"$f":"IFERROR(VLOOKUP(VALUE(A362),WEEKLY_DATA!$A:$H,5,0),0)","v":0},{"$f":"IFERROR(VLOOKUP(VALUE(A362),WEEKLY_DATA!$A:$H,6,0),0)","v":0},{"$f":"IFERROR(VLOOKUP(VALUE(A362),WEEKLY_DATA!$A:$H,7,0),0)","v":0},{"$f":"IFERROR(IF(OR(Q362=\"\",Q362=0),\"\",IF(VLOOKUP(VALUE($A362),WEEKLY_DATA!$A:$H,6,0)=0,\"No Sales\",Q362/(VLOOKUP(VALUE($A362),WEEKLY_DATA!$A:$H,6,0)/13))),\"\")","v":""},{"$f":"IFERROR(VLOOKUP(VALUE(A362),WEEKLY_DATA!$A:$H,8,0),0)","v":0},"—"]
[null,null,null,null,null,null,null,null,{"$f":"IFERROR(INDEX(BrandList!$B$2:$B$200,MATCH(TRUE,ISNUMBER(SEARCH(BrandList!$B$2:$B$200,G363)),0)),\"\")","v":""},null,null,null,null,null,null,"",{"$f":"IFERROR(VLOOKUP(VALUE(A363),WEEKLY_DATA!$A:$H,2,0),0)","v":0},{"$f":"IFERROR(VLOOKUP(VALUE(A363),WEEKLY_DATA!$A:$H,3,0),0)","v":0},{"$f":"IFERROR(VLOOKUP(VALUE(A363),WEEKLY_DATA!$A:$H,4,0),0)","v":0},{"$f":"IFERROR(VLOOKUP(VALUE(A363),WEEKLY_DATA!$A:$H,5,0),0)","v":0},{"$f":"IFERROR(VLOOKUP(VALUE(A363),WEEKLY_DATA!$A:$H,6,0),0)","v":0},{"$f":"IFERROR(VLOOKUP(VALUE(A363),WEEKLY_DATA!$A:$H,7,0),0)","v":0},{"$f":"IFERROR(IF(OR(Q363=\"\",Q363=0),\"\",IF(VLOOKUP(VALUE($A363),WEEKLY_DATA!$A:$H,6,0)=0,\"No Sales\",Q363/(VLOOKUP(VALUE($A363),WEEKLY_DATA!$A:$H,6,0)/13))),\"\")","v":""},{"$f":"IFERROR(VLOOKUP(VALUE(A363),WEEKLY_DATA!$A:$H,8,0),0)","v":0},"—"]
[null,null,null,null,null,null,null,null,{"$f":"IFERROR(INDEX(BrandList!$B$2:$B$200,MATCH(TRUE,ISNUMBER(SEARCH(BrandList!$B$2:$B$200,G364)),0)),\"\")","v":""},null,null,null,null,null,null,"",{"$f":"IFERROR(VLOOKUP(VALUE(A364),WEEKLY_DATA!$A:$H,2,0),0)","v":0},{"$f":"IFERROR(VLOOKUP(VALUE(A364),WEEKLY_DATA!$A:$H,3,0),0)","v":0},{"$f":"IFERROR(VLOOKUP(VALUE(A364),WEEKLY_DATA!$A:$H,4,0),0)","v":0},{"$f":"IFERROR(VLOOKUP(VALUE(A364),WEEKLY_DATA!$A:$H,5,0),0)","v":0},{"$f":"IFERROR(VLOOKUP(VALUE(A364),WEEKLY_DATA!$A:$H,6,0),0)","v":0},{"$f":"IFERROR(VLOOKUP(VALUE(A364),WEEKLY_DATA!$A:$H,7,0),0)","v":0},{"$f":"IFERROR(IF(OR(Q364=\"\",Q364=0),\"\",IF(VLOOKUP(VALUE($A364),WEEKLY_DATA!$A:$H,6,0)=0,\"No Sales\",Q364/(VLOOKUP(VALUE($A364),WEEKLY_DATA!$A:$H,6,0)/13))),\"\")","v":""},{"$f":"IFERROR(VLOOKUP(VALUE(A364),WEEKLY_DATA!$A:$H,8,0),0)","v":0},"—"]
[null,null,null,null,null,null,null,null,{"$f":"IFERROR(INDEX(BrandList!$B$2:$B$200,MATCH(TRUE,ISNUMBER(SEARCH(BrandList!$B$2:$B$200,G365)),0)),\"\")","v":""},null,null,null,null,null,null,"",{"$f":"IFERROR(VLOOKUP(VALUE(A365),WEEKLY_DATA!$A:$H,2,0),0)","v":0},{"$f":"IFERROR(VLOOKUP(VALUE(A365),WEEKLY_DATA!$A:$H,3,0),0)","v":0},{"$f":"IFERROR(VLOOKUP(VALUE(A365),WEEKLY_DATA!$A:$H,4,0),0)","v":0},{"$f":"IFERROR(VLOOKUP(VALUE(A365),WEEKLY_DATA!$A:$H,5,0),0)","v":0},{"$f":"IFERROR(VLOOKUP(VALUE(A365),WEEKLY_DATA!$A:$H,6,0),0)","v":0},{"$f":"IFERROR(VLOOKUP(VALUE(A365),WEEKLY_DATA!$A:$H,7,0),0)","v":0},{"$f":"IFERROR(IF(OR(Q365=\"\",Q365=0),\"\",IF(VLOOKUP(VALUE($A365),WEEKLY_DATA!$A:$H,6,0)=0,\"No Sales\",Q365/(VLOOKUP(VALUE($A365),WEEKLY_DATA!$A:$H,6,0)/13))),\"\")","v":""},{"$f":"IFERROR(VLOOKUP(VALUE(A365),WEEKLY_DATA!$A:$H,8,0),0)","v":0},"—"]
[null,null,null,null,null,null,null,null,{"$f":"IFERROR(INDEX(BrandList!$B$2:$B$200,MATCH(TRUE,ISNUMBER(SEARCH(BrandList!$B$2:$B$200,G366)),0)),\"\")","v":""},null,null,null,null,null,null,"",{"$f":"IFERROR(VLOOKUP(VALUE(A366),WEEKLY_DATA!$A:$H,2,0),0)","v":0},{"$f":"IFERROR(VLOOKUP(VALUE(A366),WEEKLY_DATA!$A:$H,3,0),0)","v":0},{"$f":"IFERROR(VLOOKUP(VALUE(A366),WEEKLY_DATA!$A:$H,4,0),0)","v":0},{"$f":"IFERROR(VLOOKUP(VALUE(A366),WEEKLY_DATA!$A:$H,5,0),0)","v":0},{"$f":"IFERROR(VLOOKUP(VALUE(A366),WEEKLY_DATA!$A:$H,6,0),0)","v":0},{"$f":"IFERROR(VLOOKUP(VALUE(A366),WEEKLY_DATA!$A:$H,7,0),0)","v":0},{"$f":"IFERROR(IF(OR(Q366=\"\",Q366=0),\"\",IF(VLOOKUP(VALUE($A366),WEEKLY_DATA!$A:$H,6,0)=0,\"No Sales\",Q366/(VLOOKUP(VALUE($A366),WEEKLY_DATA!$A:$H,6,0)/13))),\"\")","v":""},{"$f":"IFERROR(VLOOKUP(VALUE(A366),WEEKLY_DATA!$A:$H,8,0),0)","v":0},"—"]
[null,null,null,null,null,null,null,null,{"$f":"IFERROR(INDEX(BrandList!$B$2:$B$200,MATCH(TRUE,ISNUMBER(SEARCH(BrandList!$B$2:$B$200,G367)),0)),\"\")","v":""},null,null,null,null,null,null,"",{"$f":"IFERROR(VLOOKUP(VALUE(A367),WEEKLY_DATA!$A:$H,2,0),0)","v":0},{"$f":"IFERROR(VLOOKUP(VALUE(A367),WEEKLY_DATA!$A:$H,3,0),0)","v":0},{"$f":"IFERROR(VLOOKUP(VALUE(A367),WEEKLY_DATA!$A:$H,4,0),0)","v":0},{"$f":"IFERROR(VLOOKUP(VALUE(A367),WEEKLY_DATA!$A:$H,5,0),0)","v":0},{"$f":"IFERROR(VLOOKUP(VALUE(A367),WEEKLY_DATA!$A:$H,6,0),0)","v":0},{"$f":"IFERROR(VLOOKUP(VALUE(A367),WEEKLY_DATA!$A:$H,7,0),0)","v":0},{"$f":"IFERROR(IF(OR(Q367=\"\",Q367=0),\"\",IF(VLOOKUP(VALUE($A367),WEEKLY_DATA!$A:$H,6,0)=0,\"No Sales\",Q367/(VLOOKUP(VALUE($A367),WEEKLY_DATA!$A:$H,6,0)/13))),\"\")","v":""},{"$f":"IFERROR(VLOOKUP(VALUE(A367),WEEKLY_DATA!$A:$H,8,0),0)","v":0},"—"]
[null,null,null,null,null,null,null,null,{"$f":"IFERROR(INDEX(BrandList!$B$2:$B$200,MATCH(TRUE,ISNUMBER(SEARCH(BrandList!$B$2:$B$200,G368)),0)),\"\")","v":""},null,null,null,null,null,null,"",{"$f":"IFERROR(VLOOKUP(VALUE(A368),WEEKLY_DATA!$A:$H,2,0),0)","v":0},{"$f":"IFERROR(VLOOKUP(VALUE(A368),WEEKLY_DATA!$A:$H,3,0),0)","v":0},{"$f":"IFERROR(VLOOKUP(VALUE(A368),WEEKLY_DATA!$A:$H,4,0),0)","v":0},{"$f":"IFERROR(VLOOKUP(VALUE(A368),WEEKLY_DATA!$A:$H,5,0),0)","v":0},{"$f":"IFERROR(VLOOKUP(VALUE(A368),WEEKLY_DATA!$A:$H,6,0),0)","v":0},{"$f":"IFERROR(VLOOKUP(VALUE(A368),WEEKLY_DATA!$A:$H,7,0),0)","v":0},{"$f":"IFERROR(IF(OR(Q368=\"\",Q368=0),\"\",IF(VLOOKUP(VALUE($A368),WEEKLY_DATA!$A:$H,6,0)=0,\"No Sales\",Q368/(VLOOKUP(VALUE($A368),WEEKLY_DATA!$A:$H,6,0)/13))),\"\")","v":""},{"$f":"IFERROR(VLOOKUP(VALUE(A368),WEEKLY_DATA!$A:$H,8,0),0)","v":0},"—"]
[null,null,null,null,null,null,null,null,{"$f":"IFERROR(INDEX(BrandList!$B$2:$B$200,MATCH(TRUE,ISNUMBER(SEARCH(BrandList!$B$2:$B$200,G369)),0)),\"\")","v":""},null,null,null,null,null,null,"",{"$f":"IFERROR(VLOOKUP(VALUE(A369),WEEKLY_DATA!$A:$H,2,0),0)","v":0},{"$f":"IFERROR(VLOOKUP(VALUE(A369),WEEKLY_DATA!$A:$H,3,0),0)","v":0},{"$f":"IFERROR(VLOOKUP(VALUE(A369),WEEKLY_DATA!$A:$H,4,0),0)","v":0},{"$f":"IFERROR(VLOOKUP(VALUE(A369),WEEKLY_DATA!$A:$H,5,0),0)","v":0},{"$f":"IFERROR(VLOOKUP(VALUE(A369),WEEKLY_DATA!$A:$H,6,0),0)","v":0},{"$f":"IFERROR(VLOOKUP(VALUE(A369),WEEKLY_DATA!$A:$H,7,0),0)","v":0},{"$f":"IFERROR(IF(OR(Q369=\"\",Q369=0),\"\",IF(VLOOKUP(VALUE($A369),WEEKLY_DATA!$A:$H,6,0)=0,\"No Sales\",Q369/(VLOOKUP(VALUE($A369),WEEKLY_DATA!$A:$H,6,0)/13))),\"\")","v":""},{"$f":"IFERROR(VLOOKUP(VALUE(A369),WEEKLY_DATA!$A:$H,8,0),0)","v":0},"—"]
[null,null,null,null,null,null,null,null,{"$f":"IFERROR(INDEX(BrandList!$B$2:$B$200,MATCH(TRUE,ISNUMBER(SEARCH(BrandList!$B$2:$B$200,G370)),0)),\"\")","v":""},null,null,null,null,null,null,"",{"$f":"IFERROR(VLOOKUP(VALUE(A370),WEEKLY_DATA!$A:$H,2,0),0)","v":0},{"$f":"IFERROR(VLOOKUP(VALUE(A370),WEEKLY_DATA!$A:$H,3,0),0)","v":0},{"$f":"IFERROR(VLOOKUP(VALUE(A370),WEEKLY_DATA!$A:$H,4,0),0)","v":0},{"$f":"IFERROR(VLOOKUP(VALUE(A370),WEEKLY_DATA!$A:$H,5,0),0)","v":0},{"$f":"IFERROR(VLOOKUP(VALUE(A370),WEEKLY_DATA!$A:$H,6,0),0)","v":0},{"$f":"IFERROR(VLOOKUP(VALUE(A370),WEEKLY_DATA!$A:$H,7,0),0)","v":0},{"$f":"IFERROR(IF(OR(Q370=\"\",Q370=0),\"\",IF(VLOOKUP(VALUE($A370),WEEKLY_DATA!$A:$H,6,0)=0,\"No Sales\",Q370/(VLOOKUP(VALUE($A370),WEEKLY_DATA!$A:$H,6,0)/13))),\"\")","v":""},{"$f":"IFERROR(VLOOKUP(VALUE(A370),WEEKLY_DATA!$A:$H,8,0),0)","v":0},"—"]
[null,null,null,null,null,null,null,null,{"$f":"IFERROR(INDEX(BrandList!$B$2:$B$200,MATCH(TRUE,ISNUMBER(SEARCH(BrandList!$B$2:$B$200,G371)),0)),\"\")","v":""},null,null,null,null,null,null,"",{"$f":"IFERROR(VLOOKUP(VALUE(A371),WEEKLY_DATA!$A:$H,2,0),0)","v":0},{"$f":"IFERROR(VLOOKUP(VALUE(A371),WEEKLY_DATA!$A:$H,3,0),0)","v":0},{"$f":"IFERROR(VLOOKUP(VALUE(A371),WEEKLY_DATA!$A:$H,4,0),0)","v":0},{"$f":"IFERROR(VLOOKUP(VALUE(A371),WEEKLY_DATA!$A:$H,5,0),0)","v":0},{"$f":"IFERROR(VLOOKUP(VALUE(A371),WEEKLY_DATA!$A:$H,6,0),0)","v":0},{"$f":"IFERROR(VLOOKUP(VALUE(A371),WEEKLY_DATA!$A:$H,7,0),0)","v":0},{"$f":"IFERROR(IF(OR(Q371=\"\",Q371=0),\"\",IF(VLOOKUP(VALUE($A371),WEEKLY_DATA!$A:$H,6,0)=0,\"No Sales\",Q371/(VLOOKUP(VALUE($A371),WEEKLY_DATA!$A:$H,6,0)/13))),\"\")","v":""},{"$f":"IFERROR(VLOOKUP(VALUE(A371),WEEKLY_DATA!$A:$H,8,0),0)","v":0},"—"]
[null,null,null,null,null,null,null,null,{"$f":"IFERROR(INDEX(BrandList!$B$2:$B$200,MATCH(TRUE,ISNUMBER(SEARCH(BrandList!$B$2:$B$200,G372)),0)),\"\")","v":""},null,null,null,null,null,null,"",{"$f":"IFERROR(VLOOKUP(VALUE(A372),WEEKLY_DATA!$A:$H,2,0),0)","v":0},{"$f":"IFERROR(VLOOKUP(VALUE(A372),WEEKLY_DATA!$A:$H,3,0),0)","v":0},{"$f":"IFERROR(VLOOKUP(VALUE(A372),WEEKLY_DATA!$A:$H,4,0),0)","v":0},{"$f":"IFERROR(VLOOKUP(VALUE(A372),WEEKLY_DATA!$A:$H,5,0),0)","v":0},{"$f":"IFERROR(VLOOKUP(VALUE(A372),WEEKLY_DATA!$A:$H,6,0),0)","v":0},{"$f":"IFERROR(VLOOKUP(VALUE(A372),WEEKLY_DATA!$A:$H,7,0),0)","v":0},{"$f":"IFERROR(IF(OR(Q372=\"\",Q372=0),\"\",IF(VLOOKUP(VALUE($A372),WEEKLY_DATA!$A:$H,6,0)=0,\"No Sales\",Q372/(VLOOKUP(VALUE($A372),WEEKLY_DATA!$A:$H,6,0)/13))),\"\")","v":""},{"$f":"IFERROR(VLOOKUP(VALUE(A372),WEEKLY_DATA!$A:$H,8,0),0)","v":0},"—"]
[null,null,null,null,null,null,null,null,{"$f":"IFERROR(INDEX(BrandList!$B$2:$B$200,MATCH(TRUE,ISNUMBER(SEARCH(BrandList!$B$2:$B$200,G373)),0)),\"\")","v":""},null,null,null,null,null,null,"",{"$f":"IFERROR(VLOOKUP(VALUE(A373),WEEKLY_DATA!$A:$H,2,0),0)","v":0},{"$f":"IFERROR(VLOOKUP(VALUE(A373),WEEKLY_DATA!$A:$H,3,0),0)","v":0},{"$f":"IFERROR(VLOOKUP(VALUE(A373),WEEKLY_DATA!$A:$H,4,0),0)","v":0},{"$f":"IFERROR(VLOOKUP(VALUE(A373),WEEKLY_DATA!$A:$H,5,0),0)","v":0},{"$f":"IFERROR(VLOOKUP(VALUE(A373),WEEKLY_DATA!$A:$H,6,0),0)","v":0},{"$f":"IFERROR(VLOOKUP(VALUE(A373),WEEKLY_DATA!$A:$H,7,0),0)","v":0},{"$f":"IFERROR(IF(OR(Q373=\"\",Q373=0),\"\",IF(VLOOKUP(VALUE($A373),WEEKLY_DATA!$A:$H,6,0)=0,\"No Sales\",Q373/(VLOOKUP(VALUE($A373),WEEKLY_DATA!$A:$H,6,0)/13))),\"\")","v":""},{"$f":"IFERROR(VLOOKUP(VALUE(A373),WEEKLY_DATA!$A:$H,8,0),0)","v":0},"—"]
[null,null,null,null,null,null,null,null,{"$f":"IFERROR(INDEX(BrandList!$B$2:$B$200,MATCH(TRUE,ISNUMBER(SEARCH(BrandList!$B$2:$B$200,G374)),0)),\"\")","v":""},null,null,null,null,null,null,"",{"$f":"IFERROR(VLOOKUP(VALUE(A374),WEEKLY_DATA!$A:$H,2,0),0)","v":0},{"$f":"IFERROR(VLOOKUP(VALUE(A374),WEEKLY_DATA!$A:$H,3,0),0)","v":0},{"$f":"IFERROR(VLOOKUP(VALUE(A374),WEEKLY_DATA!$A:$H,4,0),0)","v":0},{"$f":"IFERROR(VLOOKUP(VALUE(A374),WEEKLY_DATA!$A:$H,5,0),0)","v":0},{"$f":"IFERROR(VLOOKUP(VALUE(A374),WEEKLY_DATA!$A:$H,6,0),0)","v":0},{"$f":"IFERROR(VLOOKUP(VALUE(A374),WEEKLY_DATA!$A:$H,7,0),0)","v":0},{"$f":"IFERROR(IF(OR(Q374=\"\",Q374=0),\"\",IF(VLOOKUP(VALUE($A374),WEEKLY_DATA!$A:$H,6,0)=0,\"No Sales\",Q374/(VLOOKUP(VALUE($A374),WEEKLY_DATA!$A:$H,6,0)/13))),\"\")","v":""},{"$f":"IFERROR(VLOOKUP(VALUE(A374),WEEKLY_DATA!$A:$H,8,0),0)","v":0},"—"]
[null,null,null,null,null,null,null,null,{"$f":"IFERROR(INDEX(BrandList!$B$2:$B$200,MATCH(TRUE,ISNUMBER(SEARCH(BrandList!$B$2:$B$200,G375)),0)),\"\")","v":""},null,null,null,null,null,null,"",{"$f":"IFERROR(VLOOKUP(VALUE(A375),WEEKLY_DATA!$A:$H,2,0),0)","v":0},{"$f":"IFERROR(VLOOKUP(VALUE(A375),WEEKLY_DATA!$A:$H,3,0),0)","v":0},{"$f":"IFERROR(VLOOKUP(VALUE(A375),WEEKLY_DATA!$A:$H,4,0),0)","v":0},{"$f":"IFERROR(VLOOKUP(VALUE(A375),WEEKLY_DATA!$A:$H,5,0),0)","v":0},{"$f":"IFERROR(VLOOKUP(VALUE(A375),WEEKLY_DATA!$A:$H,6,0),0)","v":0},{"$f":"IFERROR(VLOOKUP(VALUE(A375),WEEKLY_DATA!$A:$H,7,0),0)","v":0},{"$f":"IFERROR(IF(OR(Q375=\"\",Q375=0),\"\",IF(VLOOKUP(VALUE($A375),WEEKLY_DATA!$A:$H,6,0)=0,\"No Sales\",Q375/(VLOOKUP(VALUE($A375),WEEKLY_DATA!$A:$H,6,0)/13))),\"\")","v":""},{"$f":"IFERROR(VLOOKUP(VALUE(A375),WEEKLY_DATA!$A:$H,8,0),0)","v":0},"—"]
[null,null,null,null,null,null,null,null,{"$f":"IFERROR(INDEX(BrandList!$B$2:$B$200,MATCH(TRUE,ISNUMBER(SEARCH(BrandList!$B$2:$B$200,G376)),0)),\"\")","v":""},null,null,null,null,null,null,"",{"$f":"IFERROR(VLOOKUP(VALUE(A376),WEEKLY_DATA!$A:$H,2,0),0)","v":0},{"$f":"IFERROR(VLOOKUP(VALUE(A376),WEEKLY_DATA!$A:$H,3,0),0)","v":0},{"$f":"IFERROR(VLOOKUP(VALUE(A376),WEEKLY_DATA!$A:$H,4,0),0)","v":0},{"$f":"IFERROR(VLOOKUP(VALUE(A376),WEEKLY_DATA!$A:$H,5,0),0)","v":0},{"$f":"IFERROR(VLOOKUP(VALUE(A376),WEEKLY_DATA!$A:$H,6,0),0)","v":0},{"$f":"IFERROR(VLOOKUP(VALUE(A376),WEEKLY_DATA!$A:$H,7,0),0)","v":0},{"$f":"IFERROR(IF(OR(Q376=\"\",Q376=0),\"\",IF(VLOOKUP(VALUE($A376),WEEKLY_DATA!$A:$H,6,0)=0,\"No Sales\",Q376/(VLOOKUP(VALUE($A376),WEEKLY_DATA!$A:$H,6,0)/13))),\"\")","v":""},{"$f":"IFERROR(VLOOKUP(VALUE(A376),WEEKLY_DATA!$A:$H,8,0),0)","v":0},"—"]
[null,null,null,null,null,null,null,null,{"$f":"IFERROR(INDEX(BrandList!$B$2:$B$200,MATCH(TRUE,ISNUMBER(SEARCH(BrandList!$B$2:$B$200,G377)),0)),\"\")","v":""},null,null,null,null,null,null,"",{"$f":"IFERROR(VLOOKUP(VALUE(A377),WEEKLY_DATA!$A:$H,2,0),0)","v":0},{"$f":"IFERROR(VLOOKUP(VALUE(A377),WEEKLY_DATA!$A:$H,3,0),0)","v":0},{"$f":"IFERROR(VLOOKUP(VALUE(A377),WEEKLY_DATA!$A:$H,4,0),0)","v":0},{"$f":"IFERROR(VLOOKUP(VALUE(A377),WEEKLY_DATA!$A:$H,5,0),0)","v":0},{"$f":"IFERROR(VLOOKUP(VALUE(A377),WEEKLY_DATA!$A:$H,6,0),0)","v":0},{"$f":"IFERROR(VLOOKUP(VALUE(A377),WEEKLY_DATA!$A:$H,7,0),0)","v":0},{"$f":"IFERROR(IF(OR(Q377=\"\",Q377=0),\"\",IF(VLOOKUP(VALUE($A377),WEEKLY_DATA!$A:$H,6,0)=0,\"No Sales\",Q377/(VLOOKUP(VALUE($A377),WEEKLY_DATA!$A:$H,6,0)/13))),\"\")","v":""},{"$f":"IFERROR(VLOOKUP(VALUE(A377),WEEKLY_DATA!$A:$H,8,0),0)","v":0},"—"]
[null,null,null,null,null,null,null,null,{"$f":"IFERROR(INDEX(BrandList!$B$2:$B$200,MATCH(TRUE,ISNUMBER(SEARCH(BrandList!$B$2:$B$200,G378)),0)),\"\")","v":""},null,null,null,null,null,null,"",{"$f":"IFERROR(VLOOKUP(VALUE(A378),WEEKLY_DATA!$A:$H,2,0),0)","v":0},{"$f":"IFERROR(VLOOKUP(VALUE(A378),WEEKLY_DATA!$A:$H,3,0),0)","v":0},{"$f":"IFERROR(VLOOKUP(VALUE(A378),WEEKLY_DATA!$A:$H,4,0),0)","v":0},{"$f":"IFERROR(VLOOKUP(VALUE(A378),WEEKLY_DATA!$A:$H,5,0),0)","v":0},{"$f":"IFERROR(VLOOKUP(VALUE(A378),WEEKLY_DATA!$A:$H,6,0),0)","v":0},{"$f":"IFERROR(VLOOKUP(VALUE(A378),WEEKLY_DATA!$A:$H,7,0),0)","v":0},{"$f":"IFERROR(IF(OR(Q378=\"\",Q378=0),\"\",IF(VLOOKUP(VALUE($A378),WEEKLY_DATA!$A:$H,6,0)=0,\"No Sales\",Q378/(VLOOKUP(VALUE($A378),WEEKLY_DATA!$A:$H,6,0)/13))),\"\")","v":""},{"$f":"IFERROR(VLOOKUP(VALUE(A378),WEEKLY_DATA!$A:$H,8,0),0)","v":0},"—"]
[null,null,null,null,null,null,null,null,{"$f":"IFERROR(INDEX(BrandList!$B$2:$B$200,MATCH(TRUE,ISNUMBER(SEARCH(BrandList!$B$2:$B$200,G379)),0)),\"\")","v":""},null,null,null,null,null,null,"",{"$f":"IFERROR(VLOOKUP(VALUE(A379),WEEKLY_DATA!$A:$H,2,0),0)","v":0},{"$f":"IFERROR(VLOOKUP(VALUE(A379),WEEKLY_DATA!$A:$H,3,0),0)","v":0},{"$f":"IFERROR(VLOOKUP(VALUE(A379),WEEKLY_DATA!$A:$H,4,0),0)","v":0},{"$f":"IFERROR(VLOOKUP(VALUE(A379),WEEKLY_DATA!$A:$H,5,0),0)","v":0},{"$f":"IFERROR(VLOOKUP(VALUE(A379),WEEKLY_DATA!$A:$H,6,0),0)","v":0},{"$f":"IFERROR(VLOOKUP(VALUE(A379),WEEKLY_DATA!$A:$H,7,0),0)","v":0},{"$f":"IFERROR(IF(OR(Q379=\"\",Q379=0),\"\",IF(VLOOKUP(VALUE($A379),WEEKLY_DATA!$A:$H,6,0)=0,\"No Sales\",Q379/(VLOOKUP(VALUE($A379),WEEKLY_DATA!$A:$H,6,0)/13))),\"\")","v":""},{"$f":"IFERROR(VLOOKUP(VALUE(A379),WEEKLY_DATA!$A:$H,8,0),0)","v":0},"—"]
[null,null,null,null,null,null,null,null,{"$f":"IFERROR(INDEX(BrandList!$B$2:$B$200,MATCH(TRUE,ISNUMBER(SEARCH(BrandList!$B$2:$B$200,G380)),0)),\"\")","v":""},null,null,null,null,null,null,"",{"$f":"IFERROR(VLOOKUP(VALUE(A380),WEEKLY_DATA!$A:$H,2,0),0)","v":0},{"$f":"IFERROR(VLOOKUP(VALUE(A380),WEEKLY_DATA!$A:$H,3,0),0)","v":0},{"$f":"IFERROR(VLOOKUP(VALUE(A380),WEEKLY_DATA!$A:$H,4,0),0)","v":0},{"$f":"IFERROR(VLOOKUP(VALUE(A380),WEEKLY_DATA!$A:$H,5,0),0)","v":0},{"$f":"IFERROR(VLOOKUP(VALUE(A380),WEEKLY_DATA!$A:$H,6,0),0)","v":0},{"$f":"IFERROR(VLOOKUP(VALUE(A380),WEEKLY_DATA!$A:$H,7,0),0)","v":0},{"$f":"IFERROR(IF(OR(Q380=\"\",Q380=0),\"\",IF(VLOOKUP(VALUE($A380),WEEKLY_DATA!$A:$H,6,0)=0,\"No Sales\",Q380/(VLOOKUP(VALUE($A380),WEEKLY_DATA!$A:$H,6,0)/13))),\"\")","v":""},{"$f":"IFERROR(VLOOKUP(VALUE(A380),WEEKLY_DATA!$A:$H,8,0),0)","v":0},"—"]
[null,null,null,null,null,null,null,null,{"$f":"IFERROR(INDEX(BrandList!$B$2:$B$200,MATCH(TRUE,ISNUMBER(SEARCH(BrandList!$B$2:$B$200,G381)),0)),\"\")","v":""},null,null,null,null,null,null,"",{"$f":"IFERROR(VLOOKUP(VALUE(A381),WEEKLY_DATA!$A:$H,2,0),0)","v":0},{"$f":"IFERROR(VLOOKUP(VALUE(A381),WEEKLY_DATA!$A:$H,3,0),0)","v":0},{"$f":"IFERROR(VLOOKUP(VALUE(A381),WEEKLY_DATA!$A:$H,4,0),0)","v":0},{"$f":"IFERROR(VLOOKUP(VALUE(A381),WEEKLY_DATA!$A:$H,5,0),0)","v":0},{"$f":"IFERROR(VLOOKUP(VALUE(A381),WEEKLY_DATA!$A:$H,6,0),0)","v":0},{"$f":"IFERROR(VLOOKUP(VALUE(A381),WEEKLY_DATA!$A:$H,7,0),0)","v":0},{"$f":"IFERROR(IF(OR(Q381=\"\",Q381=0),\"\",IF(VLOOKUP(VALUE($A381),WEEKLY_DATA!$A:$H,6,0)=0,\"No Sales\",Q381/(VLOOKUP(VALUE($A381),WEEKLY_DATA!$A:$H,6,0)/13))),\"\")","v":""},{"$f":"IFERROR(VLOOKUP(VALUE(A381),WEEKLY_DATA!$A:$H,8,0),0)","v":0},"—"]
[null,null,null,null,null,null,null,null,{"$f":"IFERROR(INDEX(BrandList!$B$2:$B$200,MATCH(TRUE,ISNUMBER(SEARCH(BrandList!$B$2:$B$200,G382)),0)),\"\")","v":""},null,null,null,null,null,null,"",{"$f":"IFERROR(VLOOKUP(VALUE(A382),WEEKLY_DATA!$A:$H,2,0),0)","v":0},{"$f":"IFERROR(VLOOKUP(VALUE(A382),WEEKLY_DATA!$A:$H,3,0),0)","v":0},{"$f":"IFERROR(VLOOKUP(VALUE(A382),WEEKLY_DATA!$A:$H,4,0),0)","v":0},{"$f":"IFERROR(VLOOKUP(VALUE(A382),WEEKLY_DATA!$A:$H,5,0),0)","v":0},{"$f":"IFERROR(VLOOKUP(VALUE(A382),WEEKLY_DATA!$A:$H,6,0),0)","v":0},{"$f":"IFERROR(VLOOKUP(VALUE(A382),WEEKLY_DATA!$A:$H,7,0),0)","v":0},{"$f":"IFERROR(IF(OR(Q382=\"\",Q382=0),\"\",IF(VLOOKUP(VALUE($A382),WEEKLY_DATA!$A:$H,6,0)=0,\"No Sales\",Q382/(VLOOKUP(VALUE($A382),WEEKLY_DATA!$A:$H,6,0)/13))),\"\")","v":""},{"$f":"IFERROR(VLOOKUP(VALUE(A382),WEEKLY_DATA!$A:$H,8,0),0)","v":0},"—"]
[null,null,null,null,null,null,null,null,{"$f":"IFERROR(INDEX(BrandList!$B$2:$B$200,MATCH(TRUE,ISNUMBER(SEARCH(BrandList!$B$2:$B$200,G383)),0)),\"\")","v":""},null,null,null,null,null,null,"",{"$f":"IFERROR(VLOOKUP(VALUE(A383),WEEKLY_DATA!$A:$H,2,0),0)","v":0},{"$f":"IFERROR(VLOOKUP(VALUE(A383),WEEKLY_DATA!$A:$H,3,0),0)","v":0},{"$f":"IFERROR(VLOOKUP(VALUE(A383),WEEKLY_DATA!$A:$H,4,0),0)","v":0},{"$f":"IFERROR(VLOOKUP(VALUE(A383),WEEKLY_DATA!$A:$H,5,0),0)","v":0},{"$f":"IFERROR(VLOOKUP(VALUE(A383),WEEKLY_DATA!$A:$H,6,0),0)","v":0},{"$f":"IFERROR(VLOOKUP(VALUE(A383),WEEKLY_DATA!$A:$H,7,0),0)","v":0},{"$f":"IFERROR(IF(OR(Q383=\"\",Q383=0),\"\",IF(VLOOKUP(VALUE($A383),WEEKLY_DATA!$A:$H,6,0)=0,\"No Sales\",Q383/(VLOOKUP(VALUE($A383),WEEKLY_DATA!$A:$H,6,0)/13))),\"\")","v":""},{"$f":"IFERROR(VLOOKUP(VALUE(A383),WEEKLY_DATA!$A:$H,8,0),0)","v":0},"—"]
[null,null,null,null,null,null,null,null,{"$f":"IFERROR(INDEX(BrandList!$B$2:$B$200,MATCH(TRUE,ISNUMBER(SEARCH(BrandList!$B$2:$B$200,G384)),0)),\"\")","v":""},null,null,null,null,null,null,"",{"$f":"IFERROR(VLOOKUP(VALUE(A384),WEEKLY_DATA!$A:$H,2,0),0)","v":0},{"$f":"IFERROR(VLOOKUP(VALUE(A384),WEEKLY_DATA!$A:$H,3,0),0)","v":0},{"$f":"IFERROR(VLOOKUP(VALUE(A384),WEEKLY_DATA!$A:$H,4,0),0)","v":0},{"$f":"IFERROR(VLOOKUP(VALUE(A384),WEEKLY_DATA!$A:$H,5,0),0)","v":0},{"$f":"IFERROR(VLOOKUP(VALUE(A384),WEEKLY_DATA!$A:$H,6,0),0)","v":0},{"$f":"IFERROR(VLOOKUP(VALUE(A384),WEEKLY_DATA!$A:$H,7,0),0)","v":0},{"$f":"IFERROR(IF(OR(Q384=\"\",Q384=0),\"\",IF(VLOOKUP(VALUE($A384),WEEKLY_DATA!$A:$H,6,0)=0,\"No Sales\",Q384/(VLOOKUP(VALUE($A384),WEEKLY_DATA!$A:$H,6,0)/13))),\"\")","v":""},{"$f":"IFERROR(VLOOKUP(VALUE(A384),WEEKLY_DATA!$A:$H,8,0),0)","v":0},"—"]
[null,null,null,null,null,null,null,null,{"$f":"IFERROR(INDEX(BrandList!$B$2:$B$200,MATCH(TRUE,ISNUMBER(SEARCH(BrandList!$B$2:$B$200,G385)),0)),\"\")","v":""},null,null,null,null,null,null,"",{"$f":"IFERROR(VLOOKUP(VALUE(A385),WEEKLY_DATA!$A:$H,2,0),0)","v":0},{"$f":"IFERROR(VLOOKUP(VALUE(A385),WEEKLY_DATA!$A:$H,3,0),0)","v":0},{"$f":"IFERROR(VLOOKUP(VALUE(A385),WEEKLY_DATA!$A:$H,4,0),0)","v":0},{"$f":"IFERROR(VLOOKUP(VALUE(A385),WEEKLY_DATA!$A:$H,5,0),0)","v":0},{"$f":"IFERROR(VLOOKUP(VALUE(A385),WEEKLY_DATA!$A:$H,6,0),0)","v":0},{"$f":"IFERROR(VLOOKUP(VALUE(A385),WEEKLY_DATA!$A:$H,7,0),0)","v":0},{"$f":"IFERROR(IF(OR(Q385=\"\",Q385=0),\"\",IF(VLOOKUP(VALUE($A385),WEEKLY_DATA!$A:$H,6,0)=0,\"No Sales\",Q385/(VLOOKUP(VALUE($A385),WEEKLY_DATA!$A:$H,6,0)/13))),\"\")","v":""},{"$f":"IFERROR(VLOOKUP(VALUE(A385),WEEKLY_DATA!$A:$H,8,0),0)","v":0},"—"]
[null,null,null,null,null,null,null,null,{"$f":"IFERROR(INDEX(BrandList!$B$2:$B$200,MATCH(TRUE,ISNUMBER(SEARCH(BrandList!$B$2:$B$200,G386)),0)),\"\")","v":""},null,null,null,null,null,null,"",{"$f":"IFERROR(VLOOKUP(VALUE(A386),WEEKLY_DATA!$A:$H,2,0),0)","v":0},{"$f":"IFERROR(VLOOKUP(VALUE(A386),WEEKLY_DATA!$A:$H,3,0),0)","v":0},{"$f":"IFERROR(VLOOKUP(VALUE(A386),WEEKLY_DATA!$A:$H,4,0),0)","v":0},{"$f":"IFERROR(VLOOKUP(VALUE(A386),WEEKLY_DATA!$A:$H,5,0),0)","v":0},{"$f":"IFERROR(VLOOKUP(VALUE(A386),WEEKLY_DATA!$A:$H,6,0),0)","v":0},{"$f":"IFERROR(VLOOKUP(VALUE(A386),WEEKLY_DATA!$A:$H,7,0),0)","v":0},{"$f":"IFERROR(IF(OR(Q386=\"\",Q386=0),\"\",IF(VLOOKUP(VALUE($A386),WEEKLY_DATA!$A:$H,6,0)=0,\"No Sales\",Q386/(VLOOKUP(VALUE($A386),WEEKLY_DATA!$A:$H,6,0)/13))),\"\")","v":""},{"$f":"IFERROR(VLOOKUP(VALUE(A386),WEEKLY_DATA!$A:$H,8,0),0)","v":0},"—"]
[null,null,null,null,null,null,null,null,{"$f":"IFERROR(INDEX(BrandList!$B$2:$B$200,MATCH(TRUE,ISNUMBER(SEARCH(BrandList!$B$2:$B$200,G387)),0)),\"\")","v":""},null,null,null,null,null,null,"",{"$f":"IFERROR(VLOOKUP(VALUE(A387),WEEKLY_DATA!$A:$H,2,0),0)","v":0},{"$f":"IFERROR(VLOOKUP(VALUE(A387),WEEKLY_DATA!$A:$H,3,0),0)","v":0},{"$f":"IFERROR(VLOOKUP(VALUE(A387),WEEKLY_DATA!$A:$H,4,0),0)","v":0},{"$f":"IFERROR(VLOOKUP(VALUE(A387),WEEKLY_DATA!$A:$H,5,0),0)","v":0},{"$f":"IFERROR(VLOOKUP(VALUE(A387),WEEKLY_DATA!$A:$H,6,0),0)","v":0},{"$f":"IFERROR(VLOOKUP(VALUE(A387),WEEKLY_DATA!$A:$H,7,0),0)","v":0},{"$f":"IFERROR(IF(OR(Q387=\"\",Q387=0),\"\",IF(VLOOKUP(VALUE($A387),WEEKLY_DATA!$A:$H,6,0)=0,\"No Sales\",Q387/(VLOOKUP(VALUE($A387),WEEKLY_DATA!$A:$H,6,0)/13))),\"\")","v":""},{"$f":"IFERROR(VLOOKUP(VALUE(A387),WEEKLY_DATA!$A:$H,8,0),0)","v":0},"—"]
[null,null,null,null,null,null,null,null,{"$f":"IFERROR(INDEX(BrandList!$B$2:$B$200,MATCH(TRUE,ISNUMBER(SEARCH(BrandList!$B$2:$B$200,G388)),0)),\"\")","v":""},null,null,null,null,null,null,"",{"$f":"IFERROR(VLOOKUP(VALUE(A388),WEEKLY_DATA!$A:$H,2,0),0)","v":0},{"$f":"IFERROR(VLOOKUP(VALUE(A388),WEEKLY_DATA!$A:$H,3,0),0)","v":0},{"$f":"IFERROR(VLOOKUP(VALUE(A388),WEEKLY_DATA!$A:$H,4,0),0)","v":0},{"$f":"IFERROR(VLOOKUP(VALUE(A388),WEEKLY_DATA!$A:$H,5,0),0)","v":0},{"$f":"IFERROR(VLOOKUP(VALUE(A388),WEEKLY_DATA!$A:$H,6,0),0)","v":0},{"$f":"IFERROR(VLOOKUP(VALUE(A388),WEEKLY_DATA!$A:$H,7,0),0)","v":0},{"$f":"IFERROR(IF(OR(Q388=\"\",Q388=0),\"\",IF(VLOOKUP(VALUE($A388),WEEKLY_DATA!$A:$H,6,0)=0,\"No Sales\",Q388/(VLOOKUP(VALUE($A388),WEEKLY_DATA!$A:$H,6,0)/13))),\"\")","v":""},{"$f":"IFERROR(VLOOKUP(VALUE(A388),WEEKLY_DATA!$A:$H,8,0),0)","v":0},"—"]
[null,null,null,null,null,null,null,null,{"$f":"IFERROR(INDEX(BrandList!$B$2:$B$200,MATCH(TRUE,ISNUMBER(SEARCH(BrandList!$B$2:$B$200,G389)),0)),\"\")","v":""},null,null,null,null,null,null,"",{"$f":"IFERROR(VLOOKUP(VALUE(A389),WEEKLY_DATA!$A:$H,2,0),0)","v":0},{"$f":"IFERROR(VLOOKUP(VALUE(A389),WEEKLY_DATA!$A:$H,3,0),0)","v":0},{"$f":"IFERROR(VLOOKUP(VALUE(A389),WEEKLY_DATA!$A:$H,4,0),0)","v":0},{"$f":"IFERROR(VLOOKUP(VALUE(A389),WEEKLY_DATA!$A:$H,5,0),0)","v":0},{"$f":"IFERROR(VLOOKUP(VALUE(A389),WEEKLY_DATA!$A:$H,6,0),0)","v":0},{"$f":"IFERROR(VLOOKUP(VALUE(A389),WEEKLY_DATA!$A:$H,7,0),0)","v":0},{"$f":"IFERROR(IF(OR(Q389=\"\",Q389=0),\"\",IF(VLOOKUP(VALUE($A389),WEEKLY_DATA!$A:$H,6,0)=0,\"No Sales\",Q389/(VLOOKUP(VALUE($A389),WEEKLY_DATA!$A:$H,6,0)/13))),\"\")","v":""},{"$f":"IFERROR(VLOOKUP(VALUE(A389),WEEKLY_DATA!$A:$H,8,0),0)","v":0},"—"]
[null,null,null,null,null,null,null,null,{"$f":"IFERROR(INDEX(BrandList!$B$2:$B$200,MATCH(TRUE,ISNUMBER(SEARCH(BrandList!$B$2:$B$200,G390)),0)),\"\")","v":""},null,null,null,null,null,null,"",{"$f":"IFERROR(VLOOKUP(VALUE(A390),WEEKLY_DATA!$A:$H,2,0),0)","v":0},{"$f":"IFERROR(VLOOKUP(VALUE(A390),WEEKLY_DATA!$A:$H,3,0),0)","v":0},{"$f":"IFERROR(VLOOKUP(VALUE(A390),WEEKLY_DATA!$A:$H,4,0),0)","v":0},{"$f":"IFERROR(VLOOKUP(VALUE(A390),WEEKLY_DATA!$A:$H,5,0),0)","v":0},{"$f":"IFERROR(VLOOKUP(VALUE(A390),WEEKLY_DATA!$A:$H,6,0),0)","v":0},{"$f":"IFERROR(VLOOKUP(VALUE(A390),WEEKLY_DATA!$A:$H,7,0),0)","v":0},{"$f":"IFERROR(IF(OR(Q390=\"\",Q390=0),\"\",IF(VLOOKUP(VALUE($A390),WEEKLY_DATA!$A:$H,6,0)=0,\"No Sales\",Q390/(VLOOKUP(VALUE($A390),WEEKLY_DATA!$A:$H,6,0)/13))),\"\")","v":""},{"$f":"IFERROR(VLOOKUP(VALUE(A390),WEEKLY_DATA!$A:$H,8,0),0)","v":0},{"$f":"IFERROR(\nIF(J390=\"Discontinued\",\"🔴 EOL\",\nIF(J390=\"Drop Ship\",\"📦 Drop Ship\",\nIF(J390=\"New\",\"🆕 New\",\nIF(W390=\"\",\"—\",\nIF(W390<2,\"🔴 Critical\",\nIF(W390<4,\"🟡 Low\",\nIF(W390>26,\"🔵 Overstock\",\"🟢 Healthy\")\n)))))),\"\")","v":"—"}]
[null,null,null,null,null,null,null,null,{"$f":"IFERROR(INDEX(BrandList!$B$2:$B$200,MATCH(TRUE,ISNUMBER(SEARCH(BrandList!$B$2:$B$200,G391)),0)),\"\")","v":""},null,null,null,null,null,null,{"$f":"IFERROR(IF(OR(E391=\"\",F391=\"\",F391=0),\"\",(F391-E391)/F391),\"\")","v":""},{"$f":"IFERROR(VLOOKUP(VALUE(A391),WEEKLY_DATA!$A:$H,2,0),0)","v":0},{"$f":"IFERROR(VLOOKUP(VALUE(A391),WEEKLY_DATA!$A:$H,3,0),0)","v":0},{"$f":"IFERROR(VLOOKUP(VALUE(A391),WEEKLY_DATA!$A:$H,4,0),0)","v":0},{"$f":"IFERROR(VLOOKUP(VALUE(A391),WEEKLY_DATA!$A:$H,5,0),0)","v":0},{"$f":"IFERROR(VLOOKUP(VALUE(A391),WEEKLY_DATA!$A:$H,6,0),0)","v":0},{"$f":"IFERROR(VLOOKUP(VALUE(A391),WEEKLY_DATA!$A:$H,7,0),0)","v":0},{"$f":"IFERROR(IF(OR(Q391=\"\",Q391=0),\"\",IF(VLOOKUP(VALUE($A391),WEEKLY_DATA!$A:$H,6,0)=0,\"No Sales\",Q391/(VLOOKUP(VALUE($A391),WEEKLY_DATA!$A:$H,6,0)/13))),\"\")","v":""},{"$f":"IFERROR(VLOOKUP(VALUE(A391),WEEKLY_DATA!$A:$H,8,0),0)","v":0},"—"]
[null,null,null,null,null,null,null,null,{"$f":"IFERROR(INDEX(BrandList!$B$2:$B$200,MATCH(TRUE,ISNUMBER(SEARCH(BrandList!$B$2:$B$200,G392)),0)),\"\")","v":""},null,null,null,null,null,null,"",{"$f":"IFERROR(VLOOKUP(VALUE(A392),WEEKLY_DATA!$A:$H,2,0),0)","v":0},{"$f":"IFERROR(VLOOKUP(VALUE(A392),WEEKLY_DATA!$A:$H,3,0),0)","v":0},{"$f":"IFERROR(VLOOKUP(VALUE(A392),WEEKLY_DATA!$A:$H,4,0),0)","v":0},{"$f":"IFERROR(VLOOKUP(VALUE(A392),WEEKLY_DATA!$A:$H,5,0),0)","v":0},{"$f":"IFERROR(VLOOKUP(VALUE(A392),WEEKLY_DATA!$A:$H,6,0),0)","v":0},{"$f":"IFERROR(VLOOKUP(VALUE(A392),WEEKLY_DATA!$A:$H,7,0),0)","v":0},{"$f":"IFERROR(IF(OR(Q392=\"\",Q392=0),\"\",IF(VLOOKUP(VALUE($A392),WEEKLY_DATA!$A:$H,6,0)=0,\"No Sales\",Q392/(VLOOKUP(VALUE($A392),WEEKLY_DATA!$A:$H,6,0)/13))),\"\")","v":""},{"$f":"IFERROR(VLOOKUP(VALUE(A392),WEEKLY_DATA!$A:$H,8,0),0)","v":0},"—"]
[null,null,null,null,null,null,null,null,{"$f":"IFERROR(INDEX(BrandList!$B$2:$B$200,MATCH(TRUE,ISNUMBER(SEARCH(BrandList!$B$2:$B$200,G393)),0)),\"\")","v":""},null,null,null,null,null,null,"",{"$f":"IFERROR(VLOOKUP(VALUE(A393),WEEKLY_DATA!$A:$H,2,0),0)","v":0},{"$f":"IFERROR(VLOOKUP(VALUE(A393),WEEKLY_DATA!$A:$H,3,0),0)","v":0},{"$f":"IFERROR(VLOOKUP(VALUE(A393),WEEKLY_DATA!$A:$H,4,0),0)","v":0},{"$f":"IFERROR(VLOOKUP(VALUE(A393),WEEKLY_DATA!$A:$H,5,0),0)","v":0},{"$f":"IFERROR(VLOOKUP(VALUE(A393),WEEKLY_DATA!$A:$H,6,0),0)","v":0},{"$f":"IFERROR(VLOOKUP(VALUE(A393),WEEKLY_DATA!$A:$H,7,0),0)","v":0},{"$f":"IFERROR(IF(OR(Q393=\"\",Q393=0),\"\",IF(VLOOKUP(VALUE($A393),WEEKLY_DATA!$A:$H,6,0)=0,\"No Sales\",Q393/(VLOOKUP(VALUE($A393),WEEKLY_DATA!$A:$H,6,0)/13))),\"\")","v":""},{"$f":"IFERROR(VLOOKUP(VALUE(A393),WEEKLY_DATA!$A:$H,8,0),0)","v":0},"—"]
[null,null,null,null,null,null,null,null,{"$f":"IFERROR(INDEX(BrandList!$B$2:$B$200,MATCH(TRUE,ISNUMBER(SEARCH(BrandList!$B$2:$B$200,G394)),0)),\"\")","v":""},null,null,null,null,null,null,"",{"$f":"IFERROR(VLOOKUP(VALUE(A394),WEEKLY_DATA!$A:$H,2,0),0)","v":0},{"$f":"IFERROR(VLOOKUP(VALUE(A394),WEEKLY_DATA!$A:$H,3,0),0)","v":0},{"$f":"IFERROR(VLOOKUP(VALUE(A394),WEEKLY_DATA!$A:$H,4,0),0)","v":0},{"$f":"IFERROR(VLOOKUP(VALUE(A394),WEEKLY_DATA!$A:$H,5,0),0)","v":0},{"$f":"IFERROR(VLOOKUP(VALUE(A394),WEEKLY_DATA!$A:$H,6,0),0)","v":0},{"$f":"IFERROR(VLOOKUP(VALUE(A394),WEEKLY_DATA!$A:$H,7,0),0)","v":0},{"$f":"IFERROR(IF(OR(Q394=\"\",Q394=0),\"\",IF(VLOOKUP(VALUE($A394),WEEKLY_DATA!$A:$H,6,0)=0,\"No Sales\",Q394/(VLOOKUP(VALUE($A394),WEEKLY_DATA!$A:$H,6,0)/13))),\"\")","v":""},{"$f":"IFERROR(VLOOKUP(VALUE(A394),WEEKLY_DATA!$A:$H,8,0),0)","v":0},"—"]
[null,null,null,null,null,null,null,null,{"$f":"IFERROR(INDEX(BrandList!$B$2:$B$200,MATCH(TRUE,ISNUMBER(SEARCH(BrandList!$B$2:$B$200,G395)),0)),\"\")","v":""},null,null,null,null,null,null,"",{"$f":"IFERROR(VLOOKUP(VALUE(A395),WEEKLY_DATA!$A:$H,2,0),0)","v":0},{"$f":"IFERROR(VLOOKUP(VALUE(A395),WEEKLY_DATA!$A:$H,3,0),0)","v":0},{"$f":"IFERROR(VLOOKUP(VALUE(A395),WEEKLY_DATA!$A:$H,4,0),0)","v":0},{"$f":"IFERROR(VLOOKUP(VALUE(A395),WEEKLY_DATA!$A:$H,5,0),0)","v":0},{"$f":"IFERROR(VLOOKUP(VALUE(A395),WEEKLY_DATA!$A:$H,6,0),0)","v":0},{"$f":"IFERROR(VLOOKUP(VALUE(A395),WEEKLY_DATA!$A:$H,7,0),0)","v":0},{"$f":"IFERROR(IF(OR(Q395=\"\",Q395=0),\"\",IF(VLOOKUP(VALUE($A395),WEEKLY_DATA!$A:$H,6,0)=0,\"No Sales\",Q395/(VLOOKUP(VALUE($A395),WEEKLY_DATA!$A:$H,6,0)/13))),\"\")","v":""},{"$f":"IFERROR(VLOOKUP(VALUE(A395),WEEKLY_DATA!$A:$H,8,0),0)","v":0},"—"]
[null,null,null,null,null,null,null,null,{"$f":"IFERROR(INDEX(BrandList!$B$2:$B$200,MATCH(TRUE,ISNUMBER(SEARCH(BrandList!$B$2:$B$200,G396)),0)),\"\")","v":""},null,null,null,null,null,null,"",{"$f":"IFERROR(VLOOKUP(VALUE(A396),WEEKLY_DATA!$A:$H,2,0),0)","v":0},{"$f":"IFERROR(VLOOKUP(VALUE(A396),WEEKLY_DATA!$A:$H,3,0),0)","v":0},{"$f":"IFERROR(VLOOKUP(VALUE(A396),WEEKLY_DATA!$A:$H,4,0),0)","v":0},{"$f":"IFERROR(VLOOKUP(VALUE(A396),WEEKLY_DATA!$A:$H,5,0),0)","v":0},{"$f":"IFERROR(VLOOKUP(VALUE(A396),WEEKLY_DATA!$A:$H,6,0),0)","v":0},{"$f":"IFERROR(VLOOKUP(VALUE(A396),WEEKLY_DATA!$A:$H,7,0),0)","v":0},{"$f":"IFERROR(IF(OR(Q396=\"\",Q396=0),\"\",IF(VLOOKUP(VALUE($A396),WEEKLY_DATA!$A:$H,6,0)=0,\"No Sales\",Q396/(VLOOKUP(VALUE($A396),WEEKLY_DATA!$A:$H,6,0)/13))),\"\")","v":""},{"$f":"IFERROR(VLOOKUP(VALUE(A396),WEEKLY_DATA!$A:$H,8,0),0)","v":0},"—"]
[null,null,null,null,null,null,null,null,{"$f":"IFERROR(INDEX(BrandList!$B$2:$B$200,MATCH(TRUE,ISNUMBER(SEARCH(BrandList!$B$2:$B$200,G397)),0)),\"\")","v":""},null,null,null,null,null,null,"",{"$f":"IFERROR(VLOOKUP(VALUE(A397),WEEKLY_DATA!$A:$H,2,0),0)","v":0},{"$f":"IFERROR(VLOOKUP(VALUE(A397),WEEKLY_DATA!$A:$H,3,0),0)","v":0},{"$f":"IFERROR(VLOOKUP(VALUE(A397),WEEKLY_DATA!$A:$H,4,0),0)","v":0},{"$f":"IFERROR(VLOOKUP(VALUE(A397),WEEKLY_DATA!$A:$H,5,0),0)","v":0},{"$f":"IFERROR(VLOOKUP(VALUE(A397),WEEKLY_DATA!$A:$H,6,0),0)","v":0},{"$f":"IFERROR(VLOOKUP(VALUE(A397),WEEKLY_DATA!$A:$H,7,0),0)","v":0},{"$f":"IFERROR(IF(OR(Q397=\"\",Q397=0),\"\",IF(VLOOKUP(VALUE($A397),WEEKLY_DATA!$A:$H,6,0)=0,\"No Sales\",Q397/(VLOOKUP(VALUE($A397),WEEKLY_DATA!$A:$H,6,0)/13))),\"\")","v":""},{"$f":"IFERROR(VLOOKUP(VALUE(A397),WEEKLY_DATA!$A:$H,8,0),0)","v":0},"—"]
[null,null,null,null,null,null,null,null,{"$f":"IFERROR(INDEX(BrandList!$B$2:$B$200,MATCH(TRUE,ISNUMBER(SEARCH(BrandList!$B$2:$B$200,G398)),0)),\"\")","v":""},null,null,null,null,null,null,"",{"$f":"IFERROR(VLOOKUP(VALUE(A398),WEEKLY_DATA!$A:$H,2,0),0)","v":0},{"$f":"IFERROR(VLOOKUP(VALUE(A398),WEEKLY_DATA!$A:$H,3,0),0)","v":0},{"$f":"IFERROR(VLOOKUP(VALUE(A398),WEEKLY_DATA!$A:$H,4,0),0)","v":0},{"$f":"IFERROR(VLOOKUP(VALUE(A398),WEEKLY_DATA!$A:$H,5,0),0)","v":0},{"$f":"IFERROR(VLOOKUP(VALUE(A398),WEEKLY_DATA!$A:$H,6,0),0)","v":0},{"$f":"IFERROR(VLOOKUP(VALUE(A398),WEEKLY_DATA!$A:$H,7,0),0)","v":0},{"$f":"IFERROR(IF(OR(Q398=\"\",Q398=0),\"\",IF(VLOOKUP(VALUE($A398),WEEKLY_DATA!$A:$H,6,0)=0,\"No Sales\",Q398/(VLOOKUP(VALUE($A398),WEEKLY_DATA!$A:$H,6,0)/13))),\"\")","v":""},{"$f":"IFERROR(VLOOKUP(VALUE(A398),WEEKLY_DATA!$A:$H,8,0),0)","v":0},"—"]
[null,null,null,null,null,null,null,null,{"$f":"IFERROR(INDEX(BrandList!$B$2:$B$200,MATCH(TRUE,ISNUMBER(SEARCH(BrandList!$B$2:$B$200,G399)),0)),\"\")","v":""},null,null,null,null,null,null,"",{"$f":"IFERROR(VLOOKUP(VALUE(A399),WEEKLY_DATA!$A:$H,2,0),0)","v":0},{"$f":"IFERROR(VLOOKUP(VALUE(A399),WEEKLY_DATA!$A:$H,3,0),0)","v":0},{"$f":"IFERROR(VLOOKUP(VALUE(A399),WEEKLY_DATA!$A:$H,4,0),0)","v":0},{"$f":"IFERROR(VLOOKUP(VALUE(A399),WEEKLY_DATA!$A:$H,5,0),0)","v":0},{"$f":"IFERROR(VLOOKUP(VALUE(A399),WEEKLY_DATA!$A:$H,6,0),0)","v":0},{"$f":"IFERROR(VLOOKUP(VALUE(A399),WEEKLY_DATA!$A:$H,7,0),0)","v":0},{"$f":"IFERROR(IF(OR(Q399=\"\",Q399=0),\"\",IF(VLOOKUP(VALUE($A399),WEEKLY_DATA!$A:$H,6,0)=0,\"No Sales\",Q399/(VLOOKUP(VALUE($A399),WEEKLY_DATA!$A:$H,6,0)/13))),\"\")","v":""},{"$f":"IFERROR(VLOOKUP(VALUE(A399),WEEKLY_DATA!$A:$H,8,0),0)","v":0},"—"]
[null,null,null,null,null,null,null,null,{"$f":"IFERROR(INDEX(BrandList!$B$2:$B$200,MATCH(TRUE,ISNUMBER(SEARCH(BrandList!$B$2:$B$200,G400)),0)),\"\")","v":""},null,null,null,null,null,null,"",{"$f":"IFERROR(VLOOKUP(VALUE(A400),WEEKLY_DATA!$A:$H,2,0),0)","v":0},{"$f":"IFERROR(VLOOKUP(VALUE(A400),WEEKLY_DATA!$A:$H,3,0),0)","v":0},{"$f":"IFERROR(VLOOKUP(VALUE(A400),WEEKLY_DATA!$A:$H,4,0),0)","v":0},{"$f":"IFERROR(VLOOKUP(VALUE(A400),WEEKLY_DATA!$A:$H,5,0),0)","v":0},{"$f":"IFERROR(VLOOKUP(VALUE(A400),WEEKLY_DATA!$A:$H,6,0),0)","v":0},{"$f":"IFERROR(VLOOKUP(VALUE(A400),WEEKLY_DATA!$A:$H,7,0),0)","v":0},{"$f":"IFERROR(IF(OR(Q400=\"\",Q400=0),\"\",IF(VLOOKUP(VALUE($A400),WEEKLY_DATA!$A:$H,6,0)=0,\"No Sales\",Q400/(VLOOKUP(VALUE($A400),WEEKLY_DATA!$A:$H,6,0)/13))),\"\")","v":""},{"$f":"IFERROR(VLOOKUP(VALUE(A400),WEEKLY_DATA!$A:$H,8,0),0)","v":0},"—"]
[null,null,null,null,null,null,null,null,{"$f":"IFERROR(INDEX(BrandList!$B$2:$B$200,MATCH(TRUE,ISNUMBER(SEARCH(BrandList!$B$2:$B$200,G401)),0)),\"\")","v":""},null,null,null,null,null,null,"",{"$f":"IFERROR(VLOOKUP(VALUE(A401),WEEKLY_DATA!$A:$H,2,0),0)","v":0},{"$f":"IFERROR(VLOOKUP(VALUE(A401),WEEKLY_DATA!$A:$H,3,0),0)","v":0},{"$f":"IFERROR(VLOOKUP(VALUE(A401),WEEKLY_DATA!$A:$H,4,0),0)","v":0},{"$f":"IFERROR(VLOOKUP(VALUE(A401),WEEKLY_DATA!$A:$H,5,0),0)","v":0},{"$f":"IFERROR(VLOOKUP(VALUE(A401),WEEKLY_DATA!$A:$H,6,0),0)","v":0},{"$f":"IFERROR(VLOOKUP(VALUE(A401),WEEKLY_DATA!$A:$H,7,0),0)","v":0},{"$f":"IFERROR(IF(OR(Q401=\"\",Q401=0),\"\",IF(VLOOKUP(VALUE($A401),WEEKLY_DATA!$A:$H,6,0)=0,\"No Sales\",Q401/(VLOOKUP(VALUE($A401),WEEKLY_DATA!$A:$H,6,0)/13))),\"\")","v":""},{"$f":"IFERROR(VLOOKUP(VALUE(A401),WEEKLY_DATA!$A:$H,8,0),0)","v":0},"—"]
[null,null,null,null,null,null,null,null,{"$f":"IFERROR(INDEX(BrandList!$B$2:$B$200,MATCH(TRUE,ISNUMBER(SEARCH(BrandList!$B$2:$B$200,G402)),0)),\"\")","v":""},null,null,null,null,null,null,"",{"$f":"IFERROR(VLOOKUP(VALUE(A402),WEEKLY_DATA!$A:$H,2,0),0)","v":0},{"$f":"IFERROR(VLOOKUP(VALUE(A402),WEEKLY_DATA!$A:$H,3,0),0)","v":0},{"$f":"IFERROR(VLOOKUP(VALUE(A402),WEEKLY_DATA!$A:$H,4,0),0)","v":0},{"$f":"IFERROR(VLOOKUP(VALUE(A402),WEEKLY_DATA!$A:$H,5,0),0)","v":0},{"$f":"IFERROR(VLOOKUP(VALUE(A402),WEEKLY_DATA!$A:$H,6,0),0)","v":0},{"$f":"IFERROR(VLOOKUP(VALUE(A402),WEEKLY_DATA!$A:$H,7,0),0)","v":0},{"$f":"IFERROR(IF(OR(Q402=\"\",Q402=0),\"\",IF(VLOOKUP(VALUE($A402),WEEKLY_DATA!$A:$H,6,0)=0,\"No Sales\",Q402/(VLOOKUP(VALUE($A402),WEEKLY_DATA!$A:$H,6,0)/13))),\"\")","v":""},{"$f":"IFERROR(VLOOKUP(VALUE(A402),WEEKLY_DATA!$A:$H,8,0),0)","v":0},"—"]
[null,null,null,null,null,null,null,null,{"$f":"IFERROR(INDEX(BrandList!$B$2:$B$200,MATCH(TRUE,ISNUMBER(SEARCH(BrandList!$B$2:$B$200,G403)),0)),\"\")","v":""},null,null,null,null,null,null,"",{"$f":"IFERROR(VLOOKUP(VALUE(A403),WEEKLY_DATA!$A:$H,2,0),0)","v":0},{"$f":"IFERROR(VLOOKUP(VALUE(A403),WEEKLY_DATA!$A:$H,3,0),0)","v":0},{"$f":"IFERROR(VLOOKUP(VALUE(A403),WEEKLY_DATA!$A:$H,4,0),0)","v":0},{"$f":"IFERROR(VLOOKUP(VALUE(A403),WEEKLY_DATA!$A:$H,5,0),0)","v":0},{"$f":"IFERROR(VLOOKUP(VALUE(A403),WEEKLY_DATA!$A:$H,6,0),0)","v":0},{"$f":"IFERROR(VLOOKUP(VALUE(A403),WEEKLY_DATA!$A:$H,7,0),0)","v":0},{"$f":"IFERROR(IF(OR(Q403=\"\",Q403=0),\"\",IF(VLOOKUP(VALUE($A403),WEEKLY_DATA!$A:$H,6,0)=0,\"No Sales\",Q403/(VLOOKUP(VALUE($A403),WEEKLY_DATA!$A:$H,6,0)/13))),\"\")","v":""},{"$f":"IFERROR(VLOOKUP(VALUE(A403),WEEKLY_DATA!$A:$H,8,0),0)","v":0},"—"]
[null,null,null,null,null,null,null,null,{"$f":"IFERROR(INDEX(BrandList!$B$2:$B$200,MATCH(TRUE,ISNUMBER(SEARCH(BrandList!$B$2:$B$200,G404)),0)),\"\")","v":""},null,null,null,null,null,null,"",{"$f":"IFERROR(VLOOKUP(VALUE(A404),WEEKLY_DATA!$A:$H,2,0),0)","v":0},{"$f":"IFERROR(VLOOKUP(VALUE(A404),WEEKLY_DATA!$A:$H,3,0),0)","v":0},{"$f":"IFERROR(VLOOKUP(VALUE(A404),WEEKLY_DATA!$A:$H,4,0),0)","v":0},{"$f":"IFERROR(VLOOKUP(VALUE(A404),WEEKLY_DATA!$A:$H,5,0),0)","v":0},{"$f":"IFERROR(VLOOKUP(VALUE(A404),WEEKLY_DATA!$A:$H,6,0),0)","v":0},{"$f":"IFERROR(VLOOKUP(VALUE(A404),WEEKLY_DATA!$A:$H,7,0),0)","v":0},{"$f":"IFERROR(IF(OR(Q404=\"\",Q404=0),\"\",IF(VLOOKUP(VALUE($A404),WEEKLY_DATA!$A:$H,6,0)=0,\"No Sales\",Q404/(VLOOKUP(VALUE($A404),WEEKLY_DATA!$A:$H,6,0)/13))),\"\")","v":""},{"$f":"IFERROR(VLOOKUP(VALUE(A404),WEEKLY_DATA!$A:$H,8,0),0)","v":0},"—"]
[null,null,null,null,null,null,null,null,{"$f":"IFERROR(INDEX(BrandList!$B$2:$B$200,MATCH(TRUE,ISNUMBER(SEARCH(BrandList!$B$2:$B$200,G405)),0)),\"\")","v":""},null,null,null,null,null,null,"",{"$f":"IFERROR(VLOOKUP(VALUE(A405),WEEKLY_DATA!$A:$H,2,0),0)","v":0},{"$f":"IFERROR(VLOOKUP(VALUE(A405),WEEKLY_DATA!$A:$H,3,0),0)","v":0},{"$f":"IFERROR(VLOOKUP(VALUE(A405),WEEKLY_DATA!$A:$H,4,0),0)","v":0},{"$f":"IFERROR(VLOOKUP(VALUE(A405),WEEKLY_DATA!$A:$H,5,0),0)","v":0},{"$f":"IFERROR(VLOOKUP(VALUE(A405),WEEKLY_DATA!$A:$H,6,0),0)","v":0},{"$f":"IFERROR(VLOOKUP(VALUE(A405),WEEKLY_DATA!$A:$H,7,0),0)","v":0},{"$f":"IFERROR(IF(OR(Q405=\"\",Q405=0),\"\",IF(VLOOKUP(VALUE($A405),WEEKLY_DATA!$A:$H,6,0)=0,\"No Sales\",Q405/(VLOOKUP(VALUE($A405),WEEKLY_DATA!$A:$H,6,0)/13))),\"\")","v":""},{"$f":"IFERROR(VLOOKUP(VALUE(A405),WEEKLY_DATA!$A:$H,8,0),0)","v":0},"—"]
[null,null,null,null,null,null,null,null,{"$f":"IFERROR(INDEX(BrandList!$B$2:$B$200,MATCH(TRUE,ISNUMBER(SEARCH(BrandList!$B$2:$B$200,G406)),0)),\"\")","v":""},null,null,null,null,null,null,"",{"$f":"IFERROR(VLOOKUP(VALUE(A406),WEEKLY_DATA!$A:$H,2,0),0)","v":0},{"$f":"IFERROR(VLOOKUP(VALUE(A406),WEEKLY_DATA!$A:$H,3,0),0)","v":0},{"$f":"IFERROR(VLOOKUP(VALUE(A406),WEEKLY_DATA!$A:$H,4,0),0)","v":0},{"$f":"IFERROR(VLOOKUP(VALUE(A406),WEEKLY_DATA!$A:$H,5,0),0)","v":0},{"$f":"IFERROR(VLOOKUP(VALUE(A406),WEEKLY_DATA!$A:$H,6,0),0)","v":0},{"$f":"IFERROR(VLOOKUP(VALUE(A406),WEEKLY_DATA!$A:$H,7,0),0)","v":0},{"$f":"IFERROR(IF(OR(Q406=\"\",Q406=0),\"\",IF(VLOOKUP(VALUE($A406),WEEKLY_DATA!$A:$H,6,0)=0,\"No Sales\",Q406/(VLOOKUP(VALUE($A406),WEEKLY_DATA!$A:$H,6,0)/13))),\"\")","v":""},{"$f":"IFERROR(VLOOKUP(VALUE(A406),WEEKLY_DATA!$A:$H,8,0),0)","v":0},"—"]
[null,null,null,null,null,null,null,null,{"$f":"IFERROR(INDEX(BrandList!$B$2:$B$200,MATCH(TRUE,ISNUMBER(SEARCH(BrandList!$B$2:$B$200,G407)),0)),\"\")","v":""},null,null,null,null,null,null,"",{"$f":"IFERROR(VLOOKUP(VALUE(A407),WEEKLY_DATA!$A:$H,2,0),0)","v":0},{"$f":"IFERROR(VLOOKUP(VALUE(A407),WEEKLY_DATA!$A:$H,3,0),0)","v":0},{"$f":"IFERROR(VLOOKUP(VALUE(A407),WEEKLY_DATA!$A:$H,4,0),0)","v":0},{"$f":"IFERROR(VLOOKUP(VALUE(A407),WEEKLY_DATA!$A:$H,5,0),0)","v":0},{"$f":"IFERROR(VLOOKUP(VALUE(A407),WEEKLY_DATA!$A:$H,6,0),0)","v":0},{"$f":"IFERROR(VLOOKUP(VALUE(A407),WEEKLY_DATA!$A:$H,7,0),0)","v":0},{"$f":"IFERROR(IF(OR(Q407=\"\",Q407=0),\"\",IF(VLOOKUP(VALUE($A407),WEEKLY_DATA!$A:$H,6,0)=0,\"No Sales\",Q407/(VLOOKUP(VALUE($A407),WEEKLY_DATA!$A:$H,6,0)/13))),\"\")","v":""},{"$f":"IFERROR(VLOOKUP(VALUE(A407),WEEKLY_DATA!$A:$H,8,0),0)","v":0},"—"]
[null,null,null,null,null,null,null,null,{"$f":"IFERROR(INDEX(BrandList!$B$2:$B$200,MATCH(TRUE,ISNUMBER(SEARCH(BrandList!$B$2:$B$200,G408)),0)),\"\")","v":""},null,null,null,null,null,null,"",{"$f":"IFERROR(VLOOKUP(VALUE(A408),WEEKLY_DATA!$A:$H,2,0),0)","v":0},{"$f":"IFERROR(VLOOKUP(VALUE(A408),WEEKLY_DATA!$A:$H,3,0),0)","v":0},{"$f":"IFERROR(VLOOKUP(VALUE(A408),WEEKLY_DATA!$A:$H,4,0),0)","v":0},{"$f":"IFERROR(VLOOKUP(VALUE(A408),WEEKLY_DATA!$A:$H,5,0),0)","v":0},{"$f":"IFERROR(VLOOKUP(VALUE(A408),WEEKLY_DATA!$A:$H,6,0),0)","v":0},{"$f":"IFERROR(VLOOKUP(VALUE(A408),WEEKLY_DATA!$A:$H,7,0),0)","v":0},{"$f":"IFERROR(IF(OR(Q408=\"\",Q408=0),\"\",IF(VLOOKUP(VALUE($A408),WEEKLY_DATA!$A:$H,6,0)=0,\"No Sales\",Q408/(VLOOKUP(VALUE($A408),WEEKLY_DATA!$A:$H,6,0)/13))),\"\")","v":""},{"$f":"IFERROR(VLOOKUP(VALUE(A408),WEEKLY_DATA!$A:$H,8,0),0)","v":0},"—"]
[null,null,null,null,null,null,null,null,{"$f":"IFERROR(INDEX(BrandList!$B$2:$B$200,MATCH(TRUE,ISNUMBER(SEARCH(BrandList!$B$2:$B$200,G409)),0)),\"\")","v":""},null,null,null,null,null,null,"",{"$f":"IFERROR(VLOOKUP(VALUE(A409),WEEKLY_DATA!$A:$H,2,0),0)","v":0},{"$f":"IFERROR(VLOOKUP(VALUE(A409),WEEKLY_DATA!$A:$H,3,0),0)","v":0},{"$f":"IFERROR(VLOOKUP(VALUE(A409),WEEKLY_DATA!$A:$H,4,0),0)","v":0},{"$f":"IFERROR(VLOOKUP(VALUE(A409),WEEKLY_DATA!$A:$H,5,0),0)","v":0},{"$f":"IFERROR(VLOOKUP(VALUE(A409),WEEKLY_DATA!$A:$H,6,0),0)","v":0},{"$f":"IFERROR(VLOOKUP(VALUE(A409),WEEKLY_DATA!$A:$H,7,0),0)","v":0},{"$f":"IFERROR(IF(OR(Q409=\"\",Q409=0),\"\",IF(VLOOKUP(VALUE($A409),WEEKLY_DATA!$A:$H,6,0)=0,\"No Sales\",Q409/(VLOOKUP(VALUE($A409),WEEKLY_DATA!$A:$H,6,0)/13))),\"\")","v":""},{"$f":"IFERROR(VLOOKUP(VALUE(A409),WEEKLY_DATA!$A:$H,8,0),0)","v":0},"—"]
[null,null,null,null,null,null,null,null,{"$f":"IFERROR(INDEX(BrandList!$B$2:$B$200,MATCH(TRUE,ISNUMBER(SEARCH(BrandList!$B$2:$B$200,G410)),0)),\"\")","v":""},null,null,null,null,null,null,"",{"$f":"IFERROR(VLOOKUP(VALUE(A410),WEEKLY_DATA!$A:$H,2,0),0)","v":0},{"$f":"IFERROR(VLOOKUP(VALUE(A410),WEEKLY_DATA!$A:$H,3,0),0)","v":0},{"$f":"IFERROR(VLOOKUP(VALUE(A410),WEEKLY_DATA!$A:$H,4,0),0)","v":0},{"$f":"IFERROR(VLOOKUP(VALUE(A410),WEEKLY_DATA!$A:$H,5,0),0)","v":0},{"$f":"IFERROR(VLOOKUP(VALUE(A410),WEEKLY_DATA!$A:$H,6,0),0)","v":0},{"$f":"IFERROR(VLOOKUP(VALUE(A410),WEEKLY_DATA!$A:$H,7,0),0)","v":0},{"$f":"IFERROR(IF(OR(Q410=\"\",Q410=0),\"\",IF(VLOOKUP(VALUE($A410),WEEKLY_DATA!$A:$H,6,0)=0,\"No Sales\",Q410/(VLOOKUP(VALUE($A410),WEEKLY_DATA!$A:$H,6,0)/13))),\"\")","v":""},{"$f":"IFERROR(VLOOKUP(VALUE(A410),WEEKLY_DATA!$A:$H,8,0),0)","v":0},"—"]
[null,null,null,null,null,null,null,null,{"$f":"IFERROR(INDEX(BrandList!$B$2:$B$200,MATCH(TRUE,ISNUMBER(SEARCH(BrandList!$B$2:$B$200,G411)),0)),\"\")","v":""},null,null,null,null,null,null,"",{"$f":"IFERROR(VLOOKUP(VALUE(A411),WEEKLY_DATA!$A:$H,2,0),0)","v":0},{"$f":"IFERROR(VLOOKUP(VALUE(A411),WEEKLY_DATA!$A:$H,3,0),0)","v":0},{"$f":"IFERROR(VLOOKUP(VALUE(A411),WEEKLY_DATA!$A:$H,4,0),0)","v":0},{"$f":"IFERROR(VLOOKUP(VALUE(A411),WEEKLY_DATA!$A:$H,5,0),0)","v":0},{"$f":"IFERROR(VLOOKUP(VALUE(A411),WEEKLY_DATA!$A:$H,6,0),0)","v":0},{"$f":"IFERROR(VLOOKUP(VALUE(A411),WEEKLY_DATA!$A:$H,7,0),0)","v":0},{"$f":"IFERROR(IF(OR(Q411=\"\",Q411=0),\"\",IF(VLOOKUP(VALUE($A411),WEEKLY_DATA!$A:$H,6,0)=0,\"No Sales\",Q411/(VLOOKUP(VALUE($A411),WEEKLY_DATA!$A:$H,6,0)/13))),\"\")","v":""},{"$f":"IFERROR(VLOOKUP(VALUE(A411),WEEKLY_DATA!$A:$H,8,0),0)","v":0},"—"]
[null,null,null,null,null,null,null,null,{"$f":"IFERROR(INDEX(BrandList!$B$2:$B$200,MATCH(TRUE,ISNUMBER(SEARCH(BrandList!$B$2:$B$200,G412)),0)),\"\")","v":""},null,null,null,null,null,null,"",{"$f":"IFERROR(VLOOKUP(VALUE(A412),WEEKLY_DATA!$A:$H,2,0),0)","v":0},{"$f":"IFERROR(VLOOKUP(VALUE(A412),WEEKLY_DATA!$A:$H,3,0),0)","v":0},{"$f":"IFERROR(VLOOKUP(VALUE(A412),WEEKLY_DATA!$A:$H,4,0),0)","v":0},{"$f":"IFERROR(VLOOKUP(VALUE(A412),WEEKLY_DATA!$A:$H,5,0),0)","v":0},{"$f":"IFERROR(VLOOKUP(VALUE(A412),WEEKLY_DATA!$A:$H,6,0),0)","v":0},{"$f":"IFERROR(VLOOKUP(VALUE(A412),WEEKLY_DATA!$A:$H,7,0),0)","v":0},{"$f":"IFERROR(IF(OR(Q412=\"\",Q412=0),\"\",IF(VLOOKUP(VALUE($A412),WEEKLY_DATA!$A:$H,6,0)=0,\"No Sales\",Q412/(VLOOKUP(VALUE($A412),WEEKLY_DATA!$A:$H,6,0)/13))),\"\")","v":""},{"$f":"IFERROR(VLOOKUP(VALUE(A412),WEEKLY_DATA!$A:$H,8,0),0)","v":0},"—"]
[null,null,null,null,null,null,null,null,{"$f":"IFERROR(INDEX(BrandList!$B$2:$B$200,MATCH(TRUE,ISNUMBER(SEARCH(BrandList!$B$2:$B$200,G413)),0)),\"\")","v":""},null,null,null,null,null,null,"",{"$f":"IFERROR(VLOOKUP(VALUE(A413),WEEKLY_DATA!$A:$H,2,0),0)","v":0},{"$f":"IFERROR(VLOOKUP(VALUE(A413),WEEKLY_DATA!$A:$H,3,0),0)","v":0},{"$f":"IFERROR(VLOOKUP(VALUE(A413),WEEKLY_DATA!$A:$H,4,0),0)","v":0},{"$f":"IFERROR(VLOOKUP(VALUE(A413),WEEKLY_DATA!$A:$H,5,0),0)","v":0},{"$f":"IFERROR(VLOOKUP(VALUE(A413),WEEKLY_DATA!$A:$H,6,0),0)","v":0},{"$f":"IFERROR(VLOOKUP(VALUE(A413),WEEKLY_DATA!$A:$H,7,0),0)","v":0},{"$f":"IFERROR(IF(OR(Q413=\"\",Q413=0),\"\",IF(VLOOKUP(VALUE($A413),WEEKLY_DATA!$A:$H,6,0)=0,\"No Sales\",Q413/(VLOOKUP(VALUE($A413),WEEKLY_DATA!$A:$H,6,0)/13))),\"\")","v":""},{"$f":"IFERROR(VLOOKUP(VALUE(A413),WEEKLY_DATA!$A:$H,8,0),0)","v":0},"—"]
[null,null,null,null,null,null,null,null,{"$f":"IFERROR(INDEX(BrandList!$B$2:$B$200,MATCH(TRUE,ISNUMBER(SEARCH(BrandList!$B$2:$B$200,G414)),0)),\"\")","v":""},null,null,null,null,null,null,"",{"$f":"IFERROR(VLOOKUP(VALUE(A414),WEEKLY_DATA!$A:$H,2,0),0)","v":0},{"$f":"IFERROR(VLOOKUP(VALUE(A414),WEEKLY_DATA!$A:$H,3,0),0)","v":0},{"$f":"IFERROR(VLOOKUP(VALUE(A414),WEEKLY_DATA!$A:$H,4,0),0)","v":0},{"$f":"IFERROR(VLOOKUP(VALUE(A414),WEEKLY_DATA!$A:$H,5,0),0)","v":0},{"$f":"IFERROR(VLOOKUP(VALUE(A414),WEEKLY_DATA!$A:$H,6,0),0)","v":0},{"$f":"IFERROR(VLOOKUP(VALUE(A414),WEEKLY_DATA!$A:$H,7,0),0)","v":0},{"$f":"IFERROR(IF(OR(Q414=\"\",Q414=0),\"\",IF(VLOOKUP(VALUE($A414),WEEKLY_DATA!$A:$H,6,0)=0,\"No Sales\",Q414/(VLOOKUP(VALUE($A414),WEEKLY_DATA!$A:$H,6,0)/13))),\"\")","v":""},{"$f":"IFERROR(VLOOKUP(VALUE(A414),WEEKLY_DATA!$A:$H,8,0),0)","v":0},"—"]
[null,null,null,null,null,null,null,null,{"$f":"IFERROR(INDEX(BrandList!$B$2:$B$200,MATCH(TRUE,ISNUMBER(SEARCH(BrandList!$B$2:$B$200,G415)),0)),\"\")","v":""},null,null,null,null,null,null,"",{"$f":"IFERROR(VLOOKUP(VALUE(A415),WEEKLY_DATA!$A:$H,2,0),0)","v":0},{"$f":"IFERROR(VLOOKUP(VALUE(A415),WEEKLY_DATA!$A:$H,3,0),0)","v":0},{"$f":"IFERROR(VLOOKUP(VALUE(A415),WEEKLY_DATA!$A:$H,4,0),0)","v":0},{"$f":"IFERROR(VLOOKUP(VALUE(A415),WEEKLY_DATA!$A:$H,5,0),0)","v":0},{"$f":"IFERROR(VLOOKUP(VALUE(A415),WEEKLY_DATA!$A:$H,6,0),0)","v":0},{"$f":"IFERROR(VLOOKUP(VALUE(A415),WEEKLY_DATA!$A:$H,7,0),0)","v":0},{"$f":"IFERROR(IF(OR(Q415=\"\",Q415=0),\"\",IF(VLOOKUP(VALUE($A415),WEEKLY_DATA!$A:$H,6,0)=0,\"No Sales\",Q415/(VLOOKUP(VALUE($A415),WEEKLY_DATA!$A:$H,6,0)/13))),\"\")","v":""},{"$f":"IFERROR(VLOOKUP(VALUE(A415),WEEKLY_DATA!$A:$H,8,0),0)","v":0},"—"]
[null,null,null,null,null,null,null,null,{"$f":"IFERROR(INDEX(BrandList!$B$2:$B$200,MATCH(TRUE,ISNUMBER(SEARCH(BrandList!$B$2:$B$200,G416)),0)),\"\")","v":""},null,null,null,null,null,null,"",{"$f":"IFERROR(VLOOKUP(VALUE(A416),WEEKLY_DATA!$A:$H,2,0),0)","v":0},{"$f":"IFERROR(VLOOKUP(VALUE(A416),WEEKLY_DATA!$A:$H,3,0),0)","v":0},{"$f":"IFERROR(VLOOKUP(VALUE(A416),WEEKLY_DATA!$A:$H,4,0),0)","v":0},{"$f":"IFERROR(VLOOKUP(VALUE(A416),WEEKLY_DATA!$A:$H,5,0),0)","v":0},{"$f":"IFERROR(VLOOKUP(VALUE(A416),WEEKLY_DATA!$A:$H,6,0),0)","v":0},{"$f":"IFERROR(VLOOKUP(VALUE(A416),WEEKLY_DATA!$A:$H,7,0),0)","v":0},{"$f":"IFERROR(IF(OR(Q416=\"\",Q416=0),\"\",IF(VLOOKUP(VALUE($A416),WEEKLY_DATA!$A:$H,6,0)=0,\"No Sales\",Q416/(VLOOKUP(VALUE($A416),WEEKLY_DATA!$A:$H,6,0)/13))),\"\")","v":""},{"$f":"IFERROR(VLOOKUP(VALUE(A416),WEEKLY_DATA!$A:$H,8,0),0)","v":0},"—"]
[null,null,null,null,null,null,null,null,{"$f":"IFERROR(INDEX(BrandList!$B$2:$B$200,MATCH(TRUE,ISNUMBER(SEARCH(BrandList!$B$2:$B$200,G417)),0)),\"\")","v":""},null,null,null,null,null,null,"",{"$f":"IFERROR(VLOOKUP(VALUE(A417),WEEKLY_DATA!$A:$H,2,0),0)","v":0},{"$f":"IFERROR(VLOOKUP(VALUE(A417),WEEKLY_DATA!$A:$H,3,0),0)","v":0},{"$f":"IFERROR(VLOOKUP(VALUE(A417),WEEKLY_DATA!$A:$H,4,0),0)","v":0},{"$f":"IFERROR(VLOOKUP(VALUE(A417),WEEKLY_DATA!$A:$H,5,0),0)","v":0},{"$f":"IFERROR(VLOOKUP(VALUE(A417),WEEKLY_DATA!$A:$H,6,0),0)","v":0},{"$f":"IFERROR(VLOOKUP(VALUE(A417),WEEKLY_DATA!$A:$H,7,0),0)","v":0},{"$f":"IFERROR(IF(OR(Q417=\"\",Q417=0),\"\",IF(VLOOKUP(VALUE($A417),WEEKLY_DATA!$A:$H,6,0)=0,\"No Sales\",Q417/(VLOOKUP(VALUE($A417),WEEKLY_DATA!$A:$H,6,0)/13))),\"\")","v":""},{"$f":"IFERROR(VLOOKUP(VALUE(A417),WEEKLY_DATA!$A:$H,8,0),0)","v":0},"—"]
[null,null,null,null,null,null,null,null,{"$f":"IFERROR(INDEX(BrandList!$B$2:$B$200,MATCH(TRUE,ISNUMBER(SEARCH(BrandList!$B$2:$B$200,G418)),0)),\"\")","v":""},null,null,null,null,null,null,"",{"$f":"IFERROR(VLOOKUP(VALUE(A418),WEEKLY_DATA!$A:$H,2,0),0)","v":0},{"$f":"IFERROR(VLOOKUP(VALUE(A418),WEEKLY_DATA!$A:$H,3,0),0)","v":0},{"$f":"IFERROR(VLOOKUP(VALUE(A418),WEEKLY_DATA!$A:$H,4,0),0)","v":0},{"$f":"IFERROR(VLOOKUP(VALUE(A418),WEEKLY_DATA!$A:$H,5,0),0)","v":0},{"$f":"IFERROR(VLOOKUP(VALUE(A418),WEEKLY_DATA!$A:$H,6,0),0)","v":0},{"$f":"IFERROR(VLOOKUP(VALUE(A418),WEEKLY_DATA!$A:$H,7,0),0)","v":0},{"$f":"IFERROR(IF(OR(Q418=\"\",Q418=0),\"\",IF(VLOOKUP(VALUE($A418),WEEKLY_DATA!$A:$H,6,0)=0,\"No Sales\",Q418/(VLOOKUP(VALUE($A418),WEEKLY_DATA!$A:$H,6,0)/13))),\"\")","v":""},{"$f":"IFERROR(VLOOKUP(VALUE(A418),WEEKLY_DATA!$A:$H,8,0),0)","v":0},"—"]
[null,null,null,null,null,null,null,null,{"$f":"IFERROR(INDEX(BrandList!$B$2:$B$200,MATCH(TRUE,ISNUMBER(SEARCH(BrandList!$B$2:$B$200,G419)),0)),\"\")","v":""},null,null,null,null,null,null,"",{"$f":"IFERROR(VLOOKUP(VALUE(A419),WEEKLY_DATA!$A:$H,2,0),0)","v":0},{"$f":"IFERROR(VLOOKUP(VALUE(A419),WEEKLY_DATA!$A:$H,3,0),0)","v":0},{"$f":"IFERROR(VLOOKUP(VALUE(A419),WEEKLY_DATA!$A:$H,4,0),0)","v":0},{"$f":"IFERROR(VLOOKUP(VALUE(A419),WEEKLY_DATA!$A:$H,5,0),0)","v":0},{"$f":"IFERROR(VLOOKUP(VALUE(A419),WEEKLY_DATA!$A:$H,6,0),0)","v":0},{"$f":"IFERROR(VLOOKUP(VALUE(A419),WEEKLY_DATA!$A:$H,7,0),0)","v":0},{"$f":"IFERROR(IF(OR(Q419=\"\",Q419=0),\"\",IF(VLOOKUP(VALUE($A419),WEEKLY_DATA!$A:$H,6,0)=0,\"No Sales\",Q419/(VLOOKUP(VALUE($A419),WEEKLY_DATA!$A:$H,6,0)/13))),\"\")","v":""},{"$f":"IFERROR(VLOOKUP(VALUE(A419),WEEKLY_DATA!$A:$H,8,0),0)","v":0},"—"]
[null,null,null,null,null,null,null,null,{"$f":"IFERROR(INDEX(BrandList!$B$2:$B$200,MATCH(TRUE,ISNUMBER(SEARCH(BrandList!$B$2:$B$200,G420)),0)),\"\")","v":""},null,null,null,null,null,null,"",{"$f":"IFERROR(VLOOKUP(VALUE(A420),WEEKLY_DATA!$A:$H,2,0),0)","v":0},{"$f":"IFERROR(VLOOKUP(VALUE(A420),WEEKLY_DATA!$A:$H,3,0),0)","v":0},{"$f":"IFERROR(VLOOKUP(VALUE(A420),WEEKLY_DATA!$A:$H,4,0),0)","v":0},{"$f":"IFERROR(VLOOKUP(VALUE(A420),WEEKLY_DATA!$A:$H,5,0),0)","v":0},{"$f":"IFERROR(VLOOKUP(VALUE(A420),WEEKLY_DATA!$A:$H,6,0),0)","v":0},{"$f":"IFERROR(VLOOKUP(VALUE(A420),WEEKLY_DATA!$A:$H,7,0),0)","v":0},{"$f":"IFERROR(IF(OR(Q420=\"\",Q420=0),\"\",IF(VLOOKUP(VALUE($A420),WEEKLY_DATA!$A:$H,6,0)=0,\"No Sales\",Q420/(VLOOKUP(VALUE($A420),WEEKLY_DATA!$A:$H,6,0)/13))),\"\")","v":""},{"$f":"IFERROR(VLOOKUP(VALUE(A420),WEEKLY_DATA!$A:$H,8,0),0)","v":0},"—"]
[null,null,null,null,null,null,null,null,{"$f":"IFERROR(INDEX(BrandList!$B$2:$B$200,MATCH(TRUE,ISNUMBER(SEARCH(BrandList!$B$2:$B$200,G421)),0)),\"\")","v":""},null,null,null,null,null,null,"",{"$f":"IFERROR(VLOOKUP(VALUE(A421),WEEKLY_DATA!$A:$H,2,0),0)","v":0},{"$f":"IFERROR(VLOOKUP(VALUE(A421),WEEKLY_DATA!$A:$H,3,0),0)","v":0},{"$f":"IFERROR(VLOOKUP(VALUE(A421),WEEKLY_DATA!$A:$H,4,0),0)","v":0},{"$f":"IFERROR(VLOOKUP(VALUE(A421),WEEKLY_DATA!$A:$H,5,0),0)","v":0},{"$f":"IFERROR(VLOOKUP(VALUE(A421),WEEKLY_DATA!$A:$H,6,0),0)","v":0},{"$f":"IFERROR(VLOOKUP(VALUE(A421),WEEKLY_DATA!$A:$H,7,0),0)","v":0},{"$f":"IFERROR(IF(OR(Q421=\"\",Q421=0),\"\",IF(VLOOKUP(VALUE($A421),WEEKLY_DATA!$A:$H,6,0)=0,\"No Sales\",Q421/(VLOOKUP(VALUE($A421),WEEKLY_DATA!$A:$H,6,0)/13))),\"\")","v":""},{"$f":"IFERROR(VLOOKUP(VALUE(A421),WEEKLY_DATA!$A:$H,8,0),0)","v":0},"—"]
[null,null,null,null,null,null,null,null,{"$f":"IFERROR(INDEX(BrandList!$B$2:$B$200,MATCH(TRUE,ISNUMBER(SEARCH(BrandList!$B$2:$B$200,G422)),0)),\"\")","v":""},null,null,null,null,null,null,"",{"$f":"IFERROR(VLOOKUP(VALUE(A422),WEEKLY_DATA!$A:$H,2,0),0)","v":0},{"$f":"IFERROR(VLOOKUP(VALUE(A422),WEEKLY_DATA!$A:$H,3,0),0)","v":0},{"$f":"IFERROR(VLOOKUP(VALUE(A422),WEEKLY_DATA!$A:$H,4,0),0)","v":0},{"$f":"IFERROR(VLOOKUP(VALUE(A422),WEEKLY_DATA!$A:$H,5,0),0)","v":0},{"$f":"IFERROR(VLOOKUP(VALUE(A422),WEEKLY_DATA!$A:$H,6,0),0)","v":0},{"$f":"IFERROR(VLOOKUP(VALUE(A422),WEEKLY_DATA!$A:$H,7,0),0)","v":0},{"$f":"IFERROR(IF(OR(Q422=\"\",Q422=0),\"\",IF(VLOOKUP(VALUE($A422),WEEKLY_DATA!$A:$H,6,0)=0,\"No Sales\",Q422/(VLOOKUP(VALUE($A422),WEEKLY_DATA!$A:$H,6,0)/13))),\"\")","v":""},{"$f":"IFERROR(VLOOKUP(VALUE(A422),WEEKLY_DATA!$A:$H,8,0),0)","v":0},"—"]
[null,null,null,null,null,null,null,null,{"$f":"IFERROR(INDEX(BrandList!$B$2:$B$200,MATCH(TRUE,ISNUMBER(SEARCH(BrandList!$B$2:$B$200,G423)),0)),\"\")","v":""},null,null,null,null,null,null,"",{"$f":"IFERROR(VLOOKUP(VALUE(A423),WEEKLY_DATA!$A:$H,2,0),0)","v":0},{"$f":"IFERROR(VLOOKUP(VALUE(A423),WEEKLY_DATA!$A:$H,3,0),0)","v":0},{"$f":"IFERROR(VLOOKUP(VALUE(A423),WEEKLY_DATA!$A:$H,4,0),0)","v":0},{"$f":"IFERROR(VLOOKUP(VALUE(A423),WEEKLY_DATA!$A:$H,5,0),0)","v":0},{"$f":"IFERROR(VLOOKUP(VALUE(A423),WEEKLY_DATA!$A:$H,6,0),0)","v":0},{"$f":"IFERROR(VLOOKUP(VALUE(A423),WEEKLY_DATA!$A:$H,7,0),0)","v":0},{"$f":"IFERROR(IF(OR(Q423=\"\",Q423=0),\"\",IF(VLOOKUP(VALUE($A423),WEEKLY_DATA!$A:$H,6,0)=0,\"No Sales\",Q423/(VLOOKUP(VALUE($A423),WEEKLY_DATA!$A:$H,6,0)/13))),\"\")","v":""},{"$f":"IFERROR(VLOOKUP(VALUE(A423),WEEKLY_DATA!$A:$H,8,0),0)","v":0},"—"]
[null,null,null,null,null,null,null,null,{"$f":"IFERROR(INDEX(BrandList!$B$2:$B$200,MATCH(TRUE,ISNUMBER(SEARCH(BrandList!$B$2:$B$200,G424)),0)),\"\")","v":""},null,null,null,null,null,null,"",{"$f":"IFERROR(VLOOKUP(VALUE(A424),WEEKLY_DATA!$A:$H,2,0),0)","v":0},{"$f":"IFERROR(VLOOKUP(VALUE(A424),WEEKLY_DATA!$A:$H,3,0),0)","v":0},{"$f":"IFERROR(VLOOKUP(VALUE(A424),WEEKLY_DATA!$A:$H,4,0),0)","v":0},{"$f":"IFERROR(VLOOKUP(VALUE(A424),WEEKLY_DATA!$A:$H,5,0),0)","v":0},{"$f":"IFERROR(VLOOKUP(VALUE(A424),WEEKLY_DATA!$A:$H,6,0),0)","v":0},{"$f":"IFERROR(VLOOKUP(VALUE(A424),WEEKLY_DATA!$A:$H,7,0),0)","v":0},{"$f":"IFERROR(IF(OR(Q424=\"\",Q424=0),\"\",IF(VLOOKUP(VALUE($A424),WEEKLY_DATA!$A:$H,6,0)=0,\"No Sales\",Q424/(VLOOKUP(VALUE($A424),WEEKLY_DATA!$A:$H,6,0)/13))),\"\")","v":""},{"$f":"IFERROR(VLOOKUP(VALUE(A424),WEEKLY_DATA!$A:$H,8,0),0)","v":0},"—"]
[null,null,null,null,null,null,null,null,{"$f":"IFERROR(INDEX(BrandList!$B$2:$B$200,MATCH(TRUE,ISNUMBER(SEARCH(BrandList!$B$2:$B$200,G425)),0)),\"\")","v":""},null,null,null,null,null,null,"",{"$f":"IFERROR(VLOOKUP(VALUE(A425),WEEKLY_DATA!$A:$H,2,0),0)","v":0},{"$f":"IFERROR(VLOOKUP(VALUE(A425),WEEKLY_DATA!$A:$H,3,0),0)","v":0},{"$f":"IFERROR(VLOOKUP(VALUE(A425),WEEKLY_DATA!$A:$H,4,0),0)","v":0},{"$f":"IFERROR(VLOOKUP(VALUE(A425),WEEKLY_DATA!$A:$H,5,0),0)","v":0},{"$f":"IFERROR(VLOOKUP(VALUE(A425),WEEKLY_DATA!$A:$H,6,0),0)","v":0},{"$f":"IFERROR(VLOOKUP(VALUE(A425),WEEKLY_DATA!$A:$H,7,0),0)","v":0},{"$f":"IFERROR(IF(OR(Q425=\"\",Q425=0),\"\",IF(VLOOKUP(VALUE($A425),WEEKLY_DATA!$A:$H,6,0)=0,\"No Sales\",Q425/(VLOOKUP(VALUE($A425),WEEKLY_DATA!$A:$H,6,0)/13))),\"\")","v":""},{"$f":"IFERROR(VLOOKUP(VALUE(A425),WEEKLY_DATA!$A:$H,8,0),0)","v":0},"—"]
[null,null,null,null,null,null,null,null,{"$f":"IFERROR(INDEX(BrandList!$B$2:$B$200,MATCH(TRUE,ISNUMBER(SEARCH(BrandList!$B$2:$B$200,G426)),0)),\"\")","v":""},null,null,null,null,null,null,"",{"$f":"IFERROR(VLOOKUP(VALUE(A426),WEEKLY_DATA!$A:$H,2,0),0)","v":0},{"$f":"IFERROR(VLOOKUP(VALUE(A426),WEEKLY_DATA!$A:$H,3,0),0)","v":0},{"$f":"IFERROR(VLOOKUP(VALUE(A426),WEEKLY_DATA!$A:$H,4,0),0)","v":0},{"$f":"IFERROR(VLOOKUP(VALUE(A426),WEEKLY_DATA!$A:$H,5,0),0)","v":0},{"$f":"IFERROR(VLOOKUP(VALUE(A426),WEEKLY_DATA!$A:$H,6,0),0)","v":0},{"$f":"IFERROR(VLOOKUP(VALUE(A426),WEEKLY_DATA!$A:$H,7,0),0)","v":0},{"$f":"IFERROR(IF(OR(Q426=\"\",Q426=0),\"\",IF(VLOOKUP(VALUE($A426),WEEKLY_DATA!$A:$H,6,0)=0,\"No Sales\",Q426/(VLOOKUP(VALUE($A426),WEEKLY_DATA!$A:$H,6,0)/13))),\"\")","v":""},{"$f":"IFERROR(VLOOKUP(VALUE(A426),WEEKLY_DATA!$A:$H,8,0),0)","v":0},"—"]
[null,null,null,null,null,null,null,null,{"$f":"IFERROR(INDEX(BrandList!$B$2:$B$200,MATCH(TRUE,ISNUMBER(SEARCH(BrandList!$B$2:$B$200,G427)),0)),\"\")","v":""},null,null,null,null,null,null,"",{"$f":"IFERROR(VLOOKUP(VALUE(A427),WEEKLY_DATA!$A:$H,2,0),0)","v":0},{"$f":"IFERROR(VLOOKUP(VALUE(A427),WEEKLY_DATA!$A:$H,3,0),0)","v":0},{"$f":"IFERROR(VLOOKUP(VALUE(A427),WEEKLY_DATA!$A:$H,4,0),0)","v":0},{"$f":"IFERROR(VLOOKUP(VALUE(A427),WEEKLY_DATA!$A:$H,5,0),0)","v":0},{"$f":"IFERROR(VLOOKUP(VALUE(A427),WEEKLY_DATA!$A:$H,6,0),0)","v":0},{"$f":"IFERROR(VLOOKUP(VALUE(A427),WEEKLY_DATA!$A:$H,7,0),0)","v":0},{"$f":"IFERROR(IF(OR(Q427=\"\",Q427=0),\"\",IF(VLOOKUP(VALUE($A427),WEEKLY_DATA!$A:$H,6,0)=0,\"No Sales\",Q427/(VLOOKUP(VALUE($A427),WEEKLY_DATA!$A:$H,6,0)/13))),\"\")","v":""},{"$f":"IFERROR(VLOOKUP(VALUE(A427),WEEKLY_DATA!$A:$H,8,0),0)","v":0},"—"]
[null,null,null,null,null,null,null,null,{"$f":"IFERROR(INDEX(BrandList!$B$2:$B$200,MATCH(TRUE,ISNUMBER(SEARCH(BrandList!$B$2:$B$200,G428)),0)),\"\")","v":""},null,null,null,null,null,null,"",{"$f":"IFERROR(VLOOKUP(VALUE(A428),WEEKLY_DATA!$A:$H,2,0),0)","v":0},{"$f":"IFERROR(VLOOKUP(VALUE(A428),WEEKLY_DATA!$A:$H,3,0),0)","v":0},{"$f":"IFERROR(VLOOKUP(VALUE(A428),WEEKLY_DATA!$A:$H,4,0),0)","v":0},{"$f":"IFERROR(VLOOKUP(VALUE(A428),WEEKLY_DATA!$A:$H,5,0),0)","v":0},{"$f":"IFERROR(VLOOKUP(VALUE(A428),WEEKLY_DATA!$A:$H,6,0),0)","v":0},{"$f":"IFERROR(VLOOKUP(VALUE(A428),WEEKLY_DATA!$A:$H,7,0),0)","v":0},{"$f":"IFERROR(IF(OR(Q428=\"\",Q428=0),\"\",IF(VLOOKUP(VALUE($A428),WEEKLY_DATA!$A:$H,6,0)=0,\"No Sales\",Q428/(VLOOKUP(VALUE($A428),WEEKLY_DATA!$A:$H,6,0)/13))),\"\")","v":""},{"$f":"IFERROR(VLOOKUP(VALUE(A428),WEEKLY_DATA!$A:$H,8,0),0)","v":0},"—"]
[null,null,null,null,null,null,null,null,{"$f":"IFERROR(INDEX(BrandList!$B$2:$B$200,MATCH(TRUE,ISNUMBER(SEARCH(BrandList!$B$2:$B$200,G429)),0)),\"\")","v":""},null,null,null,null,null,null,"",{"$f":"IFERROR(VLOOKUP(VALUE(A429),WEEKLY_DATA!$A:$H,2,0),0)","v":0},{"$f":"IFERROR(VLOOKUP(VALUE(A429),WEEKLY_DATA!$A:$H,3,0),0)","v":0},{"$f":"IFERROR(VLOOKUP(VALUE(A429),WEEKLY_DATA!$A:$H,4,0),0)","v":0},{"$f":"IFERROR(VLOOKUP(VALUE(A429),WEEKLY_DATA!$A:$H,5,0),0)","v":0},{"$f":"IFERROR(VLOOKUP(VALUE(A429),WEEKLY_DATA!$A:$H,6,0),0)","v":0},{"$f":"IFERROR(VLOOKUP(VALUE(A429),WEEKLY_DATA!$A:$H,7,0),0)","v":0},{"$f":"IFERROR(IF(OR(Q429=\"\",Q429=0),\"\",IF(VLOOKUP(VALUE($A429),WEEKLY_DATA!$A:$H,6,0)=0,\"No Sales\",Q429/(VLOOKUP(VALUE($A429),WEEKLY_DATA!$A:$H,6,0)/13))),\"\")","v":""},{"$f":"IFERROR(VLOOKUP(VALUE(A429),WEEKLY_DATA!$A:$H,8,0),0)","v":0},"—"]
[null,null,null,null,null,null,null,null,{"$f":"IFERROR(INDEX(BrandList!$B$2:$B$200,MATCH(TRUE,ISNUMBER(SEARCH(BrandList!$B$2:$B$200,G430)),0)),\"\")","v":""},null,null,null,null,null,null,"",{"$f":"IFERROR(VLOOKUP(VALUE(A430),WEEKLY_DATA!$A:$H,2,0),0)","v":0},{"$f":"IFERROR(VLOOKUP(VALUE(A430),WEEKLY_DATA!$A:$H,3,0),0)","v":0},{"$f":"IFERROR(VLOOKUP(VALUE(A430),WEEKLY_DATA!$A:$H,4,0),0)","v":0},{"$f":"IFERROR(VLOOKUP(VALUE(A430),WEEKLY_DATA!$A:$H,5,0),0)","v":0},{"$f":"IFERROR(VLOOKUP(VALUE(A430),WEEKLY_DATA!$A:$H,6,0),0)","v":0},{"$f":"IFERROR(VLOOKUP(VALUE(A430),WEEKLY_DATA!$A:$H,7,0),0)","v":0},{"$f":"IFERROR(IF(OR(Q430=\"\",Q430=0),\"\",IF(VLOOKUP(VALUE($A430),WEEKLY_DATA!$A:$H,6,0)=0,\"No Sales\",Q430/(VLOOKUP(VALUE($A430),WEEKLY_DATA!$A:$H,6,0)/13))),\"\")","v":""},{"$f":"IFERROR(VLOOKUP(VALUE(A430),WEEKLY_DATA!$A:$H,8,0),0)","v":0},"—"]
[null,null,null,null,null,null,null,null,{"$f":"IFERROR(INDEX(BrandList!$B$2:$B$200,MATCH(TRUE,ISNUMBER(SEARCH(BrandList!$B$2:$B$200,G431)),0)),\"\")","v":""},null,null,null,null,null,null,"",{"$f":"IFERROR(VLOOKUP(VALUE(A431),WEEKLY_DATA!$A:$H,2,0),0)","v":0},{"$f":"IFERROR(VLOOKUP(VALUE(A431),WEEKLY_DATA!$A:$H,3,0),0)","v":0},{"$f":"IFERROR(VLOOKUP(VALUE(A431),WEEKLY_DATA!$A:$H,4,0),0)","v":0},{"$f":"IFERROR(VLOOKUP(VALUE(A431),WEEKLY_DATA!$A:$H,5,0),0)","v":0},{"$f":"IFERROR(VLOOKUP(VALUE(A431),WEEKLY_DATA!$A:$H,6,0),0)","v":0},{"$f":"IFERROR(VLOOKUP(VALUE(A431),WEEKLY_DATA!$A:$H,7,0),0)","v":0},{"$f":"IFERROR(IF(OR(Q431=\"\",Q431=0),\"\",IF(VLOOKUP(VALUE($A431),WEEKLY_DATA!$A:$H,6,0)=0,\"No Sales\",Q431/(VLOOKUP(VALUE($A431),WEEKLY_DATA!$A:$H,6,0)/13))),\"\")","v":""},{"$f":"IFERROR(VLOOKUP(VALUE(A431),WEEKLY_DATA!$A:$H,8,0),0)","v":0},"—"]
[null,null,null,null,null,null,null,null,{"$f":"IFERROR(INDEX(BrandList!$B$2:$B$200,MATCH(TRUE,ISNUMBER(SEARCH(BrandList!$B$2:$B$200,G432)),0)),\"\")","v":""},null,null,null,null,null,null,"",{"$f":"IFERROR(VLOOKUP(VALUE(A432),WEEKLY_DATA!$A:$H,2,0),0)","v":0},{"$f":"IFERROR(VLOOKUP(VALUE(A432),WEEKLY_DATA!$A:$H,3,0),0)","v":0},{"$f":"IFERROR(VLOOKUP(VALUE(A432),WEEKLY_DATA!$A:$H,4,0),0)","v":0},{"$f":"IFERROR(VLOOKUP(VALUE(A432),WEEKLY_DATA!$A:$H,5,0),0)","v":0},{"$f":"IFERROR(VLOOKUP(VALUE(A432),WEEKLY_DATA!$A:$H,6,0),0)","v":0},{"$f":"IFERROR(VLOOKUP(VALUE(A432),WEEKLY_DATA!$A:$H,7,0),0)","v":0},{"$f":"IFERROR(IF(OR(Q432=\"\",Q432=0),\"\",IF(VLOOKUP(VALUE($A432),WEEKLY_DATA!$A:$H,6,0)=0,\"No Sales\",Q432/(VLOOKUP(VALUE($A432),WEEKLY_DATA!$A:$H,6,0)/13))),\"\")","v":""},{"$f":"IFERROR(VLOOKUP(VALUE(A432),WEEKLY_DATA!$A:$H,8,0),0)","v":0},"—"]
[null,null,null,null,null,null,null,null,{"$f":"IFERROR(INDEX(BrandList!$B$2:$B$200,MATCH(TRUE,ISNUMBER(SEARCH(BrandList!$B$2:$B$200,G433)),0)),\"\")","v":""},null,null,null,null,null,null,"",{"$f":"IFERROR(VLOOKUP(VALUE(A433),WEEKLY_DATA!$A:$H,2,0),0)","v":0},{"$f":"IFERROR(VLOOKUP(VALUE(A433),WEEKLY_DATA!$A:$H,3,0),0)","v":0},{"$f":"IFERROR(VLOOKUP(VALUE(A433),WEEKLY_DATA!$A:$H,4,0),0)","v":0},{"$f":"IFERROR(VLOOKUP(VALUE(A433),WEEKLY_DATA!$A:$H,5,0),0)","v":0},{"$f":"IFERROR(VLOOKUP(VALUE(A433),WEEKLY_DATA!$A:$H,6,0),0)","v":0},{"$f":"IFERROR(VLOOKUP(VALUE(A433),WEEKLY_DATA!$A:$H,7,0),0)","v":0},{"$f":"IFERROR(IF(OR(Q433=\"\",Q433=0),\"\",IF(VLOOKUP(VALUE($A433),WEEKLY_DATA!$A:$H,6,0)=0,\"No Sales\",Q433/(VLOOKUP(VALUE($A433),WEEKLY_DATA!$A:$H,6,0)/13))),\"\")","v":""},{"$f":"IFERROR(VLOOKUP(VALUE(A433),WEEKLY_DATA!$A:$H,8,0),0)","v":0},"—"]
[null,null,null,null,null,null,null,null,{"$f":"IFERROR(INDEX(BrandList!$B$2:$B$200,MATCH(TRUE,ISNUMBER(SEARCH(BrandList!$B$2:$B$200,G434)),0)),\"\")","v":""},null,null,null,null,null,null,"",{"$f":"IFERROR(VLOOKUP(VALUE(A434),WEEKLY_DATA!$A:$H,2,0),0)","v":0},{"$f":"IFERROR(VLOOKUP(VALUE(A434),WEEKLY_DATA!$A:$H,3,0),0)","v":0},{"$f":"IFERROR(VLOOKUP(VALUE(A434),WEEKLY_DATA!$A:$H,4,0),0)","v":0},{"$f":"IFERROR(VLOOKUP(VALUE(A434),WEEKLY_DATA!$A:$H,5,0),0)","v":0},{"$f":"IFERROR(VLOOKUP(VALUE(A434),WEEKLY_DATA!$A:$H,6,0),0)","v":0},{"$f":"IFERROR(VLOOKUP(VALUE(A434),WEEKLY_DATA!$A:$H,7,0),0)","v":0},{"$f":"IFERROR(IF(OR(Q434=\"\",Q434=0),\"\",IF(VLOOKUP(VALUE($A434),WEEKLY_DATA!$A:$H,6,0)=0,\"No Sales\",Q434/(VLOOKUP(VALUE($A434),WEEKLY_DATA!$A:$H,6,0)/13))),\"\")","v":""},{"$f":"IFERROR(VLOOKUP(VALUE(A434),WEEKLY_DATA!$A:$H,8,0),0)","v":0},"—"]
[null,null,null,null,null,null,null,null,{"$f":"IFERROR(INDEX(BrandList!$B$2:$B$200,MATCH(TRUE,ISNUMBER(SEARCH(BrandList!$B$2:$B$200,G435)),0)),\"\")","v":""},null,null,null,null,null,null,"",{"$f":"IFERROR(VLOOKUP(VALUE(A435),WEEKLY_DATA!$A:$H,2,0),0)","v":0},{"$f":"IFERROR(VLOOKUP(VALUE(A435),WEEKLY_DATA!$A:$H,3,0),0)","v":0},{"$f":"IFERROR(VLOOKUP(VALUE(A435),WEEKLY_DATA!$A:$H,4,0),0)","v":0},{"$f":"IFERROR(VLOOKUP(VALUE(A435),WEEKLY_DATA!$A:$H,5,0),0)","v":0},{"$f":"IFERROR(VLOOKUP(VALUE(A435),WEEKLY_DATA!$A:$H,6,0),0)","v":0},{"$f":"IFERROR(VLOOKUP(VALUE(A435),WEEKLY_DATA!$A:$H,7,0),0)","v":0},{"$f":"IFERROR(IF(OR(Q435=\"\",Q435=0),\"\",IF(VLOOKUP(VALUE($A435),WEEKLY_DATA!$A:$H,6,0)=0,\"No Sales\",Q435/(VLOOKUP(VALUE($A435),WEEKLY_DATA!$A:$H,6,0)/13))),\"\")","v":""},{"$f":"IFERROR(VLOOKUP(VALUE(A435),WEEKLY_DATA!$A:$H,8,0),0)","v":0},"—"]
[null,null,null,null,null,null,null,null,{"$f":"IFERROR(INDEX(BrandList!$B$2:$B$200,MATCH(TRUE,ISNUMBER(SEARCH(BrandList!$B$2:$B$200,G436)),0)),\"\")","v":""},null,null,null,null,null,null,"",{"$f":"IFERROR(VLOOKUP(VALUE(A436),WEEKLY_DATA!$A:$H,2,0),0)","v":0},{"$f":"IFERROR(VLOOKUP(VALUE(A436),WEEKLY_DATA!$A:$H,3,0),0)","v":0},{"$f":"IFERROR(VLOOKUP(VALUE(A436),WEEKLY_DATA!$A:$H,4,0),0)","v":0},{"$f":"IFERROR(VLOOKUP(VALUE(A436),WEEKLY_DATA!$A:$H,5,0),0)","v":0},{"$f":"IFERROR(VLOOKUP(VALUE(A436),WEEKLY_DATA!$A:$H,6,0),0)","v":0},{"$f":"IFERROR(VLOOKUP(VALUE(A436),WEEKLY_DATA!$A:$H,7,0),0)","v":0},{"$f":"IFERROR(IF(OR(Q436=\"\",Q436=0),\"\",IF(VLOOKUP(VALUE($A436),WEEKLY_DATA!$A:$H,6,0)=0,\"No Sales\",Q436/(VLOOKUP(VALUE($A436),WEEKLY_DATA!$A:$H,6,0)/13))),\"\")","v":""},{"$f":"IFERROR(VLOOKUP(VALUE(A436),WEEKLY_DATA!$A:$H,8,0),0)","v":0},"—"]
[null,null,null,null,null,null,null,null,{"$f":"IFERROR(INDEX(BrandList!$B$2:$B$200,MATCH(TRUE,ISNUMBER(SEARCH(BrandList!$B$2:$B$200,G437)),0)),\"\")","v":""},null,null,null,null,null,null,"",{"$f":"IFERROR(VLOOKUP(VALUE(A437),WEEKLY_DATA!$A:$H,2,0),0)","v":0},{"$f":"IFERROR(VLOOKUP(VALUE(A437),WEEKLY_DATA!$A:$H,3,0),0)","v":0},{"$f":"IFERROR(VLOOKUP(VALUE(A437),WEEKLY_DATA!$A:$H,4,0),0)","v":0},{"$f":"IFERROR(VLOOKUP(VALUE(A437),WEEKLY_DATA!$A:$H,5,0),0)","v":0},{"$f":"IFERROR(VLOOKUP(VALUE(A437),WEEKLY_DATA!$A:$H,6,0),0)","v":0},{"$f":"IFERROR(VLOOKUP(VALUE(A437),WEEKLY_DATA!$A:$H,7,0),0)","v":0},{"$f":"IFERROR(IF(OR(Q437=\"\",Q437=0),\"\",IF(VLOOKUP(VALUE($A437),WEEKLY_DATA!$A:$H,6,0)=0,\"No Sales\",Q437/(VLOOKUP(VALUE($A437),WEEKLY_DATA!$A:$H,6,0)/13))),\"\")","v":""},{"$f":"IFERROR(VLOOKUP(VALUE(A437),WEEKLY_DATA!$A:$H,8,0),0)","v":0},"—"]
[null,null,null,null,null,null,null,null,{"$f":"IFERROR(INDEX(BrandList!$B$2:$B$200,MATCH(TRUE,ISNUMBER(SEARCH(BrandList!$B$2:$B$200,G438)),0)),\"\")","v":""},null,null,null,null,null,null,"",{"$f":"IFERROR(VLOOKUP(VALUE(A438),WEEKLY_DATA!$A:$H,2,0),0)","v":0},{"$f":"IFERROR(VLOOKUP(VALUE(A438),WEEKLY_DATA!$A:$H,3,0),0)","v":0},{"$f":"IFERROR(VLOOKUP(VALUE(A438),WEEKLY_DATA!$A:$H,4,0),0)","v":0},{"$f":"IFERROR(VLOOKUP(VALUE(A438),WEEKLY_DATA!$A:$H,5,0),0)","v":0},{"$f":"IFERROR(VLOOKUP(VALUE(A438),WEEKLY_DATA!$A:$H,6,0),0)","v":0},{"$f":"IFERROR(VLOOKUP(VALUE(A438),WEEKLY_DATA!$A:$H,7,0),0)","v":0},{"$f":"IFERROR(IF(OR(Q438=\"\",Q438=0),\"\",IF(VLOOKUP(VALUE($A438),WEEKLY_DATA!$A:$H,6,0)=0,\"No Sales\",Q438/(VLOOKUP(VALUE($A438),WEEKLY_DATA!$A:$H,6,0)/13))),\"\")","v":""},{"$f":"IFERROR(VLOOKUP(VALUE(A438),WEEKLY_DATA!$A:$H,8,0),0)","v":0},"—"]
[null,null,null,null,null,null,null,null,{"$f":"IFERROR(INDEX(BrandList!$B$2:$B$200,MATCH(TRUE,ISNUMBER(SEARCH(BrandList!$B$2:$B$200,G439)),0)),\"\")","v":""},null,null,null,null,null,null,"",{"$f":"IFERROR(VLOOKUP(VALUE(A439),WEEKLY_DATA!$A:$H,2,0),0)","v":0},{"$f":"IFERROR(VLOOKUP(VALUE(A439),WEEKLY_DATA!$A:$H,3,0),0)","v":0},{"$f":"IFERROR(VLOOKUP(VALUE(A439),WEEKLY_DATA!$A:$H,4,0),0)","v":0},{"$f":"IFERROR(VLOOKUP(VALUE(A439),WEEKLY_DATA!$A:$H,5,0),0)","v":0},{"$f":"IFERROR(VLOOKUP(VALUE(A439),WEEKLY_DATA!$A:$H,6,0),0)","v":0},{"$f":"IFERROR(VLOOKUP(VALUE(A439),WEEKLY_DATA!$A:$H,7,0),0)","v":0},{"$f":"IFERROR(IF(OR(Q439=\"\",Q439=0),\"\",IF(VLOOKUP(VALUE($A439),WEEKLY_DATA!$A:$H,6,0)=0,\"No Sales\",Q439/(VLOOKUP(VALUE($A439),WEEKLY_DATA!$A:$H,6,0)/13))),\"\")","v":""},{"$f":"IFERROR(VLOOKUP(VALUE(A439),WEEKLY_DATA!$A:$H,8,0),0)","v":0},"—"]
[null,null,null,null,null,null,null,null,{"$f":"IFERROR(INDEX(BrandList!$B$2:$B$200,MATCH(TRUE,ISNUMBER(SEARCH(BrandList!$B$2:$B$200,G440)),0)),\"\")","v":""},null,null,null,null,null,null,"",{"$f":"IFERROR(VLOOKUP(VALUE(A440),WEEKLY_DATA!$A:$H,2,0),0)","v":0},{"$f":"IFERROR(VLOOKUP(VALUE(A440),WEEKLY_DATA!$A:$H,3,0),0)","v":0},{"$f":"IFERROR(VLOOKUP(VALUE(A440),WEEKLY_DATA!$A:$H,4,0),0)","v":0},{"$f":"IFERROR(VLOOKUP(VALUE(A440),WEEKLY_DATA!$A:$H,5,0),0)","v":0},{"$f":"IFERROR(VLOOKUP(VALUE(A440),WEEKLY_DATA!$A:$H,6,0),0)","v":0},{"$f":"IFERROR(VLOOKUP(VALUE(A440),WEEKLY_DATA!$A:$H,7,0),0)","v":0},{"$f":"IFERROR(IF(OR(Q440=\"\",Q440=0),\"\",IF(VLOOKUP(VALUE($A440),WEEKLY_DATA!$A:$H,6,0)=0,\"No Sales\",Q440/(VLOOKUP(VALUE($A440),WEEKLY_DATA!$A:$H,6,0)/13))),\"\")","v":""},{"$f":"IFERROR(VLOOKUP(VALUE(A440),WEEKLY_DATA!$A:$H,8,0),0)","v":0},"—"]
[null,null,null,null,null,null,null,null,{"$f":"IFERROR(INDEX(BrandList!$B$2:$B$200,MATCH(TRUE,ISNUMBER(SEARCH(BrandList!$B$2:$B$200,G441)),0)),\"\")","v":""},null,null,null,null,null,null,"",{"$f":"IFERROR(VLOOKUP(VALUE(A441),WEEKLY_DATA!$A:$H,2,0),0)","v":0},{"$f":"IFERROR(VLOOKUP(VALUE(A441),WEEKLY_DATA!$A:$H,3,0),0)","v":0},{"$f":"IFERROR(VLOOKUP(VALUE(A441),WEEKLY_DATA!$A:$H,4,0),0)","v":0},{"$f":"IFERROR(VLOOKUP(VALUE(A441),WEEKLY_DATA!$A:$H,5,0),0)","v":0},{"$f":"IFERROR(VLOOKUP(VALUE(A441),WEEKLY_DATA!$A:$H,6,0),0)","v":0},{"$f":"IFERROR(VLOOKUP(VALUE(A441),WEEKLY_DATA!$A:$H,7,0),0)","v":0},{"$f":"IFERROR(IF(OR(Q441=\"\",Q441=0),\"\",IF(VLOOKUP(VALUE($A441),WEEKLY_DATA!$A:$H,6,0)=0,\"No Sales\",Q441/(VLOOKUP(VALUE($A441),WEEKLY_DATA!$A:$H,6,0)/13))),\"\")","v":""},{"$f":"IFERROR(VLOOKUP(VALUE(A441),WEEKLY_DATA!$A:$H,8,0),0)","v":0},"—"]
[null,null,null,null,null,null,null,null,{"$f":"IFERROR(INDEX(BrandList!$B$2:$B$200,MATCH(TRUE,ISNUMBER(SEARCH(BrandList!$B$2:$B$200,G442)),0)),\"\")","v":""},null,null,null,null,null,null,"",{"$f":"IFERROR(VLOOKUP(VALUE(A442),WEEKLY_DATA!$A:$H,2,0),0)","v":0},{"$f":"IFERROR(VLOOKUP(VALUE(A442),WEEKLY_DATA!$A:$H,3,0),0)","v":0},{"$f":"IFERROR(VLOOKUP(VALUE(A442),WEEKLY_DATA!$A:$H,4,0),0)","v":0},{"$f":"IFERROR(VLOOKUP(VALUE(A442),WEEKLY_DATA!$A:$H,5,0),0)","v":0},{"$f":"IFERROR(VLOOKUP(VALUE(A442),WEEKLY_DATA!$A:$H,6,0),0)","v":0},{"$f":"IFERROR(VLOOKUP(VALUE(A442),WEEKLY_DATA!$A:$H,7,0),0)","v":0},{"$f":"IFERROR(IF(OR(Q442=\"\",Q442=0),\"\",IF(VLOOKUP(VALUE($A442),WEEKLY_DATA!$A:$H,6,0)=0,\"No Sales\",Q442/(VLOOKUP(VALUE($A442),WEEKLY_DATA!$A:$H,6,0)/13))),\"\")","v":""},{"$f":"IFERROR(VLOOKUP(VALUE(A442),WEEKLY_DATA!$A:$H,8,0),0)","v":0},"—"]
[null,null,null,null,null,null,null,null,{"$f":"IFERROR(INDEX(BrandList!$B$2:$B$200,MATCH(TRUE,ISNUMBER(SEARCH(BrandList!$B$2:$B$200,G443)),0)),\"\")","v":""},null,null,null,null,null,null,"",{"$f":"IFERROR(VLOOKUP(VALUE(A443),WEEKLY_DATA!$A:$H,2,0),0)","v":0},{"$f":"IFERROR(VLOOKUP(VALUE(A443),WEEKLY_DATA!$A:$H,3,0),0)","v":0},{"$f":"IFERROR(VLOOKUP(VALUE(A443),WEEKLY_DATA!$A:$H,4,0),0)","v":0},{"$f":"IFERROR(VLOOKUP(VALUE(A443),WEEKLY_DATA!$A:$H,5,0),0)","v":0},{"$f":"IFERROR(VLOOKUP(VALUE(A443),WEEKLY_DATA!$A:$H,6,0),0)","v":0},{"$f":"IFERROR(VLOOKUP(VALUE(A443),WEEKLY_DATA!$A:$H,7,0),0)","v":0},{"$f":"IFERROR(IF(OR(Q443=\"\",Q443=0),\"\",IF(VLOOKUP(VALUE($A443),WEEKLY_DATA!$A:$H,6,0)=0,\"No Sales\",Q443/(VLOOKUP(VALUE($A443),WEEKLY_DATA!$A:$H,6,0)/13))),\"\")","v":""},{"$f":"IFERROR(VLOOKUP(VALUE(A443),WEEKLY_DATA!$A:$H,8,0),0)","v":0},"—"]
[null,null,null,null,null,null,null,null,{"$f":"IFERROR(INDEX(BrandList!$B$2:$B$200,MATCH(TRUE,ISNUMBER(SEARCH(BrandList!$B$2:$B$200,G444)),0)),\"\")","v":""},null,null,null,null,null,null,"",{"$f":"IFERROR(VLOOKUP(VALUE(A444),WEEKLY_DATA!$A:$H,2,0),0)","v":0},{"$f":"IFERROR(VLOOKUP(VALUE(A444),WEEKLY_DATA!$A:$H,3,0),0)","v":0},{"$f":"IFERROR(VLOOKUP(VALUE(A444),WEEKLY_DATA!$A:$H,4,0),0)","v":0},{"$f":"IFERROR(VLOOKUP(VALUE(A444),WEEKLY_DATA!$A:$H,5,0),0)","v":0},{"$f":"IFERROR(VLOOKUP(VALUE(A444),WEEKLY_DATA!$A:$H,6,0),0)","v":0},{"$f":"IFERROR(VLOOKUP(VALUE(A444),WEEKLY_DATA!$A:$H,7,0),0)","v":0},{"$f":"IFERROR(IF(OR(Q444=\"\",Q444=0),\"\",IF(VLOOKUP(VALUE($A444),WEEKLY_DATA!$A:$H,6,0)=0,\"No Sales\",Q444/(VLOOKUP(VALUE($A444),WEEKLY_DATA!$A:$H,6,0)/13))),\"\")","v":""},{"$f":"IFERROR(VLOOKUP(VALUE(A444),WEEKLY_DATA!$A:$H,8,0),0)","v":0},"—"]
[null,null,null,null,null,null,null,null,{"$f":"IFERROR(INDEX(BrandList!$B$2:$B$200,MATCH(TRUE,ISNUMBER(SEARCH(BrandList!$B$2:$B$200,G445)),0)),\"\")","v":""},null,null,null,null,null,null,"",{"$f":"IFERROR(VLOOKUP(VALUE(A445),WEEKLY_DATA!$A:$H,2,0),0)","v":0},{"$f":"IFERROR(VLOOKUP(VALUE(A445),WEEKLY_DATA!$A:$H,3,0),0)","v":0},{"$f":"IFERROR(VLOOKUP(VALUE(A445),WEEKLY_DATA!$A:$H,4,0),0)","v":0},{"$f":"IFERROR(VLOOKUP(VALUE(A445),WEEKLY_DATA!$A:$H,5,0),0)","v":0},{"$f":"IFERROR(VLOOKUP(VALUE(A445),WEEKLY_DATA!$A:$H,6,0),0)","v":0},{"$f":"IFERROR(VLOOKUP(VALUE(A445),WEEKLY_DATA!$A:$H,7,0),0)","v":0},{"$f":"IFERROR(IF(OR(Q445=\"\",Q445=0),\"\",IF(VLOOKUP(VALUE($A445),WEEKLY_DATA!$A:$H,6,0)=0,\"No Sales\",Q445/(VLOOKUP(VALUE($A445),WEEKLY_DATA!$A:$H,6,0)/13))),\"\")","v":""},{"$f":"IFERROR(VLOOKUP(VALUE(A445),WEEKLY_DATA!$A:$H,8,0),0)","v":0},"—"]
[null,null,null,null,null,null,null,null,{"$f":"IFERROR(INDEX(BrandList!$B$2:$B$200,MATCH(TRUE,ISNUMBER(SEARCH(BrandList!$B$2:$B$200,G446)),0)),\"\")","v":""},null,null,null,null,null,null,"",{"$f":"IFERROR(VLOOKUP(VALUE(A446),WEEKLY_DATA!$A:$H,2,0),0)","v":0},{"$f":"IFERROR(VLOOKUP(VALUE(A446),WEEKLY_DATA!$A:$H,3,0),0)","v":0},{"$f":"IFERROR(VLOOKUP(VALUE(A446),WEEKLY_DATA!$A:$H,4,0),0)","v":0},{"$f":"IFERROR(VLOOKUP(VALUE(A446),WEEKLY_DATA!$A:$H,5,0),0)","v":0},{"$f":"IFERROR(VLOOKUP(VALUE(A446),WEEKLY_DATA!$A:$H,6,0),0)","v":0},{"$f":"IFERROR(VLOOKUP(VALUE(A446),WEEKLY_DATA!$A:$H,7,0),0)","v":0},{"$f":"IFERROR(IF(OR(Q446=\"\",Q446=0),\"\",IF(VLOOKUP(VALUE($A446),WEEKLY_DATA!$A:$H,6,0)=0,\"No Sales\",Q446/(VLOOKUP(VALUE($A446),WEEKLY_DATA!$A:$H,6,0)/13))),\"\")","v":""},{"$f":"IFERROR(VLOOKUP(VALUE(A446),WEEKLY_DATA!$A:$H,8,0),0)","v":0},"—"]
[null,null,null,null,null,null,null,null,{"$f":"IFERROR(INDEX(BrandList!$B$2:$B$200,MATCH(TRUE,ISNUMBER(SEARCH(BrandList!$B$2:$B$200,G447)),0)),\"\")","v":""},null,null,null,null,null,null,"",{"$f":"IFERROR(VLOOKUP(VALUE(A447),WEEKLY_DATA!$A:$H,2,0),0)","v":0},{"$f":"IFERROR(VLOOKUP(VALUE(A447),WEEKLY_DATA!$A:$H,3,0),0)","v":0},{"$f":"IFERROR(VLOOKUP(VALUE(A447),WEEKLY_DATA!$A:$H,4,0),0)","v":0},{"$f":"IFERROR(VLOOKUP(VALUE(A447),WEEKLY_DATA!$A:$H,5,0),0)","v":0},{"$f":"IFERROR(VLOOKUP(VALUE(A447),WEEKLY_DATA!$A:$H,6,0),0)","v":0},{"$f":"IFERROR(VLOOKUP(VALUE(A447),WEEKLY_DATA!$A:$H,7,0),0)","v":0},{"$f":"IFERROR(IF(OR(Q447=\"\",Q447=0),\"\",IF(VLOOKUP(VALUE($A447),WEEKLY_DATA!$A:$H,6,0)=0,\"No Sales\",Q447/(VLOOKUP(VALUE($A447),WEEKLY_DATA!$A:$H,6,0)/13))),\"\")","v":""},{"$f":"IFERROR(VLOOKUP(VALUE(A447),WEEKLY_DATA!$A:$H,8,0),0)","v":0},"—"]
[null,null,null,null,null,null,null,null,{"$f":"IFERROR(INDEX(BrandList!$B$2:$B$200,MATCH(TRUE,ISNUMBER(SEARCH(BrandList!$B$2:$B$200,G448)),0)),\"\")","v":""},null,null,null,null,null,null,"",{"$f":"IFERROR(VLOOKUP(VALUE(A448),WEEKLY_DATA!$A:$H,2,0),0)","v":0},{"$f":"IFERROR(VLOOKUP(VALUE(A448),WEEKLY_DATA!$A:$H,3,0),0)","v":0},{"$f":"IFERROR(VLOOKUP(VALUE(A448),WEEKLY_DATA!$A:$H,4,0),0)","v":0},{"$f":"IFERROR(VLOOKUP(VALUE(A448),WEEKLY_DATA!$A:$H,5,0),0)","v":0},{"$f":"IFERROR(VLOOKUP(VALUE(A448),WEEKLY_DATA!$A:$H,6,0),0)","v":0},{"$f":"IFERROR(VLOOKUP(VALUE(A448),WEEKLY_DATA!$A:$H,7,0),0)","v":0},{"$f":"IFERROR(IF(OR(Q448=\"\",Q448=0),\"\",IF(VLOOKUP(VALUE($A448),WEEKLY_DATA!$A:$H,6,0)=0,\"No Sales\",Q448/(VLOOKUP(VALUE($A448),WEEKLY_DATA!$A:$H,6,0)/13))),\"\")","v":""},{"$f":"IFERROR(VLOOKUP(VALUE(A448),WEEKLY_DATA!$A:$H,8,0),0)","v":0},"—"]
[null,null,null,null,null,null,null,null,{"$f":"IFERROR(INDEX(BrandList!$B$2:$B$200,MATCH(TRUE,ISNUMBER(SEARCH(BrandList!$B$2:$B$200,G449)),0)),\"\")","v":""},null,null,null,null,null,null,"",{"$f":"IFERROR(VLOOKUP(VALUE(A449),WEEKLY_DATA!$A:$H,2,0),0)","v":0},{"$f":"IFERROR(VLOOKUP(VALUE(A449),WEEKLY_DATA!$A:$H,3,0),0)","v":0},{"$f":"IFERROR(VLOOKUP(VALUE(A449),WEEKLY_DATA!$A:$H,4,0),0)","v":0},{"$f":"IFERROR(VLOOKUP(VALUE(A449),WEEKLY_DATA!$A:$H,5,0),0)","v":0},{"$f":"IFERROR(VLOOKUP(VALUE(A449),WEEKLY_DATA!$A:$H,6,0),0)","v":0},{"$f":"IFERROR(VLOOKUP(VALUE(A449),WEEKLY_DATA!$A:$H,7,0),0)","v":0},{"$f":"IFERROR(IF(OR(Q449=\"\",Q449=0),\"\",IF(VLOOKUP(VALUE($A449),WEEKLY_DATA!$A:$H,6,0)=0,\"No Sales\",Q449/(VLOOKUP(VALUE($A449),WEEKLY_DATA!$A:$H,6,0)/13))),\"\")","v":""},{"$f":"IFERROR(VLOOKUP(VALUE(A449),WEEKLY_DATA!$A:$H,8,0),0)","v":0},"—"]
[null,null,null,null,null,null,null,null,{"$f":"IFERROR(INDEX(BrandList!$B$2:$B$200,MATCH(TRUE,ISNUMBER(SEARCH(BrandList!$B$2:$B$200,G450)),0)),\"\")","v":""},null,null,null,null,null,null,"",{"$f":"IFERROR(VLOOKUP(VALUE(A450),WEEKLY_DATA!$A:$H,2,0),0)","v":0},{"$f":"IFERROR(VLOOKUP(VALUE(A450),WEEKLY_DATA!$A:$H,3,0),0)","v":0},{"$f":"IFERROR(VLOOKUP(VALUE(A450),WEEKLY_DATA!$A:$H,4,0),0)","v":0},{"$f":"IFERROR(VLOOKUP(VALUE(A450),WEEKLY_DATA!$A:$H,5,0),0)","v":0},{"$f":"IFERROR(VLOOKUP(VALUE(A450),WEEKLY_DATA!$A:$H,6,0),0)","v":0},{"$f":"IFERROR(VLOOKUP(VALUE(A450),WEEKLY_DATA!$A:$H,7,0),0)","v":0},{"$f":"IFERROR(IF(OR(Q450=\"\",Q450=0),\"\",IF(VLOOKUP(VALUE($A450),WEEKLY_DATA!$A:$H,6,0)=0,\"No Sales\",Q450/(VLOOKUP(VALUE($A450),WEEKLY_DATA!$A:$H,6,0)/13))),\"\")","v":""},{"$f":"IFERROR(VLOOKUP(VALUE(A450),WEEKLY_DATA!$A:$H,8,0),0)","v":0},"—"]
[null,null,null,null,null,null,null,null,{"$f":"IFERROR(INDEX(BrandList!$B$2:$B$200,MATCH(TRUE,ISNUMBER(SEARCH(BrandList!$B$2:$B$200,G451)),0)),\"\")","v":""},null,null,null,null,null,null,"",{"$f":"IFERROR(VLOOKUP(VALUE(A451),WEEKLY_DATA!$A:$H,2,0),0)","v":0},{"$f":"IFERROR(VLOOKUP(VALUE(A451),WEEKLY_DATA!$A:$H,3,0),0)","v":0},{"$f":"IFERROR(VLOOKUP(VALUE(A451),WEEKLY_DATA!$A:$H,4,0),0)","v":0},{"$f":"IFERROR(VLOOKUP(VALUE(A451),WEEKLY_DATA!$A:$H,5,0),0)","v":0},{"$f":"IFERROR(VLOOKUP(VALUE(A451),WEEKLY_DATA!$A:$H,6,0),0)","v":0},{"$f":"IFERROR(VLOOKUP(VALUE(A451),WEEKLY_DATA!$A:$H,7,0),0)","v":0},{"$f":"IFERROR(IF(OR(Q451=\"\",Q451=0),\"\",IF(VLOOKUP(VALUE($A451),WEEKLY_DATA!$A:$H,6,0)=0,\"No Sales\",Q451/(VLOOKUP(VALUE($A451),WEEKLY_DATA!$A:$H,6,0)/13))),\"\")","v":""},{"$f":"IFERROR(VLOOKUP(VALUE(A451),WEEKLY_DATA!$A:$H,8,0),0)","v":0},"—"]
[null,null,null,null,null,null,null,null,{"$f":"IFERROR(INDEX(BrandList!$B$2:$B$200,MATCH(TRUE,ISNUMBER(SEARCH(BrandList!$B$2:$B$200,G452)),0)),\"\")","v":""},null,null,null,null,null,null,"",{"$f":"IFERROR(VLOOKUP(VALUE(A452),WEEKLY_DATA!$A:$H,2,0),0)","v":0},{"$f":"IFERROR(VLOOKUP(VALUE(A452),WEEKLY_DATA!$A:$H,3,0),0)","v":0},{"$f":"IFERROR(VLOOKUP(VALUE(A452),WEEKLY_DATA!$A:$H,4,0),0)","v":0},{"$f":"IFERROR(VLOOKUP(VALUE(A452),WEEKLY_DATA!$A:$H,5,0),0)","v":0},{"$f":"IFERROR(VLOOKUP(VALUE(A452),WEEKLY_DATA!$A:$H,6,0),0)","v":0},{"$f":"IFERROR(VLOOKUP(VALUE(A452),WEEKLY_DATA!$A:$H,7,0),0)","v":0},{"$f":"IFERROR(IF(OR(Q452=\"\",Q452=0),\"\",IF(VLOOKUP(VALUE($A452),WEEKLY_DATA!$A:$H,6,0)=0,\"No Sales\",Q452/(VLOOKUP(VALUE($A452),WEEKLY_DATA!$A:$H,6,0)/13))),\"\")","v":""},{"$f":"IFERROR(VLOOKUP(VALUE(A452),WEEKLY_DATA!$A:$H,8,0),0)","v":0},"—"]
[null,null,null,null,null,null,null,null,{"$f":"IFERROR(INDEX(BrandList!$B$2:$B$200,MATCH(TRUE,ISNUMBER(SEARCH(BrandList!$B$2:$B$200,G453)),0)),\"\")","v":""},null,null,null,null,null,null,"",{"$f":"IFERROR(VLOOKUP(VALUE(A453),WEEKLY_DATA!$A:$H,2,0),0)","v":0},{"$f":"IFERROR(VLOOKUP(VALUE(A453),WEEKLY_DATA!$A:$H,3,0),0)","v":0},{"$f":"IFERROR(VLOOKUP(VALUE(A453),WEEKLY_DATA!$A:$H,4,0),0)","v":0},{"$f":"IFERROR(VLOOKUP(VALUE(A453),WEEKLY_DATA!$A:$H,5,0),0)","v":0},{"$f":"IFERROR(VLOOKUP(VALUE(A453),WEEKLY_DATA!$A:$H,6,0),0)","v":0},{"$f":"IFERROR(VLOOKUP(VALUE(A453),WEEKLY_DATA!$A:$H,7,0),0)","v":0},{"$f":"IFERROR(IF(OR(Q453=\"\",Q453=0),\"\",IF(VLOOKUP(VALUE($A453),WEEKLY_DATA!$A:$H,6,0)=0,\"No Sales\",Q453/(VLOOKUP(VALUE($A453),WEEKLY_DATA!$A:$H,6,0)/13))),\"\")","v":""},{"$f":"IFERROR(VLOOKUP(VALUE(A453),WEEKLY_DATA!$A:$H,8,0),0)","v":0},"—"]
[null,null,null,null,null,null,null,null,{"$f":"IFERROR(INDEX(BrandList!$B$2:$B$200,MATCH(TRUE,ISNUMBER(SEARCH(BrandList!$B$2:$B$200,G454)),0)),\"\")","v":""},null,null,null,null,null,null,"",{"$f":"IFERROR(VLOOKUP(VALUE(A454),WEEKLY_DATA!$A:$H,2,0),0)","v":0},{"$f":"IFERROR(VLOOKUP(VALUE(A454),WEEKLY_DATA!$A:$H,3,0),0)","v":0},{"$f":"IFERROR(VLOOKUP(VALUE(A454),WEEKLY_DATA!$A:$H,4,0),0)","v":0},{"$f":"IFERROR(VLOOKUP(VALUE(A454),WEEKLY_DATA!$A:$H,5,0),0)","v":0},{"$f":"IFERROR(VLOOKUP(VALUE(A454),WEEKLY_DATA!$A:$H,6,0),0)","v":0},{"$f":"IFERROR(VLOOKUP(VALUE(A454),WEEKLY_DATA!$A:$H,7,0),0)","v":0},{"$f":"IFERROR(IF(OR(Q454=\"\",Q454=0),\"\",IF(VLOOKUP(VALUE($A454),WEEKLY_DATA!$A:$H,6,0)=0,\"No Sales\",Q454/(VLOOKUP(VALUE($A454),WEEKLY_DATA!$A:$H,6,0)/13))),\"\")","v":""},{"$f":"IFERROR(VLOOKUP(VALUE(A454),WEEKLY_DATA!$A:$H,8,0),0)","v":0},{"$f":"IFERROR(\nIF(J454=\"Discontinued\",\"🔴 EOL\",\nIF(J454=\"Drop Ship\",\"📦 Drop Ship\",\nIF(J454=\"New\",\"🆕 New\",\nIF(W454=\"\",\"—\",\nIF(W454<2,\"🔴 Critical\",\nIF(W454<4,\"🟡 Low\",\nIF(W454>26,\"🔵 Overstock\",\"🟢 Healthy\")\n)))))),\"\")","v":"—"}]
[null,null,null,null,null,null,null,null,{"$f":"IFERROR(INDEX(BrandList!$B$2:$B$200,MATCH(TRUE,ISNUMBER(SEARCH(BrandList!$B$2:$B$200,G455)),0)),\"\")","v":""},null,null,null,null,null,null,{"$f":"IFERROR(IF(OR(E455=\"\",F455=\"\",F455=0),\"\",(F455-E455)/F455),\"\")","v":""},{"$f":"IFERROR(VLOOKUP(VALUE(A455),WEEKLY_DATA!$A:$H,2,0),0)","v":0},{"$f":"IFERROR(VLOOKUP(VALUE(A455),WEEKLY_DATA!$A:$H,3,0),0)","v":0},{"$f":"IFERROR(VLOOKUP(VALUE(A455),WEEKLY_DATA!$A:$H,4,0),0)","v":0},{"$f":"IFERROR(VLOOKUP(VALUE(A455),WEEKLY_DATA!$A:$H,5,0),0)","v":0},{"$f":"IFERROR(VLOOKUP(VALUE(A455),WEEKLY_DATA!$A:$H,6,0),0)","v":0},{"$f":"IFERROR(VLOOKUP(VALUE(A455),WEEKLY_DATA!$A:$H,7,0),0)","v":0},{"$f":"IFERROR(IF(OR(Q455=\"\",Q455=0),\"\",IF(VLOOKUP(VALUE($A455),WEEKLY_DATA!$A:$H,6,0)=0,\"No Sales\",Q455/(VLOOKUP(VALUE($A455),WEEKLY_DATA!$A:$H,6,0)/13))),\"\")","v":""},{"$f":"IFERROR(VLOOKUP(VALUE(A455),WEEKLY_DATA!$A:$H,8,0),0)","v":0},"—"]
[null,null,null,null,null,null,null,null,{"$f":"IFERROR(INDEX(BrandList!$B$2:$B$200,MATCH(TRUE,ISNUMBER(SEARCH(BrandList!$B$2:$B$200,G456)),0)),\"\")","v":""},null,null,null,null,null,null,"",{"$f":"IFERROR(VLOOKUP(VALUE(A456),WEEKLY_DATA!$A:$H,2,0),0)","v":0},{"$f":"IFERROR(VLOOKUP(VALUE(A456),WEEKLY_DATA!$A:$H,3,0),0)","v":0},{"$f":"IFERROR(VLOOKUP(VALUE(A456),WEEKLY_DATA!$A:$H,4,0),0)","v":0},{"$f":"IFERROR(VLOOKUP(VALUE(A456),WEEKLY_DATA!$A:$H,5,0),0)","v":0},{"$f":"IFERROR(VLOOKUP(VALUE(A456),WEEKLY_DATA!$A:$H,6,0),0)","v":0},{"$f":"IFERROR(VLOOKUP(VALUE(A456),WEEKLY_DATA!$A:$H,7,0),0)","v":0},{"$f":"IFERROR(IF(OR(Q456=\"\",Q456=0),\"\",IF(VLOOKUP(VALUE($A456),WEEKLY_DATA!$A:$H,6,0)=0,\"No Sales\",Q456/(VLOOKUP(VALUE($A456),WEEKLY_DATA!$A:$H,6,0)/13))),\"\")","v":""},{"$f":"IFERROR(VLOOKUP(VALUE(A456),WEEKLY_DATA!$A:$H,8,0),0)","v":0},"—"]
[null,null,null,null,null,null,null,null,{"$f":"IFERROR(INDEX(BrandList!$B$2:$B$200,MATCH(TRUE,ISNUMBER(SEARCH(BrandList!$B$2:$B$200,G457)),0)),\"\")","v":""},null,null,null,null,null,null,"",{"$f":"IFERROR(VLOOKUP(VALUE(A457),WEEKLY_DATA!$A:$H,2,0),0)","v":0},{"$f":"IFERROR(VLOOKUP(VALUE(A457),WEEKLY_DATA!$A:$H,3,0),0)","v":0},{"$f":"IFERROR(VLOOKUP(VALUE(A457),WEEKLY_DATA!$A:$H,4,0),0)","v":0},{"$f":"IFERROR(VLOOKUP(VALUE(A457),WEEKLY_DATA!$A:$H,5,0),0)","v":0},{"$f":"IFERROR(VLOOKUP(VALUE(A457),WEEKLY_DATA!$A:$H,6,0),0)","v":0},{"$f":"IFERROR(VLOOKUP(VALUE(A457),WEEKLY_DATA!$A:$H,7,0),0)","v":0},{"$f":"IFERROR(IF(OR(Q457=\"\",Q457=0),\"\",IF(VLOOKUP(VALUE($A457),WEEKLY_DATA!$A:$H,6,0)=0,\"No Sales\",Q457/(VLOOKUP(VALUE($A457),WEEKLY_DATA!$A:$H,6,0)/13))),\"\")","v":""},{"$f":"IFERROR(VLOOKUP(VALUE(A457),WEEKLY_DATA!$A:$H,8,0),0)","v":0},"—"]
[null,null,null,null,null,null,null,null,{"$f":"IFERROR(INDEX(BrandList!$B$2:$B$200,MATCH(TRUE,ISNUMBER(SEARCH(BrandList!$B$2:$B$200,G458)),0)),\"\")","v":""},null,null,null,null,null,null,"",{"$f":"IFERROR(VLOOKUP(VALUE(A458),WEEKLY_DATA!$A:$H,2,0),0)","v":0},{"$f":"IFERROR(VLOOKUP(VALUE(A458),WEEKLY_DATA!$A:$H,3,0),0)","v":0},{"$f":"IFERROR(VLOOKUP(VALUE(A458),WEEKLY_DATA!$A:$H,4,0),0)","v":0},{"$f":"IFERROR(VLOOKUP(VALUE(A458),WEEKLY_DATA!$A:$H,5,0),0)","v":0},{"$f":"IFERROR(VLOOKUP(VALUE(A458),WEEKLY_DATA!$A:$H,6,0),0)","v":0},{"$f":"IFERROR(VLOOKUP(VALUE(A458),WEEKLY_DATA!$A:$H,7,0),0)","v":0},{"$f":"IFERROR(IF(OR(Q458=\"\",Q458=0),\"\",IF(VLOOKUP(VALUE($A458),WEEKLY_DATA!$A:$H,6,0)=0,\"No Sales\",Q458/(VLOOKUP(VALUE($A458),WEEKLY_DATA!$A:$H,6,0)/13))),\"\")","v":""},{"$f":"IFERROR(VLOOKUP(VALUE(A458),WEEKLY_DATA!$A:$H,8,0),0)","v":0},"—"]
[null,null,null,null,null,null,null,null,{"$f":"IFERROR(INDEX(BrandList!$B$2:$B$200,MATCH(TRUE,ISNUMBER(SEARCH(BrandList!$B$2:$B$200,G459)),0)),\"\")","v":""},null,null,null,null,null,null,"",{"$f":"IFERROR(VLOOKUP(VALUE(A459),WEEKLY_DATA!$A:$H,2,0),0)","v":0},{"$f":"IFERROR(VLOOKUP(VALUE(A459),WEEKLY_DATA!$A:$H,3,0),0)","v":0},{"$f":"IFERROR(VLOOKUP(VALUE(A459),WEEKLY_DATA!$A:$H,4,0),0)","v":0},{"$f":"IFERROR(VLOOKUP(VALUE(A459),WEEKLY_DATA!$A:$H,5,0),0)","v":0},{"$f":"IFERROR(VLOOKUP(VALUE(A459),WEEKLY_DATA!$A:$H,6,0),0)","v":0},{"$f":"IFERROR(VLOOKUP(VALUE(A459),WEEKLY_DATA!$A:$H,7,0),0)","v":0},{"$f":"IFERROR(IF(OR(Q459=\"\",Q459=0),\"\",IF(VLOOKUP(VALUE($A459),WEEKLY_DATA!$A:$H,6,0)=0,\"No Sales\",Q459/(VLOOKUP(VALUE($A459),WEEKLY_DATA!$A:$H,6,0)/13))),\"\")","v":""},{"$f":"IFERROR(VLOOKUP(VALUE(A459),WEEKLY_DATA!$A:$H,8,0),0)","v":0},"—"]
[null,null,null,null,null,null,null,null,{"$f":"IFERROR(INDEX(BrandList!$B$2:$B$200,MATCH(TRUE,ISNUMBER(SEARCH(BrandList!$B$2:$B$200,G460)),0)),\"\")","v":""},null,null,null,null,null,null,"",{"$f":"IFERROR(VLOOKUP(VALUE(A460),WEEKLY_DATA!$A:$H,2,0),0)","v":0},{"$f":"IFERROR(VLOOKUP(VALUE(A460),WEEKLY_DATA!$A:$H,3,0),0)","v":0},{"$f":"IFERROR(VLOOKUP(VALUE(A460),WEEKLY_DATA!$A:$H,4,0),0)","v":0},{"$f":"IFERROR(VLOOKUP(VALUE(A460),WEEKLY_DATA!$A:$H,5,0),0)","v":0},{"$f":"IFERROR(VLOOKUP(VALUE(A460),WEEKLY_DATA!$A:$H,6,0),0)","v":0},{"$f":"IFERROR(VLOOKUP(VALUE(A460),WEEKLY_DATA!$A:$H,7,0),0)","v":0},{"$f":"IFERROR(IF(OR(Q460=\"\",Q460=0),\"\",IF(VLOOKUP(VALUE($A460),WEEKLY_DATA!$A:$H,6,0)=0,\"No Sales\",Q460/(VLOOKUP(VALUE($A460),WEEKLY_DATA!$A:$H,6,0)/13))),\"\")","v":""},{"$f":"IFERROR(VLOOKUP(VALUE(A460),WEEKLY_DATA!$A:$H,8,0),0)","v":0},"—"]
[null,null,null,null,null,null,null,null,{"$f":"IFERROR(INDEX(BrandList!$B$2:$B$200,MATCH(TRUE,ISNUMBER(SEARCH(BrandList!$B$2:$B$200,G461)),0)),\"\")","v":""},null,null,null,null,null,null,"",{"$f":"IFERROR(VLOOKUP(VALUE(A461),WEEKLY_DATA!$A:$H,2,0),0)","v":0},{"$f":"IFERROR(VLOOKUP(VALUE(A461),WEEKLY_DATA!$A:$H,3,0),0)","v":0},{"$f":"IFERROR(VLOOKUP(VALUE(A461),WEEKLY_DATA!$A:$H,4,0),0)","v":0},{"$f":"IFERROR(VLOOKUP(VALUE(A461),WEEKLY_DATA!$A:$H,5,0),0)","v":0},{"$f":"IFERROR(VLOOKUP(VALUE(A461),WEEKLY_DATA!$A:$H,6,0),0)","v":0},{"$f":"IFERROR(VLOOKUP(VALUE(A461),WEEKLY_DATA!$A:$H,7,0),0)","v":0},{"$f":"IFERROR(IF(OR(Q461=\"\",Q461=0),\"\",IF(VLOOKUP(VALUE($A461),WEEKLY_DATA!$A:$H,6,0)=0,\"No Sales\",Q461/(VLOOKUP(VALUE($A461),WEEKLY_DATA!$A:$H,6,0)/13))),\"\")","v":""},{"$f":"IFERROR(VLOOKUP(VALUE(A461),WEEKLY_DATA!$A:$H,8,0),0)","v":0},"—"]
[null,null,null,null,null,null,null,null,{"$f":"IFERROR(INDEX(BrandList!$B$2:$B$200,MATCH(TRUE,ISNUMBER(SEARCH(BrandList!$B$2:$B$200,G462)),0)),\"\")","v":""},null,null,null,null,null,null,"",{"$f":"IFERROR(VLOOKUP(VALUE(A462),WEEKLY_DATA!$A:$H,2,0),0)","v":0},{"$f":"IFERROR(VLOOKUP(VALUE(A462),WEEKLY_DATA!$A:$H,3,0),0)","v":0},{"$f":"IFERROR(VLOOKUP(VALUE(A462),WEEKLY_DATA!$A:$H,4,0),0)","v":0},{"$f":"IFERROR(VLOOKUP(VALUE(A462),WEEKLY_DATA!$A:$H,5,0),0)","v":0},{"$f":"IFERROR(VLOOKUP(VALUE(A462),WEEKLY_DATA!$A:$H,6,0),0)","v":0},{"$f":"IFERROR(VLOOKUP(VALUE(A462),WEEKLY_DATA!$A:$H,7,0),0)","v":0},{"$f":"IFERROR(IF(OR(Q462=\"\",Q462=0),\"\",IF(VLOOKUP(VALUE($A462),WEEKLY_DATA!$A:$H,6,0)=0,\"No Sales\",Q462/(VLOOKUP(VALUE($A462),WEEKLY_DATA!$A:$H,6,0)/13))),\"\")","v":""},{"$f":"IFERROR(VLOOKUP(VALUE(A462),WEEKLY_DATA!$A:$H,8,0),0)","v":0},"—"]
[null,null,null,null,null,null,null,null,{"$f":"IFERROR(INDEX(BrandList!$B$2:$B$200,MATCH(TRUE,ISNUMBER(SEARCH(BrandList!$B$2:$B$200,G463)),0)),\"\")","v":""},null,null,null,null,null,null,"",{"$f":"IFERROR(VLOOKUP(VALUE(A463),WEEKLY_DATA!$A:$H,2,0),0)","v":0},{"$f":"IFERROR(VLOOKUP(VALUE(A463),WEEKLY_DATA!$A:$H,3,0),0)","v":0},{"$f":"IFERROR(VLOOKUP(VALUE(A463),WEEKLY_DATA!$A:$H,4,0),0)","v":0},{"$f":"IFERROR(VLOOKUP(VALUE(A463),WEEKLY_DATA!$A:$H,5,0),0)","v":0},{"$f":"IFERROR(VLOOKUP(VALUE(A463),WEEKLY_DATA!$A:$H,6,0),0)","v":0},{"$f":"IFERROR(VLOOKUP(VALUE(A463),WEEKLY_DATA!$A:$H,7,0),0)","v":0},{"$f":"IFERROR(IF(OR(Q463=\"\",Q463=0),\"\",IF(VLOOKUP(VALUE($A463),WEEKLY_DATA!$A:$H,6,0)=0,\"No Sales\",Q463/(VLOOKUP(VALUE($A463),WEEKLY_DATA!$A:$H,6,0)/13))),\"\")","v":""},{"$f":"IFERROR(VLOOKUP(VALUE(A463),WEEKLY_DATA!$A:$H,8,0),0)","v":0},"—"]
[null,null,null,null,null,null,null,null,{"$f":"IFERROR(INDEX(BrandList!$B$2:$B$200,MATCH(TRUE,ISNUMBER(SEARCH(BrandList!$B$2:$B$200,G464)),0)),\"\")","v":""},null,null,null,null,null,null,"",{"$f":"IFERROR(VLOOKUP(VALUE(A464),WEEKLY_DATA!$A:$H,2,0),0)","v":0},{"$f":"IFERROR(VLOOKUP(VALUE(A464),WEEKLY_DATA!$A:$H,3,0),0)","v":0},{"$f":"IFERROR(VLOOKUP(VALUE(A464),WEEKLY_DATA!$A:$H,4,0),0)","v":0},{"$f":"IFERROR(VLOOKUP(VALUE(A464),WEEKLY_DATA!$A:$H,5,0),0)","v":0},{"$f":"IFERROR(VLOOKUP(VALUE(A464),WEEKLY_DATA!$A:$H,6,0),0)","v":0},{"$f":"IFERROR(VLOOKUP(VALUE(A464),WEEKLY_DATA!$A:$H,7,0),0)","v":0},{"$f":"IFERROR(IF(OR(Q464=\"\",Q464=0),\"\",IF(VLOOKUP(VALUE($A464),WEEKLY_DATA!$A:$H,6,0)=0,\"No Sales\",Q464/(VLOOKUP(VALUE($A464),WEEKLY_DATA!$A:$H,6,0)/13))),\"\")","v":""},{"$f":"IFERROR(VLOOKUP(VALUE(A464),WEEKLY_DATA!$A:$H,8,0),0)","v":0},"—"]
[null,null,null,null,null,null,null,null,{"$f":"IFERROR(INDEX(BrandList!$B$2:$B$200,MATCH(TRUE,ISNUMBER(SEARCH(BrandList!$B$2:$B$200,G465)),0)),\"\")","v":""},null,null,null,null,null,null,"",{"$f":"IFERROR(VLOOKUP(VALUE(A465),WEEKLY_DATA!$A:$H,2,0),0)","v":0},{"$f":"IFERROR(VLOOKUP(VALUE(A465),WEEKLY_DATA!$A:$H,3,0),0)","v":0},{"$f":"IFERROR(VLOOKUP(VALUE(A465),WEEKLY_DATA!$A:$H,4,0),0)","v":0},{"$f":"IFERROR(VLOOKUP(VALUE(A465),WEEKLY_DATA!$A:$H,5,0),0)","v":0},{"$f":"IFERROR(VLOOKUP(VALUE(A465),WEEKLY_DATA!$A:$H,6,0),0)","v":0},{"$f":"IFERROR(VLOOKUP(VALUE(A465),WEEKLY_DATA!$A:$H,7,0),0)","v":0},{"$f":"IFERROR(IF(OR(Q465=\"\",Q465=0),\"\",IF(VLOOKUP(VALUE($A465),WEEKLY_DATA!$A:$H,6,0)=0,\"No Sales\",Q465/(VLOOKUP(VALUE($A465),WEEKLY_DATA!$A:$H,6,0)/13))),\"\")","v":""},{"$f":"IFERROR(VLOOKUP(VALUE(A465),WEEKLY_DATA!$A:$H,8,0),0)","v":0},"—"]
[null,null,null,null,null,null,null,null,{"$f":"IFERROR(INDEX(BrandList!$B$2:$B$200,MATCH(TRUE,ISNUMBER(SEARCH(BrandList!$B$2:$B$200,G466)),0)),\"\")","v":""},null,null,null,null,null,null,"",{"$f":"IFERROR(VLOOKUP(VALUE(A466),WEEKLY_DATA!$A:$H,2,0),0)","v":0},{"$f":"IFERROR(VLOOKUP(VALUE(A466),WEEKLY_DATA!$A:$H,3,0),0)","v":0},{"$f":"IFERROR(VLOOKUP(VALUE(A466),WEEKLY_DATA!$A:$H,4,0),0)","v":0},{"$f":"IFERROR(VLOOKUP(VALUE(A466),WEEKLY_DATA!$A:$H,5,0),0)","v":0},{"$f":"IFERROR(VLOOKUP(VALUE(A466),WEEKLY_DATA!$A:$H,6,0),0)","v":0},{"$f":"IFERROR(VLOOKUP(VALUE(A466),WEEKLY_DATA!$A:$H,7,0),0)","v":0},{"$f":"IFERROR(IF(OR(Q466=\"\",Q466=0),\"\",IF(VLOOKUP(VALUE($A466),WEEKLY_DATA!$A:$H,6,0)=0,\"No Sales\",Q466/(VLOOKUP(VALUE($A466),WEEKLY_DATA!$A:$H,6,0)/13))),\"\")","v":""},{"$f":"IFERROR(VLOOKUP(VALUE(A466),WEEKLY_DATA!$A:$H,8,0),0)","v":0},"—"]
[null,null,null,null,null,null,null,null,{"$f":"IFERROR(INDEX(BrandList!$B$2:$B$200,MATCH(TRUE,ISNUMBER(SEARCH(BrandList!$B$2:$B$200,G467)),0)),\"\")","v":""},null,null,null,null,null,null,"",{"$f":"IFERROR(VLOOKUP(VALUE(A467),WEEKLY_DATA!$A:$H,2,0),0)","v":0},{"$f":"IFERROR(VLOOKUP(VALUE(A467),WEEKLY_DATA!$A:$H,3,0),0)","v":0},{"$f":"IFERROR(VLOOKUP(VALUE(A467),WEEKLY_DATA!$A:$H,4,0),0)","v":0},{"$f":"IFERROR(VLOOKUP(VALUE(A467),WEEKLY_DATA!$A:$H,5,0),0)","v":0},{"$f":"IFERROR(VLOOKUP(VALUE(A467),WEEKLY_DATA!$A:$H,6,0),0)","v":0},{"$f":"IFERROR(VLOOKUP(VALUE(A467),WEEKLY_DATA!$A:$H,7,0),0)","v":0},{"$f":"IFERROR(IF(OR(Q467=\"\",Q467=0),\"\",IF(VLOOKUP(VALUE($A467),WEEKLY_DATA!$A:$H,6,0)=0,\"No Sales\",Q467/(VLOOKUP(VALUE($A467),WEEKLY_DATA!$A:$H,6,0)/13))),\"\")","v":""},{"$f":"IFERROR(VLOOKUP(VALUE(A467),WEEKLY_DATA!$A:$H,8,0),0)","v":0},"—"]
[null,null,null,null,null,null,null,null,{"$f":"IFERROR(INDEX(BrandList!$B$2:$B$200,MATCH(TRUE,ISNUMBER(SEARCH(BrandList!$B$2:$B$200,G468)),0)),\"\")","v":""},null,null,null,null,null,null,"",{"$f":"IFERROR(VLOOKUP(VALUE(A468),WEEKLY_DATA!$A:$H,2,0),0)","v":0},{"$f":"IFERROR(VLOOKUP(VALUE(A468),WEEKLY_DATA!$A:$H,3,0),0)","v":0},{"$f":"IFERROR(VLOOKUP(VALUE(A468),WEEKLY_DATA!$A:$H,4,0),0)","v":0},{"$f":"IFERROR(VLOOKUP(VALUE(A468),WEEKLY_DATA!$A:$H,5,0),0)","v":0},{"$f":"IFERROR(VLOOKUP(VALUE(A468),WEEKLY_DATA!$A:$H,6,0),0)","v":0},{"$f":"IFERROR(VLOOKUP(VALUE(A468),WEEKLY_DATA!$A:$H,7,0),0)","v":0},{"$f":"IFERROR(IF(OR(Q468=\"\",Q468=0),\"\",IF(VLOOKUP(VALUE($A468),WEEKLY_DATA!$A:$H,6,0)=0,\"No Sales\",Q468/(VLOOKUP(VALUE($A468),WEEKLY_DATA!$A:$H,6,0)/13))),\"\")","v":""},{"$f":"IFERROR(VLOOKUP(VALUE(A468),WEEKLY_DATA!$A:$H,8,0),0)","v":0},"—"]
[null,null,null,null,null,null,null,null,{"$f":"IFERROR(INDEX(BrandList!$B$2:$B$200,MATCH(TRUE,ISNUMBER(SEARCH(BrandList!$B$2:$B$200,G469)),0)),\"\")","v":""},null,null,null,null,null,null,"",{"$f":"IFERROR(VLOOKUP(VALUE(A469),WEEKLY_DATA!$A:$H,2,0),0)","v":0},{"$f":"IFERROR(VLOOKUP(VALUE(A469),WEEKLY_DATA!$A:$H,3,0),0)","v":0},{"$f":"IFERROR(VLOOKUP(VALUE(A469),WEEKLY_DATA!$A:$H,4,0),0)","v":0},{"$f":"IFERROR(VLOOKUP(VALUE(A469),WEEKLY_DATA!$A:$H,5,0),0)","v":0},{"$f":"IFERROR(VLOOKUP(VALUE(A469),WEEKLY_DATA!$A:$H,6,0),0)","v":0},{"$f":"IFERROR(VLOOKUP(VALUE(A469),WEEKLY_DATA!$A:$H,7,0),0)","v":0},{"$f":"IFERROR(IF(OR(Q469=\"\",Q469=0),\"\",IF(VLOOKUP(VALUE($A469),WEEKLY_DATA!$A:$H,6,0)=0,\"No Sales\",Q469/(VLOOKUP(VALUE($A469),WEEKLY_DATA!$A:$H,6,0)/13))),\"\")","v":""},{"$f":"IFERROR(VLOOKUP(VALUE(A469),WEEKLY_DATA!$A:$H,8,0),0)","v":0},"—"]
[null,null,null,null,null,null,null,null,{"$f":"IFERROR(INDEX(BrandList!$B$2:$B$200,MATCH(TRUE,ISNUMBER(SEARCH(BrandList!$B$2:$B$200,G470)),0)),\"\")","v":""},null,null,null,null,null,null,"",{"$f":"IFERROR(VLOOKUP(VALUE(A470),WEEKLY_DATA!$A:$H,2,0),0)","v":0},{"$f":"IFERROR(VLOOKUP(VALUE(A470),WEEKLY_DATA!$A:$H,3,0),0)","v":0},{"$f":"IFERROR(VLOOKUP(VALUE(A470),WEEKLY_DATA!$A:$H,4,0),0)","v":0},{"$f":"IFERROR(VLOOKUP(VALUE(A470),WEEKLY_DATA!$A:$H,5,0),0)","v":0},{"$f":"IFERROR(VLOOKUP(VALUE(A470),WEEKLY_DATA!$A:$H,6,0),0)","v":0},{"$f":"IFERROR(VLOOKUP(VALUE(A470),WEEKLY_DATA!$A:$H,7,0),0)","v":0},{"$f":"IFERROR(IF(OR(Q470=\"\",Q470=0),\"\",IF(VLOOKUP(VALUE($A470),WEEKLY_DATA!$A:$H,6,0)=0,\"No Sales\",Q470/(VLOOKUP(VALUE($A470),WEEKLY_DATA!$A:$H,6,0)/13))),\"\")","v":""},{"$f":"IFERROR(VLOOKUP(VALUE(A470),WEEKLY_DATA!$A:$H,8,0),0)","v":0},"—"]
[null,null,null,null,null,null,null,null,{"$f":"IFERROR(INDEX(BrandList!$B$2:$B$200,MATCH(TRUE,ISNUMBER(SEARCH(BrandList!$B$2:$B$200,G471)),0)),\"\")","v":""},null,null,null,null,null,null,"",{"$f":"IFERROR(VLOOKUP(VALUE(A471),WEEKLY_DATA!$A:$H,2,0),0)","v":0},{"$f":"IFERROR(VLOOKUP(VALUE(A471),WEEKLY_DATA!$A:$H,3,0),0)","v":0},{"$f":"IFERROR(VLOOKUP(VALUE(A471),WEEKLY_DATA!$A:$H,4,0),0)","v":0},{"$f":"IFERROR(VLOOKUP(VALUE(A471),WEEKLY_DATA!$A:$H,5,0),0)","v":0},{"$f":"IFERROR(VLOOKUP(VALUE(A471),WEEKLY_DATA!$A:$H,6,0),0)","v":0},{"$f":"IFERROR(VLOOKUP(VALUE(A471),WEEKLY_DATA!$A:$H,7,0),0)","v":0},{"$f":"IFERROR(IF(OR(Q471=\"\",Q471=0),\"\",IF(VLOOKUP(VALUE($A471),WEEKLY_DATA!$A:$H,6,0)=0,\"No Sales\",Q471/(VLOOKUP(VALUE($A471),WEEKLY_DATA!$A:$H,6,0)/13))),\"\")","v":""},{"$f":"IFERROR(VLOOKUP(VALUE(A471),WEEKLY_DATA!$A:$H,8,0),0)","v":0},"—"]
[null,null,null,null,null,null,null,null,{"$f":"IFERROR(INDEX(BrandList!$B$2:$B$200,MATCH(TRUE,ISNUMBER(SEARCH(BrandList!$B$2:$B$200,G472)),0)),\"\")","v":""},null,null,null,null,null,null,"",{"$f":"IFERROR(VLOOKUP(VALUE(A472),WEEKLY_DATA!$A:$H,2,0),0)","v":0},{"$f":"IFERROR(VLOOKUP(VALUE(A472),WEEKLY_DATA!$A:$H,3,0),0)","v":0},{"$f":"IFERROR(VLOOKUP(VALUE(A472),WEEKLY_DATA!$A:$H,4,0),0)","v":0},{"$f":"IFERROR(VLOOKUP(VALUE(A472),WEEKLY_DATA!$A:$H,5,0),0)","v":0},{"$f":"IFERROR(VLOOKUP(VALUE(A472),WEEKLY_DATA!$A:$H,6,0),0)","v":0},{"$f":"IFERROR(VLOOKUP(VALUE(A472),WEEKLY_DATA!$A:$H,7,0),0)","v":0},{"$f":"IFERROR(IF(OR(Q472=\"\",Q472=0),\"\",IF(VLOOKUP(VALUE($A472),WEEKLY_DATA!$A:$H,6,0)=0,\"No Sales\",Q472/(VLOOKUP(VALUE($A472),WEEKLY_DATA!$A:$H,6,0)/13))),\"\")","v":""},{"$f":"IFERROR(VLOOKUP(VALUE(A472),WEEKLY_DATA!$A:$H,8,0),0)","v":0},"—"]
[null,null,null,null,null,null,null,null,{"$f":"IFERROR(INDEX(BrandList!$B$2:$B$200,MATCH(TRUE,ISNUMBER(SEARCH(BrandList!$B$2:$B$200,G473)),0)),\"\")","v":""},null,null,null,null,null,null,"",{"$f":"IFERROR(VLOOKUP(VALUE(A473),WEEKLY_DATA!$A:$H,2,0),0)","v":0},{"$f":"IFERROR(VLOOKUP(VALUE(A473),WEEKLY_DATA!$A:$H,3,0),0)","v":0},{"$f":"IFERROR(VLOOKUP(VALUE(A473),WEEKLY_DATA!$A:$H,4,0),0)","v":0},{"$f":"IFERROR(VLOOKUP(VALUE(A473),WEEKLY_DATA!$A:$H,5,0),0)","v":0},{"$f":"IFERROR(VLOOKUP(VALUE(A473),WEEKLY_DATA!$A:$H,6,0),0)","v":0},{"$f":"IFERROR(VLOOKUP(VALUE(A473),WEEKLY_DATA!$A:$H,7,0),0)","v":0},{"$f":"IFERROR(IF(OR(Q473=\"\",Q473=0),\"\",IF(VLOOKUP(VALUE($A473),WEEKLY_DATA!$A:$H,6,0)=0,\"No Sales\",Q473/(VLOOKUP(VALUE($A473),WEEKLY_DATA!$A:$H,6,0)/13))),\"\")","v":""},{"$f":"IFERROR(VLOOKUP(VALUE(A473),WEEKLY_DATA!$A:$H,8,0),0)","v":0},"—"]
[null,null,null,null,null,null,null,null,{"$f":"IFERROR(INDEX(BrandList!$B$2:$B$200,MATCH(TRUE,ISNUMBER(SEARCH(BrandList!$B$2:$B$200,G474)),0)),\"\")","v":""},null,null,null,null,null,null,"",{"$f":"IFERROR(VLOOKUP(VALUE(A474),WEEKLY_DATA!$A:$H,2,0),0)","v":0},{"$f":"IFERROR(VLOOKUP(VALUE(A474),WEEKLY_DATA!$A:$H,3,0),0)","v":0},{"$f":"IFERROR(VLOOKUP(VALUE(A474),WEEKLY_DATA!$A:$H,4,0),0)","v":0},{"$f":"IFERROR(VLOOKUP(VALUE(A474),WEEKLY_DATA!$A:$H,5,0),0)","v":0},{"$f":"IFERROR(VLOOKUP(VALUE(A474),WEEKLY_DATA!$A:$H,6,0),0)","v":0},{"$f":"IFERROR(VLOOKUP(VALUE(A474),WEEKLY_DATA!$A:$H,7,0),0)","v":0},{"$f":"IFERROR(IF(OR(Q474=\"\",Q474=0),\"\",IF(VLOOKUP(VALUE($A474),WEEKLY_DATA!$A:$H,6,0)=0,\"No Sales\",Q474/(VLOOKUP(VALUE($A474),WEEKLY_DATA!$A:$H,6,0)/13))),\"\")","v":""},{"$f":"IFERROR(VLOOKUP(VALUE(A474),WEEKLY_DATA!$A:$H,8,0),0)","v":0},"—"]
[null,null,null,null,null,null,null,null,{"$f":"IFERROR(INDEX(BrandList!$B$2:$B$200,MATCH(TRUE,ISNUMBER(SEARCH(BrandList!$B$2:$B$200,G475)),0)),\"\")","v":""},null,null,null,null,null,null,"",{"$f":"IFERROR(VLOOKUP(VALUE(A475),WEEKLY_DATA!$A:$H,2,0),0)","v":0},{"$f":"IFERROR(VLOOKUP(VALUE(A475),WEEKLY_DATA!$A:$H,3,0),0)","v":0},{"$f":"IFERROR(VLOOKUP(VALUE(A475),WEEKLY_DATA!$A:$H,4,0),0)","v":0},{"$f":"IFERROR(VLOOKUP(VALUE(A475),WEEKLY_DATA!$A:$H,5,0),0)","v":0},{"$f":"IFERROR(VLOOKUP(VALUE(A475),WEEKLY_DATA!$A:$H,6,0),0)","v":0},{"$f":"IFERROR(VLOOKUP(VALUE(A475),WEEKLY_DATA!$A:$H,7,0),0)","v":0},{"$f":"IFERROR(IF(OR(Q475=\"\",Q475=0),\"\",IF(VLOOKUP(VALUE($A475),WEEKLY_DATA!$A:$H,6,0)=0,\"No Sales\",Q475/(VLOOKUP(VALUE($A475),WEEKLY_DATA!$A:$H,6,0)/13))),\"\")","v":""},{"$f":"IFERROR(VLOOKUP(VALUE(A475),WEEKLY_DATA!$A:$H,8,0),0)","v":0},"—"]
[null,null,null,null,null,null,null,null,{"$f":"IFERROR(INDEX(BrandList!$B$2:$B$200,MATCH(TRUE,ISNUMBER(SEARCH(BrandList!$B$2:$B$200,G476)),0)),\"\")","v":""},null,null,null,null,null,null,"",{"$f":"IFERROR(VLOOKUP(VALUE(A476),WEEKLY_DATA!$A:$H,2,0),0)","v":0},{"$f":"IFERROR(VLOOKUP(VALUE(A476),WEEKLY_DATA!$A:$H,3,0),0)","v":0},{"$f":"IFERROR(VLOOKUP(VALUE(A476),WEEKLY_DATA!$A:$H,4,0),0)","v":0},{"$f":"IFERROR(VLOOKUP(VALUE(A476),WEEKLY_DATA!$A:$H,5,0),0)","v":0},{"$f":"IFERROR(VLOOKUP(VALUE(A476),WEEKLY_DATA!$A:$H,6,0),0)","v":0},{"$f":"IFERROR(VLOOKUP(VALUE(A476),WEEKLY_DATA!$A:$H,7,0),0)","v":0},{"$f":"IFERROR(IF(OR(Q476=\"\",Q476=0),\"\",IF(VLOOKUP(VALUE($A476),WEEKLY_DATA!$A:$H,6,0)=0,\"No Sales\",Q476/(VLOOKUP(VALUE($A476),WEEKLY_DATA!$A:$H,6,0)/13))),\"\")","v":""},{"$f":"IFERROR(VLOOKUP(VALUE(A476),WEEKLY_DATA!$A:$H,8,0),0)","v":0},"—"]
[null,null,null,null,null,null,null,null,{"$f":"IFERROR(INDEX(BrandList!$B$2:$B$200,MATCH(TRUE,ISNUMBER(SEARCH(BrandList!$B$2:$B$200,G477)),0)),\"\")","v":""},null,null,null,null,null,null,"",{"$f":"IFERROR(VLOOKUP(VALUE(A477),WEEKLY_DATA!$A:$H,2,0),0)","v":0},{"$f":"IFERROR(VLOOKUP(VALUE(A477),WEEKLY_DATA!$A:$H,3,0),0)","v":0},{"$f":"IFERROR(VLOOKUP(VALUE(A477),WEEKLY_DATA!$A:$H,4,0),0)","v":0},{"$f":"IFERROR(VLOOKUP(VALUE(A477),WEEKLY_DATA!$A:$H,5,0),0)","v":0},{"$f":"IFERROR(VLOOKUP(VALUE(A477),WEEKLY_DATA!$A:$H,6,0),0)","v":0},{"$f":"IFERROR(VLOOKUP(VALUE(A477),WEEKLY_DATA!$A:$H,7,0),0)","v":0},{"$f":"IFERROR(IF(OR(Q477=\"\",Q477=0),\"\",IF(VLOOKUP(VALUE($A477),WEEKLY_DATA!$A:$H,6,0)=0,\"No Sales\",Q477/(VLOOKUP(VALUE($A477),WEEKLY_DATA!$A:$H,6,0)/13))),\"\")","v":""},{"$f":"IFERROR(VLOOKUP(VALUE(A477),WEEKLY_DATA!$A:$H,8,0),0)","v":0},"—"]
[null,null,null,null,null,null,null,null,{"$f":"IFERROR(INDEX(BrandList!$B$2:$B$200,MATCH(TRUE,ISNUMBER(SEARCH(BrandList!$B$2:$B$200,G478)),0)),\"\")","v":""},null,null,null,null,null,null,"",{"$f":"IFERROR(VLOOKUP(VALUE(A478),WEEKLY_DATA!$A:$H,2,0),0)","v":0},{"$f":"IFERROR(VLOOKUP(VALUE(A478),WEEKLY_DATA!$A:$H,3,0),0)","v":0},{"$f":"IFERROR(VLOOKUP(VALUE(A478),WEEKLY_DATA!$A:$H,4,0),0)","v":0},{"$f":"IFERROR(VLOOKUP(VALUE(A478),WEEKLY_DATA!$A:$H,5,0),0)","v":0},{"$f":"IFERROR(VLOOKUP(VALUE(A478),WEEKLY_DATA!$A:$H,6,0),0)","v":0},{"$f":"IFERROR(VLOOKUP(VALUE(A478),WEEKLY_DATA!$A:$H,7,0),0)","v":0},{"$f":"IFERROR(IF(OR(Q478=\"\",Q478=0),\"\",IF(VLOOKUP(VALUE($A478),WEEKLY_DATA!$A:$H,6,0)=0,\"No Sales\",Q478/(VLOOKUP(VALUE($A478),WEEKLY_DATA!$A:$H,6,0)/13))),\"\")","v":""},{"$f":"IFERROR(VLOOKUP(VALUE(A478),WEEKLY_DATA!$A:$H,8,0),0)","v":0},"—"]
[null,null,null,null,null,null,null,null,{"$f":"IFERROR(INDEX(BrandList!$B$2:$B$200,MATCH(TRUE,ISNUMBER(SEARCH(BrandList!$B$2:$B$200,G479)),0)),\"\")","v":""},null,null,null,null,null,null,"",{"$f":"IFERROR(VLOOKUP(VALUE(A479),WEEKLY_DATA!$A:$H,2,0),0)","v":0},{"$f":"IFERROR(VLOOKUP(VALUE(A479),WEEKLY_DATA!$A:$H,3,0),0)","v":0},{"$f":"IFERROR(VLOOKUP(VALUE(A479),WEEKLY_DATA!$A:$H,4,0),0)","v":0},{"$f":"IFERROR(VLOOKUP(VALUE(A479),WEEKLY_DATA!$A:$H,5,0),0)","v":0},{"$f":"IFERROR(VLOOKUP(VALUE(A479),WEEKLY_DATA!$A:$H,6,0),0)","v":0},{"$f":"IFERROR(VLOOKUP(VALUE(A479),WEEKLY_DATA!$A:$H,7,0),0)","v":0},{"$f":"IFERROR(IF(OR(Q479=\"\",Q479=0),\"\",IF(VLOOKUP(VALUE($A479),WEEKLY_DATA!$A:$H,6,0)=0,\"No Sales\",Q479/(VLOOKUP(VALUE($A479),WEEKLY_DATA!$A:$H,6,0)/13))),\"\")","v":""},{"$f":"IFERROR(VLOOKUP(VALUE(A479),WEEKLY_DATA!$A:$H,8,0),0)","v":0},"—"]
[null,null,null,null,null,null,null,null,{"$f":"IFERROR(INDEX(BrandList!$B$2:$B$200,MATCH(TRUE,ISNUMBER(SEARCH(BrandList!$B$2:$B$200,G480)),0)),\"\")","v":""},null,null,null,null,null,null,"",{"$f":"IFERROR(VLOOKUP(VALUE(A480),WEEKLY_DATA!$A:$H,2,0),0)","v":0},{"$f":"IFERROR(VLOOKUP(VALUE(A480),WEEKLY_DATA!$A:$H,3,0),0)","v":0},{"$f":"IFERROR(VLOOKUP(VALUE(A480),WEEKLY_DATA!$A:$H,4,0),0)","v":0},{"$f":"IFERROR(VLOOKUP(VALUE(A480),WEEKLY_DATA!$A:$H,5,0),0)","v":0},{"$f":"IFERROR(VLOOKUP(VALUE(A480),WEEKLY_DATA!$A:$H,6,0),0)","v":0},{"$f":"IFERROR(VLOOKUP(VALUE(A480),WEEKLY_DATA!$A:$H,7,0),0)","v":0},{"$f":"IFERROR(IF(OR(Q480=\"\",Q480=0),\"\",IF(VLOOKUP(VALUE($A480),WEEKLY_DATA!$A:$H,6,0)=0,\"No Sales\",Q480/(VLOOKUP(VALUE($A480),WEEKLY_DATA!$A:$H,6,0)/13))),\"\")","v":""},{"$f":"IFERROR(VLOOKUP(VALUE(A480),WEEKLY_DATA!$A:$H,8,0),0)","v":0},"—"]
[null,null,null,null,null,null,null,null,{"$f":"IFERROR(INDEX(BrandList!$B$2:$B$200,MATCH(TRUE,ISNUMBER(SEARCH(BrandList!$B$2:$B$200,G481)),0)),\"\")","v":""},null,null,null,null,null,null,"",{"$f":"IFERROR(VLOOKUP(VALUE(A481),WEEKLY_DATA!$A:$H,2,0),0)","v":0},{"$f":"IFERROR(VLOOKUP(VALUE(A481),WEEKLY_DATA!$A:$H,3,0),0)","v":0},{"$f":"IFERROR(VLOOKUP(VALUE(A481),WEEKLY_DATA!$A:$H,4,0),0)","v":0},{"$f":"IFERROR(VLOOKUP(VALUE(A481),WEEKLY_DATA!$A:$H,5,0),0)","v":0},{"$f":"IFERROR(VLOOKUP(VALUE(A481),WEEKLY_DATA!$A:$H,6,0),0)","v":0},{"$f":"IFERROR(VLOOKUP(VALUE(A481),WEEKLY_DATA!$A:$H,7,0),0)","v":0},{"$f":"IFERROR(IF(OR(Q481=\"\",Q481=0),\"\",IF(VLOOKUP(VALUE($A481),WEEKLY_DATA!$A:$H,6,0)=0,\"No Sales\",Q481/(VLOOKUP(VALUE($A481),WEEKLY_DATA!$A:$H,6,0)/13))),\"\")","v":""},{"$f":"IFERROR(VLOOKUP(VALUE(A481),WEEKLY_DATA!$A:$H,8,0),0)","v":0},"—"]
[null,null,null,null,null,null,null,null,{"$f":"IFERROR(INDEX(BrandList!$B$2:$B$200,MATCH(TRUE,ISNUMBER(SEARCH(BrandList!$B$2:$B$200,G482)),0)),\"\")","v":""},null,null,null,null,null,null,"",{"$f":"IFERROR(VLOOKUP(VALUE(A482),WEEKLY_DATA!$A:$H,2,0),0)","v":0},{"$f":"IFERROR(VLOOKUP(VALUE(A482),WEEKLY_DATA!$A:$H,3,0),0)","v":0},{"$f":"IFERROR(VLOOKUP(VALUE(A482),WEEKLY_DATA!$A:$H,4,0),0)","v":0},{"$f":"IFERROR(VLOOKUP(VALUE(A482),WEEKLY_DATA!$A:$H,5,0),0)","v":0},{"$f":"IFERROR(VLOOKUP(VALUE(A482),WEEKLY_DATA!$A:$H,6,0),0)","v":0},{"$f":"IFERROR(VLOOKUP(VALUE(A482),WEEKLY_DATA!$A:$H,7,0),0)","v":0},{"$f":"IFERROR(IF(OR(Q482=\"\",Q482=0),\"\",IF(VLOOKUP(VALUE($A482),WEEKLY_DATA!$A:$H,6,0)=0,\"No Sales\",Q482/(VLOOKUP(VALUE($A482),WEEKLY_DATA!$A:$H,6,0)/13))),\"\")","v":""},{"$f":"IFERROR(VLOOKUP(VALUE(A482),WEEKLY_DATA!$A:$H,8,0),0)","v":0},"—"]
[null,null,null,null,null,null,null,null,{"$f":"IFERROR(INDEX(BrandList!$B$2:$B$200,MATCH(TRUE,ISNUMBER(SEARCH(BrandList!$B$2:$B$200,G483)),0)),\"\")","v":""},null,null,null,null,null,null,"",{"$f":"IFERROR(VLOOKUP(VALUE(A483),WEEKLY_DATA!$A:$H,2,0),0)","v":0},{"$f":"IFERROR(VLOOKUP(VALUE(A483),WEEKLY_DATA!$A:$H,3,0),0)","v":0},{"$f":"IFERROR(VLOOKUP(VALUE(A483),WEEKLY_DATA!$A:$H,4,0),0)","v":0},{"$f":"IFERROR(VLOOKUP(VALUE(A483),WEEKLY_DATA!$A:$H,5,0),0)","v":0},{"$f":"IFERROR(VLOOKUP(VALUE(A483),WEEKLY_DATA!$A:$H,6,0),0)","v":0},{"$f":"IFERROR(VLOOKUP(VALUE(A483),WEEKLY_DATA!$A:$H,7,0),0)","v":0},{"$f":"IFERROR(IF(OR(Q483=\"\",Q483=0),\"\",IF(VLOOKUP(VALUE($A483),WEEKLY_DATA!$A:$H,6,0)=0,\"No Sales\",Q483/(VLOOKUP(VALUE($A483),WEEKLY_DATA!$A:$H,6,0)/13))),\"\")","v":""},{"$f":"IFERROR(VLOOKUP(VALUE(A483),WEEKLY_DATA!$A:$H,8,0),0)","v":0},"—"]
[null,null,null,null,null,null,null,null,{"$f":"IFERROR(INDEX(BrandList!$B$2:$B$200,MATCH(TRUE,ISNUMBER(SEARCH(BrandList!$B$2:$B$200,G484)),0)),\"\")","v":""},null,null,null,null,null,null,"",{"$f":"IFERROR(VLOOKUP(VALUE(A484),WEEKLY_DATA!$A:$H,2,0),0)","v":0},{"$f":"IFERROR(VLOOKUP(VALUE(A484),WEEKLY_DATA!$A:$H,3,0),0)","v":0},{"$f":"IFERROR(VLOOKUP(VALUE(A484),WEEKLY_DATA!$A:$H,4,0),0)","v":0},{"$f":"IFERROR(VLOOKUP(VALUE(A484),WEEKLY_DATA!$A:$H,5,0),0)","v":0},{"$f":"IFERROR(VLOOKUP(VALUE(A484),WEEKLY_DATA!$A:$H,6,0),0)","v":0},{"$f":"IFERROR(VLOOKUP(VALUE(A484),WEEKLY_DATA!$A:$H,7,0),0)","v":0},{"$f":"IFERROR(IF(OR(Q484=\"\",Q484=0),\"\",IF(VLOOKUP(VALUE($A484),WEEKLY_DATA!$A:$H,6,0)=0,\"No Sales\",Q484/(VLOOKUP(VALUE($A484),WEEKLY_DATA!$A:$H,6,0)/13))),\"\")","v":""},{"$f":"IFERROR(VLOOKUP(VALUE(A484),WEEKLY_DATA!$A:$H,8,0),0)","v":0},"—"]
[null,null,null,null,null,null,null,null,{"$f":"IFERROR(INDEX(BrandList!$B$2:$B$200,MATCH(TRUE,ISNUMBER(SEARCH(BrandList!$B$2:$B$200,G485)),0)),\"\")","v":""},null,null,null,null,null,null,"",{"$f":"IFERROR(VLOOKUP(VALUE(A485),WEEKLY_DATA!$A:$H,2,0),0)","v":0},{"$f":"IFERROR(VLOOKUP(VALUE(A485),WEEKLY_DATA!$A:$H,3,0),0)","v":0},{"$f":"IFERROR(VLOOKUP(VALUE(A485),WEEKLY_DATA!$A:$H,4,0),0)","v":0},{"$f":"IFERROR(VLOOKUP(VALUE(A485),WEEKLY_DATA!$A:$H,5,0),0)","v":0},{"$f":"IFERROR(VLOOKUP(VALUE(A485),WEEKLY_DATA!$A:$H,6,0),0)","v":0},{"$f":"IFERROR(VLOOKUP(VALUE(A485),WEEKLY_DATA!$A:$H,7,0),0)","v":0},{"$f":"IFERROR(IF(OR(Q485=\"\",Q485=0),\"\",IF(VLOOKUP(VALUE($A485),WEEKLY_DATA!$A:$H,6,0)=0,\"No Sales\",Q485/(VLOOKUP(VALUE($A485),WEEKLY_DATA!$A:$H,6,0)/13))),\"\")","v":""},{"$f":"IFERROR(VLOOKUP(VALUE(A485),WEEKLY_DATA!$A:$H,8,0),0)","v":0},"—"]
[null,null,null,null,null,null,null,null,{"$f":"IFERROR(INDEX(BrandList!$B$2:$B$200,MATCH(TRUE,ISNUMBER(SEARCH(BrandList!$B$2:$B$200,G486)),0)),\"\")","v":""},null,null,null,null,null,null,"",{"$f":"IFERROR(VLOOKUP(VALUE(A486),WEEKLY_DATA!$A:$H,2,0),0)","v":0},{"$f":"IFERROR(VLOOKUP(VALUE(A486),WEEKLY_DATA!$A:$H,3,0),0)","v":0},{"$f":"IFERROR(VLOOKUP(VALUE(A486),WEEKLY_DATA!$A:$H,4,0),0)","v":0},{"$f":"IFERROR(VLOOKUP(VALUE(A486),WEEKLY_DATA!$A:$H,5,0),0)","v":0},{"$f":"IFERROR(VLOOKUP(VALUE(A486),WEEKLY_DATA!$A:$H,6,0),0)","v":0},{"$f":"IFERROR(VLOOKUP(VALUE(A486),WEEKLY_DATA!$A:$H,7,0),0)","v":0},{"$f":"IFERROR(IF(OR(Q486=\"\",Q486=0),\"\",IF(VLOOKUP(VALUE($A486),WEEKLY_DATA!$A:$H,6,0)=0,\"No Sales\",Q486/(VLOOKUP(VALUE($A486),WEEKLY_DATA!$A:$H,6,0)/13))),\"\")","v":""},{"$f":"IFERROR(VLOOKUP(VALUE(A486),WEEKLY_DATA!$A:$H,8,0),0)","v":0},"—"]
[null,null,null,null,null,null,null,null,{"$f":"IFERROR(INDEX(BrandList!$B$2:$B$200,MATCH(TRUE,ISNUMBER(SEARCH(BrandList!$B$2:$B$200,G487)),0)),\"\")","v":""},null,null,null,null,null,null,"",{"$f":"IFERROR(VLOOKUP(VALUE(A487),WEEKLY_DATA!$A:$H,2,0),0)","v":0},{"$f":"IFERROR(VLOOKUP(VALUE(A487),WEEKLY_DATA!$A:$H,3,0),0)","v":0},{"$f":"IFERROR(VLOOKUP(VALUE(A487),WEEKLY_DATA!$A:$H,4,0),0)","v":0},{"$f":"IFERROR(VLOOKUP(VALUE(A487),WEEKLY_DATA!$A:$H,5,0),0)","v":0},{"$f":"IFERROR(VLOOKUP(VALUE(A487),WEEKLY_DATA!$A:$H,6,0),0)","v":0},{"$f":"IFERROR(VLOOKUP(VALUE(A487),WEEKLY_DATA!$A:$H,7,0),0)","v":0},{"$f":"IFERROR(IF(OR(Q487=\"\",Q487=0),\"\",IF(VLOOKUP(VALUE($A487),WEEKLY_DATA!$A:$H,6,0)=0,\"No Sales\",Q487/(VLOOKUP(VALUE($A487),WEEKLY_DATA!$A:$H,6,0)/13))),\"\")","v":""},{"$f":"IFERROR(VLOOKUP(VALUE(A487),WEEKLY_DATA!$A:$H,8,0),0)","v":0},"—"]
[null,null,null,null,null,null,null,null,{"$f":"IFERROR(INDEX(BrandList!$B$2:$B$200,MATCH(TRUE,ISNUMBER(SEARCH(BrandList!$B$2:$B$200,G488)),0)),\"\")","v":""},null,null,null,null,null,null,"",{"$f":"IFERROR(VLOOKUP(VALUE(A488),WEEKLY_DATA!$A:$H,2,0),0)","v":0},{"$f":"IFERROR(VLOOKUP(VALUE(A488),WEEKLY_DATA!$A:$H,3,0),0)","v":0},{"$f":"IFERROR(VLOOKUP(VALUE(A488),WEEKLY_DATA!$A:$H,4,0),0)","v":0},{"$f":"IFERROR(VLOOKUP(VALUE(A488),WEEKLY_DATA!$A:$H,5,0),0)","v":0},{"$f":"IFERROR(VLOOKUP(VALUE(A488),WEEKLY_DATA!$A:$H,6,0),0)","v":0},{"$f":"IFERROR(VLOOKUP(VALUE(A488),WEEKLY_DATA!$A:$H,7,0),0)","v":0},{"$f":"IFERROR(IF(OR(Q488=\"\",Q488=0),\"\",IF(VLOOKUP(VALUE($A488),WEEKLY_DATA!$A:$H,6,0)=0,\"No Sales\",Q488/(VLOOKUP(VALUE($A488),WEEKLY_DATA!$A:$H,6,0)/13))),\"\")","v":""},{"$f":"IFERROR(VLOOKUP(VALUE(A488),WEEKLY_DATA!$A:$H,8,0),0)","v":0},"—"]
[null,null,null,null,null,null,null,null,{"$f":"IFERROR(INDEX(BrandList!$B$2:$B$200,MATCH(TRUE,ISNUMBER(SEARCH(BrandList!$B$2:$B$200,G489)),0)),\"\")","v":""},null,null,null,null,null,null,"",{"$f":"IFERROR(VLOOKUP(VALUE(A489),WEEKLY_DATA!$A:$H,2,0),0)","v":0},{"$f":"IFERROR(VLOOKUP(VALUE(A489),WEEKLY_DATA!$A:$H,3,0),0)","v":0},{"$f":"IFERROR(VLOOKUP(VALUE(A489),WEEKLY_DATA!$A:$H,4,0),0)","v":0},{"$f":"IFERROR(VLOOKUP(VALUE(A489),WEEKLY_DATA!$A:$H,5,0),0)","v":0},{"$f":"IFERROR(VLOOKUP(VALUE(A489),WEEKLY_DATA!$A:$H,6,0),0)","v":0},{"$f":"IFERROR(VLOOKUP(VALUE(A489),WEEKLY_DATA!$A:$H,7,0),0)","v":0},{"$f":"IFERROR(IF(OR(Q489=\"\",Q489=0),\"\",IF(VLOOKUP(VALUE($A489),WEEKLY_DATA!$A:$H,6,0)=0,\"No Sales\",Q489/(VLOOKUP(VALUE($A489),WEEKLY_DATA!$A:$H,6,0)/13))),\"\")","v":""},{"$f":"IFERROR(VLOOKUP(VALUE(A489),WEEKLY_DATA!$A:$H,8,0),0)","v":0},"—"]
[null,null,null,null,null,null,null,null,{"$f":"IFERROR(INDEX(BrandList!$B$2:$B$200,MATCH(TRUE,ISNUMBER(SEARCH(BrandList!$B$2:$B$200,G490)),0)),\"\")","v":""},null,null,null,null,null,null,"",{"$f":"IFERROR(VLOOKUP(VALUE(A490),WEEKLY_DATA!$A:$H,2,0),0)","v":0},{"$f":"IFERROR(VLOOKUP(VALUE(A490),WEEKLY_DATA!$A:$H,3,0),0)","v":0},{"$f":"IFERROR(VLOOKUP(VALUE(A490),WEEKLY_DATA!$A:$H,4,0),0)","v":0},{"$f":"IFERROR(VLOOKUP(VALUE(A490),WEEKLY_DATA!$A:$H,5,0),0)","v":0},{"$f":"IFERROR(VLOOKUP(VALUE(A490),WEEKLY_DATA!$A:$H,6,0),0)","v":0},{"$f":"IFERROR(VLOOKUP(VALUE(A490),WEEKLY_DATA!$A:$H,7,0),0)","v":0},{"$f":"IFERROR(IF(OR(Q490=\"\",Q490=0),\"\",IF(VLOOKUP(VALUE($A490),WEEKLY_DATA!$A:$H,6,0)=0,\"No Sales\",Q490/(VLOOKUP(VALUE($A490),WEEKLY_DATA!$A:$H,6,0)/13))),\"\")","v":""},{"$f":"IFERROR(VLOOKUP(VALUE(A490),WEEKLY_DATA!$A:$H,8,0),0)","v":0},"—"]
[null,null,null,null,null,null,null,null,{"$f":"IFERROR(INDEX(BrandList!$B$2:$B$200,MATCH(TRUE,ISNUMBER(SEARCH(BrandList!$B$2:$B$200,G491)),0)),\"\")","v":""},null,null,null,null,null,null,"",{"$f":"IFERROR(VLOOKUP(VALUE(A491),WEEKLY_DATA!$A:$H,2,0),0)","v":0},{"$f":"IFERROR(VLOOKUP(VALUE(A491),WEEKLY_DATA!$A:$H,3,0),0)","v":0},{"$f":"IFERROR(VLOOKUP(VALUE(A491),WEEKLY_DATA!$A:$H,4,0),0)","v":0},{"$f":"IFERROR(VLOOKUP(VALUE(A491),WEEKLY_DATA!$A:$H,5,0),0)","v":0},{"$f":"IFERROR(VLOOKUP(VALUE(A491),WEEKLY_DATA!$A:$H,6,0),0)","v":0},{"$f":"IFERROR(VLOOKUP(VALUE(A491),WEEKLY_DATA!$A:$H,7,0),0)","v":0},{"$f":"IFERROR(IF(OR(Q491=\"\",Q491=0),\"\",IF(VLOOKUP(VALUE($A491),WEEKLY_DATA!$A:$H,6,0)=0,\"No Sales\",Q491/(VLOOKUP(VALUE($A491),WEEKLY_DATA!$A:$H,6,0)/13))),\"\")","v":""},{"$f":"IFERROR(VLOOKUP(VALUE(A491),WEEKLY_DATA!$A:$H,8,0),0)","v":0},"—"]
[null,null,null,null,null,null,null,null,{"$f":"IFERROR(INDEX(BrandList!$B$2:$B$200,MATCH(TRUE,ISNUMBER(SEARCH(BrandList!$B$2:$B$200,G492)),0)),\"\")","v":""},null,null,null,null,null,null,"",{"$f":"IFERROR(VLOOKUP(VALUE(A492),WEEKLY_DATA!$A:$H,2,0),0)","v":0},{"$f":"IFERROR(VLOOKUP(VALUE(A492),WEEKLY_DATA!$A:$H,3,0),0)","v":0},{"$f":"IFERROR(VLOOKUP(VALUE(A492),WEEKLY_DATA!$A:$H,4,0),0)","v":0},{"$f":"IFERROR(VLOOKUP(VALUE(A492),WEEKLY_DATA!$A:$H,5,0),0)","v":0},{"$f":"IFERROR(VLOOKUP(VALUE(A492),WEEKLY_DATA!$A:$H,6,0),0)","v":0},{"$f":"IFERROR(VLOOKUP(VALUE(A492),WEEKLY_DATA!$A:$H,7,0),0)","v":0},{"$f":"IFERROR(IF(OR(Q492=\"\",Q492=0),\"\",IF(VLOOKUP(VALUE($A492),WEEKLY_DATA!$A:$H,6,0)=0,\"No Sales\",Q492/(VLOOKUP(VALUE($A492),WEEKLY_DATA!$A:$H,6,0)/13))),\"\")","v":""},{"$f":"IFERROR(VLOOKUP(VALUE(A492),WEEKLY_DATA!$A:$H,8,0),0)","v":0},"—"]
[null,null,null,null,null,null,null,null,{"$f":"IFERROR(INDEX(BrandList!$B$2:$B$200,MATCH(TRUE,ISNUMBER(SEARCH(BrandList!$B$2:$B$200,G493)),0)),\"\")","v":""},null,null,null,null,null,null,"",{"$f":"IFERROR(VLOOKUP(VALUE(A493),WEEKLY_DATA!$A:$H,2,0),0)","v":0},{"$f":"IFERROR(VLOOKUP(VALUE(A493),WEEKLY_DATA!$A:$H,3,0),0)","v":0},{"$f":"IFERROR(VLOOKUP(VALUE(A493),WEEKLY_DATA!$A:$H,4,0),0)","v":0},{"$f":"IFERROR(VLOOKUP(VALUE(A493),WEEKLY_DATA!$A:$H,5,0),0)","v":0},{"$f":"IFERROR(VLOOKUP(VALUE(A493),WEEKLY_DATA!$A:$H,6,0),0)","v":0},{"$f":"IFERROR(VLOOKUP(VALUE(A493),WEEKLY_DATA!$A:$H,7,0),0)","v":0},{"$f":"IFERROR(IF(OR(Q493=\"\",Q493=0),\"\",IF(VLOOKUP(VALUE($A493),WEEKLY_DATA!$A:$H,6,0)=0,\"No Sales\",Q493/(VLOOKUP(VALUE($A493),WEEKLY_DATA!$A:$H,6,0)/13))),\"\")","v":""},{"$f":"IFERROR(VLOOKUP(VALUE(A493),WEEKLY_DATA!$A:$H,8,0),0)","v":0},"—"]
[null,null,null,null,null,null,null,null,{"$f":"IFERROR(INDEX(BrandList!$B$2:$B$200,MATCH(TRUE,ISNUMBER(SEARCH(BrandList!$B$2:$B$200,G494)),0)),\"\")","v":""},null,null,null,null,null,null,"",{"$f":"IFERROR(VLOOKUP(VALUE(A494),WEEKLY_DATA!$A:$H,2,0),0)","v":0},{"$f":"IFERROR(VLOOKUP(VALUE(A494),WEEKLY_DATA!$A:$H,3,0),0)","v":0},{"$f":"IFERROR(VLOOKUP(VALUE(A494),WEEKLY_DATA!$A:$H,4,0),0)","v":0},{"$f":"IFERROR(VLOOKUP(VALUE(A494),WEEKLY_DATA!$A:$H,5,0),0)","v":0},{"$f":"IFERROR(VLOOKUP(VALUE(A494),WEEKLY_DATA!$A:$H,6,0),0)","v":0},{"$f":"IFERROR(VLOOKUP(VALUE(A494),WEEKLY_DATA!$A:$H,7,0),0)","v":0},{"$f":"IFERROR(IF(OR(Q494=\"\",Q494=0),\"\",IF(VLOOKUP(VALUE($A494),WEEKLY_DATA!$A:$H,6,0)=0,\"No Sales\",Q494/(VLOOKUP(VALUE($A494),WEEKLY_DATA!$A:$H,6,0)/13))),\"\")","v":""},{"$f":"IFERROR(VLOOKUP(VALUE(A494),WEEKLY_DATA!$A:$H,8,0),0)","v":0},"—"]
[null,null,null,null,null,null,null,null,{"$f":"IFERROR(INDEX(BrandList!$B$2:$B$200,MATCH(TRUE,ISNUMBER(SEARCH(BrandList!$B$2:$B$200,G495)),0)),\"\")","v":""},null,null,null,null,null,null,"",{"$f":"IFERROR(VLOOKUP(VALUE(A495),WEEKLY_DATA!$A:$H,2,0),0)","v":0},{"$f":"IFERROR(VLOOKUP(VALUE(A495),WEEKLY_DATA!$A:$H,3,0),0)","v":0},{"$f":"IFERROR(VLOOKUP(VALUE(A495),WEEKLY_DATA!$A:$H,4,0),0)","v":0},{"$f":"IFERROR(VLOOKUP(VALUE(A495),WEEKLY_DATA!$A:$H,5,0),0)","v":0},{"$f":"IFERROR(VLOOKUP(VALUE(A495),WEEKLY_DATA!$A:$H,6,0),0)","v":0},{"$f":"IFERROR(VLOOKUP(VALUE(A495),WEEKLY_DATA!$A:$H,7,0),0)","v":0},{"$f":"IFERROR(IF(OR(Q495=\"\",Q495=0),\"\",IF(VLOOKUP(VALUE($A495),WEEKLY_DATA!$A:$H,6,0)=0,\"No Sales\",Q495/(VLOOKUP(VALUE($A495),WEEKLY_DATA!$A:$H,6,0)/13))),\"\")","v":""},{"$f":"IFERROR(VLOOKUP(VALUE(A495),WEEKLY_DATA!$A:$H,8,0),0)","v":0},"—"]
[null,null,null,null,null,null,null,null,{"$f":"IFERROR(INDEX(BrandList!$B$2:$B$200,MATCH(TRUE,ISNUMBER(SEARCH(BrandList!$B$2:$B$200,G496)),0)),\"\")","v":""},null,null,null,null,null,null,"",{"$f":"IFERROR(VLOOKUP(VALUE(A496),WEEKLY_DATA!$A:$H,2,0),0)","v":0},{"$f":"IFERROR(VLOOKUP(VALUE(A496),WEEKLY_DATA!$A:$H,3,0),0)","v":0},{"$f":"IFERROR(VLOOKUP(VALUE(A496),WEEKLY_DATA!$A:$H,4,0),0)","v":0},{"$f":"IFERROR(VLOOKUP(VALUE(A496),WEEKLY_DATA!$A:$H,5,0),0)","v":0},{"$f":"IFERROR(VLOOKUP(VALUE(A496),WEEKLY_DATA!$A:$H,6,0),0)","v":0},{"$f":"IFERROR(VLOOKUP(VALUE(A496),WEEKLY_DATA!$A:$H,7,0),0)","v":0},{"$f":"IFERROR(IF(OR(Q496=\"\",Q496=0),\"\",IF(VLOOKUP(VALUE($A496),WEEKLY_DATA!$A:$H,6,0)=0,\"No Sales\",Q496/(VLOOKUP(VALUE($A496),WEEKLY_DATA!$A:$H,6,0)/13))),\"\")","v":""},{"$f":"IFERROR(VLOOKUP(VALUE(A496),WEEKLY_DATA!$A:$H,8,0),0)","v":0},"—"]
[null,null,null,null,null,null,null,null,{"$f":"IFERROR(INDEX(BrandList!$B$2:$B$200,MATCH(TRUE,ISNUMBER(SEARCH(BrandList!$B$2:$B$200,G497)),0)),\"\")","v":""},null,null,null,null,null,null,"",{"$f":"IFERROR(VLOOKUP(VALUE(A497),WEEKLY_DATA!$A:$H,2,0),0)","v":0},{"$f":"IFERROR(VLOOKUP(VALUE(A497),WEEKLY_DATA!$A:$H,3,0),0)","v":0},{"$f":"IFERROR(VLOOKUP(VALUE(A497),WEEKLY_DATA!$A:$H,4,0),0)","v":0},{"$f":"IFERROR(VLOOKUP(VALUE(A497),WEEKLY_DATA!$A:$H,5,0),0)","v":0},{"$f":"IFERROR(VLOOKUP(VALUE(A497),WEEKLY_DATA!$A:$H,6,0),0)","v":0},{"$f":"IFERROR(VLOOKUP(VALUE(A497),WEEKLY_DATA!$A:$H,7,0),0)","v":0},{"$f":"IFERROR(IF(OR(Q497=\"\",Q497=0),\"\",IF(VLOOKUP(VALUE($A497),WEEKLY_DATA!$A:$H,6,0)=0,\"No Sales\",Q497/(VLOOKUP(VALUE($A497),WEEKLY_DATA!$A:$H,6,0)/13))),\"\")","v":""},{"$f":"IFERROR(VLOOKUP(VALUE(A497),WEEKLY_DATA!$A:$H,8,0),0)","v":0},"—"]
[null,null,null,null,null,null,null,null,{"$f":"IFERROR(INDEX(BrandList!$B$2:$B$200,MATCH(TRUE,ISNUMBER(SEARCH(BrandList!$B$2:$B$200,G498)),0)),\"\")","v":""},null,null,null,null,null,null,"",{"$f":"IFERROR(VLOOKUP(VALUE(A498),WEEKLY_DATA!$A:$H,2,0),0)","v":0},{"$f":"IFERROR(VLOOKUP(VALUE(A498),WEEKLY_DATA!$A:$H,3,0),0)","v":0},{"$f":"IFERROR(VLOOKUP(VALUE(A498),WEEKLY_DATA!$A:$H,4,0),0)","v":0},{"$f":"IFERROR(VLOOKUP(VALUE(A498),WEEKLY_DATA!$A:$H,5,0),0)","v":0},{"$f":"IFERROR(VLOOKUP(VALUE(A498),WEEKLY_DATA!$A:$H,6,0),0)","v":0},{"$f":"IFERROR(VLOOKUP(VALUE(A498),WEEKLY_DATA!$A:$H,7,0),0)","v":0},{"$f":"IFERROR(IF(OR(Q498=\"\",Q498=0),\"\",IF(VLOOKUP(VALUE($A498),WEEKLY_DATA!$A:$H,6,0)=0,\"No Sales\",Q498/(VLOOKUP(VALUE($A498),WEEKLY_DATA!$A:$H,6,0)/13))),\"\")","v":""},{"$f":"IFERROR(VLOOKUP(VALUE(A498),WEEKLY_DATA!$A:$H,8,0),0)","v":0},"—"]
[null,null,null,null,null,null,null,null,{"$f":"IFERROR(INDEX(BrandList!$B$2:$B$200,MATCH(TRUE,ISNUMBER(SEARCH(BrandList!$B$2:$B$200,G499)),0)),\"\")","v":""},null,null,null,null,null,null,"",{"$f":"IFERROR(VLOOKUP(VALUE(A499),WEEKLY_DATA!$A:$H,2,0),0)","v":0},{"$f":"IFERROR(VLOOKUP(VALUE(A499),WEEKLY_DATA!$A:$H,3,0),0)","v":0},{"$f":"IFERROR(VLOOKUP(VALUE(A499),WEEKLY_DATA!$A:$H,4,0),0)","v":0},{"$f":"IFERROR(VLOOKUP(VALUE(A499),WEEKLY_DATA!$A:$H,5,0),0)","v":0},{"$f":"IFERROR(VLOOKUP(VALUE(A499),WEEKLY_DATA!$A:$H,6,0),0)","v":0},{"$f":"IFERROR(VLOOKUP(VALUE(A499),WEEKLY_DATA!$A:$H,7,0),0)","v":0},{"$f":"IFERROR(IF(OR(Q499=\"\",Q499=0),\"\",IF(VLOOKUP(VALUE($A499),WEEKLY_DATA!$A:$H,6,0)=0,\"No Sales\",Q499/(VLOOKUP(VALUE($A499),WEEKLY_DATA!$A:$H,6,0)/13))),\"\")","v":""},{"$f":"IFERROR(VLOOKUP(VALUE(A499),WEEKLY_DATA!$A:$H,8,0),0)","v":0},"—"]
[null,null,null,null,null,null,null,null,{"$f":"IFERROR(INDEX(BrandList!$B$2:$B$200,MATCH(TRUE,ISNUMBER(SEARCH(BrandList!$B$2:$B$200,G500)),0)),\"\")","v":""},null,null,null,null,null,null,"",{"$f":"IFERROR(VLOOKUP(VALUE(A500),WEEKLY_DATA!$A:$H,2,0),0)","v":0},{"$f":"IFERROR(VLOOKUP(VALUE(A500),WEEKLY_DATA!$A:$H,3,0),0)","v":0},{"$f":"IFERROR(VLOOKUP(VALUE(A500),WEEKLY_DATA!$A:$H,4,0),0)","v":0},{"$f":"IFERROR(VLOOKUP(VALUE(A500),WEEKLY_DATA!$A:$H,5,0),0)","v":0},{"$f":"IFERROR(VLOOKUP(VALUE(A500),WEEKLY_DATA!$A:$H,6,0),0)","v":0},{"$f":"IFERROR(VLOOKUP(VALUE(A500),WEEKLY_DATA!$A:$H,7,0),0)","v":0},{"$f":"IFERROR(IF(OR(Q500=\"\",Q500=0),\"\",IF(VLOOKUP(VALUE($A500),WEEKLY_DATA!$A:$H,6,0)=0,\"No Sales\",Q500/(VLOOKUP(VALUE($A500),WEEKLY_DATA!$A:$H,6,0)/13))),\"\")","v":""},{"$f":"IFERROR(VLOOKUP(VALUE(A500),WEEKLY_DATA!$A:$H,8,0),0)","v":0},"—"]
[null,null,null,null,null,null,null,null,{"$f":"IFERROR(INDEX(BrandList!$B$2:$B$200,MATCH(TRUE,ISNUMBER(SEARCH(BrandList!$B$2:$B$200,G501)),0)),\"\")","v":""},null,null,null,null,null,null,"",{"$f":"IFERROR(VLOOKUP(VALUE(A501),WEEKLY_DATA!$A:$H,2,0),0)","v":0},{"$f":"IFERROR(VLOOKUP(VALUE(A501),WEEKLY_DATA!$A:$H,3,0),0)","v":0},{"$f":"IFERROR(VLOOKUP(VALUE(A501),WEEKLY_DATA!$A:$H,4,0),0)","v":0},{"$f":"IFERROR(VLOOKUP(VALUE(A501),WEEKLY_DATA!$A:$H,5,0),0)","v":0},{"$f":"IFERROR(VLOOKUP(VALUE(A501),WEEKLY_DATA!$A:$H,6,0),0)","v":0},{"$f":"IFERROR(VLOOKUP(VALUE(A501),WEEKLY_DATA!$A:$H,7,0),0)","v":0},{"$f":"IFERROR(IF(OR(Q501=\"\",Q501=0),\"\",IF(VLOOKUP(VALUE($A501),WEEKLY_DATA!$A:$H,6,0)=0,\"No Sales\",Q501/(VLOOKUP(VALUE($A501),WEEKLY_DATA!$A:$H,6,0)/13))),\"\")","v":""},{"$f":"IFERROR(VLOOKUP(VALUE(A501),WEEKLY_DATA!$A:$H,8,0),0)","v":0},"—"]
[null,null,null,null,null,null,null,null,{"$f":"IFERROR(INDEX(BrandList!$B$2:$B$200,MATCH(TRUE,ISNUMBER(SEARCH(BrandList!$B$2:$B$200,G502)),0)),\"\")","v":""},null,null,null,null,null,null,"",{"$f":"IFERROR(VLOOKUP(VALUE(A502),WEEKLY_DATA!$A:$H,2,0),0)","v":0},{"$f":"IFERROR(VLOOKUP(VALUE(A502),WEEKLY_DATA!$A:$H,3,0),0)","v":0},{"$f":"IFERROR(VLOOKUP(VALUE(A502),WEEKLY_DATA!$A:$H,4,0),0)","v":0},{"$f":"IFERROR(VLOOKUP(VALUE(A502),WEEKLY_DATA!$A:$H,5,0),0)","v":0},{"$f":"IFERROR(VLOOKUP(VALUE(A502),WEEKLY_DATA!$A:$H,6,0),0)","v":0},{"$f":"IFERROR(VLOOKUP(VALUE(A502),WEEKLY_DATA!$A:$H,7,0),0)","v":0},{"$f":"IFERROR(IF(OR(Q502=\"\",Q502=0),\"\",IF(VLOOKUP(VALUE($A502),WEEKLY_DATA!$A:$H,6,0)=0,\"No Sales\",Q502/(VLOOKUP(VALUE($A502),WEEKLY_DATA!$A:$H,6,0)/13))),\"\")","v":""},{"$f":"IFERROR(VLOOKUP(VALUE(A502),WEEKLY_DATA!$A:$H,8,0),0)","v":0},"—"]
[null,null,null,null,null,null,null,null,{"$f":"IFERROR(INDEX(BrandList!$B$2:$B$200,MATCH(TRUE,ISNUMBER(SEARCH(BrandList!$B$2:$B$200,G503)),0)),\"\")","v":""},null,null,null,null,null,null,"",{"$f":"IFERROR(VLOOKUP(VALUE(A503),WEEKLY_DATA!$A:$H,2,0),0)","v":0},{"$f":"IFERROR(VLOOKUP(VALUE(A503),WEEKLY_DATA!$A:$H,3,0),0)","v":0},{"$f":"IFERROR(VLOOKUP(VALUE(A503),WEEKLY_DATA!$A:$H,4,0),0)","v":0},{"$f":"IFERROR(VLOOKUP(VALUE(A503),WEEKLY_DATA!$A:$H,5,0),0)","v":0},{"$f":"IFERROR(VLOOKUP(VALUE(A503),WEEKLY_DATA!$A:$H,6,0),0)","v":0},{"$f":"IFERROR(VLOOKUP(VALUE(A503),WEEKLY_DATA!$A:$H,7,0),0)","v":0},{"$f":"IFERROR(IF(OR(Q503=\"\",Q503=0),\"\",IF(VLOOKUP(VALUE($A503),WEEKLY_DATA!$A:$H,6,0)=0,\"No Sales\",Q503/(VLOOKUP(VALUE($A503),WEEKLY_DATA!$A:$H,6,0)/13))),\"\")","v":""},{"$f":"IFERROR(VLOOKUP(VALUE(A503),WEEKLY_DATA!$A:$H,8,0),0)","v":0},"—"]
[null,null,null,null,null,null,null,null,{"$f":"IFERROR(INDEX(BrandList!$B$2:$B$200,MATCH(TRUE,ISNUMBER(SEARCH(BrandList!$B$2:$B$200,G504)),0)),\"\")","v":""},null,null,null,null,null,null,"",{"$f":"IFERROR(VLOOKUP(VALUE(A504),WEEKLY_DATA!$A:$H,2,0),0)","v":0},{"$f":"IFERROR(VLOOKUP(VALUE(A504),WEEKLY_DATA!$A:$H,3,0),0)","v":0},{"$f":"IFERROR(VLOOKUP(VALUE(A504),WEEKLY_DATA!$A:$H,4,0),0)","v":0},{"$f":"IFERROR(VLOOKUP(VALUE(A504),WEEKLY_DATA!$A:$H,5,0),0)","v":0},{"$f":"IFERROR(VLOOKUP(VALUE(A504),WEEKLY_DATA!$A:$H,6,0),0)","v":0},{"$f":"IFERROR(VLOOKUP(VALUE(A504),WEEKLY_DATA!$A:$H,7,0),0)","v":0},{"$f":"IFERROR(IF(OR(Q504=\"\",Q504=0),\"\",IF(VLOOKUP(VALUE($A504),WEEKLY_DATA!$A:$H,6,0)=0,\"No Sales\",Q504/(VLOOKUP(VALUE($A504),WEEKLY_DATA!$A:$H,6,0)/13))),\"\")","v":""},{"$f":"IFERROR(VLOOKUP(VALUE(A504),WEEKLY_DATA!$A:$H,8,0),0)","v":0},"—"]
[null,null,null,null,null,null,null,null,{"$f":"IFERROR(INDEX(BrandList!$B$2:$B$200,MATCH(TRUE,ISNUMBER(SEARCH(BrandList!$B$2:$B$200,G505)),0)),\"\")","v":""},null,null,null,null,null,null,"",{"$f":"IFERROR(VLOOKUP(VALUE(A505),WEEKLY_DATA!$A:$H,2,0),0)","v":0},{"$f":"IFERROR(VLOOKUP(VALUE(A505),WEEKLY_DATA!$A:$H,3,0),0)","v":0},{"$f":"IFERROR(VLOOKUP(VALUE(A505),WEEKLY_DATA!$A:$H,4,0),0)","v":0},{"$f":"IFERROR(VLOOKUP(VALUE(A505),WEEKLY_DATA!$A:$H,5,0),0)","v":0},{"$f":"IFERROR(VLOOKUP(VALUE(A505),WEEKLY_DATA!$A:$H,6,0),0)","v":0},{"$f":"IFERROR(VLOOKUP(VALUE(A505),WEEKLY_DATA!$A:$H,7,0),0)","v":0},{"$f":"IFERROR(IF(OR(Q505=\"\",Q505=0),\"\",IF(VLOOKUP(VALUE($A505),WEEKLY_DATA!$A:$H,6,0)=0,\"No Sales\",Q505/(VLOOKUP(VALUE($A505),WEEKLY_DATA!$A:$H,6,0)/13))),\"\")","v":""},{"$f":"IFERROR(VLOOKUP(VALUE(A505),WEEKLY_DATA!$A:$H,8,0),0)","v":0},"—"]
[null,null,null,null,null,null,null,null,{"$f":"IFERROR(INDEX(BrandList!$B$2:$B$200,MATCH(TRUE,ISNUMBER(SEARCH(BrandList!$B$2:$B$200,G506)),0)),\"\")","v":""},null,null,null,null,null,null,"",{"$f":"IFERROR(VLOOKUP(VALUE(A506),WEEKLY_DATA!$A:$H,2,0),0)","v":0},{"$f":"IFERROR(VLOOKUP(VALUE(A506),WEEKLY_DATA!$A:$H,3,0),0)","v":0},{"$f":"IFERROR(VLOOKUP(VALUE(A506),WEEKLY_DATA!$A:$H,4,0),0)","v":0},{"$f":"IFERROR(VLOOKUP(VALUE(A506),WEEKLY_DATA!$A:$H,5,0),0)","v":0},{"$f":"IFERROR(VLOOKUP(VALUE(A506),WEEKLY_DATA!$A:$H,6,0),0)","v":0},{"$f":"IFERROR(VLOOKUP(VALUE(A506),WEEKLY_DATA!$A:$H,7,0),0)","v":0},{"$f":"IFERROR(IF(OR(Q506=\"\",Q506=0),\"\",IF(VLOOKUP(VALUE($A506),WEEKLY_DATA!$A:$H,6,0)=0,\"No Sales\",Q506/(VLOOKUP(VALUE($A506),WEEKLY_DATA!$A:$H,6,0)/13))),\"\")","v":""},{"$f":"IFERROR(VLOOKUP(VALUE(A506),WEEKLY_DATA!$A:$H,8,0),0)","v":0},"—"]
[null,null,null,null,null,null,null,null,{"$f":"IFERROR(INDEX(BrandList!$B$2:$B$200,MATCH(TRUE,ISNUMBER(SEARCH(BrandList!$B$2:$B$200,G507)),0)),\"\")","v":""},null,null,null,null,null,null,"",{"$f":"IFERROR(VLOOKUP(VALUE(A507),WEEKLY_DATA!$A:$H,2,0),0)","v":0},{"$f":"IFERROR(VLOOKUP(VALUE(A507),WEEKLY_DATA!$A:$H,3,0),0)","v":0},{"$f":"IFERROR(VLOOKUP(VALUE(A507),WEEKLY_DATA!$A:$H,4,0),0)","v":0},{"$f":"IFERROR(VLOOKUP(VALUE(A507),WEEKLY_DATA!$A:$H,5,0),0)","v":0},{"$f":"IFERROR(VLOOKUP(VALUE(A507),WEEKLY_DATA!$A:$H,6,0),0)","v":0},{"$f":"IFERROR(VLOOKUP(VALUE(A507),WEEKLY_DATA!$A:$H,7,0),0)","v":0},{"$f":"IFERROR(IF(OR(Q507=\"\",Q507=0),\"\",IF(VLOOKUP(VALUE($A507),WEEKLY_DATA!$A:$H,6,0)=0,\"No Sales\",Q507/(VLOOKUP(VALUE($A507),WEEKLY_DATA!$A:$H,6,0)/13))),\"\")","v":""},{"$f":"IFERROR(VLOOKUP(VALUE(A507),WEEKLY_DATA!$A:$H,8,0),0)","v":0},"—"]
[null,null,null,null,null,null,null,null,{"$f":"IFERROR(INDEX(BrandList!$B$2:$B$200,MATCH(TRUE,ISNUMBER(SEARCH(BrandList!$B$2:$B$200,G508)),0)),\"\")","v":""},null,null,null,null,null,null,"",{"$f":"IFERROR(VLOOKUP(VALUE(A508),WEEKLY_DATA!$A:$H,2,0),0)","v":0},{"$f":"IFERROR(VLOOKUP(VALUE(A508),WEEKLY_DATA!$A:$H,3,0),0)","v":0},{"$f":"IFERROR(VLOOKUP(VALUE(A508),WEEKLY_DATA!$A:$H,4,0),0)","v":0},{"$f":"IFERROR(VLOOKUP(VALUE(A508),WEEKLY_DATA!$A:$H,5,0),0)","v":0},{"$f":"IFERROR(VLOOKUP(VALUE(A508),WEEKLY_DATA!$A:$H,6,0),0)","v":0},{"$f":"IFERROR(VLOOKUP(VALUE(A508),WEEKLY_DATA!$A:$H,7,0),0)","v":0},{"$f":"IFERROR(IF(OR(Q508=\"\",Q508=0),\"\",IF(VLOOKUP(VALUE($A508),WEEKLY_DATA!$A:$H,6,0)=0,\"No Sales\",Q508/(VLOOKUP(VALUE($A508),WEEKLY_DATA!$A:$H,6,0)/13))),\"\")","v":""},{"$f":"IFERROR(VLOOKUP(VALUE(A508),WEEKLY_DATA!$A:$H,8,0),0)","v":0},"—"]
[null,null,null,null,null,null,null,null,{"$f":"IFERROR(INDEX(BrandList!$B$2:$B$200,MATCH(TRUE,ISNUMBER(SEARCH(BrandList!$B$2:$B$200,G509)),0)),\"\")","v":""},null,null,null,null,null,null,"",{"$f":"IFERROR(VLOOKUP(VALUE(A509),WEEKLY_DATA!$A:$H,2,0),0)","v":0},{"$f":"IFERROR(VLOOKUP(VALUE(A509),WEEKLY_DATA!$A:$H,3,0),0)","v":0},{"$f":"IFERROR(VLOOKUP(VALUE(A509),WEEKLY_DATA!$A:$H,4,0),0)","v":0},{"$f":"IFERROR(VLOOKUP(VALUE(A509),WEEKLY_DATA!$A:$H,5,0),0)","v":0},{"$f":"IFERROR(VLOOKUP(VALUE(A509),WEEKLY_DATA!$A:$H,6,0),0)","v":0},{"$f":"IFERROR(VLOOKUP(VALUE(A509),WEEKLY_DATA!$A:$H,7,0),0)","v":0},{"$f":"IFERROR(IF(OR(Q509=\"\",Q509=0),\"\",IF(VLOOKUP(VALUE($A509),WEEKLY_DATA!$A:$H,6,0)=0,\"No Sales\",Q509/(VLOOKUP(VALUE($A509),WEEKLY_DATA!$A:$H,6,0)/13))),\"\")","v":""},{"$f":"IFERROR(VLOOKUP(VALUE(A509),WEEKLY_DATA!$A:$H,8,0),0)","v":0},"—"]
[null,null,null,null,null,null,null,null,{"$f":"IFERROR(INDEX(BrandList!$B$2:$B$200,MATCH(TRUE,ISNUMBER(SEARCH(BrandList!$B$2:$B$200,G510)),0)),\"\")","v":""},null,null,null,null,null,null,"",{"$f":"IFERROR(VLOOKUP(VALUE(A510),WEEKLY_DATA!$A:$H,2,0),0)","v":0},{"$f":"IFERROR(VLOOKUP(VALUE(A510),WEEKLY_DATA!$A:$H,3,0),0)","v":0},{"$f":"IFERROR(VLOOKUP(VALUE(A510),WEEKLY_DATA!$A:$H,4,0),0)","v":0},{"$f":"IFERROR(VLOOKUP(VALUE(A510),WEEKLY_DATA!$A:$H,5,0),0)","v":0},{"$f":"IFERROR(VLOOKUP(VALUE(A510),WEEKLY_DATA!$A:$H,6,0),0)","v":0},{"$f":"IFERROR(VLOOKUP(VALUE(A510),WEEKLY_DATA!$A:$H,7,0),0)","v":0},{"$f":"IFERROR(IF(OR(Q510=\"\",Q510=0),\"\",IF(VLOOKUP(VALUE($A510),WEEKLY_DATA!$A:$H,6,0)=0,\"No Sales\",Q510/(VLOOKUP(VALUE($A510),WEEKLY_DATA!$A:$H,6,0)/13))),\"\")","v":""},{"$f":"IFERROR(VLOOKUP(VALUE(A510),WEEKLY_DATA!$A:$H,8,0),0)","v":0},"—"]
[null,null,null,null,null,null,null,null,{"$f":"IFERROR(INDEX(BrandList!$B$2:$B$200,MATCH(TRUE,ISNUMBER(SEARCH(BrandList!$B$2:$B$200,G511)),0)),\"\")","v":""},null,null,null,null,null,null,"",{"$f":"IFERROR(VLOOKUP(VALUE(A511),WEEKLY_DATA!$A:$H,2,0),0)","v":0},{"$f":"IFERROR(VLOOKUP(VALUE(A511),WEEKLY_DATA!$A:$H,3,0),0)","v":0},{"$f":"IFERROR(VLOOKUP(VALUE(A511),WEEKLY_DATA!$A:$H,4,0),0)","v":0},{"$f":"IFERROR(VLOOKUP(VALUE(A511),WEEKLY_DATA!$A:$H,5,0),0)","v":0},{"$f":"IFERROR(VLOOKUP(VALUE(A511),WEEKLY_DATA!$A:$H,6,0),0)","v":0},{"$f":"IFERROR(VLOOKUP(VALUE(A511),WEEKLY_DATA!$A:$H,7,0),0)","v":0},{"$f":"IFERROR(IF(OR(Q511=\"\",Q511=0),\"\",IF(VLOOKUP(VALUE($A511),WEEKLY_DATA!$A:$H,6,0)=0,\"No Sales\",Q511/(VLOOKUP(VALUE($A511),WEEKLY_DATA!$A:$H,6,0)/13))),\"\")","v":""},{"$f":"IFERROR(VLOOKUP(VALUE(A511),WEEKLY_DATA!$A:$H,8,0),0)","v":0},"—"]
[null,null,null,null,null,null,null,null,{"$f":"IFERROR(INDEX(BrandList!$B$2:$B$200,MATCH(TRUE,ISNUMBER(SEARCH(BrandList!$B$2:$B$200,G512)),0)),\"\")","v":""},null,null,null,null,null,null,"",{"$f":"IFERROR(VLOOKUP(VALUE(A512),WEEKLY_DATA!$A:$H,2,0),0)","v":0},{"$f":"IFERROR(VLOOKUP(VALUE(A512),WEEKLY_DATA!$A:$H,3,0),0)","v":0},{"$f":"IFERROR(VLOOKUP(VALUE(A512),WEEKLY_DATA!$A:$H,4,0),0)","v":0},{"$f":"IFERROR(VLOOKUP(VALUE(A512),WEEKLY_DATA!$A:$H,5,0),0)","v":0},{"$f":"IFERROR(VLOOKUP(VALUE(A512),WEEKLY_DATA!$A:$H,6,0),0)","v":0},{"$f":"IFERROR(VLOOKUP(VALUE(A512),WEEKLY_DATA!$A:$H,7,0),0)","v":0},{"$f":"IFERROR(IF(OR(Q512=\"\",Q512=0),\"\",IF(VLOOKUP(VALUE($A512),WEEKLY_DATA!$A:$H,6,0)=0,\"No Sales\",Q512/(VLOOKUP(VALUE($A512),WEEKLY_DATA!$A:$H,6,0)/13))),\"\")","v":""},{"$f":"IFERROR(VLOOKUP(VALUE(A512),WEEKLY_DATA!$A:$H,8,0),0)","v":0},"—"]
[null,null,null,null,null,null,null,null,{"$f":"IFERROR(INDEX(BrandList!$B$2:$B$200,MATCH(TRUE,ISNUMBER(SEARCH(BrandList!$B$2:$B$200,G513)),0)),\"\")","v":""},null,null,null,null,null,null,"",{"$f":"IFERROR(VLOOKUP(VALUE(A513),WEEKLY_DATA!$A:$H,2,0),0)","v":0},{"$f":"IFERROR(VLOOKUP(VALUE(A513),WEEKLY_DATA!$A:$H,3,0),0)","v":0},{"$f":"IFERROR(VLOOKUP(VALUE(A513),WEEKLY_DATA!$A:$H,4,0),0)","v":0},{"$f":"IFERROR(VLOOKUP(VALUE(A513),WEEKLY_DATA!$A:$H,5,0),0)","v":0},{"$f":"IFERROR(VLOOKUP(VALUE(A513),WEEKLY_DATA!$A:$H,6,0),0)","v":0},{"$f":"IFERROR(VLOOKUP(VALUE(A513),WEEKLY_DATA!$A:$H,7,0),0)","v":0},{"$f":"IFERROR(IF(OR(Q513=\"\",Q513=0),\"\",IF(VLOOKUP(VALUE($A513),WEEKLY_DATA!$A:$H,6,0)=0,\"No Sales\",Q513/(VLOOKUP(VALUE($A513),WEEKLY_DATA!$A:$H,6,0)/13))),\"\")","v":""},{"$f":"IFERROR(VLOOKUP(VALUE(A513),WEEKLY_DATA!$A:$H,8,0),0)","v":0},"—"]
[null,null,null,null,null,null,null,null,{"$f":"IFERROR(INDEX(BrandList!$B$2:$B$200,MATCH(TRUE,ISNUMBER(SEARCH(BrandList!$B$2:$B$200,G514)),0)),\"\")","v":""},null,null,null,null,null,null,"",{"$f":"IFERROR(VLOOKUP(VALUE(A514),WEEKLY_DATA!$A:$H,2,0),0)","v":0},{"$f":"IFERROR(VLOOKUP(VALUE(A514),WEEKLY_DATA!$A:$H,3,0),0)","v":0},{"$f":"IFERROR(VLOOKUP(VALUE(A514),WEEKLY_DATA!$A:$H,4,0),0)","v":0},{"$f":"IFERROR(VLOOKUP(VALUE(A514),WEEKLY_DATA!$A:$H,5,0),0)","v":0},{"$f":"IFERROR(VLOOKUP(VALUE(A514),WEEKLY_DATA!$A:$H,6,0),0)","v":0},{"$f":"IFERROR(VLOOKUP(VALUE(A514),WEEKLY_DATA!$A:$H,7,0),0)","v":0},{"$f":"IFERROR(IF(OR(Q514=\"\",Q514=0),\"\",IF(VLOOKUP(VALUE($A514),WEEKLY_DATA!$A:$H,6,0)=0,\"No Sales\",Q514/(VLOOKUP(VALUE($A514),WEEKLY_DATA!$A:$H,6,0)/13))),\"\")","v":""},{"$f":"IFERROR(VLOOKUP(VALUE(A514),WEEKLY_DATA!$A:$H,8,0),0)","v":0},"—"]
[null,null,null,null,null,null,null,null,{"$f":"IFERROR(INDEX(BrandList!$B$2:$B$200,MATCH(TRUE,ISNUMBER(SEARCH(BrandList!$B$2:$B$200,G515)),0)),\"\")","v":""},null,null,null,null,null,null,"",{"$f":"IFERROR(VLOOKUP(VALUE(A515),WEEKLY_DATA!$A:$H,2,0),0)","v":0},{"$f":"IFERROR(VLOOKUP(VALUE(A515),WEEKLY_DATA!$A:$H,3,0),0)","v":0},{"$f":"IFERROR(VLOOKUP(VALUE(A515),WEEKLY_DATA!$A:$H,4,0),0)","v":0},{"$f":"IFERROR(VLOOKUP(VALUE(A515),WEEKLY_DATA!$A:$H,5,0),0)","v":0},{"$f":"IFERROR(VLOOKUP(VALUE(A515),WEEKLY_DATA!$A:$H,6,0),0)","v":0},{"$f":"IFERROR(VLOOKUP(VALUE(A515),WEEKLY_DATA!$A:$H,7,0),0)","v":0},{"$f":"IFERROR(IF(OR(Q515=\"\",Q515=0),\"\",IF(VLOOKUP(VALUE($A515),WEEKLY_DATA!$A:$H,6,0)=0,\"No Sales\",Q515/(VLOOKUP(VALUE($A515),WEEKLY_DATA!$A:$H,6,0)/13))),\"\")","v":""},{"$f":"IFERROR(VLOOKUP(VALUE(A515),WEEKLY_DATA!$A:$H,8,0),0)","v":0},"—"]
[null,null,null,null,null,null,null,null,{"$f":"IFERROR(INDEX(BrandList!$B$2:$B$200,MATCH(TRUE,ISNUMBER(SEARCH(BrandList!$B$2:$B$200,G516)),0)),\"\")","v":""},null,null,null,null,null,null,"",{"$f":"IFERROR(VLOOKUP(VALUE(A516),WEEKLY_DATA!$A:$H,2,0),0)","v":0},{"$f":"IFERROR(VLOOKUP(VALUE(A516),WEEKLY_DATA!$A:$H,3,0),0)","v":0},{"$f":"IFERROR(VLOOKUP(VALUE(A516),WEEKLY_DATA!$A:$H,4,0),0)","v":0},{"$f":"IFERROR(VLOOKUP(VALUE(A516),WEEKLY_DATA!$A:$H,5,0),0)","v":0},{"$f":"IFERROR(VLOOKUP(VALUE(A516),WEEKLY_DATA!$A:$H,6,0),0)","v":0},{"$f":"IFERROR(VLOOKUP(VALUE(A516),WEEKLY_DATA!$A:$H,7,0),0)","v":0},{"$f":"IFERROR(IF(OR(Q516=\"\",Q516=0),\"\",IF(VLOOKUP(VALUE($A516),WEEKLY_DATA!$A:$H,6,0)=0,\"No Sales\",Q516/(VLOOKUP(VALUE($A516),WEEKLY_DATA!$A:$H,6,0)/13))),\"\")","v":""},{"$f":"IFERROR(VLOOKUP(VALUE(A516),WEEKLY_DATA!$A:$H,8,0),0)","v":0},"—"]
[null,null,null,null,null,null,null,null,{"$f":"IFERROR(INDEX(BrandList!$B$2:$B$200,MATCH(TRUE,ISNUMBER(SEARCH(BrandList!$B$2:$B$200,G517)),0)),\"\")","v":""},null,null,null,null,null,null,"",{"$f":"IFERROR(VLOOKUP(VALUE(A517),WEEKLY_DATA!$A:$H,2,0),0)","v":0},{"$f":"IFERROR(VLOOKUP(VALUE(A517),WEEKLY_DATA!$A:$H,3,0),0)","v":0},{"$f":"IFERROR(VLOOKUP(VALUE(A517),WEEKLY_DATA!$A:$H,4,0),0)","v":0},{"$f":"IFERROR(VLOOKUP(VALUE(A517),WEEKLY_DATA!$A:$H,5,0),0)","v":0},{"$f":"IFERROR(VLOOKUP(VALUE(A517),WEEKLY_DATA!$A:$H,6,0),0)","v":0},{"$f":"IFERROR(VLOOKUP(VALUE(A517),WEEKLY_DATA!$A:$H,7,0),0)","v":0},{"$f":"IFERROR(IF(OR(Q517=\"\",Q517=0),\"\",IF(VLOOKUP(VALUE($A517),WEEKLY_DATA!$A:$H,6,0)=0,\"No Sales\",Q517/(VLOOKUP(VALUE($A517),WEEKLY_DATA!$A:$H,6,0)/13))),\"\")","v":""},{"$f":"IFERROR(VLOOKUP(VALUE(A517),WEEKLY_DATA!$A:$H,8,0),0)","v":0},"—"]
[null,null,null,null,null,null,null,null,{"$f":"IFERROR(INDEX(BrandList!$B$2:$B$200,MATCH(TRUE,ISNUMBER(SEARCH(BrandList!$B$2:$B$200,G518)),0)),\"\")","v":""},null,null,null,null,null,null,"",{"$f":"IFERROR(VLOOKUP(VALUE(A518),WEEKLY_DATA!$A:$H,2,0),0)","v":0},{"$f":"IFERROR(VLOOKUP(VALUE(A518),WEEKLY_DATA!$A:$H,3,0),0)","v":0},{"$f":"IFERROR(VLOOKUP(VALUE(A518),WEEKLY_DATA!$A:$H,4,0),0)","v":0},{"$f":"IFERROR(VLOOKUP(VALUE(A518),WEEKLY_DATA!$A:$H,5,0),0)","v":0},{"$f":"IFERROR(VLOOKUP(VALUE(A518),WEEKLY_DATA!$A:$H,6,0),0)","v":0},{"$f":"IFERROR(VLOOKUP(VALUE(A518),WEEKLY_DATA!$A:$H,7,0),0)","v":0},{"$f":"IFERROR(IF(OR(Q518=\"\",Q518=0),\"\",IF(VLOOKUP(VALUE($A518),WEEKLY_DATA!$A:$H,6,0)=0,\"No Sales\",Q518/(VLOOKUP(VALUE($A518),WEEKLY_DATA!$A:$H,6,0)/13))),\"\")","v":""},{"$f":"IFERROR(VLOOKUP(VALUE(A518),WEEKLY_DATA!$A:$H,8,0),0)","v":0},{"$f":"IFERROR(\nIF(J518=\"Discontinued\",\"🔴 EOL\",\nIF(J518=\"Drop Ship\",\"📦 Drop Ship\",\nIF(J518=\"New\",\"🆕 New\",\nIF(W518=\"\",\"—\",\nIF(W518<2,\"🔴 Critical\",\nIF(W518<4,\"🟡 Low\",\nIF(W518>26,\"🔵 Overstock\",\"🟢 Healthy\")\n)))))),\"\")","v":"—"}]
[null,null,null,null,null,null,null,null,{"$f":"IFERROR(INDEX(BrandList!$B$2:$B$200,MATCH(TRUE,ISNUMBER(SEARCH(BrandList!$B$2:$B$200,G519)),0)),\"\")","v":""},null,null,null,null,null,null,{"$f":"IFERROR(IF(OR(E519=\"\",F519=\"\",F519=0),\"\",(F519-E519)/F519),\"\")","v":""},{"$f":"IFERROR(VLOOKUP(VALUE(A519),WEEKLY_DATA!$A:$H,2,0),0)","v":0},{"$f":"IFERROR(VLOOKUP(VALUE(A519),WEEKLY_DATA!$A:$H,3,0),0)","v":0},{"$f":"IFERROR(VLOOKUP(VALUE(A519),WEEKLY_DATA!$A:$H,4,0),0)","v":0},{"$f":"IFERROR(VLOOKUP(VALUE(A519),WEEKLY_DATA!$A:$H,5,0),0)","v":0},{"$f":"IFERROR(VLOOKUP(VALUE(A519),WEEKLY_DATA!$A:$H,6,0),0)","v":0},{"$f":"IFERROR(VLOOKUP(VALUE(A519),WEEKLY_DATA!$A:$H,7,0),0)","v":0},{"$f":"IFERROR(IF(OR(Q519=\"\",Q519=0),\"\",IF(VLOOKUP(VALUE($A519),WEEKLY_DATA!$A:$H,6,0)=0,\"No Sales\",Q519/(VLOOKUP(VALUE($A519),WEEKLY_DATA!$A:$H,6,0)/13))),\"\")","v":""},{"$f":"IFERROR(VLOOKUP(VALUE(A519),WEEKLY_DATA!$A:$H,8,0),0)","v":0},"—"]
[null,null,null,null,null,null,null,null,{"$f":"IFERROR(INDEX(BrandList!$B$2:$B$200,MATCH(TRUE,ISNUMBER(SEARCH(BrandList!$B$2:$B$200,G520)),0)),\"\")","v":""},null,null,null,null,null,null,"",{"$f":"IFERROR(VLOOKUP(VALUE(A520),WEEKLY_DATA!$A:$H,2,0),0)","v":0},{"$f":"IFERROR(VLOOKUP(VALUE(A520),WEEKLY_DATA!$A:$H,3,0),0)","v":0},{"$f":"IFERROR(VLOOKUP(VALUE(A520),WEEKLY_DATA!$A:$H,4,0),0)","v":0},{"$f":"IFERROR(VLOOKUP(VALUE(A520),WEEKLY_DATA!$A:$H,5,0),0)","v":0},{"$f":"IFERROR(VLOOKUP(VALUE(A520),WEEKLY_DATA!$A:$H,6,0),0)","v":0},{"$f":"IFERROR(VLOOKUP(VALUE(A520),WEEKLY_DATA!$A:$H,7,0),0)","v":0},{"$f":"IFERROR(IF(OR(Q520=\"\",Q520=0),\"\",IF(VLOOKUP(VALUE($A520),WEEKLY_DATA!$A:$H,6,0)=0,\"No Sales\",Q520/(VLOOKUP(VALUE($A520),WEEKLY_DATA!$A:$H,6,0)/13))),\"\")","v":""},{"$f":"IFERROR(VLOOKUP(VALUE(A520),WEEKLY_DATA!$A:$H,8,0),0)","v":0},"—"]
[null,null,null,null,null,null,null,null,{"$f":"IFERROR(INDEX(BrandList!$B$2:$B$200,MATCH(TRUE,ISNUMBER(SEARCH(BrandList!$B$2:$B$200,G521)),0)),\"\")","v":""},null,null,null,null,null,null,"",{"$f":"IFERROR(VLOOKUP(VALUE(A521),WEEKLY_DATA!$A:$H,2,0),0)","v":0},{"$f":"IFERROR(VLOOKUP(VALUE(A521),WEEKLY_DATA!$A:$H,3,0),0)","v":0},{"$f":"IFERROR(VLOOKUP(VALUE(A521),WEEKLY_DATA!$A:$H,4,0),0)","v":0},{"$f":"IFERROR(VLOOKUP(VALUE(A521),WEEKLY_DATA!$A:$H,5,0),0)","v":0},{"$f":"IFERROR(VLOOKUP(VALUE(A521),WEEKLY_DATA!$A:$H,6,0),0)","v":0},{"$f":"IFERROR(VLOOKUP(VALUE(A521),WEEKLY_DATA!$A:$H,7,0),0)","v":0},{"$f":"IFERROR(IF(OR(Q521=\"\",Q521=0),\"\",IF(VLOOKUP(VALUE($A521),WEEKLY_DATA!$A:$H,6,0)=0,\"No Sales\",Q521/(VLOOKUP(VALUE($A521),WEEKLY_DATA!$A:$H,6,0)/13))),\"\")","v":""},{"$f":"IFERROR(VLOOKUP(VALUE(A521),WEEKLY_DATA!$A:$H,8,0),0)","v":0},"—"]
[null,null,null,null,null,null,null,null,{"$f":"IFERROR(INDEX(BrandList!$B$2:$B$200,MATCH(TRUE,ISNUMBER(SEARCH(BrandList!$B$2:$B$200,G522)),0)),\"\")","v":""},null,null,null,null,null,null,"",{"$f":"IFERROR(VLOOKUP(VALUE(A522),WEEKLY_DATA!$A:$H,2,0),0)","v":0},{"$f":"IFERROR(VLOOKUP(VALUE(A522),WEEKLY_DATA!$A:$H,3,0),0)","v":0},{"$f":"IFERROR(VLOOKUP(VALUE(A522),WEEKLY_DATA!$A:$H,4,0),0)","v":0},{"$f":"IFERROR(VLOOKUP(VALUE(A522),WEEKLY_DATA!$A:$H,5,0),0)","v":0},{"$f":"IFERROR(VLOOKUP(VALUE(A522),WEEKLY_DATA!$A:$H,6,0),0)","v":0},{"$f":"IFERROR(VLOOKUP(VALUE(A522),WEEKLY_DATA!$A:$H,7,0),0)","v":0},{"$f":"IFERROR(IF(OR(Q522=\"\",Q522=0),\"\",IF(VLOOKUP(VALUE($A522),WEEKLY_DATA!$A:$H,6,0)=0,\"No Sales\",Q522/(VLOOKUP(VALUE($A522),WEEKLY_DATA!$A:$H,6,0)/13))),\"\")","v":""},{"$f":"IFERROR(VLOOKUP(VALUE(A522),WEEKLY_DATA!$A:$H,8,0),0)","v":0},"—"]
[null,null,null,null,null,null,null,null,{"$f":"IFERROR(INDEX(BrandList!$B$2:$B$200,MATCH(TRUE,ISNUMBER(SEARCH(BrandList!$B$2:$B$200,G523)),0)),\"\")","v":""},null,null,null,null,null,null,"",{"$f":"IFERROR(VLOOKUP(VALUE(A523),WEEKLY_DATA!$A:$H,2,0),0)","v":0},{"$f":"IFERROR(VLOOKUP(VALUE(A523),WEEKLY_DATA!$A:$H,3,0),0)","v":0},{"$f":"IFERROR(VLOOKUP(VALUE(A523),WEEKLY_DATA!$A:$H,4,0),0)","v":0},{"$f":"IFERROR(VLOOKUP(VALUE(A523),WEEKLY_DATA!$A:$H,5,0),0)","v":0},{"$f":"IFERROR(VLOOKUP(VALUE(A523),WEEKLY_DATA!$A:$H,6,0),0)","v":0},{"$f":"IFERROR(VLOOKUP(VALUE(A523),WEEKLY_DATA!$A:$H,7,0),0)","v":0},{"$f":"IFERROR(IF(OR(Q523=\"\",Q523=0),\"\",IF(VLOOKUP(VALUE($A523),WEEKLY_DATA!$A:$H,6,0)=0,\"No Sales\",Q523/(VLOOKUP(VALUE($A523),WEEKLY_DATA!$A:$H,6,0)/13))),\"\")","v":""},{"$f":"IFERROR(VLOOKUP(VALUE(A523),WEEKLY_DATA!$A:$H,8,0),0)","v":0},"—"]
[null,null,null,null,null,null,null,null,{"$f":"IFERROR(INDEX(BrandList!$B$2:$B$200,MATCH(TRUE,ISNUMBER(SEARCH(BrandList!$B$2:$B$200,G524)),0)),\"\")","v":""},null,null,null,null,null,null,"",{"$f":"IFERROR(VLOOKUP(VALUE(A524),WEEKLY_DATA!$A:$H,2,0),0)","v":0},{"$f":"IFERROR(VLOOKUP(VALUE(A524),WEEKLY_DATA!$A:$H,3,0),0)","v":0},{"$f":"IFERROR(VLOOKUP(VALUE(A524),WEEKLY_DATA!$A:$H,4,0),0)","v":0},{"$f":"IFERROR(VLOOKUP(VALUE(A524),WEEKLY_DATA!$A:$H,5,0),0)","v":0},{"$f":"IFERROR(VLOOKUP(VALUE(A524),WEEKLY_DATA!$A:$H,6,0),0)","v":0},{"$f":"IFERROR(VLOOKUP(VALUE(A524),WEEKLY_DATA!$A:$H,7,0),0)","v":0},{"$f":"IFERROR(IF(OR(Q524=\"\",Q524=0),\"\",IF(VLOOKUP(VALUE($A524),WEEKLY_DATA!$A:$H,6,0)=0,\"No Sales\",Q524/(VLOOKUP(VALUE($A524),WEEKLY_DATA!$A:$H,6,0)/13))),\"\")","v":""},{"$f":"IFERROR(VLOOKUP(VALUE(A524),WEEKLY_DATA!$A:$H,8,0),0)","v":0},"—"]
[null,null,null,null,null,null,null,null,{"$f":"IFERROR(INDEX(BrandList!$B$2:$B$200,MATCH(TRUE,ISNUMBER(SEARCH(BrandList!$B$2:$B$200,G525)),0)),\"\")","v":""},null,null,null,null,null,null,"",{"$f":"IFERROR(VLOOKUP(VALUE(A525),WEEKLY_DATA!$A:$H,2,0),0)","v":0},{"$f":"IFERROR(VLOOKUP(VALUE(A525),WEEKLY_DATA!$A:$H,3,0),0)","v":0},{"$f":"IFERROR(VLOOKUP(VALUE(A525),WEEKLY_DATA!$A:$H,4,0),0)","v":0},{"$f":"IFERROR(VLOOKUP(VALUE(A525),WEEKLY_DATA!$A:$H,5,0),0)","v":0},{"$f":"IFERROR(VLOOKUP(VALUE(A525),WEEKLY_DATA!$A:$H,6,0),0)","v":0},{"$f":"IFERROR(VLOOKUP(VALUE(A525),WEEKLY_DATA!$A:$H,7,0),0)","v":0},{"$f":"IFERROR(IF(OR(Q525=\"\",Q525=0),\"\",IF(VLOOKUP(VALUE($A525),WEEKLY_DATA!$A:$H,6,0)=0,\"No Sales\",Q525/(VLOOKUP(VALUE($A525),WEEKLY_DATA!$A:$H,6,0)/13))),\"\")","v":""},{"$f":"IFERROR(VLOOKUP(VALUE(A525),WEEKLY_DATA!$A:$H,8,0),0)","v":0},"—"]
[null,null,null,null,null,null,null,null,{"$f":"IFERROR(INDEX(BrandList!$B$2:$B$200,MATCH(TRUE,ISNUMBER(SEARCH(BrandList!$B$2:$B$200,G526)),0)),\"\")","v":""},null,null,null,null,null,null,"",{"$f":"IFERROR(VLOOKUP(VALUE(A526),WEEKLY_DATA!$A:$H,2,0),0)","v":0},{"$f":"IFERROR(VLOOKUP(VALUE(A526),WEEKLY_DATA!$A:$H,3,0),0)","v":0},{"$f":"IFERROR(VLOOKUP(VALUE(A526),WEEKLY_DATA!$A:$H,4,0),0)","v":0},{"$f":"IFERROR(VLOOKUP(VALUE(A526),WEEKLY_DATA!$A:$H,5,0),0)","v":0},{"$f":"IFERROR(VLOOKUP(VALUE(A526),WEEKLY_DATA!$A:$H,6,0),0)","v":0},{"$f":"IFERROR(VLOOKUP(VALUE(A526),WEEKLY_DATA!$A:$H,7,0),0)","v":0},{"$f":"IFERROR(IF(OR(Q526=\"\",Q526=0),\"\",IF(VLOOKUP(VALUE($A526),WEEKLY_DATA!$A:$H,6,0)=0,\"No Sales\",Q526/(VLOOKUP(VALUE($A526),WEEKLY_DATA!$A:$H,6,0)/13))),\"\")","v":""},{"$f":"IFERROR(VLOOKUP(VALUE(A526),WEEKLY_DATA!$A:$H,8,0),0)","v":0},"—"]
[null,null,null,null,null,null,null,null,{"$f":"IFERROR(INDEX(BrandList!$B$2:$B$200,MATCH(TRUE,ISNUMBER(SEARCH(BrandList!$B$2:$B$200,G527)),0)),\"\")","v":""},null,null,null,null,null,null,"",{"$f":"IFERROR(VLOOKUP(VALUE(A527),WEEKLY_DATA!$A:$H,2,0),0)","v":0},{"$f":"IFERROR(VLOOKUP(VALUE(A527),WEEKLY_DATA!$A:$H,3,0),0)","v":0},{"$f":"IFERROR(VLOOKUP(VALUE(A527),WEEKLY_DATA!$A:$H,4,0),0)","v":0},{"$f":"IFERROR(VLOOKUP(VALUE(A527),WEEKLY_DATA!$A:$H,5,0),0)","v":0},{"$f":"IFERROR(VLOOKUP(VALUE(A527),WEEKLY_DATA!$A:$H,6,0),0)","v":0},{"$f":"IFERROR(VLOOKUP(VALUE(A527),WEEKLY_DATA!$A:$H,7,0),0)","v":0},{"$f":"IFERROR(IF(OR(Q527=\"\",Q527=0),\"\",IF(VLOOKUP(VALUE($A527),WEEKLY_DATA!$A:$H,6,0)=0,\"No Sales\",Q527/(VLOOKUP(VALUE($A527),WEEKLY_DATA!$A:$H,6,0)/13))),\"\")","v":""},{"$f":"IFERROR(VLOOKUP(VALUE(A527),WEEKLY_DATA!$A:$H,8,0),0)","v":0},"—"]
[null,null,null,null,null,null,null,null,{"$f":"IFERROR(INDEX(BrandList!$B$2:$B$200,MATCH(TRUE,ISNUMBER(SEARCH(BrandList!$B$2:$B$200,G528)),0)),\"\")","v":""},null,null,null,null,null,null,"",{"$f":"IFERROR(VLOOKUP(VALUE(A528),WEEKLY_DATA!$A:$H,2,0),0)","v":0},{"$f":"IFERROR(VLOOKUP(VALUE(A528),WEEKLY_DATA!$A:$H,3,0),0)","v":0},{"$f":"IFERROR(VLOOKUP(VALUE(A528),WEEKLY_DATA!$A:$H,4,0),0)","v":0},{"$f":"IFERROR(VLOOKUP(VALUE(A528),WEEKLY_DATA!$A:$H,5,0),0)","v":0},{"$f":"IFERROR(VLOOKUP(VALUE(A528),WEEKLY_DATA!$A:$H,6,0),0)","v":0},{"$f":"IFERROR(VLOOKUP(VALUE(A528),WEEKLY_DATA!$A:$H,7,0),0)","v":0},{"$f":"IFERROR(IF(OR(Q528=\"\",Q528=0),\"\",IF(VLOOKUP(VALUE($A528),WEEKLY_DATA!$A:$H,6,0)=0,\"No Sales\",Q528/(VLOOKUP(VALUE($A528),WEEKLY_DATA!$A:$H,6,0)/13))),\"\")","v":""},{"$f":"IFERROR(VLOOKUP(VALUE(A528),WEEKLY_DATA!$A:$H,8,0),0)","v":0},"—"]
[null,null,null,null,null,null,null,null,{"$f":"IFERROR(INDEX(BrandList!$B$2:$B$200,MATCH(TRUE,ISNUMBER(SEARCH(BrandList!$B$2:$B$200,G529)),0)),\"\")","v":""},null,null,null,null,null,null,"",{"$f":"IFERROR(VLOOKUP(VALUE(A529),WEEKLY_DATA!$A:$H,2,0),0)","v":0},{"$f":"IFERROR(VLOOKUP(VALUE(A529),WEEKLY_DATA!$A:$H,3,0),0)","v":0},{"$f":"IFERROR(VLOOKUP(VALUE(A529),WEEKLY_DATA!$A:$H,4,0),0)","v":0},{"$f":"IFERROR(VLOOKUP(VALUE(A529),WEEKLY_DATA!$A:$H,5,0),0)","v":0},{"$f":"IFERROR(VLOOKUP(VALUE(A529),WEEKLY_DATA!$A:$H,6,0),0)","v":0},{"$f":"IFERROR(VLOOKUP(VALUE(A529),WEEKLY_DATA!$A:$H,7,0),0)","v":0},{"$f":"IFERROR(IF(OR(Q529=\"\",Q529=0),\"\",IF(VLOOKUP(VALUE($A529),WEEKLY_DATA!$A:$H,6,0)=0,\"No Sales\",Q529/(VLOOKUP(VALUE($A529),WEEKLY_DATA!$A:$H,6,0)/13))),\"\")","v":""},{"$f":"IFERROR(VLOOKUP(VALUE(A529),WEEKLY_DATA!$A:$H,8,0),0)","v":0},"—"]
[null,null,null,null,null,null,null,null,{"$f":"IFERROR(INDEX(BrandList!$B$2:$B$200,MATCH(TRUE,ISNUMBER(SEARCH(BrandList!$B$2:$B$200,G530)),0)),\"\")","v":""},null,null,null,null,null,null,"",{"$f":"IFERROR(VLOOKUP(VALUE(A530),WEEKLY_DATA!$A:$H,2,0),0)","v":0},{"$f":"IFERROR(VLOOKUP(VALUE(A530),WEEKLY_DATA!$A:$H,3,0),0)","v":0},{"$f":"IFERROR(VLOOKUP(VALUE(A530),WEEKLY_DATA!$A:$H,4,0),0)","v":0},{"$f":"IFERROR(VLOOKUP(VALUE(A530),WEEKLY_DATA!$A:$H,5,0),0)","v":0},{"$f":"IFERROR(VLOOKUP(VALUE(A530),WEEKLY_DATA!$A:$H,6,0),0)","v":0},{"$f":"IFERROR(VLOOKUP(VALUE(A530),WEEKLY_DATA!$A:$H,7,0),0)","v":0},{"$f":"IFERROR(IF(OR(Q530=\"\",Q530=0),\"\",IF(VLOOKUP(VALUE($A530),WEEKLY_DATA!$A:$H,6,0)=0,\"No Sales\",Q530/(VLOOKUP(VALUE($A530),WEEKLY_DATA!$A:$H,6,0)/13))),\"\")","v":""},{"$f":"IFERROR(VLOOKUP(VALUE(A530),WEEKLY_DATA!$A:$H,8,0),0)","v":0},"—"]
[null,null,null,null,null,null,null,null,{"$f":"IFERROR(INDEX(BrandList!$B$2:$B$200,MATCH(TRUE,ISNUMBER(SEARCH(BrandList!$B$2:$B$200,G531)),0)),\"\")","v":""},null,null,null,null,null,null,"",{"$f":"IFERROR(VLOOKUP(VALUE(A531),WEEKLY_DATA!$A:$H,2,0),0)","v":0},{"$f":"IFERROR(VLOOKUP(VALUE(A531),WEEKLY_DATA!$A:$H,3,0),0)","v":0},{"$f":"IFERROR(VLOOKUP(VALUE(A531),WEEKLY_DATA!$A:$H,4,0),0)","v":0},{"$f":"IFERROR(VLOOKUP(VALUE(A531),WEEKLY_DATA!$A:$H,5,0),0)","v":0},{"$f":"IFERROR(VLOOKUP(VALUE(A531),WEEKLY_DATA!$A:$H,6,0),0)","v":0},{"$f":"IFERROR(VLOOKUP(VALUE(A531),WEEKLY_DATA!$A:$H,7,0),0)","v":0},{"$f":"IFERROR(IF(OR(Q531=\"\",Q531=0),\"\",IF(VLOOKUP(VALUE($A531),WEEKLY_DATA!$A:$H,6,0)=0,\"No Sales\",Q531/(VLOOKUP(VALUE($A531),WEEKLY_DATA!$A:$H,6,0)/13))),\"\")","v":""},{"$f":"IFERROR(VLOOKUP(VALUE(A531),WEEKLY_DATA!$A:$H,8,0),0)","v":0},"—"]
[null,null,null,null,null,null,null,null,{"$f":"IFERROR(INDEX(BrandList!$B$2:$B$200,MATCH(TRUE,ISNUMBER(SEARCH(BrandList!$B$2:$B$200,G532)),0)),\"\")","v":""},null,null,null,null,null,null,"",{"$f":"IFERROR(VLOOKUP(VALUE(A532),WEEKLY_DATA!$A:$H,2,0),0)","v":0},{"$f":"IFERROR(VLOOKUP(VALUE(A532),WEEKLY_DATA!$A:$H,3,0),0)","v":0},{"$f":"IFERROR(VLOOKUP(VALUE(A532),WEEKLY_DATA!$A:$H,4,0),0)","v":0},{"$f":"IFERROR(VLOOKUP(VALUE(A532),WEEKLY_DATA!$A:$H,5,0),0)","v":0},{"$f":"IFERROR(VLOOKUP(VALUE(A532),WEEKLY_DATA!$A:$H,6,0),0)","v":0},{"$f":"IFERROR(VLOOKUP(VALUE(A532),WEEKLY_DATA!$A:$H,7,0),0)","v":0},{"$f":"IFERROR(IF(OR(Q532=\"\",Q532=0),\"\",IF(VLOOKUP(VALUE($A532),WEEKLY_DATA!$A:$H,6,0)=0,\"No Sales\",Q532/(VLOOKUP(VALUE($A532),WEEKLY_DATA!$A:$H,6,0)/13))),\"\")","v":""},{"$f":"IFERROR(VLOOKUP(VALUE(A532),WEEKLY_DATA!$A:$H,8,0),0)","v":0},"—"]
[null,null,null,null,null,null,null,null,{"$f":"IFERROR(INDEX(BrandList!$B$2:$B$200,MATCH(TRUE,ISNUMBER(SEARCH(BrandList!$B$2:$B$200,G533)),0)),\"\")","v":""},null,null,null,null,null,null,"",{"$f":"IFERROR(VLOOKUP(VALUE(A533),WEEKLY_DATA!$A:$H,2,0),0)","v":0},{"$f":"IFERROR(VLOOKUP(VALUE(A533),WEEKLY_DATA!$A:$H,3,0),0)","v":0},{"$f":"IFERROR(VLOOKUP(VALUE(A533),WEEKLY_DATA!$A:$H,4,0),0)","v":0},{"$f":"IFERROR(VLOOKUP(VALUE(A533),WEEKLY_DATA!$A:$H,5,0),0)","v":0},{"$f":"IFERROR(VLOOKUP(VALUE(A533),WEEKLY_DATA!$A:$H,6,0),0)","v":0},{"$f":"IFERROR(VLOOKUP(VALUE(A533),WEEKLY_DATA!$A:$H,7,0),0)","v":0},{"$f":"IFERROR(IF(OR(Q533=\"\",Q533=0),\"\",IF(VLOOKUP(VALUE($A533),WEEKLY_DATA!$A:$H,6,0)=0,\"No Sales\",Q533/(VLOOKUP(VALUE($A533),WEEKLY_DATA!$A:$H,6,0)/13))),\"\")","v":""},{"$f":"IFERROR(VLOOKUP(VALUE(A533),WEEKLY_DATA!$A:$H,8,0),0)","v":0},"—"]
[null,null,null,null,null,null,null,null,{"$f":"IFERROR(INDEX(BrandList!$B$2:$B$200,MATCH(TRUE,ISNUMBER(SEARCH(BrandList!$B$2:$B$200,G534)),0)),\"\")","v":""},null,null,null,null,null,null,"",{"$f":"IFERROR(VLOOKUP(VALUE(A534),WEEKLY_DATA!$A:$H,2,0),0)","v":0},{"$f":"IFERROR(VLOOKUP(VALUE(A534),WEEKLY_DATA!$A:$H,3,0),0)","v":0},{"$f":"IFERROR(VLOOKUP(VALUE(A534),WEEKLY_DATA!$A:$H,4,0),0)","v":0},{"$f":"IFERROR(VLOOKUP(VALUE(A534),WEEKLY_DATA!$A:$H,5,0),0)","v":0},{"$f":"IFERROR(VLOOKUP(VALUE(A534),WEEKLY_DATA!$A:$H,6,0),0)","v":0},{"$f":"IFERROR(VLOOKUP(VALUE(A534),WEEKLY_DATA!$A:$H,7,0),0)","v":0},{"$f":"IFERROR(IF(OR(Q534=\"\",Q534=0),\"\",IF(VLOOKUP(VALUE($A534),WEEKLY_DATA!$A:$H,6,0)=0,\"No Sales\",Q534/(VLOOKUP(VALUE($A534),WEEKLY_DATA!$A:$H,6,0)/13))),\"\")","v":""},{"$f":"IFERROR(VLOOKUP(VALUE(A534),WEEKLY_DATA!$A:$H,8,0),0)","v":0},"—"]
[null,null,null,null,null,null,null,null,{"$f":"IFERROR(INDEX(BrandList!$B$2:$B$200,MATCH(TRUE,ISNUMBER(SEARCH(BrandList!$B$2:$B$200,G535)),0)),\"\")","v":""},null,null,null,null,null,null,"",{"$f":"IFERROR(VLOOKUP(VALUE(A535),WEEKLY_DATA!$A:$H,2,0),0)","v":0},{"$f":"IFERROR(VLOOKUP(VALUE(A535),WEEKLY_DATA!$A:$H,3,0),0)","v":0},{"$f":"IFERROR(VLOOKUP(VALUE(A535),WEEKLY_DATA!$A:$H,4,0),0)","v":0},{"$f":"IFERROR(VLOOKUP(VALUE(A535),WEEKLY_DATA!$A:$H,5,0),0)","v":0},{"$f":"IFERROR(VLOOKUP(VALUE(A535),WEEKLY_DATA!$A:$H,6,0),0)","v":0},{"$f":"IFERROR(VLOOKUP(VALUE(A535),WEEKLY_DATA!$A:$H,7,0),0)","v":0},{"$f":"IFERROR(IF(OR(Q535=\"\",Q535=0),\"\",IF(VLOOKUP(VALUE($A535),WEEKLY_DATA!$A:$H,6,0)=0,\"No Sales\",Q535/(VLOOKUP(VALUE($A535),WEEKLY_DATA!$A:$H,6,0)/13))),\"\")","v":""},{"$f":"IFERROR(VLOOKUP(VALUE(A535),WEEKLY_DATA!$A:$H,8,0),0)","v":0},"—"]
[null,null,null,null,null,null,null,null,{"$f":"IFERROR(INDEX(BrandList!$B$2:$B$200,MATCH(TRUE,ISNUMBER(SEARCH(BrandList!$B$2:$B$200,G536)),0)),\"\")","v":""},null,null,null,null,null,null,"",{"$f":"IFERROR(VLOOKUP(VALUE(A536),WEEKLY_DATA!$A:$H,2,0),0)","v":0},{"$f":"IFERROR(VLOOKUP(VALUE(A536),WEEKLY_DATA!$A:$H,3,0),0)","v":0},{"$f":"IFERROR(VLOOKUP(VALUE(A536),WEEKLY_DATA!$A:$H,4,0),0)","v":0},{"$f":"IFERROR(VLOOKUP(VALUE(A536),WEEKLY_DATA!$A:$H,5,0),0)","v":0},{"$f":"IFERROR(VLOOKUP(VALUE(A536),WEEKLY_DATA!$A:$H,6,0),0)","v":0},{"$f":"IFERROR(VLOOKUP(VALUE(A536),WEEKLY_DATA!$A:$H,7,0),0)","v":0},{"$f":"IFERROR(IF(OR(Q536=\"\",Q536=0),\"\",IF(VLOOKUP(VALUE($A536),WEEKLY_DATA!$A:$H,6,0)=0,\"No Sales\",Q536/(VLOOKUP(VALUE($A536),WEEKLY_DATA!$A:$H,6,0)/13))),\"\")","v":""},{"$f":"IFERROR(VLOOKUP(VALUE(A536),WEEKLY_DATA!$A:$H,8,0),0)","v":0},"—"]
[null,null,null,null,null,null,null,null,{"$f":"IFERROR(INDEX(BrandList!$B$2:$B$200,MATCH(TRUE,ISNUMBER(SEARCH(BrandList!$B$2:$B$200,G537)),0)),\"\")","v":""},null,null,null,null,null,null,"",{"$f":"IFERROR(VLOOKUP(VALUE(A537),WEEKLY_DATA!$A:$H,2,0),0)","v":0},{"$f":"IFERROR(VLOOKUP(VALUE(A537),WEEKLY_DATA!$A:$H,3,0),0)","v":0},{"$f":"IFERROR(VLOOKUP(VALUE(A537),WEEKLY_DATA!$A:$H,4,0),0)","v":0},{"$f":"IFERROR(VLOOKUP(VALUE(A537),WEEKLY_DATA!$A:$H,5,0),0)","v":0},{"$f":"IFERROR(VLOOKUP(VALUE(A537),WEEKLY_DATA!$A:$H,6,0),0)","v":0},{"$f":"IFERROR(VLOOKUP(VALUE(A537),WEEKLY_DATA!$A:$H,7,0),0)","v":0},{"$f":"IFERROR(IF(OR(Q537=\"\",Q537=0),\"\",IF(VLOOKUP(VALUE($A537),WEEKLY_DATA!$A:$H,6,0)=0,\"No Sales\",Q537/(VLOOKUP(VALUE($A537),WEEKLY_DATA!$A:$H,6,0)/13))),\"\")","v":""},{"$f":"IFERROR(VLOOKUP(VALUE(A537),WEEKLY_DATA!$A:$H,8,0),0)","v":0},"—"]
[null,null,null,null,null,null,null,null,{"$f":"IFERROR(INDEX(BrandList!$B$2:$B$200,MATCH(TRUE,ISNUMBER(SEARCH(BrandList!$B$2:$B$200,G538)),0)),\"\")","v":""},null,null,null,null,null,null,"",{"$f":"IFERROR(VLOOKUP(VALUE(A538),WEEKLY_DATA!$A:$H,2,0),0)","v":0},{"$f":"IFERROR(VLOOKUP(VALUE(A538),WEEKLY_DATA!$A:$H,3,0),0)","v":0},{"$f":"IFERROR(VLOOKUP(VALUE(A538),WEEKLY_DATA!$A:$H,4,0),0)","v":0},{"$f":"IFERROR(VLOOKUP(VALUE(A538),WEEKLY_DATA!$A:$H,5,0),0)","v":0},{"$f":"IFERROR(VLOOKUP(VALUE(A538),WEEKLY_DATA!$A:$H,6,0),0)","v":0},{"$f":"IFERROR(VLOOKUP(VALUE(A538),WEEKLY_DATA!$A:$H,7,0),0)","v":0},{"$f":"IFERROR(IF(OR(Q538=\"\",Q538=0),\"\",IF(VLOOKUP(VALUE($A538),WEEKLY_DATA!$A:$H,6,0)=0,\"No Sales\",Q538/(VLOOKUP(VALUE($A538),WEEKLY_DATA!$A:$H,6,0)/13))),\"\")","v":""},{"$f":"IFERROR(VLOOKUP(VALUE(A538),WEEKLY_DATA!$A:$H,8,0),0)","v":0},"—"]
[null,null,null,null,null,null,null,null,{"$f":"IFERROR(INDEX(BrandList!$B$2:$B$200,MATCH(TRUE,ISNUMBER(SEARCH(BrandList!$B$2:$B$200,G539)),0)),\"\")","v":""},null,null,null,null,null,null,"",{"$f":"IFERROR(VLOOKUP(VALUE(A539),WEEKLY_DATA!$A:$H,2,0),0)","v":0},{"$f":"IFERROR(VLOOKUP(VALUE(A539),WEEKLY_DATA!$A:$H,3,0),0)","v":0},{"$f":"IFERROR(VLOOKUP(VALUE(A539),WEEKLY_DATA!$A:$H,4,0),0)","v":0},{"$f":"IFERROR(VLOOKUP(VALUE(A539),WEEKLY_DATA!$A:$H,5,0),0)","v":0},{"$f":"IFERROR(VLOOKUP(VALUE(A539),WEEKLY_DATA!$A:$H,6,0),0)","v":0},{"$f":"IFERROR(VLOOKUP(VALUE(A539),WEEKLY_DATA!$A:$H,7,0),0)","v":0},{"$f":"IFERROR(IF(OR(Q539=\"\",Q539=0),\"\",IF(VLOOKUP(VALUE($A539),WEEKLY_DATA!$A:$H,6,0)=0,\"No Sales\",Q539/(VLOOKUP(VALUE($A539),WEEKLY_DATA!$A:$H,6,0)/13))),\"\")","v":""},{"$f":"IFERROR(VLOOKUP(VALUE(A539),WEEKLY_DATA!$A:$H,8,0),0)","v":0},"—"]
[null,null,null,null,null,null,null,null,{"$f":"IFERROR(INDEX(BrandList!$B$2:$B$200,MATCH(TRUE,ISNUMBER(SEARCH(BrandList!$B$2:$B$200,G540)),0)),\"\")","v":""},null,null,null,null,null,null,"",{"$f":"IFERROR(VLOOKUP(VALUE(A540),WEEKLY_DATA!$A:$H,2,0),0)","v":0},{"$f":"IFERROR(VLOOKUP(VALUE(A540),WEEKLY_DATA!$A:$H,3,0),0)","v":0},{"$f":"IFERROR(VLOOKUP(VALUE(A540),WEEKLY_DATA!$A:$H,4,0),0)","v":0},{"$f":"IFERROR(VLOOKUP(VALUE(A540),WEEKLY_DATA!$A:$H,5,0),0)","v":0},{"$f":"IFERROR(VLOOKUP(VALUE(A540),WEEKLY_DATA!$A:$H,6,0),0)","v":0},{"$f":"IFERROR(VLOOKUP(VALUE(A540),WEEKLY_DATA!$A:$H,7,0),0)","v":0},{"$f":"IFERROR(IF(OR(Q540=\"\",Q540=0),\"\",IF(VLOOKUP(VALUE($A540),WEEKLY_DATA!$A:$H,6,0)=0,\"No Sales\",Q540/(VLOOKUP(VALUE($A540),WEEKLY_DATA!$A:$H,6,0)/13))),\"\")","v":""},{"$f":"IFERROR(VLOOKUP(VALUE(A540),WEEKLY_DATA!$A:$H,8,0),0)","v":0},"—"]
[null,null,null,null,null,null,null,null,{"$f":"IFERROR(INDEX(BrandList!$B$2:$B$200,MATCH(TRUE,ISNUMBER(SEARCH(BrandList!$B$2:$B$200,G541)),0)),\"\")","v":""},null,null,null,null,null,null,"",{"$f":"IFERROR(VLOOKUP(VALUE(A541),WEEKLY_DATA!$A:$H,2,0),0)","v":0},{"$f":"IFERROR(VLOOKUP(VALUE(A541),WEEKLY_DATA!$A:$H,3,0),0)","v":0},{"$f":"IFERROR(VLOOKUP(VALUE(A541),WEEKLY_DATA!$A:$H,4,0),0)","v":0},{"$f":"IFERROR(VLOOKUP(VALUE(A541),WEEKLY_DATA!$A:$H,5,0),0)","v":0},{"$f":"IFERROR(VLOOKUP(VALUE(A541),WEEKLY_DATA!$A:$H,6,0),0)","v":0},{"$f":"IFERROR(VLOOKUP(VALUE(A541),WEEKLY_DATA!$A:$H,7,0),0)","v":0},{"$f":"IFERROR(IF(OR(Q541=\"\",Q541=0),\"\",IF(VLOOKUP(VALUE($A541),WEEKLY_DATA!$A:$H,6,0)=0,\"No Sales\",Q541/(VLOOKUP(VALUE($A541),WEEKLY_DATA!$A:$H,6,0)/13))),\"\")","v":""},{"$f":"IFERROR(VLOOKUP(VALUE(A541),WEEKLY_DATA!$A:$H,8,0),0)","v":0},"—"]
[null,null,null,null,null,null,null,null,{"$f":"IFERROR(INDEX(BrandList!$B$2:$B$200,MATCH(TRUE,ISNUMBER(SEARCH(BrandList!$B$2:$B$200,G542)),0)),\"\")","v":""},null,null,null,null,null,null,"",{"$f":"IFERROR(VLOOKUP(VALUE(A542),WEEKLY_DATA!$A:$H,2,0),0)","v":0},{"$f":"IFERROR(VLOOKUP(VALUE(A542),WEEKLY_DATA!$A:$H,3,0),0)","v":0},{"$f":"IFERROR(VLOOKUP(VALUE(A542),WEEKLY_DATA!$A:$H,4,0),0)","v":0},{"$f":"IFERROR(VLOOKUP(VALUE(A542),WEEKLY_DATA!$A:$H,5,0),0)","v":0},{"$f":"IFERROR(VLOOKUP(VALUE(A542),WEEKLY_DATA!$A:$H,6,0),0)","v":0},{"$f":"IFERROR(VLOOKUP(VALUE(A542),WEEKLY_DATA!$A:$H,7,0),0)","v":0},{"$f":"IFERROR(IF(OR(Q542=\"\",Q542=0),\"\",IF(VLOOKUP(VALUE($A542),WEEKLY_DATA!$A:$H,6,0)=0,\"No Sales\",Q542/(VLOOKUP(VALUE($A542),WEEKLY_DATA!$A:$H,6,0)/13))),\"\")","v":""},{"$f":"IFERROR(VLOOKUP(VALUE(A542),WEEKLY_DATA!$A:$H,8,0),0)","v":0},"—"]
[null,null,null,null,null,null,null,null,{"$f":"IFERROR(INDEX(BrandList!$B$2:$B$200,MATCH(TRUE,ISNUMBER(SEARCH(BrandList!$B$2:$B$200,G543)),0)),\"\")","v":""},null,null,null,null,null,null,"",{"$f":"IFERROR(VLOOKUP(VALUE(A543),WEEKLY_DATA!$A:$H,2,0),0)","v":0},{"$f":"IFERROR(VLOOKUP(VALUE(A543),WEEKLY_DATA!$A:$H,3,0),0)","v":0},{"$f":"IFERROR(VLOOKUP(VALUE(A543),WEEKLY_DATA!$A:$H,4,0),0)","v":0},{"$f":"IFERROR(VLOOKUP(VALUE(A543),WEEKLY_DATA!$A:$H,5,0),0)","v":0},{"$f":"IFERROR(VLOOKUP(VALUE(A543),WEEKLY_DATA!$A:$H,6,0),0)","v":0},{"$f":"IFERROR(VLOOKUP(VALUE(A543),WEEKLY_DATA!$A:$H,7,0),0)","v":0},{"$f":"IFERROR(IF(OR(Q543=\"\",Q543=0),\"\",IF(VLOOKUP(VALUE($A543),WEEKLY_DATA!$A:$H,6,0)=0,\"No Sales\",Q543/(VLOOKUP(VALUE($A543),WEEKLY_DATA!$A:$H,6,0)/13))),\"\")","v":""},{"$f":"IFERROR(VLOOKUP(VALUE(A543),WEEKLY_DATA!$A:$H,8,0),0)","v":0},"—"]
[null,null,null,null,null,null,null,null,{"$f":"IFERROR(INDEX(BrandList!$B$2:$B$200,MATCH(TRUE,ISNUMBER(SEARCH(BrandList!$B$2:$B$200,G544)),0)),\"\")","v":""},null,null,null,null,null,null,"",{"$f":"IFERROR(VLOOKUP(VALUE(A544),WEEKLY_DATA!$A:$H,2,0),0)","v":0},{"$f":"IFERROR(VLOOKUP(VALUE(A544),WEEKLY_DATA!$A:$H,3,0),0)","v":0},{"$f":"IFERROR(VLOOKUP(VALUE(A544),WEEKLY_DATA!$A:$H,4,0),0)","v":0},{"$f":"IFERROR(VLOOKUP(VALUE(A544),WEEKLY_DATA!$A:$H,5,0),0)","v":0},{"$f":"IFERROR(VLOOKUP(VALUE(A544),WEEKLY_DATA!$A:$H,6,0),0)","v":0},{"$f":"IFERROR(VLOOKUP(VALUE(A544),WEEKLY_DATA!$A:$H,7,0),0)","v":0},{"$f":"IFERROR(IF(OR(Q544=\"\",Q544=0),\"\",IF(VLOOKUP(VALUE($A544),WEEKLY_DATA!$A:$H,6,0)=0,\"No Sales\",Q544/(VLOOKUP(VALUE($A544),WEEKLY_DATA!$A:$H,6,0)/13))),\"\")","v":""},{"$f":"IFERROR(VLOOKUP(VALUE(A544),WEEKLY_DATA!$A:$H,8,0),0)","v":0},"—"]
[null,null,null,null,null,null,null,null,{"$f":"IFERROR(INDEX(BrandList!$B$2:$B$200,MATCH(TRUE,ISNUMBER(SEARCH(BrandList!$B$2:$B$200,G545)),0)),\"\")","v":""},null,null,null,null,null,null,"",{"$f":"IFERROR(VLOOKUP(VALUE(A545),WEEKLY_DATA!$A:$H,2,0),0)","v":0},{"$f":"IFERROR(VLOOKUP(VALUE(A545),WEEKLY_DATA!$A:$H,3,0),0)","v":0},{"$f":"IFERROR(VLOOKUP(VALUE(A545),WEEKLY_DATA!$A:$H,4,0),0)","v":0},{"$f":"IFERROR(VLOOKUP(VALUE(A545),WEEKLY_DATA!$A:$H,5,0),0)","v":0},{"$f":"IFERROR(VLOOKUP(VALUE(A545),WEEKLY_DATA!$A:$H,6,0),0)","v":0},{"$f":"IFERROR(VLOOKUP(VALUE(A545),WEEKLY_DATA!$A:$H,7,0),0)","v":0},{"$f":"IFERROR(IF(OR(Q545=\"\",Q545=0),\"\",IF(VLOOKUP(VALUE($A545),WEEKLY_DATA!$A:$H,6,0)=0,\"No Sales\",Q545/(VLOOKUP(VALUE($A545),WEEKLY_DATA!$A:$H,6,0)/13))),\"\")","v":""},{"$f":"IFERROR(VLOOKUP(VALUE(A545),WEEKLY_DATA!$A:$H,8,0),0)","v":0},"—"]
[null,null,null,null,null,null,null,null,{"$f":"IFERROR(INDEX(BrandList!$B$2:$B$200,MATCH(TRUE,ISNUMBER(SEARCH(BrandList!$B$2:$B$200,G546)),0)),\"\")","v":""},null,null,null,null,null,null,"",{"$f":"IFERROR(VLOOKUP(VALUE(A546),WEEKLY_DATA!$A:$H,2,0),0)","v":0},{"$f":"IFERROR(VLOOKUP(VALUE(A546),WEEKLY_DATA!$A:$H,3,0),0)","v":0},{"$f":"IFERROR(VLOOKUP(VALUE(A546),WEEKLY_DATA!$A:$H,4,0),0)","v":0},{"$f":"IFERROR(VLOOKUP(VALUE(A546),WEEKLY_DATA!$A:$H,5,0),0)","v":0},{"$f":"IFERROR(VLOOKUP(VALUE(A546),WEEKLY_DATA!$A:$H,6,0),0)","v":0},{"$f":"IFERROR(VLOOKUP(VALUE(A546),WEEKLY_DATA!$A:$H,7,0),0)","v":0},{"$f":"IFERROR(IF(OR(Q546=\"\",Q546=0),\"\",IF(VLOOKUP(VALUE($A546),WEEKLY_DATA!$A:$H,6,0)=0,\"No Sales\",Q546/(VLOOKUP(VALUE($A546),WEEKLY_DATA!$A:$H,6,0)/13))),\"\")","v":""},{"$f":"IFERROR(VLOOKUP(VALUE(A546),WEEKLY_DATA!$A:$H,8,0),0)","v":0},"—"]
[null,null,null,null,null,null,null,null,{"$f":"IFERROR(INDEX(BrandList!$B$2:$B$200,MATCH(TRUE,ISNUMBER(SEARCH(BrandList!$B$2:$B$200,G547)),0)),\"\")","v":""},null,null,null,null,null,null,"",{"$f":"IFERROR(VLOOKUP(VALUE(A547),WEEKLY_DATA!$A:$H,2,0),0)","v":0},{"$f":"IFERROR(VLOOKUP(VALUE(A547),WEEKLY_DATA!$A:$H,3,0),0)","v":0},{"$f":"IFERROR(VLOOKUP(VALUE(A547),WEEKLY_DATA!$A:$H,4,0),0)","v":0},{"$f":"IFERROR(VLOOKUP(VALUE(A547),WEEKLY_DATA!$A:$H,5,0),0)","v":0},{"$f":"IFERROR(VLOOKUP(VALUE(A547),WEEKLY_DATA!$A:$H,6,0),0)","v":0},{"$f":"IFERROR(VLOOKUP(VALUE(A547),WEEKLY_DATA!$A:$H,7,0),0)","v":0},{"$f":"IFERROR(IF(OR(Q547=\"\",Q547=0),\"\",IF(VLOOKUP(VALUE($A547),WEEKLY_DATA!$A:$H,6,0)=0,\"No Sales\",Q547/(VLOOKUP(VALUE($A547),WEEKLY_DATA!$A:$H,6,0)/13))),\"\")","v":""},{"$f":"IFERROR(VLOOKUP(VALUE(A547),WEEKLY_DATA!$A:$H,8,0),0)","v":0},"—"]
[null,null,null,null,null,null,null,null,{"$f":"IFERROR(INDEX(BrandList!$B$2:$B$200,MATCH(TRUE,ISNUMBER(SEARCH(BrandList!$B$2:$B$200,G548)),0)),\"\")","v":""},null,null,null,null,null,null,"",{"$f":"IFERROR(VLOOKUP(VALUE(A548),WEEKLY_DATA!$A:$H,2,0),0)","v":0},{"$f":"IFERROR(VLOOKUP(VALUE(A548),WEEKLY_DATA!$A:$H,3,0),0)","v":0},{"$f":"IFERROR(VLOOKUP(VALUE(A548),WEEKLY_DATA!$A:$H,4,0),0)","v":0},{"$f":"IFERROR(VLOOKUP(VALUE(A548),WEEKLY_DATA!$A:$H,5,0),0)","v":0},{"$f":"IFERROR(VLOOKUP(VALUE(A548),WEEKLY_DATA!$A:$H,6,0),0)","v":0},{"$f":"IFERROR(VLOOKUP(VALUE(A548),WEEKLY_DATA!$A:$H,7,0),0)","v":0},{"$f":"IFERROR(IF(OR(Q548=\"\",Q548=0),\"\",IF(VLOOKUP(VALUE($A548),WEEKLY_DATA!$A:$H,6,0)=0,\"No Sales\",Q548/(VLOOKUP(VALUE($A548),WEEKLY_DATA!$A:$H,6,0)/13))),\"\")","v":""},{"$f":"IFERROR(VLOOKUP(VALUE(A548),WEEKLY_DATA!$A:$H,8,0),0)","v":0},"—"]
[null,null,null,null,null,null,null,null,{"$f":"IFERROR(INDEX(BrandList!$B$2:$B$200,MATCH(TRUE,ISNUMBER(SEARCH(BrandList!$B$2:$B$200,G549)),0)),\"\")","v":""},null,null,null,null,null,null,"",{"$f":"IFERROR(VLOOKUP(VALUE(A549),WEEKLY_DATA!$A:$H,2,0),0)","v":0},{"$f":"IFERROR(VLOOKUP(VALUE(A549),WEEKLY_DATA!$A:$H,3,0),0)","v":0},{"$f":"IFERROR(VLOOKUP(VALUE(A549),WEEKLY_DATA!$A:$H,4,0),0)","v":0},{"$f":"IFERROR(VLOOKUP(VALUE(A549),WEEKLY_DATA!$A:$H,5,0),0)","v":0},{"$f":"IFERROR(VLOOKUP(VALUE(A549),WEEKLY_DATA!$A:$H,6,0),0)","v":0},{"$f":"IFERROR(VLOOKUP(VALUE(A549),WEEKLY_DATA!$A:$H,7,0),0)","v":0},{"$f":"IFERROR(IF(OR(Q549=\"\",Q549=0),\"\",IF(VLOOKUP(VALUE($A549),WEEKLY_DATA!$A:$H,6,0)=0,\"No Sales\",Q549/(VLOOKUP(VALUE($A549),WEEKLY_DATA!$A:$H,6,0)/13))),\"\")","v":""},{"$f":"IFERROR(VLOOKUP(VALUE(A549),WEEKLY_DATA!$A:$H,8,0),0)","v":0},"—"]
[null,null,null,null,null,null,null,null,{"$f":"IFERROR(INDEX(BrandList!$B$2:$B$200,MATCH(TRUE,ISNUMBER(SEARCH(BrandList!$B$2:$B$200,G550)),0)),\"\")","v":""},null,null,null,null,null,null,"",{"$f":"IFERROR(VLOOKUP(VALUE(A550),WEEKLY_DATA!$A:$H,2,0),0)","v":0},{"$f":"IFERROR(VLOOKUP(VALUE(A550),WEEKLY_DATA!$A:$H,3,0),0)","v":0},{"$f":"IFERROR(VLOOKUP(VALUE(A550),WEEKLY_DATA!$A:$H,4,0),0)","v":0},{"$f":"IFERROR(VLOOKUP(VALUE(A550),WEEKLY_DATA!$A:$H,5,0),0)","v":0},{"$f":"IFERROR(VLOOKUP(VALUE(A550),WEEKLY_DATA!$A:$H,6,0),0)","v":0},{"$f":"IFERROR(VLOOKUP(VALUE(A550),WEEKLY_DATA!$A:$H,7,0),0)","v":0},{"$f":"IFERROR(IF(OR(Q550=\"\",Q550=0),\"\",IF(VLOOKUP(VALUE($A550),WEEKLY_DATA!$A:$H,6,0)=0,\"No Sales\",Q550/(VLOOKUP(VALUE($A550),WEEKLY_DATA!$A:$H,6,0)/13))),\"\")","v":""},{"$f":"IFERROR(VLOOKUP(VALUE(A550),WEEKLY_DATA!$A:$H,8,0),0)","v":0},"—"]
[null,null,null,null,null,null,null,null,{"$f":"IFERROR(INDEX(BrandList!$B$2:$B$200,MATCH(TRUE,ISNUMBER(SEARCH(BrandList!$B$2:$B$200,G551)),0)),\"\")","v":""},null,null,null,null,null,null,"",{"$f":"IFERROR(VLOOKUP(VALUE(A551),WEEKLY_DATA!$A:$H,2,0),0)","v":0},{"$f":"IFERROR(VLOOKUP(VALUE(A551),WEEKLY_DATA!$A:$H,3,0),0)","v":0},{"$f":"IFERROR(VLOOKUP(VALUE(A551),WEEKLY_DATA!$A:$H,4,0),0)","v":0},{"$f":"IFERROR(VLOOKUP(VALUE(A551),WEEKLY_DATA!$A:$H,5,0),0)","v":0},{"$f":"IFERROR(VLOOKUP(VALUE(A551),WEEKLY_DATA!$A:$H,6,0),0)","v":0},{"$f":"IFERROR(VLOOKUP(VALUE(A551),WEEKLY_DATA!$A:$H,7,0),0)","v":0},{"$f":"IFERROR(IF(OR(Q551=\"\",Q551=0),\"\",IF(VLOOKUP(VALUE($A551),WEEKLY_DATA!$A:$H,6,0)=0,\"No Sales\",Q551/(VLOOKUP(VALUE($A551),WEEKLY_DATA!$A:$H,6,0)/13))),\"\")","v":""},{"$f":"IFERROR(VLOOKUP(VALUE(A551),WEEKLY_DATA!$A:$H,8,0),0)","v":0},"—"]
[null,null,null,null,null,null,null,null,{"$f":"IFERROR(INDEX(BrandList!$B$2:$B$200,MATCH(TRUE,ISNUMBER(SEARCH(BrandList!$B$2:$B$200,G552)),0)),\"\")","v":""},null,null,null,null,null,null,"",{"$f":"IFERROR(VLOOKUP(VALUE(A552),WEEKLY_DATA!$A:$H,2,0),0)","v":0},{"$f":"IFERROR(VLOOKUP(VALUE(A552),WEEKLY_DATA!$A:$H,3,0),0)","v":0},{"$f":"IFERROR(VLOOKUP(VALUE(A552),WEEKLY_DATA!$A:$H,4,0),0)","v":0},{"$f":"IFERROR(VLOOKUP(VALUE(A552),WEEKLY_DATA!$A:$H,5,0),0)","v":0},{"$f":"IFERROR(VLOOKUP(VALUE(A552),WEEKLY_DATA!$A:$H,6,0),0)","v":0},{"$f":"IFERROR(VLOOKUP(VALUE(A552),WEEKLY_DATA!$A:$H,7,0),0)","v":0},{"$f":"IFERROR(IF(OR(Q552=\"\",Q552=0),\"\",IF(VLOOKUP(VALUE($A552),WEEKLY_DATA!$A:$H,6,0)=0,\"No Sales\",Q552/(VLOOKUP(VALUE($A552),WEEKLY_DATA!$A:$H,6,0)/13))),\"\")","v":""},{"$f":"IFERROR(VLOOKUP(VALUE(A552),WEEKLY_DATA!$A:$H,8,0),0)","v":0},"—"]
[null,null,null,null,null,null,null,null,{"$f":"IFERROR(INDEX(BrandList!$B$2:$B$200,MATCH(TRUE,ISNUMBER(SEARCH(BrandList!$B$2:$B$200,G553)),0)),\"\")","v":""},null,null,null,null,null,null,"",{"$f":"IFERROR(VLOOKUP(VALUE(A553),WEEKLY_DATA!$A:$H,2,0),0)","v":0},{"$f":"IFERROR(VLOOKUP(VALUE(A553),WEEKLY_DATA!$A:$H,3,0),0)","v":0},{"$f":"IFERROR(VLOOKUP(VALUE(A553),WEEKLY_DATA!$A:$H,4,0),0)","v":0},{"$f":"IFERROR(VLOOKUP(VALUE(A553),WEEKLY_DATA!$A:$H,5,0),0)","v":0},{"$f":"IFERROR(VLOOKUP(VALUE(A553),WEEKLY_DATA!$A:$H,6,0),0)","v":0},{"$f":"IFERROR(VLOOKUP(VALUE(A553),WEEKLY_DATA!$A:$H,7,0),0)","v":0},{"$f":"IFERROR(IF(OR(Q553=\"\",Q553=0),\"\",IF(VLOOKUP(VALUE($A553),WEEKLY_DATA!$A:$H,6,0)=0,\"No Sales\",Q553/(VLOOKUP(VALUE($A553),WEEKLY_DATA!$A:$H,6,0)/13))),\"\")","v":""},{"$f":"IFERROR(VLOOKUP(VALUE(A553),WEEKLY_DATA!$A:$H,8,0),0)","v":0},"—"]
[null,null,null,null,null,null,null,null,{"$f":"IFERROR(INDEX(BrandList!$B$2:$B$200,MATCH(TRUE,ISNUMBER(SEARCH(BrandList!$B$2:$B$200,G554)),0)),\"\")","v":""},null,null,null,null,null,null,"",{"$f":"IFERROR(VLOOKUP(VALUE(A554),WEEKLY_DATA!$A:$H,2,0),0)","v":0},{"$f":"IFERROR(VLOOKUP(VALUE(A554),WEEKLY_DATA!$A:$H,3,0),0)","v":0},{"$f":"IFERROR(VLOOKUP(VALUE(A554),WEEKLY_DATA!$A:$H,4,0),0)","v":0},{"$f":"IFERROR(VLOOKUP(VALUE(A554),WEEKLY_DATA!$A:$H,5,0),0)","v":0},{"$f":"IFERROR(VLOOKUP(VALUE(A554),WEEKLY_DATA!$A:$H,6,0),0)","v":0},{"$f":"IFERROR(VLOOKUP(VALUE(A554),WEEKLY_DATA!$A:$H,7,0),0)","v":0},{"$f":"IFERROR(IF(OR(Q554=\"\",Q554=0),\"\",IF(VLOOKUP(VALUE($A554),WEEKLY_DATA!$A:$H,6,0)=0,\"No Sales\",Q554/(VLOOKUP(VALUE($A554),WEEKLY_DATA!$A:$H,6,0)/13))),\"\")","v":""},{"$f":"IFERROR(VLOOKUP(VALUE(A554),WEEKLY_DATA!$A:$H,8,0),0)","v":0},"—"]
[null,null,null,null,null,null,null,null,{"$f":"IFERROR(INDEX(BrandList!$B$2:$B$200,MATCH(TRUE,ISNUMBER(SEARCH(BrandList!$B$2:$B$200,G555)),0)),\"\")","v":""},null,null,null,null,null,null,"",{"$f":"IFERROR(VLOOKUP(VALUE(A555),WEEKLY_DATA!$A:$H,2,0),0)","v":0},{"$f":"IFERROR(VLOOKUP(VALUE(A555),WEEKLY_DATA!$A:$H,3,0),0)","v":0},{"$f":"IFERROR(VLOOKUP(VALUE(A555),WEEKLY_DATA!$A:$H,4,0),0)","v":0},{"$f":"IFERROR(VLOOKUP(VALUE(A555),WEEKLY_DATA!$A:$H,5,0),0)","v":0},{"$f":"IFERROR(VLOOKUP(VALUE(A555),WEEKLY_DATA!$A:$H,6,0),0)","v":0},{"$f":"IFERROR(VLOOKUP(VALUE(A555),WEEKLY_DATA!$A:$H,7,0),0)","v":0},{"$f":"IFERROR(IF(OR(Q555=\"\",Q555=0),\"\",IF(VLOOKUP(VALUE($A555),WEEKLY_DATA!$A:$H,6,0)=0,\"No Sales\",Q555/(VLOOKUP(VALUE($A555),WEEKLY_DATA!$A:$H,6,0)/13))),\"\")","v":""},{"$f":"IFERROR(VLOOKUP(VALUE(A555),WEEKLY_DATA!$A:$H,8,0),0)","v":0},"—"]
[null,null,null,null,null,null,null,null,{"$f":"IFERROR(INDEX(BrandList!$B$2:$B$200,MATCH(TRUE,ISNUMBER(SEARCH(BrandList!$B$2:$B$200,G556)),0)),\"\")","v":""},null,null,null,null,null,null,"",{"$f":"IFERROR(VLOOKUP(VALUE(A556),WEEKLY_DATA!$A:$H,2,0),0)","v":0},{"$f":"IFERROR(VLOOKUP(VALUE(A556),WEEKLY_DATA!$A:$H,3,0),0)","v":0},{"$f":"IFERROR(VLOOKUP(VALUE(A556),WEEKLY_DATA!$A:$H,4,0),0)","v":0},{"$f":"IFERROR(VLOOKUP(VALUE(A556),WEEKLY_DATA!$A:$H,5,0),0)","v":0},{"$f":"IFERROR(VLOOKUP(VALUE(A556),WEEKLY_DATA!$A:$H,6,0),0)","v":0},{"$f":"IFERROR(VLOOKUP(VALUE(A556),WEEKLY_DATA!$A:$H,7,0),0)","v":0},{"$f":"IFERROR(IF(OR(Q556=\"\",Q556=0),\"\",IF(VLOOKUP(VALUE($A556),WEEKLY_DATA!$A:$H,6,0)=0,\"No Sales\",Q556/(VLOOKUP(VALUE($A556),WEEKLY_DATA!$A:$H,6,0)/13))),\"\")","v":""},{"$f":"IFERROR(VLOOKUP(VALUE(A556),WEEKLY_DATA!$A:$H,8,0),0)","v":0},"—"]
[null,null,null,null,null,null,null,null,{"$f":"IFERROR(INDEX(BrandList!$B$2:$B$200,MATCH(TRUE,ISNUMBER(SEARCH(BrandList!$B$2:$B$200,G557)),0)),\"\")","v":""},null,null,null,null,null,null,"",{"$f":"IFERROR(VLOOKUP(VALUE(A557),WEEKLY_DATA!$A:$H,2,0),0)","v":0},{"$f":"IFERROR(VLOOKUP(VALUE(A557),WEEKLY_DATA!$A:$H,3,0),0)","v":0},{"$f":"IFERROR(VLOOKUP(VALUE(A557),WEEKLY_DATA!$A:$H,4,0),0)","v":0},{"$f":"IFERROR(VLOOKUP(VALUE(A557),WEEKLY_DATA!$A:$H,5,0),0)","v":0},{"$f":"IFERROR(VLOOKUP(VALUE(A557),WEEKLY_DATA!$A:$H,6,0),0)","v":0},{"$f":"IFERROR(VLOOKUP(VALUE(A557),WEEKLY_DATA!$A:$H,7,0),0)","v":0},{"$f":"IFERROR(IF(OR(Q557=\"\",Q557=0),\"\",IF(VLOOKUP(VALUE($A557),WEEKLY_DATA!$A:$H,6,0)=0,\"No Sales\",Q557/(VLOOKUP(VALUE($A557),WEEKLY_DATA!$A:$H,6,0)/13))),\"\")","v":""},{"$f":"IFERROR(VLOOKUP(VALUE(A557),WEEKLY_DATA!$A:$H,8,0),0)","v":0},"—"]
[null,null,null,null,null,null,null,null,{"$f":"IFERROR(INDEX(BrandList!$B$2:$B$200,MATCH(TRUE,ISNUMBER(SEARCH(BrandList!$B$2:$B$200,G558)),0)),\"\")","v":""},null,null,null,null,null,null,"",{"$f":"IFERROR(VLOOKUP(VALUE(A558),WEEKLY_DATA!$A:$H,2,0),0)","v":0},{"$f":"IFERROR(VLOOKUP(VALUE(A558),WEEKLY_DATA!$A:$H,3,0),0)","v":0},{"$f":"IFERROR(VLOOKUP(VALUE(A558),WEEKLY_DATA!$A:$H,4,0),0)","v":0},{"$f":"IFERROR(VLOOKUP(VALUE(A558),WEEKLY_DATA!$A:$H,5,0),0)","v":0},{"$f":"IFERROR(VLOOKUP(VALUE(A558),WEEKLY_DATA!$A:$H,6,0),0)","v":0},{"$f":"IFERROR(VLOOKUP(VALUE(A558),WEEKLY_DATA!$A:$H,7,0),0)","v":0},{"$f":"IFERROR(IF(OR(Q558=\"\",Q558=0),\"\",IF(VLOOKUP(VALUE($A558),WEEKLY_DATA!$A:$H,6,0)=0,\"No Sales\",Q558/(VLOOKUP(VALUE($A558),WEEKLY_DATA!$A:$H,6,0)/13))),\"\")","v":""},{"$f":"IFERROR(VLOOKUP(VALUE(A558),WEEKLY_DATA!$A:$H,8,0),0)","v":0},"—"]
[null,null,null,null,null,null,null,null,{"$f":"IFERROR(INDEX(BrandList!$B$2:$B$200,MATCH(TRUE,ISNUMBER(SEARCH(BrandList!$B$2:$B$200,G559)),0)),\"\")","v":""},null,null,null,null,null,null,"",{"$f":"IFERROR(VLOOKUP(VALUE(A559),WEEKLY_DATA!$A:$H,2,0),0)","v":0},{"$f":"IFERROR(VLOOKUP(VALUE(A559),WEEKLY_DATA!$A:$H,3,0),0)","v":0},{"$f":"IFERROR(VLOOKUP(VALUE(A559),WEEKLY_DATA!$A:$H,4,0),0)","v":0},{"$f":"IFERROR(VLOOKUP(VALUE(A559),WEEKLY_DATA!$A:$H,5,0),0)","v":0},{"$f":"IFERROR(VLOOKUP(VALUE(A559),WEEKLY_DATA!$A:$H,6,0),0)","v":0},{"$f":"IFERROR(VLOOKUP(VALUE(A559),WEEKLY_DATA!$A:$H,7,0),0)","v":0},{"$f":"IFERROR(IF(OR(Q559=\"\",Q559=0),\"\",IF(VLOOKUP(VALUE($A559),WEEKLY_DATA!$A:$H,6,0)=0,\"No Sales\",Q559/(VLOOKUP(VALUE($A559),WEEKLY_DATA!$A:$H,6,0)/13))),\"\")","v":""},{"$f":"IFERROR(VLOOKUP(VALUE(A559),WEEKLY_DATA!$A:$H,8,0),0)","v":0},"—"]
[null,null,null,null,null,null,null,null,{"$f":"IFERROR(INDEX(BrandList!$B$2:$B$200,MATCH(TRUE,ISNUMBER(SEARCH(BrandList!$B$2:$B$200,G560)),0)),\"\")","v":""},null,null,null,null,null,null,"",{"$f":"IFERROR(VLOOKUP(VALUE(A560),WEEKLY_DATA!$A:$H,2,0),0)","v":0},{"$f":"IFERROR(VLOOKUP(VALUE(A560),WEEKLY_DATA!$A:$H,3,0),0)","v":0},{"$f":"IFERROR(VLOOKUP(VALUE(A560),WEEKLY_DATA!$A:$H,4,0),0)","v":0},{"$f":"IFERROR(VLOOKUP(VALUE(A560),WEEKLY_DATA!$A:$H,5,0),0)","v":0},{"$f":"IFERROR(VLOOKUP(VALUE(A560),WEEKLY_DATA!$A:$H,6,0),0)","v":0},{"$f":"IFERROR(VLOOKUP(VALUE(A560),WEEKLY_DATA!$A:$H,7,0),0)","v":0},{"$f":"IFERROR(IF(OR(Q560=\"\",Q560=0),\"\",IF(VLOOKUP(VALUE($A560),WEEKLY_DATA!$A:$H,6,0)=0,\"No Sales\",Q560/(VLOOKUP(VALUE($A560),WEEKLY_DATA!$A:$H,6,0)/13))),\"\")","v":""},{"$f":"IFERROR(VLOOKUP(VALUE(A560),WEEKLY_DATA!$A:$H,8,0),0)","v":0},"—"]
[null,null,null,null,null,null,null,null,{"$f":"IFERROR(INDEX(BrandList!$B$2:$B$200,MATCH(TRUE,ISNUMBER(SEARCH(BrandList!$B$2:$B$200,G561)),0)),\"\")","v":""},null,null,null,null,null,null,"",{"$f":"IFERROR(VLOOKUP(VALUE(A561),WEEKLY_DATA!$A:$H,2,0),0)","v":0},{"$f":"IFERROR(VLOOKUP(VALUE(A561),WEEKLY_DATA!$A:$H,3,0),0)","v":0},{"$f":"IFERROR(VLOOKUP(VALUE(A561),WEEKLY_DATA!$A:$H,4,0),0)","v":0},{"$f":"IFERROR(VLOOKUP(VALUE(A561),WEEKLY_DATA!$A:$H,5,0),0)","v":0},{"$f":"IFERROR(VLOOKUP(VALUE(A561),WEEKLY_DATA!$A:$H,6,0),0)","v":0},{"$f":"IFERROR(VLOOKUP(VALUE(A561),WEEKLY_DATA!$A:$H,7,0),0)","v":0},{"$f":"IFERROR(IF(OR(Q561=\"\",Q561=0),\"\",IF(VLOOKUP(VALUE($A561),WEEKLY_DATA!$A:$H,6,0)=0,\"No Sales\",Q561/(VLOOKUP(VALUE($A561),WEEKLY_DATA!$A:$H,6,0)/13))),\"\")","v":""},{"$f":"IFERROR(VLOOKUP(VALUE(A561),WEEKLY_DATA!$A:$H,8,0),0)","v":0},"—"]
[null,null,null,null,null,null,null,null,{"$f":"IFERROR(INDEX(BrandList!$B$2:$B$200,MATCH(TRUE,ISNUMBER(SEARCH(BrandList!$B$2:$B$200,G562)),0)),\"\")","v":""},null,null,null,null,null,null,"",{"$f":"IFERROR(VLOOKUP(VALUE(A562),WEEKLY_DATA!$A:$H,2,0),0)","v":0},{"$f":"IFERROR(VLOOKUP(VALUE(A562),WEEKLY_DATA!$A:$H,3,0),0)","v":0},{"$f":"IFERROR(VLOOKUP(VALUE(A562),WEEKLY_DATA!$A:$H,4,0),0)","v":0},{"$f":"IFERROR(VLOOKUP(VALUE(A562),WEEKLY_DATA!$A:$H,5,0),0)","v":0},{"$f":"IFERROR(VLOOKUP(VALUE(A562),WEEKLY_DATA!$A:$H,6,0),0)","v":0},{"$f":"IFERROR(VLOOKUP(VALUE(A562),WEEKLY_DATA!$A:$H,7,0),0)","v":0},{"$f":"IFERROR(IF(OR(Q562=\"\",Q562=0),\"\",IF(VLOOKUP(VALUE($A562),WEEKLY_DATA!$A:$H,6,0)=0,\"No Sales\",Q562/(VLOOKUP(VALUE($A562),WEEKLY_DATA!$A:$H,6,0)/13))),\"\")","v":""},{"$f":"IFERROR(VLOOKUP(VALUE(A562),WEEKLY_DATA!$A:$H,8,0),0)","v":0},"—"]
[null,null,null,null,null,null,null,null,{"$f":"IFERROR(INDEX(BrandList!$B$2:$B$200,MATCH(TRUE,ISNUMBER(SEARCH(BrandList!$B$2:$B$200,G563)),0)),\"\")","v":""},null,null,null,null,null,null,"",{"$f":"IFERROR(VLOOKUP(VALUE(A563),WEEKLY_DATA!$A:$H,2,0),0)","v":0},{"$f":"IFERROR(VLOOKUP(VALUE(A563),WEEKLY_DATA!$A:$H,3,0),0)","v":0},{"$f":"IFERROR(VLOOKUP(VALUE(A563),WEEKLY_DATA!$A:$H,4,0),0)","v":0},{"$f":"IFERROR(VLOOKUP(VALUE(A563),WEEKLY_DATA!$A:$H,5,0),0)","v":0},{"$f":"IFERROR(VLOOKUP(VALUE(A563),WEEKLY_DATA!$A:$H,6,0),0)","v":0},{"$f":"IFERROR(VLOOKUP(VALUE(A563),WEEKLY_DATA!$A:$H,7,0),0)","v":0},{"$f":"IFERROR(IF(OR(Q563=\"\",Q563=0),\"\",IF(VLOOKUP(VALUE($A563),WEEKLY_DATA!$A:$H,6,0)=0,\"No Sales\",Q563/(VLOOKUP(VALUE($A563),WEEKLY_DATA!$A:$H,6,0)/13))),\"\")","v":""},{"$f":"IFERROR(VLOOKUP(VALUE(A563),WEEKLY_DATA!$A:$H,8,0),0)","v":0},"—"]
[null,null,null,null,null,null,null,null,{"$f":"IFERROR(INDEX(BrandList!$B$2:$B$200,MATCH(TRUE,ISNUMBER(SEARCH(BrandList!$B$2:$B$200,G564)),0)),\"\")","v":""},null,null,null,null,null,null,"",{"$f":"IFERROR(VLOOKUP(VALUE(A564),WEEKLY_DATA!$A:$H,2,0),0)","v":0},{"$f":"IFERROR(VLOOKUP(VALUE(A564),WEEKLY_DATA!$A:$H,3,0),0)","v":0},{"$f":"IFERROR(VLOOKUP(VALUE(A564),WEEKLY_DATA!$A:$H,4,0),0)","v":0},{"$f":"IFERROR(VLOOKUP(VALUE(A564),WEEKLY_DATA!$A:$H,5,0),0)","v":0},{"$f":"IFERROR(VLOOKUP(VALUE(A564),WEEKLY_DATA!$A:$H,6,0),0)","v":0},{"$f":"IFERROR(VLOOKUP(VALUE(A564),WEEKLY_DATA!$A:$H,7,0),0)","v":0},{"$f":"IFERROR(IF(OR(Q564=\"\",Q564=0),\"\",IF(VLOOKUP(VALUE($A564),WEEKLY_DATA!$A:$H,6,0)=0,\"No Sales\",Q564/(VLOOKUP(VALUE($A564),WEEKLY_DATA!$A:$H,6,0)/13))),\"\")","v":""},{"$f":"IFERROR(VLOOKUP(VALUE(A564),WEEKLY_DATA!$A:$H,8,0),0)","v":0},"—"]
[null,null,null,null,null,null,null,null,{"$f":"IFERROR(INDEX(BrandList!$B$2:$B$200,MATCH(TRUE,ISNUMBER(SEARCH(BrandList!$B$2:$B$200,G565)),0)),\"\")","v":""},null,null,null,null,null,null,"",{"$f":"IFERROR(VLOOKUP(VALUE(A565),WEEKLY_DATA!$A:$H,2,0),0)","v":0},{"$f":"IFERROR(VLOOKUP(VALUE(A565),WEEKLY_DATA!$A:$H,3,0),0)","v":0},{"$f":"IFERROR(VLOOKUP(VALUE(A565),WEEKLY_DATA!$A:$H,4,0),0)","v":0},{"$f":"IFERROR(VLOOKUP(VALUE(A565),WEEKLY_DATA!$A:$H,5,0),0)","v":0},{"$f":"IFERROR(VLOOKUP(VALUE(A565),WEEKLY_DATA!$A:$H,6,0),0)","v":0},{"$f":"IFERROR(VLOOKUP(VALUE(A565),WEEKLY_DATA!$A:$H,7,0),0)","v":0},{"$f":"IFERROR(IF(OR(Q565=\"\",Q565=0),\"\",IF(VLOOKUP(VALUE($A565),WEEKLY_DATA!$A:$H,6,0)=0,\"No Sales\",Q565/(VLOOKUP(VALUE($A565),WEEKLY_DATA!$A:$H,6,0)/13))),\"\")","v":""},{"$f":"IFERROR(VLOOKUP(VALUE(A565),WEEKLY_DATA!$A:$H,8,0),0)","v":0},"—"]
[null,null,null,null,null,null,null,null,{"$f":"IFERROR(INDEX(BrandList!$B$2:$B$200,MATCH(TRUE,ISNUMBER(SEARCH(BrandList!$B$2:$B$200,G566)),0)),\"\")","v":""},null,null,null,null,null,null,"",{"$f":"IFERROR(VLOOKUP(VALUE(A566),WEEKLY_DATA!$A:$H,2,0),0)","v":0},{"$f":"IFERROR(VLOOKUP(VALUE(A566),WEEKLY_DATA!$A:$H,3,0),0)","v":0},{"$f":"IFERROR(VLOOKUP(VALUE(A566),WEEKLY_DATA!$A:$H,4,0),0)","v":0},{"$f":"IFERROR(VLOOKUP(VALUE(A566),WEEKLY_DATA!$A:$H,5,0),0)","v":0},{"$f":"IFERROR(VLOOKUP(VALUE(A566),WEEKLY_DATA!$A:$H,6,0),0)","v":0},{"$f":"IFERROR(VLOOKUP(VALUE(A566),WEEKLY_DATA!$A:$H,7,0),0)","v":0},{"$f":"IFERROR(IF(OR(Q566=\"\",Q566=0),\"\",IF(VLOOKUP(VALUE($A566),WEEKLY_DATA!$A:$H,6,0)=0,\"No Sales\",Q566/(VLOOKUP(VALUE($A566),WEEKLY_DATA!$A:$H,6,0)/13))),\"\")","v":""},{"$f":"IFERROR(VLOOKUP(VALUE(A566),WEEKLY_DATA!$A:$H,8,0),0)","v":0},"—"]
[null,null,null,null,null,null,null,null,{"$f":"IFERROR(INDEX(BrandList!$B$2:$B$200,MATCH(TRUE,ISNUMBER(SEARCH(BrandList!$B$2:$B$200,G567)),0)),\"\")","v":""},null,null,null,null,null,null,"",{"$f":"IFERROR(VLOOKUP(VALUE(A567),WEEKLY_DATA!$A:$H,2,0),0)","v":0},{"$f":"IFERROR(VLOOKUP(VALUE(A567),WEEKLY_DATA!$A:$H,3,0),0)","v":0},{"$f":"IFERROR(VLOOKUP(VALUE(A567),WEEKLY_DATA!$A:$H,4,0),0)","v":0},{"$f":"IFERROR(VLOOKUP(VALUE(A567),WEEKLY_DATA!$A:$H,5,0),0)","v":0},{"$f":"IFERROR(VLOOKUP(VALUE(A567),WEEKLY_DATA!$A:$H,6,0),0)","v":0},{"$f":"IFERROR(VLOOKUP(VALUE(A567),WEEKLY_DATA!$A:$H,7,0),0)","v":0},{"$f":"IFERROR(IF(OR(Q567=\"\",Q567=0),\"\",IF(VLOOKUP(VALUE($A567),WEEKLY_DATA!$A:$H,6,0)=0,\"No Sales\",Q567/(VLOOKUP(VALUE($A567),WEEKLY_DATA!$A:$H,6,0)/13))),\"\")","v":""},{"$f":"IFERROR(VLOOKUP(VALUE(A567),WEEKLY_DATA!$A:$H,8,0),0)","v":0},"—"]
[null,null,null,null,null,null,null,null,{"$f":"IFERROR(INDEX(BrandList!$B$2:$B$200,MATCH(TRUE,ISNUMBER(SEARCH(BrandList!$B$2:$B$200,G568)),0)),\"\")","v":""},null,null,null,null,null,null,"",{"$f":"IFERROR(VLOOKUP(VALUE(A568),WEEKLY_DATA!$A:$H,2,0),0)","v":0},{"$f":"IFERROR(VLOOKUP(VALUE(A568),WEEKLY_DATA!$A:$H,3,0),0)","v":0},{"$f":"IFERROR(VLOOKUP(VALUE(A568),WEEKLY_DATA!$A:$H,4,0),0)","v":0},{"$f":"IFERROR(VLOOKUP(VALUE(A568),WEEKLY_DATA!$A:$H,5,0),0)","v":0},{"$f":"IFERROR(VLOOKUP(VALUE(A568),WEEKLY_DATA!$A:$H,6,0),0)","v":0},{"$f":"IFERROR(VLOOKUP(VALUE(A568),WEEKLY_DATA!$A:$H,7,0),0)","v":0},{"$f":"IFERROR(IF(OR(Q568=\"\",Q568=0),\"\",IF(VLOOKUP(VALUE($A568),WEEKLY_DATA!$A:$H,6,0)=0,\"No Sales\",Q568/(VLOOKUP(VALUE($A568),WEEKLY_DATA!$A:$H,6,0)/13))),\"\")","v":""},{"$f":"IFERROR(VLOOKUP(VALUE(A568),WEEKLY_DATA!$A:$H,8,0),0)","v":0},"—"]
[null,null,null,null,null,null,null,null,{"$f":"IFERROR(INDEX(BrandList!$B$2:$B$200,MATCH(TRUE,ISNUMBER(SEARCH(BrandList!$B$2:$B$200,G569)),0)),\"\")","v":""},null,null,null,null,null,null,"",{"$f":"IFERROR(VLOOKUP(VALUE(A569),WEEKLY_DATA!$A:$H,2,0),0)","v":0},{"$f":"IFERROR(VLOOKUP(VALUE(A569),WEEKLY_DATA!$A:$H,3,0),0)","v":0},{"$f":"IFERROR(VLOOKUP(VALUE(A569),WEEKLY_DATA!$A:$H,4,0),0)","v":0},{"$f":"IFERROR(VLOOKUP(VALUE(A569),WEEKLY_DATA!$A:$H,5,0),0)","v":0},{"$f":"IFERROR(VLOOKUP(VALUE(A569),WEEKLY_DATA!$A:$H,6,0),0)","v":0},{"$f":"IFERROR(VLOOKUP(VALUE(A569),WEEKLY_DATA!$A:$H,7,0),0)","v":0},{"$f":"IFERROR(IF(OR(Q569=\"\",Q569=0),\"\",IF(VLOOKUP(VALUE($A569),WEEKLY_DATA!$A:$H,6,0)=0,\"No Sales\",Q569/(VLOOKUP(VALUE($A569),WEEKLY_DATA!$A:$H,6,0)/13))),\"\")","v":""},{"$f":"IFERROR(VLOOKUP(VALUE(A569),WEEKLY_DATA!$A:$H,8,0),0)","v":0},"—"]
[null,null,null,null,null,null,null,null,{"$f":"IFERROR(INDEX(BrandList!$B$2:$B$200,MATCH(TRUE,ISNUMBER(SEARCH(BrandList!$B$2:$B$200,G570)),0)),\"\")","v":""},null,null,null,null,null,null,"",{"$f":"IFERROR(VLOOKUP(VALUE(A570),WEEKLY_DATA!$A:$H,2,0),0)","v":0},{"$f":"IFERROR(VLOOKUP(VALUE(A570),WEEKLY_DATA!$A:$H,3,0),0)","v":0},{"$f":"IFERROR(VLOOKUP(VALUE(A570),WEEKLY_DATA!$A:$H,4,0),0)","v":0},{"$f":"IFERROR(VLOOKUP(VALUE(A570),WEEKLY_DATA!$A:$H,5,0),0)","v":0},{"$f":"IFERROR(VLOOKUP(VALUE(A570),WEEKLY_DATA!$A:$H,6,0),0)","v":0},{"$f":"IFERROR(VLOOKUP(VALUE(A570),WEEKLY_DATA!$A:$H,7,0),0)","v":0},{"$f":"IFERROR(IF(OR(Q570=\"\",Q570=0),\"\",IF(VLOOKUP(VALUE($A570),WEEKLY_DATA!$A:$H,6,0)=0,\"No Sales\",Q570/(VLOOKUP(VALUE($A570),WEEKLY_DATA!$A:$H,6,0)/13))),\"\")","v":""},{"$f":"IFERROR(VLOOKUP(VALUE(A570),WEEKLY_DATA!$A:$H,8,0),0)","v":0},"—"]
[null,null,null,null,null,null,null,null,{"$f":"IFERROR(INDEX(BrandList!$B$2:$B$200,MATCH(TRUE,ISNUMBER(SEARCH(BrandList!$B$2:$B$200,G571)),0)),\"\")","v":""},null,null,null,null,null,null,"",{"$f":"IFERROR(VLOOKUP(VALUE(A571),WEEKLY_DATA!$A:$H,2,0),0)","v":0},{"$f":"IFERROR(VLOOKUP(VALUE(A571),WEEKLY_DATA!$A:$H,3,0),0)","v":0},{"$f":"IFERROR(VLOOKUP(VALUE(A571),WEEKLY_DATA!$A:$H,4,0),0)","v":0},{"$f":"IFERROR(VLOOKUP(VALUE(A571),WEEKLY_DATA!$A:$H,5,0),0)","v":0},{"$f":"IFERROR(VLOOKUP(VALUE(A571),WEEKLY_DATA!$A:$H,6,0),0)","v":0},{"$f":"IFERROR(VLOOKUP(VALUE(A571),WEEKLY_DATA!$A:$H,7,0),0)","v":0},{"$f":"IFERROR(IF(OR(Q571=\"\",Q571=0),\"\",IF(VLOOKUP(VALUE($A571),WEEKLY_DATA!$A:$H,6,0)=0,\"No Sales\",Q571/(VLOOKUP(VALUE($A571),WEEKLY_DATA!$A:$H,6,0)/13))),\"\")","v":""},{"$f":"IFERROR(VLOOKUP(VALUE(A571),WEEKLY_DATA!$A:$H,8,0),0)","v":0},"—"]
[null,null,null,null,null,null,null,null,{"$f":"IFERROR(INDEX(BrandList!$B$2:$B$200,MATCH(TRUE,ISNUMBER(SEARCH(BrandList!$B$2:$B$200,G572)),0)),\"\")","v":""},null,null,null,null,null,null,"",{"$f":"IFERROR(VLOOKUP(VALUE(A572),WEEKLY_DATA!$A:$H,2,0),0)","v":0},{"$f":"IFERROR(VLOOKUP(VALUE(A572),WEEKLY_DATA!$A:$H,3,0),0)","v":0},{"$f":"IFERROR(VLOOKUP(VALUE(A572),WEEKLY_DATA!$A:$H,4,0),0)","v":0},{"$f":"IFERROR(VLOOKUP(VALUE(A572),WEEKLY_DATA!$A:$H,5,0),0)","v":0},{"$f":"IFERROR(VLOOKUP(VALUE(A572),WEEKLY_DATA!$A:$H,6,0),0)","v":0},{"$f":"IFERROR(VLOOKUP(VALUE(A572),WEEKLY_DATA!$A:$H,7,0),0)","v":0},{"$f":"IFERROR(IF(OR(Q572=\"\",Q572=0),\"\",IF(VLOOKUP(VALUE($A572),WEEKLY_DATA!$A:$H,6,0)=0,\"No Sales\",Q572/(VLOOKUP(VALUE($A572),WEEKLY_DATA!$A:$H,6,0)/13))),\"\")","v":""},{"$f":"IFERROR(VLOOKUP(VALUE(A572),WEEKLY_DATA!$A:$H,8,0),0)","v":0},"—"]
[null,null,null,null,null,null,null,null,{"$f":"IFERROR(INDEX(BrandList!$B$2:$B$200,MATCH(TRUE,ISNUMBER(SEARCH(BrandList!$B$2:$B$200,G573)),0)),\"\")","v":""},null,null,null,null,null,null,"",{"$f":"IFERROR(VLOOKUP(VALUE(A573),WEEKLY_DATA!$A:$H,2,0),0)","v":0},{"$f":"IFERROR(VLOOKUP(VALUE(A573),WEEKLY_DATA!$A:$H,3,0),0)","v":0},{"$f":"IFERROR(VLOOKUP(VALUE(A573),WEEKLY_DATA!$A:$H,4,0),0)","v":0},{"$f":"IFERROR(VLOOKUP(VALUE(A573),WEEKLY_DATA!$A:$H,5,0),0)","v":0},{"$f":"IFERROR(VLOOKUP(VALUE(A573),WEEKLY_DATA!$A:$H,6,0),0)","v":0},{"$f":"IFERROR(VLOOKUP(VALUE(A573),WEEKLY_DATA!$A:$H,7,0),0)","v":0},{"$f":"IFERROR(IF(OR(Q573=\"\",Q573=0),\"\",IF(VLOOKUP(VALUE($A573),WEEKLY_DATA!$A:$H,6,0)=0,\"No Sales\",Q573/(VLOOKUP(VALUE($A573),WEEKLY_DATA!$A:$H,6,0)/13))),\"\")","v":""},{"$f":"IFERROR(VLOOKUP(VALUE(A573),WEEKLY_DATA!$A:$H,8,0),0)","v":0},"—"]
[null,null,null,null,null,null,null,null,{"$f":"IFERROR(INDEX(BrandList!$B$2:$B$200,MATCH(TRUE,ISNUMBER(SEARCH(BrandList!$B$2:$B$200,G574)),0)),\"\")","v":""},null,null,null,null,null,null,"",{"$f":"IFERROR(VLOOKUP(VALUE(A574),WEEKLY_DATA!$A:$H,2,0),0)","v":0},{"$f":"IFERROR(VLOOKUP(VALUE(A574),WEEKLY_DATA!$A:$H,3,0),0)","v":0},{"$f":"IFERROR(VLOOKUP(VALUE(A574),WEEKLY_DATA!$A:$H,4,0),0)","v":0},{"$f":"IFERROR(VLOOKUP(VALUE(A574),WEEKLY_DATA!$A:$H,5,0),0)","v":0},{"$f":"IFERROR(VLOOKUP(VALUE(A574),WEEKLY_DATA!$A:$H,6,0),0)","v":0},{"$f":"IFERROR(VLOOKUP(VALUE(A574),WEEKLY_DATA!$A:$H,7,0),0)","v":0},{"$f":"IFERROR(IF(OR(Q574=\"\",Q574=0),\"\",IF(VLOOKUP(VALUE($A574),WEEKLY_DATA!$A:$H,6,0)=0,\"No Sales\",Q574/(VLOOKUP(VALUE($A574),WEEKLY_DATA!$A:$H,6,0)/13))),\"\")","v":""},{"$f":"IFERROR(VLOOKUP(VALUE(A574),WEEKLY_DATA!$A:$H,8,0),0)","v":0},"—"]
[null,null,null,null,null,null,null,null,{"$f":"IFERROR(INDEX(BrandList!$B$2:$B$200,MATCH(TRUE,ISNUMBER(SEARCH(BrandList!$B$2:$B$200,G575)),0)),\"\")","v":""},null,null,null,null,null,null,"",{"$f":"IFERROR(VLOOKUP(VALUE(A575),WEEKLY_DATA!$A:$H,2,0),0)","v":0},{"$f":"IFERROR(VLOOKUP(VALUE(A575),WEEKLY_DATA!$A:$H,3,0),0)","v":0},{"$f":"IFERROR(VLOOKUP(VALUE(A575),WEEKLY_DATA!$A:$H,4,0),0)","v":0},{"$f":"IFERROR(VLOOKUP(VALUE(A575),WEEKLY_DATA!$A:$H,5,0),0)","v":0},{"$f":"IFERROR(VLOOKUP(VALUE(A575),WEEKLY_DATA!$A:$H,6,0),0)","v":0},{"$f":"IFERROR(VLOOKUP(VALUE(A575),WEEKLY_DATA!$A:$H,7,0),0)","v":0},{"$f":"IFERROR(IF(OR(Q575=\"\",Q575=0),\"\",IF(VLOOKUP(VALUE($A575),WEEKLY_DATA!$A:$H,6,0)=0,\"No Sales\",Q575/(VLOOKUP(VALUE($A575),WEEKLY_DATA!$A:$H,6,0)/13))),\"\")","v":""},{"$f":"IFERROR(VLOOKUP(VALUE(A575),WEEKLY_DATA!$A:$H,8,0),0)","v":0},"—"]
[null,null,null,null,null,null,null,null,{"$f":"IFERROR(INDEX(BrandList!$B$2:$B$200,MATCH(TRUE,ISNUMBER(SEARCH(BrandList!$B$2:$B$200,G576)),0)),\"\")","v":""},null,null,null,null,null,null,"",{"$f":"IFERROR(VLOOKUP(VALUE(A576),WEEKLY_DATA!$A:$H,2,0),0)","v":0},{"$f":"IFERROR(VLOOKUP(VALUE(A576),WEEKLY_DATA!$A:$H,3,0),0)","v":0},{"$f":"IFERROR(VLOOKUP(VALUE(A576),WEEKLY_DATA!$A:$H,4,0),0)","v":0},{"$f":"IFERROR(VLOOKUP(VALUE(A576),WEEKLY_DATA!$A:$H,5,0),0)","v":0},{"$f":"IFERROR(VLOOKUP(VALUE(A576),WEEKLY_DATA!$A:$H,6,0),0)","v":0},{"$f":"IFERROR(VLOOKUP(VALUE(A576),WEEKLY_DATA!$A:$H,7,0),0)","v":0},{"$f":"IFERROR(IF(OR(Q576=\"\",Q576=0),\"\",IF(VLOOKUP(VALUE($A576),WEEKLY_DATA!$A:$H,6,0)=0,\"No Sales\",Q576/(VLOOKUP(VALUE($A576),WEEKLY_DATA!$A:$H,6,0)/13))),\"\")","v":""},{"$f":"IFERROR(VLOOKUP(VALUE(A576),WEEKLY_DATA!$A:$H,8,0),0)","v":0},"—"]
[null,null,null,null,null,null,null,null,{"$f":"IFERROR(INDEX(BrandList!$B$2:$B$200,MATCH(TRUE,ISNUMBER(SEARCH(BrandList!$B$2:$B$200,G577)),0)),\"\")","v":""},null,null,null,null,null,null,"",{"$f":"IFERROR(VLOOKUP(VALUE(A577),WEEKLY_DATA!$A:$H,2,0),0)","v":0},{"$f":"IFERROR(VLOOKUP(VALUE(A577),WEEKLY_DATA!$A:$H,3,0),0)","v":0},{"$f":"IFERROR(VLOOKUP(VALUE(A577),WEEKLY_DATA!$A:$H,4,0),0)","v":0},{"$f":"IFERROR(VLOOKUP(VALUE(A577),WEEKLY_DATA!$A:$H,5,0),0)","v":0},{"$f":"IFERROR(VLOOKUP(VALUE(A577),WEEKLY_DATA!$A:$H,6,0),0)","v":0},{"$f":"IFERROR(VLOOKUP(VALUE(A577),WEEKLY_DATA!$A:$H,7,0),0)","v":0},{"$f":"IFERROR(IF(OR(Q577=\"\",Q577=0),\"\",IF(VLOOKUP(VALUE($A577),WEEKLY_DATA!$A:$H,6,0)=0,\"No Sales\",Q577/(VLOOKUP(VALUE($A577),WEEKLY_DATA!$A:$H,6,0)/13))),\"\")","v":""},{"$f":"IFERROR(VLOOKUP(VALUE(A577),WEEKLY_DATA!$A:$H,8,0),0)","v":0},"—"]
[null,null,null,null,null,null,null,null,{"$f":"IFERROR(INDEX(BrandList!$B$2:$B$200,MATCH(TRUE,ISNUMBER(SEARCH(BrandList!$B$2:$B$200,G578)),0)),\"\")","v":""},null,null,null,null,null,null,"",{"$f":"IFERROR(VLOOKUP(VALUE(A578),WEEKLY_DATA!$A:$H,2,0),0)","v":0},{"$f":"IFERROR(VLOOKUP(VALUE(A578),WEEKLY_DATA!$A:$H,3,0),0)","v":0},{"$f":"IFERROR(VLOOKUP(VALUE(A578),WEEKLY_DATA!$A:$H,4,0),0)","v":0},{"$f":"IFERROR(VLOOKUP(VALUE(A578),WEEKLY_DATA!$A:$H,5,0),0)","v":0},{"$f":"IFERROR(VLOOKUP(VALUE(A578),WEEKLY_DATA!$A:$H,6,0),0)","v":0},{"$f":"IFERROR(VLOOKUP(VALUE(A578),WEEKLY_DATA!$A:$H,7,0),0)","v":0},{"$f":"IFERROR(IF(OR(Q578=\"\",Q578=0),\"\",IF(VLOOKUP(VALUE($A578),WEEKLY_DATA!$A:$H,6,0)=0,\"No Sales\",Q578/(VLOOKUP(VALUE($A578),WEEKLY_DATA!$A:$H,6,0)/13))),\"\")","v":""},{"$f":"IFERROR(VLOOKUP(VALUE(A578),WEEKLY_DATA!$A:$H,8,0),0)","v":0},"—"]
[null,null,null,null,null,null,null,null,{"$f":"IFERROR(INDEX(BrandList!$B$2:$B$200,MATCH(TRUE,ISNUMBER(SEARCH(BrandList!$B$2:$B$200,G579)),0)),\"\")","v":""},null,null,null,null,null,null,"",{"$f":"IFERROR(VLOOKUP(VALUE(A579),WEEKLY_DATA!$A:$H,2,0),0)","v":0},{"$f":"IFERROR(VLOOKUP(VALUE(A579),WEEKLY_DATA!$A:$H,3,0),0)","v":0},{"$f":"IFERROR(VLOOKUP(VALUE(A579),WEEKLY_DATA!$A:$H,4,0),0)","v":0},{"$f":"IFERROR(VLOOKUP(VALUE(A579),WEEKLY_DATA!$A:$H,5,0),0)","v":0},{"$f":"IFERROR(VLOOKUP(VALUE(A579),WEEKLY_DATA!$A:$H,6,0),0)","v":0},{"$f":"IFERROR(VLOOKUP(VALUE(A579),WEEKLY_DATA!$A:$H,7,0),0)","v":0},{"$f":"IFERROR(IF(OR(Q579=\"\",Q579=0),\"\",IF(VLOOKUP(VALUE($A579),WEEKLY_DATA!$A:$H,6,0)=0,\"No Sales\",Q579/(VLOOKUP(VALUE($A579),WEEKLY_DATA!$A:$H,6,0)/13))),\"\")","v":""},{"$f":"IFERROR(VLOOKUP(VALUE(A579),WEEKLY_DATA!$A:$H,8,0),0)","v":0},"—"]
[null,null,null,null,null,null,null,null,{"$f":"IFERROR(INDEX(BrandList!$B$2:$B$200,MATCH(TRUE,ISNUMBER(SEARCH(BrandList!$B$2:$B$200,G580)),0)),\"\")","v":""},null,null,null,null,null,null,"",{"$f":"IFERROR(VLOOKUP(VALUE(A580),WEEKLY_DATA!$A:$H,2,0),0)","v":0},{"$f":"IFERROR(VLOOKUP(VALUE(A580),WEEKLY_DATA!$A:$H,3,0),0)","v":0},{"$f":"IFERROR(VLOOKUP(VALUE(A580),WEEKLY_DATA!$A:$H,4,0),0)","v":0},{"$f":"IFERROR(VLOOKUP(VALUE(A580),WEEKLY_DATA!$A:$H,5,0),0)","v":0},{"$f":"IFERROR(VLOOKUP(VALUE(A580),WEEKLY_DATA!$A:$H,6,0),0)","v":0},{"$f":"IFERROR(VLOOKUP(VALUE(A580),WEEKLY_DATA!$A:$H,7,0),0)","v":0},{"$f":"IFERROR(IF(OR(Q580=\"\",Q580=0),\"\",IF(VLOOKUP(VALUE($A580),WEEKLY_DATA!$A:$H,6,0)=0,\"No Sales\",Q580/(VLOOKUP(VALUE($A580),WEEKLY_DATA!$A:$H,6,0)/13))),\"\")","v":""},{"$f":"IFERROR(VLOOKUP(VALUE(A580),WEEKLY_DATA!$A:$H,8,0),0)","v":0},"—"]
[null,null,null,null,null,null,null,null,{"$f":"IFERROR(INDEX(BrandList!$B$2:$B$200,MATCH(TRUE,ISNUMBER(SEARCH(BrandList!$B$2:$B$200,G581)),0)),\"\")","v":""},null,null,null,null,null,null,"",{"$f":"IFERROR(VLOOKUP(VALUE(A581),WEEKLY_DATA!$A:$H,2,0),0)","v":0},{"$f":"IFERROR(VLOOKUP(VALUE(A581),WEEKLY_DATA!$A:$H,3,0),0)","v":0},{"$f":"IFERROR(VLOOKUP(VALUE(A581),WEEKLY_DATA!$A:$H,4,0),0)","v":0},{"$f":"IFERROR(VLOOKUP(VALUE(A581),WEEKLY_DATA!$A:$H,5,0),0)","v":0},{"$f":"IFERROR(VLOOKUP(VALUE(A581),WEEKLY_DATA!$A:$H,6,0),0)","v":0},{"$f":"IFERROR(VLOOKUP(VALUE(A581),WEEKLY_DATA!$A:$H,7,0),0)","v":0},{"$f":"IFERROR(IF(OR(Q581=\"\",Q581=0),\"\",IF(VLOOKUP(VALUE($A581),WEEKLY_DATA!$A:$H,6,0)=0,\"No Sales\",Q581/(VLOOKUP(VALUE($A581),WEEKLY_DATA!$A:$H,6,0)/13))),\"\")","v":""},{"$f":"IFERROR(VLOOKUP(VALUE(A581),WEEKLY_DATA!$A:$H,8,0),0)","v":0},"—"]
[null,null,null,null,null,null,null,null,{"$f":"IFERROR(INDEX(BrandList!$B$2:$B$200,MATCH(TRUE,ISNUMBER(SEARCH(BrandList!$B$2:$B$200,G582)),0)),\"\")","v":""},null,null,null,null,null,null,"",{"$f":"IFERROR(VLOOKUP(VALUE(A582),WEEKLY_DATA!$A:$H,2,0),0)","v":0},{"$f":"IFERROR(VLOOKUP(VALUE(A582),WEEKLY_DATA!$A:$H,3,0),0)","v":0},{"$f":"IFERROR(VLOOKUP(VALUE(A582),WEEKLY_DATA!$A:$H,4,0),0)","v":0},{"$f":"IFERROR(VLOOKUP(VALUE(A582),WEEKLY_DATA!$A:$H,5,0),0)","v":0},{"$f":"IFERROR(VLOOKUP(VALUE(A582),WEEKLY_DATA!$A:$H,6,0),0)","v":0},{"$f":"IFERROR(VLOOKUP(VALUE(A582),WEEKLY_DATA!$A:$H,7,0),0)","v":0},{"$f":"IFERROR(IF(OR(Q582=\"\",Q582=0),\"\",IF(VLOOKUP(VALUE($A582),WEEKLY_DATA!$A:$H,6,0)=0,\"No Sales\",Q582/(VLOOKUP(VALUE($A582),WEEKLY_DATA!$A:$H,6,0)/13))),\"\")","v":""},{"$f":"IFERROR(VLOOKUP(VALUE(A582),WEEKLY_DATA!$A:$H,8,0),0)","v":0},{"$f":"IFERROR(\nIF(J582=\"Discontinued\",\"🔴 EOL\",\nIF(J582=\"Drop Ship\",\"📦 Drop Ship\",\nIF(J582=\"New\",\"🆕 New\",\nIF(W582=\"\",\"—\",\nIF(W582<2,\"🔴 Critical\",\nIF(W582<4,\"🟡 Low\",\nIF(W582>26,\"🔵 Overstock\",\"🟢 Healthy\")\n)))))),\"\")","v":"—"}]
[null,null,null,null,null,null,null,null,{"$f":"IFERROR(INDEX(BrandList!$B$2:$B$200,MATCH(TRUE,ISNUMBER(SEARCH(BrandList!$B$2:$B$200,G583)),0)),\"\")","v":""},null,null,null,null,null,null,{"$f":"IFERROR(IF(OR(E583=\"\",F583=\"\",F583=0),\"\",(F583-E583)/F583),\"\")","v":""},{"$f":"IFERROR(VLOOKUP(VALUE(A583),WEEKLY_DATA!$A:$H,2,0),0)","v":0},{"$f":"IFERROR(VLOOKUP(VALUE(A583),WEEKLY_DATA!$A:$H,3,0),0)","v":0},{"$f":"IFERROR(VLOOKUP(VALUE(A583),WEEKLY_DATA!$A:$H,4,0),0)","v":0},{"$f":"IFERROR(VLOOKUP(VALUE(A583),WEEKLY_DATA!$A:$H,5,0),0)","v":0},{"$f":"IFERROR(VLOOKUP(VALUE(A583),WEEKLY_DATA!$A:$H,6,0),0)","v":0},{"$f":"IFERROR(VLOOKUP(VALUE(A583),WEEKLY_DATA!$A:$H,7,0),0)","v":0},{"$f":"IFERROR(IF(OR(Q583=\"\",Q583=0),\"\",IF(VLOOKUP(VALUE($A583),WEEKLY_DATA!$A:$H,6,0)=0,\"No Sales\",Q583/(VLOOKUP(VALUE($A583),WEEKLY_DATA!$A:$H,6,0)/13))),\"\")","v":""},{"$f":"IFERROR(VLOOKUP(VALUE(A583),WEEKLY_DATA!$A:$H,8,0),0)","v":0},"—"]
[null,null,null,null,null,null,null,null,{"$f":"IFERROR(INDEX(BrandList!$B$2:$B$200,MATCH(TRUE,ISNUMBER(SEARCH(BrandList!$B$2:$B$200,G584)),0)),\"\")","v":""},null,null,null,null,null,null,"",{"$f":"IFERROR(VLOOKUP(VALUE(A584),WEEKLY_DATA!$A:$H,2,0),0)","v":0},{"$f":"IFERROR(VLOOKUP(VALUE(A584),WEEKLY_DATA!$A:$H,3,0),0)","v":0},{"$f":"IFERROR(VLOOKUP(VALUE(A584),WEEKLY_DATA!$A:$H,4,0),0)","v":0},{"$f":"IFERROR(VLOOKUP(VALUE(A584),WEEKLY_DATA!$A:$H,5,0),0)","v":0},{"$f":"IFERROR(VLOOKUP(VALUE(A584),WEEKLY_DATA!$A:$H,6,0),0)","v":0},{"$f":"IFERROR(VLOOKUP(VALUE(A584),WEEKLY_DATA!$A:$H,7,0),0)","v":0},{"$f":"IFERROR(IF(OR(Q584=\"\",Q584=0),\"\",IF(VLOOKUP(VALUE($A584),WEEKLY_DATA!$A:$H,6,0)=0,\"No Sales\",Q584/(VLOOKUP(VALUE($A584),WEEKLY_DATA!$A:$H,6,0)/13))),\"\")","v":""},{"$f":"IFERROR(VLOOKUP(VALUE(A584),WEEKLY_DATA!$A:$H,8,0),0)","v":0},"—"]
[null,null,null,null,null,null,null,null,{"$f":"IFERROR(INDEX(BrandList!$B$2:$B$200,MATCH(TRUE,ISNUMBER(SEARCH(BrandList!$B$2:$B$200,G585)),0)),\"\")","v":""},null,null,null,null,null,null,"",{"$f":"IFERROR(VLOOKUP(VALUE(A585),WEEKLY_DATA!$A:$H,2,0),0)","v":0},{"$f":"IFERROR(VLOOKUP(VALUE(A585),WEEKLY_DATA!$A:$H,3,0),0)","v":0},{"$f":"IFERROR(VLOOKUP(VALUE(A585),WEEKLY_DATA!$A:$H,4,0),0)","v":0},{"$f":"IFERROR(VLOOKUP(VALUE(A585),WEEKLY_DATA!$A:$H,5,0),0)","v":0},{"$f":"IFERROR(VLOOKUP(VALUE(A585),WEEKLY_DATA!$A:$H,6,0),0)","v":0},{"$f":"IFERROR(VLOOKUP(VALUE(A585),WEEKLY_DATA!$A:$H,7,0),0)","v":0},{"$f":"IFERROR(IF(OR(Q585=\"\",Q585=0),\"\",IF(VLOOKUP(VALUE($A585),WEEKLY_DATA!$A:$H,6,0)=0,\"No Sales\",Q585/(VLOOKUP(VALUE($A585),WEEKLY_DATA!$A:$H,6,0)/13))),\"\")","v":""},{"$f":"IFERROR(VLOOKUP(VALUE(A585),WEEKLY_DATA!$A:$H,8,0),0)","v":0},"—"]
[null,null,null,null,null,null,null,null,{"$f":"IFERROR(INDEX(BrandList!$B$2:$B$200,MATCH(TRUE,ISNUMBER(SEARCH(BrandList!$B$2:$B$200,G586)),0)),\"\")","v":""},null,null,null,null,null,null,"",{"$f":"IFERROR(VLOOKUP(VALUE(A586),WEEKLY_DATA!$A:$H,2,0),0)","v":0},{"$f":"IFERROR(VLOOKUP(VALUE(A586),WEEKLY_DATA!$A:$H,3,0),0)","v":0},{"$f":"IFERROR(VLOOKUP(VALUE(A586),WEEKLY_DATA!$A:$H,4,0),0)","v":0},{"$f":"IFERROR(VLOOKUP(VALUE(A586),WEEKLY_DATA!$A:$H,5,0),0)","v":0},{"$f":"IFERROR(VLOOKUP(VALUE(A586),WEEKLY_DATA!$A:$H,6,0),0)","v":0},{"$f":"IFERROR(VLOOKUP(VALUE(A586),WEEKLY_DATA!$A:$H,7,0),0)","v":0},{"$f":"IFERROR(IF(OR(Q586=\"\",Q586=0),\"\",IF(VLOOKUP(VALUE($A586),WEEKLY_DATA!$A:$H,6,0)=0,\"No Sales\",Q586/(VLOOKUP(VALUE($A586),WEEKLY_DATA!$A:$H,6,0)/13))),\"\")","v":""},{"$f":"IFERROR(VLOOKUP(VALUE(A586),WEEKLY_DATA!$A:$H,8,0),0)","v":0},"—"]
[null,null,null,null,null,null,null,null,{"$f":"IFERROR(INDEX(BrandList!$B$2:$B$200,MATCH(TRUE,ISNUMBER(SEARCH(BrandList!$B$2:$B$200,G587)),0)),\"\")","v":""},null,null,null,null,null,null,"",{"$f":"IFERROR(VLOOKUP(VALUE(A587),WEEKLY_DATA!$A:$H,2,0),0)","v":0},{"$f":"IFERROR(VLOOKUP(VALUE(A587),WEEKLY_DATA!$A:$H,3,0),0)","v":0},{"$f":"IFERROR(VLOOKUP(VALUE(A587),WEEKLY_DATA!$A:$H,4,0),0)","v":0},{"$f":"IFERROR(VLOOKUP(VALUE(A587),WEEKLY_DATA!$A:$H,5,0),0)","v":0},{"$f":"IFERROR(VLOOKUP(VALUE(A587),WEEKLY_DATA!$A:$H,6,0),0)","v":0},{"$f":"IFERROR(VLOOKUP(VALUE(A587),WEEKLY_DATA!$A:$H,7,0),0)","v":0},{"$f":"IFERROR(IF(OR(Q587=\"\",Q587=0),\"\",IF(VLOOKUP(VALUE($A587),WEEKLY_DATA!$A:$H,6,0)=0,\"No Sales\",Q587/(VLOOKUP(VALUE($A587),WEEKLY_DATA!$A:$H,6,0)/13))),\"\")","v":""},{"$f":"IFERROR(VLOOKUP(VALUE(A587),WEEKLY_DATA!$A:$H,8,0),0)","v":0},"—"]
[null,null,null,null,null,null,null,null,{"$f":"IFERROR(INDEX(BrandList!$B$2:$B$200,MATCH(TRUE,ISNUMBER(SEARCH(BrandList!$B$2:$B$200,G588)),0)),\"\")","v":""},null,null,null,null,null,null,"",{"$f":"IFERROR(VLOOKUP(VALUE(A588),WEEKLY_DATA!$A:$H,2,0),0)","v":0},{"$f":"IFERROR(VLOOKUP(VALUE(A588),WEEKLY_DATA!$A:$H,3,0),0)","v":0},{"$f":"IFERROR(VLOOKUP(VALUE(A588),WEEKLY_DATA!$A:$H,4,0),0)","v":0},{"$f":"IFERROR(VLOOKUP(VALUE(A588),WEEKLY_DATA!$A:$H,5,0),0)","v":0},{"$f":"IFERROR(VLOOKUP(VALUE(A588),WEEKLY_DATA!$A:$H,6,0),0)","v":0},{"$f":"IFERROR(VLOOKUP(VALUE(A588),WEEKLY_DATA!$A:$H,7,0),0)","v":0},{"$f":"IFERROR(IF(OR(Q588=\"\",Q588=0),\"\",IF(VLOOKUP(VALUE($A588),WEEKLY_DATA!$A:$H,6,0)=0,\"No Sales\",Q588/(VLOOKUP(VALUE($A588),WEEKLY_DATA!$A:$H,6,0)/13))),\"\")","v":""},{"$f":"IFERROR(VLOOKUP(VALUE(A588),WEEKLY_DATA!$A:$H,8,0),0)","v":0},"—"]
[null,null,null,null,null,null,null,null,{"$f":"IFERROR(INDEX(BrandList!$B$2:$B$200,MATCH(TRUE,ISNUMBER(SEARCH(BrandList!$B$2:$B$200,G589)),0)),\"\")","v":""},null,null,null,null,null,null,"",{"$f":"IFERROR(VLOOKUP(VALUE(A589),WEEKLY_DATA!$A:$H,2,0),0)","v":0},{"$f":"IFERROR(VLOOKUP(VALUE(A589),WEEKLY_DATA!$A:$H,3,0),0)","v":0},{"$f":"IFERROR(VLOOKUP(VALUE(A589),WEEKLY_DATA!$A:$H,4,0),0)","v":0},{"$f":"IFERROR(VLOOKUP(VALUE(A589),WEEKLY_DATA!$A:$H,5,0),0)","v":0},{"$f":"IFERROR(VLOOKUP(VALUE(A589),WEEKLY_DATA!$A:$H,6,0),0)","v":0},{"$f":"IFERROR(VLOOKUP(VALUE(A589),WEEKLY_DATA!$A:$H,7,0),0)","v":0},{"$f":"IFERROR(IF(OR(Q589=\"\",Q589=0),\"\",IF(VLOOKUP(VALUE($A589),WEEKLY_DATA!$A:$H,6,0)=0,\"No Sales\",Q589/(VLOOKUP(VALUE($A589),WEEKLY_DATA!$A:$H,6,0)/13))),\"\")","v":""},{"$f":"IFERROR(VLOOKUP(VALUE(A589),WEEKLY_DATA!$A:$H,8,0),0)","v":0},"—"]
[null,null,null,null,null,null,null,null,{"$f":"IFERROR(INDEX(BrandList!$B$2:$B$200,MATCH(TRUE,ISNUMBER(SEARCH(BrandList!$B$2:$B$200,G590)),0)),\"\")","v":""},null,null,null,null,null,null,"",{"$f":"IFERROR(VLOOKUP(VALUE(A590),WEEKLY_DATA!$A:$H,2,0),0)","v":0},{"$f":"IFERROR(VLOOKUP(VALUE(A590),WEEKLY_DATA!$A:$H,3,0),0)","v":0},{"$f":"IFERROR(VLOOKUP(VALUE(A590),WEEKLY_DATA!$A:$H,4,0),0)","v":0},{"$f":"IFERROR(VLOOKUP(VALUE(A590),WEEKLY_DATA!$A:$H,5,0),0)","v":0},{"$f":"IFERROR(VLOOKUP(VALUE(A590),WEEKLY_DATA!$A:$H,6,0),0)","v":0},{"$f":"IFERROR(VLOOKUP(VALUE(A590),WEEKLY_DATA!$A:$H,7,0),0)","v":0},{"$f":"IFERROR(IF(OR(Q590=\"\",Q590=0),\"\",IF(VLOOKUP(VALUE($A590),WEEKLY_DATA!$A:$H,6,0)=0,\"No Sales\",Q590/(VLOOKUP(VALUE($A590),WEEKLY_DATA!$A:$H,6,0)/13))),\"\")","v":""},{"$f":"IFERROR(VLOOKUP(VALUE(A590),WEEKLY_DATA!$A:$H,8,0),0)","v":0},"—"]
[null,null,null,null,null,null,null,null,{"$f":"IFERROR(INDEX(BrandList!$B$2:$B$200,MATCH(TRUE,ISNUMBER(SEARCH(BrandList!$B$2:$B$200,G591)),0)),\"\")","v":""},null,null,null,null,null,null,"",{"$f":"IFERROR(VLOOKUP(VALUE(A591),WEEKLY_DATA!$A:$H,2,0),0)","v":0},{"$f":"IFERROR(VLOOKUP(VALUE(A591),WEEKLY_DATA!$A:$H,3,0),0)","v":0},{"$f":"IFERROR(VLOOKUP(VALUE(A591),WEEKLY_DATA!$A:$H,4,0),0)","v":0},{"$f":"IFERROR(VLOOKUP(VALUE(A591),WEEKLY_DATA!$A:$H,5,0),0)","v":0},{"$f":"IFERROR(VLOOKUP(VALUE(A591),WEEKLY_DATA!$A:$H,6,0),0)","v":0},{"$f":"IFERROR(VLOOKUP(VALUE(A591),WEEKLY_DATA!$A:$H,7,0),0)","v":0},{"$f":"IFERROR(IF(OR(Q591=\"\",Q591=0),\"\",IF(VLOOKUP(VALUE($A591),WEEKLY_DATA!$A:$H,6,0)=0,\"No Sales\",Q591/(VLOOKUP(VALUE($A591),WEEKLY_DATA!$A:$H,6,0)/13))),\"\")","v":""},{"$f":"IFERROR(VLOOKUP(VALUE(A591),WEEKLY_DATA!$A:$H,8,0),0)","v":0},"—"]
[null,null,null,null,null,null,null,null,{"$f":"IFERROR(INDEX(BrandList!$B$2:$B$200,MATCH(TRUE,ISNUMBER(SEARCH(BrandList!$B$2:$B$200,G592)),0)),\"\")","v":""},null,null,null,null,null,null,"",{"$f":"IFERROR(VLOOKUP(VALUE(A592),WEEKLY_DATA!$A:$H,2,0),0)","v":0},{"$f":"IFERROR(VLOOKUP(VALUE(A592),WEEKLY_DATA!$A:$H,3,0),0)","v":0},{"$f":"IFERROR(VLOOKUP(VALUE(A592),WEEKLY_DATA!$A:$H,4,0),0)","v":0},{"$f":"IFERROR(VLOOKUP(VALUE(A592),WEEKLY_DATA!$A:$H,5,0),0)","v":0},{"$f":"IFERROR(VLOOKUP(VALUE(A592),WEEKLY_DATA!$A:$H,6,0),0)","v":0},{"$f":"IFERROR(VLOOKUP(VALUE(A592),WEEKLY_DATA!$A:$H,7,0),0)","v":0},{"$f":"IFERROR(IF(OR(Q592=\"\",Q592=0),\"\",IF(VLOOKUP(VALUE($A592),WEEKLY_DATA!$A:$H,6,0)=0,\"No Sales\",Q592/(VLOOKUP(VALUE($A592),WEEKLY_DATA!$A:$H,6,0)/13))),\"\")","v":""},{"$f":"IFERROR(VLOOKUP(VALUE(A592),WEEKLY_DATA!$A:$H,8,0),0)","v":0},"—"]
[null,null,null,null,null,null,null,null,{"$f":"IFERROR(INDEX(BrandList!$B$2:$B$200,MATCH(TRUE,ISNUMBER(SEARCH(BrandList!$B$2:$B$200,G593)),0)),\"\")","v":""},null,null,null,null,null,null,"",{"$f":"IFERROR(VLOOKUP(VALUE(A593),WEEKLY_DATA!$A:$H,2,0),0)","v":0},{"$f":"IFERROR(VLOOKUP(VALUE(A593),WEEKLY_DATA!$A:$H,3,0),0)","v":0},{"$f":"IFERROR(VLOOKUP(VALUE(A593),WEEKLY_DATA!$A:$H,4,0),0)","v":0},{"$f":"IFERROR(VLOOKUP(VALUE(A593),WEEKLY_DATA!$A:$H,5,0),0)","v":0},{"$f":"IFERROR(VLOOKUP(VALUE(A593),WEEKLY_DATA!$A:$H,6,0),0)","v":0},{"$f":"IFERROR(VLOOKUP(VALUE(A593),WEEKLY_DATA!$A:$H,7,0),0)","v":0},{"$f":"IFERROR(IF(OR(Q593=\"\",Q593=0),\"\",IF(VLOOKUP(VALUE($A593),WEEKLY_DATA!$A:$H,6,0)=0,\"No Sales\",Q593/(VLOOKUP(VALUE($A593),WEEKLY_DATA!$A:$H,6,0)/13))),\"\")","v":""},{"$f":"IFERROR(VLOOKUP(VALUE(A593),WEEKLY_DATA!$A:$H,8,0),0)","v":0},"—"]
[null,null,null,null,null,null,null,null,{"$f":"IFERROR(INDEX(BrandList!$B$2:$B$200,MATCH(TRUE,ISNUMBER(SEARCH(BrandList!$B$2:$B$200,G594)),0)),\"\")","v":""},null,null,null,null,null,null,"",{"$f":"IFERROR(VLOOKUP(VALUE(A594),WEEKLY_DATA!$A:$H,2,0),0)","v":0},{"$f":"IFERROR(VLOOKUP(VALUE(A594),WEEKLY_DATA!$A:$H,3,0),0)","v":0},{"$f":"IFERROR(VLOOKUP(VALUE(A594),WEEKLY_DATA!$A:$H,4,0),0)","v":0},{"$f":"IFERROR(VLOOKUP(VALUE(A594),WEEKLY_DATA!$A:$H,5,0),0)","v":0},{"$f":"IFERROR(VLOOKUP(VALUE(A594),WEEKLY_DATA!$A:$H,6,0),0)","v":0},{"$f":"IFERROR(VLOOKUP(VALUE(A594),WEEKLY_DATA!$A:$H,7,0),0)","v":0},{"$f":"IFERROR(IF(OR(Q594=\"\",Q594=0),\"\",IF(VLOOKUP(VALUE($A594),WEEKLY_DATA!$A:$H,6,0)=0,\"No Sales\",Q594/(VLOOKUP(VALUE($A594),WEEKLY_DATA!$A:$H,6,0)/13))),\"\")","v":""},{"$f":"IFERROR(VLOOKUP(VALUE(A594),WEEKLY_DATA!$A:$H,8,0),0)","v":0},"—"]
[null,null,null,null,null,null,null,null,{"$f":"IFERROR(INDEX(BrandList!$B$2:$B$200,MATCH(TRUE,ISNUMBER(SEARCH(BrandList!$B$2:$B$200,G595)),0)),\"\")","v":""},null,null,null,null,null,null,"",{"$f":"IFERROR(VLOOKUP(VALUE(A595),WEEKLY_DATA!$A:$H,2,0),0)","v":0},{"$f":"IFERROR(VLOOKUP(VALUE(A595),WEEKLY_DATA!$A:$H,3,0),0)","v":0},{"$f":"IFERROR(VLOOKUP(VALUE(A595),WEEKLY_DATA!$A:$H,4,0),0)","v":0},{"$f":"IFERROR(VLOOKUP(VALUE(A595),WEEKLY_DATA!$A:$H,5,0),0)","v":0},{"$f":"IFERROR(VLOOKUP(VALUE(A595),WEEKLY_DATA!$A:$H,6,0),0)","v":0},{"$f":"IFERROR(VLOOKUP(VALUE(A595),WEEKLY_DATA!$A:$H,7,0),0)","v":0},{"$f":"IFERROR(IF(OR(Q595=\"\",Q595=0),\"\",IF(VLOOKUP(VALUE($A595),WEEKLY_DATA!$A:$H,6,0)=0,\"No Sales\",Q595/(VLOOKUP(VALUE($A595),WEEKLY_DATA!$A:$H,6,0)/13))),\"\")","v":""},{"$f":"IFERROR(VLOOKUP(VALUE(A595),WEEKLY_DATA!$A:$H,8,0),0)","v":0},"—"]
[null,null,null,null,null,null,null,null,{"$f":"IFERROR(INDEX(BrandList!$B$2:$B$200,MATCH(TRUE,ISNUMBER(SEARCH(BrandList!$B$2:$B$200,G596)),0)),\"\")","v":""},null,null,null,null,null,null,"",{"$f":"IFERROR(VLOOKUP(VALUE(A596),WEEKLY_DATA!$A:$H,2,0),0)","v":0},{"$f":"IFERROR(VLOOKUP(VALUE(A596),WEEKLY_DATA!$A:$H,3,0),0)","v":0},{"$f":"IFERROR(VLOOKUP(VALUE(A596),WEEKLY_DATA!$A:$H,4,0),0)","v":0},{"$f":"IFERROR(VLOOKUP(VALUE(A596),WEEKLY_DATA!$A:$H,5,0),0)","v":0},{"$f":"IFERROR(VLOOKUP(VALUE(A596),WEEKLY_DATA!$A:$H,6,0),0)","v":0},{"$f":"IFERROR(VLOOKUP(VALUE(A596),WEEKLY_DATA!$A:$H,7,0),0)","v":0},{"$f":"IFERROR(IF(OR(Q596=\"\",Q596=0),\"\",IF(VLOOKUP(VALUE($A596),WEEKLY_DATA!$A:$H,6,0)=0,\"No Sales\",Q596/(VLOOKUP(VALUE($A596),WEEKLY_DATA!$A:$H,6,0)/13))),\"\")","v":""},{"$f":"IFERROR(VLOOKUP(VALUE(A596),WEEKLY_DATA!$A:$H,8,0),0)","v":0},"—"]
[null,null,null,null,null,null,null,null,{"$f":"IFERROR(INDEX(BrandList!$B$2:$B$200,MATCH(TRUE,ISNUMBER(SEARCH(BrandList!$B$2:$B$200,G597)),0)),\"\")","v":""},null,null,null,null,null,null,"",{"$f":"IFERROR(VLOOKUP(VALUE(A597),WEEKLY_DATA!$A:$H,2,0),0)","v":0},{"$f":"IFERROR(VLOOKUP(VALUE(A597),WEEKLY_DATA!$A:$H,3,0),0)","v":0},{"$f":"IFERROR(VLOOKUP(VALUE(A597),WEEKLY_DATA!$A:$H,4,0),0)","v":0},{"$f":"IFERROR(VLOOKUP(VALUE(A597),WEEKLY_DATA!$A:$H,5,0),0)","v":0},{"$f":"IFERROR(VLOOKUP(VALUE(A597),WEEKLY_DATA!$A:$H,6,0),0)","v":0},{"$f":"IFERROR(VLOOKUP(VALUE(A597),WEEKLY_DATA!$A:$H,7,0),0)","v":0},{"$f":"IFERROR(IF(OR(Q597=\"\",Q597=0),\"\",IF(VLOOKUP(VALUE($A597),WEEKLY_DATA!$A:$H,6,0)=0,\"No Sales\",Q597/(VLOOKUP(VALUE($A597),WEEKLY_DATA!$A:$H,6,0)/13))),\"\")","v":""},{"$f":"IFERROR(VLOOKUP(VALUE(A597),WEEKLY_DATA!$A:$H,8,0),0)","v":0},"—"]
[null,null,null,null,null,null,null,null,{"$f":"IFERROR(INDEX(BrandList!$B$2:$B$200,MATCH(TRUE,ISNUMBER(SEARCH(BrandList!$B$2:$B$200,G598)),0)),\"\")","v":""},null,null,null,null,null,null,"",{"$f":"IFERROR(VLOOKUP(VALUE(A598),WEEKLY_DATA!$A:$H,2,0),0)","v":0},{"$f":"IFERROR(VLOOKUP(VALUE(A598),WEEKLY_DATA!$A:$H,3,0),0)","v":0},{"$f":"IFERROR(VLOOKUP(VALUE(A598),WEEKLY_DATA!$A:$H,4,0),0)","v":0},{"$f":"IFERROR(VLOOKUP(VALUE(A598),WEEKLY_DATA!$A:$H,5,0),0)","v":0},{"$f":"IFERROR(VLOOKUP(VALUE(A598),WEEKLY_DATA!$A:$H,6,0),0)","v":0},{"$f":"IFERROR(VLOOKUP(VALUE(A598),WEEKLY_DATA!$A:$H,7,0),0)","v":0},{"$f":"IFERROR(IF(OR(Q598=\"\",Q598=0),\"\",IF(VLOOKUP(VALUE($A598),WEEKLY_DATA!$A:$H,6,0)=0,\"No Sales\",Q598/(VLOOKUP(VALUE($A598),WEEKLY_DATA!$A:$H,6,0)/13))),\"\")","v":""},{"$f":"IFERROR(VLOOKUP(VALUE(A598),WEEKLY_DATA!$A:$H,8,0),0)","v":0},"—"]
[null,null,null,null,null,null,null,null,{"$f":"IFERROR(INDEX(BrandList!$B$2:$B$200,MATCH(TRUE,ISNUMBER(SEARCH(BrandList!$B$2:$B$200,G599)),0)),\"\")","v":""},null,null,null,null,null,null,"",{"$f":"IFERROR(VLOOKUP(VALUE(A599),WEEKLY_DATA!$A:$H,2,0),0)","v":0},{"$f":"IFERROR(VLOOKUP(VALUE(A599),WEEKLY_DATA!$A:$H,3,0),0)","v":0},{"$f":"IFERROR(VLOOKUP(VALUE(A599),WEEKLY_DATA!$A:$H,4,0),0)","v":0},{"$f":"IFERROR(VLOOKUP(VALUE(A599),WEEKLY_DATA!$A:$H,5,0),0)","v":0},{"$f":"IFERROR(VLOOKUP(VALUE(A599),WEEKLY_DATA!$A:$H,6,0),0)","v":0},{"$f":"IFERROR(VLOOKUP(VALUE(A599),WEEKLY_DATA!$A:$H,7,0),0)","v":0},{"$f":"IFERROR(IF(OR(Q599=\"\",Q599=0),\"\",IF(VLOOKUP(VALUE($A599),WEEKLY_DATA!$A:$H,6,0)=0,\"No Sales\",Q599/(VLOOKUP(VALUE($A599),WEEKLY_DATA!$A:$H,6,0)/13))),\"\")","v":""},{"$f":"IFERROR(VLOOKUP(VALUE(A599),WEEKLY_DATA!$A:$H,8,0),0)","v":0},"—"]
[null,null,null,null,null,null,null,null,{"$f":"IFERROR(INDEX(BrandList!$B$2:$B$200,MATCH(TRUE,ISNUMBER(SEARCH(BrandList!$B$2:$B$200,G600)),0)),\"\")","v":""},null,null,null,null,null,null,"",{"$f":"IFERROR(VLOOKUP(VALUE(A600),WEEKLY_DATA!$A:$H,2,0),0)","v":0},{"$f":"IFERROR(VLOOKUP(VALUE(A600),WEEKLY_DATA!$A:$H,3,0),0)","v":0},{"$f":"IFERROR(VLOOKUP(VALUE(A600),WEEKLY_DATA!$A:$H,4,0),0)","v":0},{"$f":"IFERROR(VLOOKUP(VALUE(A600),WEEKLY_DATA!$A:$H,5,0),0)","v":0},{"$f":"IFERROR(VLOOKUP(VALUE(A600),WEEKLY_DATA!$A:$H,6,0),0)","v":0},{"$f":"IFERROR(VLOOKUP(VALUE(A600),WEEKLY_DATA!$A:$H,7,0),0)","v":0},{"$f":"IFERROR(IF(OR(Q600=\"\",Q600=0),\"\",IF(VLOOKUP(VALUE($A600),WEEKLY_DATA!$A:$H,6,0)=0,\"No Sales\",Q600/(VLOOKUP(VALUE($A600),WEEKLY_DATA!$A:$H,6,0)/13))),\"\")","v":""},{"$f":"IFERROR(VLOOKUP(VALUE(A600),WEEKLY_DATA!$A:$H,8,0),0)","v":0},"—"]
[null,null,null,null,null,null,null,null,{"$f":"IFERROR(INDEX(BrandList!$B$2:$B$200,MATCH(TRUE,ISNUMBER(SEARCH(BrandList!$B$2:$B$200,G601)),0)),\"\")","v":""},null,null,null,null,null,null,"",{"$f":"IFERROR(VLOOKUP(VALUE(A601),WEEKLY_DATA!$A:$H,2,0),0)","v":0},{"$f":"IFERROR(VLOOKUP(VALUE(A601),WEEKLY_DATA!$A:$H,3,0),0)","v":0},{"$f":"IFERROR(VLOOKUP(VALUE(A601),WEEKLY_DATA!$A:$H,4,0),0)","v":0},{"$f":"IFERROR(VLOOKUP(VALUE(A601),WEEKLY_DATA!$A:$H,5,0),0)","v":0},{"$f":"IFERROR(VLOOKUP(VALUE(A601),WEEKLY_DATA!$A:$H,6,0),0)","v":0},{"$f":"IFERROR(VLOOKUP(VALUE(A601),WEEKLY_DATA!$A:$H,7,0),0)","v":0},{"$f":"IFERROR(IF(OR(Q601=\"\",Q601=0),\"\",IF(VLOOKUP(VALUE($A601),WEEKLY_DATA!$A:$H,6,0)=0,\"No Sales\",Q601/(VLOOKUP(VALUE($A601),WEEKLY_DATA!$A:$H,6,0)/13))),\"\")","v":""},{"$f":"IFERROR(VLOOKUP(VALUE(A601),WEEKLY_DATA!$A:$H,8,0),0)","v":0},"—"]
[null,null,null,null,null,null,null,null,{"$f":"IFERROR(INDEX(BrandList!$B$2:$B$200,MATCH(TRUE,ISNUMBER(SEARCH(BrandList!$B$2:$B$200,G602)),0)),\"\")","v":""},null,null,null,null,null,null,"",{"$f":"IFERROR(VLOOKUP(VALUE(A602),WEEKLY_DATA!$A:$H,2,0),0)","v":0},{"$f":"IFERROR(VLOOKUP(VALUE(A602),WEEKLY_DATA!$A:$H,3,0),0)","v":0},{"$f":"IFERROR(VLOOKUP(VALUE(A602),WEEKLY_DATA!$A:$H,4,0),0)","v":0},{"$f":"IFERROR(VLOOKUP(VALUE(A602),WEEKLY_DATA!$A:$H,5,0),0)","v":0},{"$f":"IFERROR(VLOOKUP(VALUE(A602),WEEKLY_DATA!$A:$H,6,0),0)","v":0},{"$f":"IFERROR(VLOOKUP(VALUE(A602),WEEKLY_DATA!$A:$H,7,0),0)","v":0},{"$f":"IFERROR(IF(OR(Q602=\"\",Q602=0),\"\",IF(VLOOKUP(VALUE($A602),WEEKLY_DATA!$A:$H,6,0)=0,\"No Sales\",Q602/(VLOOKUP(VALUE($A602),WEEKLY_DATA!$A:$H,6,0)/13))),\"\")","v":""},{"$f":"IFERROR(VLOOKUP(VALUE(A602),WEEKLY_DATA!$A:$H,8,0),0)","v":0},"—"]
[null,null,null,null,null,null,null,null,{"$f":"IFERROR(INDEX(BrandList!$B$2:$B$200,MATCH(TRUE,ISNUMBER(SEARCH(BrandList!$B$2:$B$200,G603)),0)),\"\")","v":""},null,null,null,null,null,null,"",{"$f":"IFERROR(VLOOKUP(VALUE(A603),WEEKLY_DATA!$A:$H,2,0),0)","v":0},{"$f":"IFERROR(VLOOKUP(VALUE(A603),WEEKLY_DATA!$A:$H,3,0),0)","v":0},{"$f":"IFERROR(VLOOKUP(VALUE(A603),WEEKLY_DATA!$A:$H,4,0),0)","v":0},{"$f":"IFERROR(VLOOKUP(VALUE(A603),WEEKLY_DATA!$A:$H,5,0),0)","v":0},{"$f":"IFERROR(VLOOKUP(VALUE(A603),WEEKLY_DATA!$A:$H,6,0),0)","v":0},{"$f":"IFERROR(VLOOKUP(VALUE(A603),WEEKLY_DATA!$A:$H,7,0),0)","v":0},{"$f":"IFERROR(IF(OR(Q603=\"\",Q603=0),\"\",IF(VLOOKUP(VALUE($A603),WEEKLY_DATA!$A:$H,6,0)=0,\"No Sales\",Q603/(VLOOKUP(VALUE($A603),WEEKLY_DATA!$A:$H,6,0)/13))),\"\")","v":""},{"$f":"IFERROR(VLOOKUP(VALUE(A603),WEEKLY_DATA!$A:$H,8,0),0)","v":0},"—"]
[null,null,null,null,null,null,null,null,{"$f":"IFERROR(INDEX(BrandList!$B$2:$B$200,MATCH(TRUE,ISNUMBER(SEARCH(BrandList!$B$2:$B$200,G604)),0)),\"\")","v":""},null,null,null,null,null,null,"",{"$f":"IFERROR(VLOOKUP(VALUE(A604),WEEKLY_DATA!$A:$H,2,0),0)","v":0},{"$f":"IFERROR(VLOOKUP(VALUE(A604),WEEKLY_DATA!$A:$H,3,0),0)","v":0},{"$f":"IFERROR(VLOOKUP(VALUE(A604),WEEKLY_DATA!$A:$H,4,0),0)","v":0},{"$f":"IFERROR(VLOOKUP(VALUE(A604),WEEKLY_DATA!$A:$H,5,0),0)","v":0},{"$f":"IFERROR(VLOOKUP(VALUE(A604),WEEKLY_DATA!$A:$H,6,0),0)","v":0},{"$f":"IFERROR(VLOOKUP(VALUE(A604),WEEKLY_DATA!$A:$H,7,0),0)","v":0},{"$f":"IFERROR(IF(OR(Q604=\"\",Q604=0),\"\",IF(VLOOKUP(VALUE($A604),WEEKLY_DATA!$A:$H,6,0)=0,\"No Sales\",Q604/(VLOOKUP(VALUE($A604),WEEKLY_DATA!$A:$H,6,0)/13))),\"\")","v":""},{"$f":"IFERROR(VLOOKUP(VALUE(A604),WEEKLY_DATA!$A:$H,8,0),0)","v":0},"—"]
[null,null,null,null,null,null,null,null,{"$f":"IFERROR(INDEX(BrandList!$B$2:$B$200,MATCH(TRUE,ISNUMBER(SEARCH(BrandList!$B$2:$B$200,G605)),0)),\"\")","v":""},null,null,null,null,null,null,"",{"$f":"IFERROR(VLOOKUP(VALUE(A605),WEEKLY_DATA!$A:$H,2,0),0)","v":0},{"$f":"IFERROR(VLOOKUP(VALUE(A605),WEEKLY_DATA!$A:$H,3,0),0)","v":0},{"$f":"IFERROR(VLOOKUP(VALUE(A605),WEEKLY_DATA!$A:$H,4,0),0)","v":0},{"$f":"IFERROR(VLOOKUP(VALUE(A605),WEEKLY_DATA!$A:$H,5,0),0)","v":0},{"$f":"IFERROR(VLOOKUP(VALUE(A605),WEEKLY_DATA!$A:$H,6,0),0)","v":0},{"$f":"IFERROR(VLOOKUP(VALUE(A605),WEEKLY_DATA!$A:$H,7,0),0)","v":0},{"$f":"IFERROR(IF(OR(Q605=\"\",Q605=0),\"\",IF(VLOOKUP(VALUE($A605),WEEKLY_DATA!$A:$H,6,0)=0,\"No Sales\",Q605/(VLOOKUP(VALUE($A605),WEEKLY_DATA!$A:$H,6,0)/13))),\"\")","v":""},{"$f":"IFERROR(VLOOKUP(VALUE(A605),WEEKLY_DATA!$A:$H,8,0),0)","v":0},"—"]
[null,null,null,null,null,null,null,null,{"$f":"IFERROR(INDEX(BrandList!$B$2:$B$200,MATCH(TRUE,ISNUMBER(SEARCH(BrandList!$B$2:$B$200,G606)),0)),\"\")","v":""},null,null,null,null,null,null,"",{"$f":"IFERROR(VLOOKUP(VALUE(A606),WEEKLY_DATA!$A:$H,2,0),0)","v":0},{"$f":"IFERROR(VLOOKUP(VALUE(A606),WEEKLY_DATA!$A:$H,3,0),0)","v":0},{"$f":"IFERROR(VLOOKUP(VALUE(A606),WEEKLY_DATA!$A:$H,4,0),0)","v":0},{"$f":"IFERROR(VLOOKUP(VALUE(A606),WEEKLY_DATA!$A:$H,5,0),0)","v":0},{"$f":"IFERROR(VLOOKUP(VALUE(A606),WEEKLY_DATA!$A:$H,6,0),0)","v":0},{"$f":"IFERROR(VLOOKUP(VALUE(A606),WEEKLY_DATA!$A:$H,7,0),0)","v":0},{"$f":"IFERROR(IF(OR(Q606=\"\",Q606=0),\"\",IF(VLOOKUP(VALUE($A606),WEEKLY_DATA!$A:$H,6,0)=0,\"No Sales\",Q606/(VLOOKUP(VALUE($A606),WEEKLY_DATA!$A:$H,6,0)/13))),\"\")","v":""},{"$f":"IFERROR(VLOOKUP(VALUE(A606),WEEKLY_DATA!$A:$H,8,0),0)","v":0},"—"]
[null,null,null,null,null,null,null,null,{"$f":"IFERROR(INDEX(BrandList!$B$2:$B$200,MATCH(TRUE,ISNUMBER(SEARCH(BrandList!$B$2:$B$200,G607)),0)),\"\")","v":""},null,null,null,null,null,null,"",{"$f":"IFERROR(VLOOKUP(VALUE(A607),WEEKLY_DATA!$A:$H,2,0),0)","v":0},{"$f":"IFERROR(VLOOKUP(VALUE(A607),WEEKLY_DATA!$A:$H,3,0),0)","v":0},{"$f":"IFERROR(VLOOKUP(VALUE(A607),WEEKLY_DATA!$A:$H,4,0),0)","v":0},{"$f":"IFERROR(VLOOKUP(VALUE(A607),WEEKLY_DATA!$A:$H,5,0),0)","v":0},{"$f":"IFERROR(VLOOKUP(VALUE(A607),WEEKLY_DATA!$A:$H,6,0),0)","v":0},{"$f":"IFERROR(VLOOKUP(VALUE(A607),WEEKLY_DATA!$A:$H,7,0),0)","v":0},{"$f":"IFERROR(IF(OR(Q607=\"\",Q607=0),\"\",IF(VLOOKUP(VALUE($A607),WEEKLY_DATA!$A:$H,6,0)=0,\"No Sales\",Q607/(VLOOKUP(VALUE($A607),WEEKLY_DATA!$A:$H,6,0)/13))),\"\")","v":""},{"$f":"IFERROR(VLOOKUP(VALUE(A607),WEEKLY_DATA!$A:$H,8,0),0)","v":0},"—"]
[null,null,null,null,null,null,null,null,{"$f":"IFERROR(INDEX(BrandList!$B$2:$B$200,MATCH(TRUE,ISNUMBER(SEARCH(BrandList!$B$2:$B$200,G608)),0)),\"\")","v":""},null,null,null,null,null,null,"",{"$f":"IFERROR(VLOOKUP(VALUE(A608),WEEKLY_DATA!$A:$H,2,0),0)","v":0},{"$f":"IFERROR(VLOOKUP(VALUE(A608),WEEKLY_DATA!$A:$H,3,0),0)","v":0},{"$f":"IFERROR(VLOOKUP(VALUE(A608),WEEKLY_DATA!$A:$H,4,0),0)","v":0},{"$f":"IFERROR(VLOOKUP(VALUE(A608),WEEKLY_DATA!$A:$H,5,0),0)","v":0},{"$f":"IFERROR(VLOOKUP(VALUE(A608),WEEKLY_DATA!$A:$H,6,0),0)","v":0},{"$f":"IFERROR(VLOOKUP(VALUE(A608),WEEKLY_DATA!$A:$H,7,0),0)","v":0},{"$f":"IFERROR(IF(OR(Q608=\"\",Q608=0),\"\",IF(VLOOKUP(VALUE($A608),WEEKLY_DATA!$A:$H,6,0)=0,\"No Sales\",Q608/(VLOOKUP(VALUE($A608),WEEKLY_DATA!$A:$H,6,0)/13))),\"\")","v":""},{"$f":"IFERROR(VLOOKUP(VALUE(A608),WEEKLY_DATA!$A:$H,8,0),0)","v":0},"—"]
[null,null,null,null,null,null,null,null,{"$f":"IFERROR(INDEX(BrandList!$B$2:$B$200,MATCH(TRUE,ISNUMBER(SEARCH(BrandList!$B$2:$B$200,G609)),0)),\"\")","v":""},null,null,null,null,null,null,"",{"$f":"IFERROR(VLOOKUP(VALUE(A609),WEEKLY_DATA!$A:$H,2,0),0)","v":0},{"$f":"IFERROR(VLOOKUP(VALUE(A609),WEEKLY_DATA!$A:$H,3,0),0)","v":0},{"$f":"IFERROR(VLOOKUP(VALUE(A609),WEEKLY_DATA!$A:$H,4,0),0)","v":0},{"$f":"IFERROR(VLOOKUP(VALUE(A609),WEEKLY_DATA!$A:$H,5,0),0)","v":0},{"$f":"IFERROR(VLOOKUP(VALUE(A609),WEEKLY_DATA!$A:$H,6,0),0)","v":0},{"$f":"IFERROR(VLOOKUP(VALUE(A609),WEEKLY_DATA!$A:$H,7,0),0)","v":0},{"$f":"IFERROR(IF(OR(Q609=\"\",Q609=0),\"\",IF(VLOOKUP(VALUE($A609),WEEKLY_DATA!$A:$H,6,0)=0,\"No Sales\",Q609/(VLOOKUP(VALUE($A609),WEEKLY_DATA!$A:$H,6,0)/13))),\"\")","v":""},{"$f":"IFERROR(VLOOKUP(VALUE(A609),WEEKLY_DATA!$A:$H,8,0),0)","v":0},"—"]
[null,null,null,null,null,null,null,null,{"$f":"IFERROR(INDEX(BrandList!$B$2:$B$200,MATCH(TRUE,ISNUMBER(SEARCH(BrandList!$B$2:$B$200,G610)),0)),\"\")","v":""},null,null,null,null,null,null,"",{"$f":"IFERROR(VLOOKUP(VALUE(A610),WEEKLY_DATA!$A:$H,2,0),0)","v":0},{"$f":"IFERROR(VLOOKUP(VALUE(A610),WEEKLY_DATA!$A:$H,3,0),0)","v":0},{"$f":"IFERROR(VLOOKUP(VALUE(A610),WEEKLY_DATA!$A:$H,4,0),0)","v":0},{"$f":"IFERROR(VLOOKUP(VALUE(A610),WEEKLY_DATA!$A:$H,5,0),0)","v":0},{"$f":"IFERROR(VLOOKUP(VALUE(A610),WEEKLY_DATA!$A:$H,6,0),0)","v":0},{"$f":"IFERROR(VLOOKUP(VALUE(A610),WEEKLY_DATA!$A:$H,7,0),0)","v":0},{"$f":"IFERROR(IF(OR(Q610=\"\",Q610=0),\"\",IF(VLOOKUP(VALUE($A610),WEEKLY_DATA!$A:$H,6,0)=0,\"No Sales\",Q610/(VLOOKUP(VALUE($A610),WEEKLY_DATA!$A:$H,6,0)/13))),\"\")","v":""},{"$f":"IFERROR(VLOOKUP(VALUE(A610),WEEKLY_DATA!$A:$H,8,0),0)","v":0},"—"]
[null,null,null,null,null,null,null,null,{"$f":"IFERROR(INDEX(BrandList!$B$2:$B$200,MATCH(TRUE,ISNUMBER(SEARCH(BrandList!$B$2:$B$200,G611)),0)),\"\")","v":""},null,null,null,null,null,null,"",{"$f":"IFERROR(VLOOKUP(VALUE(A611),WEEKLY_DATA!$A:$H,2,0),0)","v":0},{"$f":"IFERROR(VLOOKUP(VALUE(A611),WEEKLY_DATA!$A:$H,3,0),0)","v":0},{"$f":"IFERROR(VLOOKUP(VALUE(A611),WEEKLY_DATA!$A:$H,4,0),0)","v":0},{"$f":"IFERROR(VLOOKUP(VALUE(A611),WEEKLY_DATA!$A:$H,5,0),0)","v":0},{"$f":"IFERROR(VLOOKUP(VALUE(A611),WEEKLY_DATA!$A:$H,6,0),0)","v":0},{"$f":"IFERROR(VLOOKUP(VALUE(A611),WEEKLY_DATA!$A:$H,7,0),0)","v":0},{"$f":"IFERROR(IF(OR(Q611=\"\",Q611=0),\"\",IF(VLOOKUP(VALUE($A611),WEEKLY_DATA!$A:$H,6,0)=0,\"No Sales\",Q611/(VLOOKUP(VALUE($A611),WEEKLY_DATA!$A:$H,6,0)/13))),\"\")","v":""},{"$f":"IFERROR(VLOOKUP(VALUE(A611),WEEKLY_DATA!$A:$H,8,0),0)","v":0},"—"]
[null,null,null,null,null,null,null,null,{"$f":"IFERROR(INDEX(BrandList!$B$2:$B$200,MATCH(TRUE,ISNUMBER(SEARCH(BrandList!$B$2:$B$200,G612)),0)),\"\")","v":""},null,null,null,null,null,null,"",{"$f":"IFERROR(VLOOKUP(VALUE(A612),WEEKLY_DATA!$A:$H,2,0),0)","v":0},{"$f":"IFERROR(VLOOKUP(VALUE(A612),WEEKLY_DATA!$A:$H,3,0),0)","v":0},{"$f":"IFERROR(VLOOKUP(VALUE(A612),WEEKLY_DATA!$A:$H,4,0),0)","v":0},{"$f":"IFERROR(VLOOKUP(VALUE(A612),WEEKLY_DATA!$A:$H,5,0),0)","v":0},{"$f":"IFERROR(VLOOKUP(VALUE(A612),WEEKLY_DATA!$A:$H,6,0),0)","v":0},{"$f":"IFERROR(VLOOKUP(VALUE(A612),WEEKLY_DATA!$A:$H,7,0),0)","v":0},{"$f":"IFERROR(IF(OR(Q612=\"\",Q612=0),\"\",IF(VLOOKUP(VALUE($A612),WEEKLY_DATA!$A:$H,6,0)=0,\"No Sales\",Q612/(VLOOKUP(VALUE($A612),WEEKLY_DATA!$A:$H,6,0)/13))),\"\")","v":""},{"$f":"IFERROR(VLOOKUP(VALUE(A612),WEEKLY_DATA!$A:$H,8,0),0)","v":0},"—"]
[null,null,null,null,null,null,null,null,{"$f":"IFERROR(INDEX(BrandList!$B$2:$B$200,MATCH(TRUE,ISNUMBER(SEARCH(BrandList!$B$2:$B$200,G613)),0)),\"\")","v":""},null,null,null,null,null,null,"",{"$f":"IFERROR(VLOOKUP(VALUE(A613),WEEKLY_DATA!$A:$H,2,0),0)","v":0},{"$f":"IFERROR(VLOOKUP(VALUE(A613),WEEKLY_DATA!$A:$H,3,0),0)","v":0},{"$f":"IFERROR(VLOOKUP(VALUE(A613),WEEKLY_DATA!$A:$H,4,0),0)","v":0},{"$f":"IFERROR(VLOOKUP(VALUE(A613),WEEKLY_DATA!$A:$H,5,0),0)","v":0},{"$f":"IFERROR(VLOOKUP(VALUE(A613),WEEKLY_DATA!$A:$H,6,0),0)","v":0},{"$f":"IFERROR(VLOOKUP(VALUE(A613),WEEKLY_DATA!$A:$H,7,0),0)","v":0},{"$f":"IFERROR(IF(OR(Q613=\"\",Q613=0),\"\",IF(VLOOKUP(VALUE($A613),WEEKLY_DATA!$A:$H,6,0)=0,\"No Sales\",Q613/(VLOOKUP(VALUE($A613),WEEKLY_DATA!$A:$H,6,0)/13))),\"\")","v":""},{"$f":"IFERROR(VLOOKUP(VALUE(A613),WEEKLY_DATA!$A:$H,8,0),0)","v":0},"—"]
[null,null,null,null,null,null,null,null,{"$f":"IFERROR(INDEX(BrandList!$B$2:$B$200,MATCH(TRUE,ISNUMBER(SEARCH(BrandList!$B$2:$B$200,G614)),0)),\"\")","v":""},null,null,null,null,null,null,"",{"$f":"IFERROR(VLOOKUP(VALUE(A614),WEEKLY_DATA!$A:$H,2,0),0)","v":0},{"$f":"IFERROR(VLOOKUP(VALUE(A614),WEEKLY_DATA!$A:$H,3,0),0)","v":0},{"$f":"IFERROR(VLOOKUP(VALUE(A614),WEEKLY_DATA!$A:$H,4,0),0)","v":0},{"$f":"IFERROR(VLOOKUP(VALUE(A614),WEEKLY_DATA!$A:$H,5,0),0)","v":0},{"$f":"IFERROR(VLOOKUP(VALUE(A614),WEEKLY_DATA!$A:$H,6,0),0)","v":0},{"$f":"IFERROR(VLOOKUP(VALUE(A614),WEEKLY_DATA!$A:$H,7,0),0)","v":0},{"$f":"IFERROR(IF(OR(Q614=\"\",Q614=0),\"\",IF(VLOOKUP(VALUE($A614),WEEKLY_DATA!$A:$H,6,0)=0,\"No Sales\",Q614/(VLOOKUP(VALUE($A614),WEEKLY_DATA!$A:$H,6,0)/13))),\"\")","v":""},{"$f":"IFERROR(VLOOKUP(VALUE(A614),WEEKLY_DATA!$A:$H,8,0),0)","v":0},"—"]
[null,null,null,null,null,null,null,null,{"$f":"IFERROR(INDEX(BrandList!$B$2:$B$200,MATCH(TRUE,ISNUMBER(SEARCH(BrandList!$B$2:$B$200,G615)),0)),\"\")","v":""},null,null,null,null,null,null,"",{"$f":"IFERROR(VLOOKUP(VALUE(A615),WEEKLY_DATA!$A:$H,2,0),0)","v":0},{"$f":"IFERROR(VLOOKUP(VALUE(A615),WEEKLY_DATA!$A:$H,3,0),0)","v":0},{"$f":"IFERROR(VLOOKUP(VALUE(A615),WEEKLY_DATA!$A:$H,4,0),0)","v":0},{"$f":"IFERROR(VLOOKUP(VALUE(A615),WEEKLY_DATA!$A:$H,5,0),0)","v":0},{"$f":"IFERROR(VLOOKUP(VALUE(A615),WEEKLY_DATA!$A:$H,6,0),0)","v":0},{"$f":"IFERROR(VLOOKUP(VALUE(A615),WEEKLY_DATA!$A:$H,7,0),0)","v":0},{"$f":"IFERROR(IF(OR(Q615=\"\",Q615=0),\"\",IF(VLOOKUP(VALUE($A615),WEEKLY_DATA!$A:$H,6,0)=0,\"No Sales\",Q615/(VLOOKUP(VALUE($A615),WEEKLY_DATA!$A:$H,6,0)/13))),\"\")","v":""},{"$f":"IFERROR(VLOOKUP(VALUE(A615),WEEKLY_DATA!$A:$H,8,0),0)","v":0},"—"]
[null,null,null,null,null,null,null,null,{"$f":"IFERROR(INDEX(BrandList!$B$2:$B$200,MATCH(TRUE,ISNUMBER(SEARCH(BrandList!$B$2:$B$200,G616)),0)),\"\")","v":""},null,null,null,null,null,null,"",{"$f":"IFERROR(VLOOKUP(VALUE(A616),WEEKLY_DATA!$A:$H,2,0),0)","v":0},{"$f":"IFERROR(VLOOKUP(VALUE(A616),WEEKLY_DATA!$A:$H,3,0),0)","v":0},{"$f":"IFERROR(VLOOKUP(VALUE(A616),WEEKLY_DATA!$A:$H,4,0),0)","v":0},{"$f":"IFERROR(VLOOKUP(VALUE(A616),WEEKLY_DATA!$A:$H,5,0),0)","v":0},{"$f":"IFERROR(VLOOKUP(VALUE(A616),WEEKLY_DATA!$A:$H,6,0),0)","v":0},{"$f":"IFERROR(VLOOKUP(VALUE(A616),WEEKLY_DATA!$A:$H,7,0),0)","v":0},{"$f":"IFERROR(IF(OR(Q616=\"\",Q616=0),\"\",IF(VLOOKUP(VALUE($A616),WEEKLY_DATA!$A:$H,6,0)=0,\"No Sales\",Q616/(VLOOKUP(VALUE($A616),WEEKLY_DATA!$A:$H,6,0)/13))),\"\")","v":""},{"$f":"IFERROR(VLOOKUP(VALUE(A616),WEEKLY_DATA!$A:$H,8,0),0)","v":0},"—"]
[null,null,null,null,null,null,null,null,{"$f":"IFERROR(INDEX(BrandList!$B$2:$B$200,MATCH(TRUE,ISNUMBER(SEARCH(BrandList!$B$2:$B$200,G617)),0)),\"\")","v":""},null,null,null,null,null,null,"",{"$f":"IFERROR(VLOOKUP(VALUE(A617),WEEKLY_DATA!$A:$H,2,0),0)","v":0},{"$f":"IFERROR(VLOOKUP(VALUE(A617),WEEKLY_DATA!$A:$H,3,0),0)","v":0},{"$f":"IFERROR(VLOOKUP(VALUE(A617),WEEKLY_DATA!$A:$H,4,0),0)","v":0},{"$f":"IFERROR(VLOOKUP(VALUE(A617),WEEKLY_DATA!$A:$H,5,0),0)","v":0},{"$f":"IFERROR(VLOOKUP(VALUE(A617),WEEKLY_DATA!$A:$H,6,0),0)","v":0},{"$f":"IFERROR(VLOOKUP(VALUE(A617),WEEKLY_DATA!$A:$H,7,0),0)","v":0},{"$f":"IFERROR(IF(OR(Q617=\"\",Q617=0),\"\",IF(VLOOKUP(VALUE($A617),WEEKLY_DATA!$A:$H,6,0)=0,\"No Sales\",Q617/(VLOOKUP(VALUE($A617),WEEKLY_DATA!$A:$H,6,0)/13))),\"\")","v":""},{"$f":"IFERROR(VLOOKUP(VALUE(A617),WEEKLY_DATA!$A:$H,8,0),0)","v":0},"—"]
[null,null,null,null,null,null,null,null,{"$f":"IFERROR(INDEX(BrandList!$B$2:$B$200,MATCH(TRUE,ISNUMBER(SEARCH(BrandList!$B$2:$B$200,G618)),0)),\"\")","v":""},null,null,null,null,null,null,"",{"$f":"IFERROR(VLOOKUP(VALUE(A618),WEEKLY_DATA!$A:$H,2,0),0)","v":0},{"$f":"IFERROR(VLOOKUP(VALUE(A618),WEEKLY_DATA!$A:$H,3,0),0)","v":0},{"$f":"IFERROR(VLOOKUP(VALUE(A618),WEEKLY_DATA!$A:$H,4,0),0)","v":0},{"$f":"IFERROR(VLOOKUP(VALUE(A618),WEEKLY_DATA!$A:$H,5,0),0)","v":0},{"$f":"IFERROR(VLOOKUP(VALUE(A618),WEEKLY_DATA!$A:$H,6,0),0)","v":0},{"$f":"IFERROR(VLOOKUP(VALUE(A618),WEEKLY_DATA!$A:$H,7,0),0)","v":0},{"$f":"IFERROR(IF(OR(Q618=\"\",Q618=0),\"\",IF(VLOOKUP(VALUE($A618),WEEKLY_DATA!$A:$H,6,0)=0,\"No Sales\",Q618/(VLOOKUP(VALUE($A618),WEEKLY_DATA!$A:$H,6,0)/13))),\"\")","v":""},{"$f":"IFERROR(VLOOKUP(VALUE(A618),WEEKLY_DATA!$A:$H,8,0),0)","v":0},"—"]
[null,null,null,null,null,null,null,null,{"$f":"IFERROR(INDEX(BrandList!$B$2:$B$200,MATCH(TRUE,ISNUMBER(SEARCH(BrandList!$B$2:$B$200,G619)),0)),\"\")","v":""},null,null,null,null,null,null,"",{"$f":"IFERROR(VLOOKUP(VALUE(A619),WEEKLY_DATA!$A:$H,2,0),0)","v":0},{"$f":"IFERROR(VLOOKUP(VALUE(A619),WEEKLY_DATA!$A:$H,3,0),0)","v":0},{"$f":"IFERROR(VLOOKUP(VALUE(A619),WEEKLY_DATA!$A:$H,4,0),0)","v":0},{"$f":"IFERROR(VLOOKUP(VALUE(A619),WEEKLY_DATA!$A:$H,5,0),0)","v":0},{"$f":"IFERROR(VLOOKUP(VALUE(A619),WEEKLY_DATA!$A:$H,6,0),0)","v":0},{"$f":"IFERROR(VLOOKUP(VALUE(A619),WEEKLY_DATA!$A:$H,7,0),0)","v":0},{"$f":"IFERROR(IF(OR(Q619=\"\",Q619=0),\"\",IF(VLOOKUP(VALUE($A619),WEEKLY_DATA!$A:$H,6,0)=0,\"No Sales\",Q619/(VLOOKUP(VALUE($A619),WEEKLY_DATA!$A:$H,6,0)/13))),\"\")","v":""},{"$f":"IFERROR(VLOOKUP(VALUE(A619),WEEKLY_DATA!$A:$H,8,0),0)","v":0},"—"]
[null,null,null,null,null,null,null,null,{"$f":"IFERROR(INDEX(BrandList!$B$2:$B$200,MATCH(TRUE,ISNUMBER(SEARCH(BrandList!$B$2:$B$200,G620)),0)),\"\")","v":""},null,null,null,null,null,null,"",{"$f":"IFERROR(VLOOKUP(VALUE(A620),WEEKLY_DATA!$A:$H,2,0),0)","v":0},{"$f":"IFERROR(VLOOKUP(VALUE(A620),WEEKLY_DATA!$A:$H,3,0),0)","v":0},{"$f":"IFERROR(VLOOKUP(VALUE(A620),WEEKLY_DATA!$A:$H,4,0),0)","v":0},{"$f":"IFERROR(VLOOKUP(VALUE(A620),WEEKLY_DATA!$A:$H,5,0),0)","v":0},{"$f":"IFERROR(VLOOKUP(VALUE(A620),WEEKLY_DATA!$A:$H,6,0),0)","v":0},{"$f":"IFERROR(VLOOKUP(VALUE(A620),WEEKLY_DATA!$A:$H,7,0),0)","v":0},{"$f":"IFERROR(IF(OR(Q620=\"\",Q620=0),\"\",IF(VLOOKUP(VALUE($A620),WEEKLY_DATA!$A:$H,6,0)=0,\"No Sales\",Q620/(VLOOKUP(VALUE($A620),WEEKLY_DATA!$A:$H,6,0)/13))),\"\")","v":""},{"$f":"IFERROR(VLOOKUP(VALUE(A620),WEEKLY_DATA!$A:$H,8,0),0)","v":0},"—"]
[null,null,null,null,null,null,null,null,{"$f":"IFERROR(INDEX(BrandList!$B$2:$B$200,MATCH(TRUE,ISNUMBER(SEARCH(BrandList!$B$2:$B$200,G621)),0)),\"\")","v":""},null,null,null,null,null,null,"",{"$f":"IFERROR(VLOOKUP(VALUE(A621),WEEKLY_DATA!$A:$H,2,0),0)","v":0},{"$f":"IFERROR(VLOOKUP(VALUE(A621),WEEKLY_DATA!$A:$H,3,0),0)","v":0},{"$f":"IFERROR(VLOOKUP(VALUE(A621),WEEKLY_DATA!$A:$H,4,0),0)","v":0},{"$f":"IFERROR(VLOOKUP(VALUE(A621),WEEKLY_DATA!$A:$H,5,0),0)","v":0},{"$f":"IFERROR(VLOOKUP(VALUE(A621),WEEKLY_DATA!$A:$H,6,0),0)","v":0},{"$f":"IFERROR(VLOOKUP(VALUE(A621),WEEKLY_DATA!$A:$H,7,0),0)","v":0},{"$f":"IFERROR(IF(OR(Q621=\"\",Q621=0),\"\",IF(VLOOKUP(VALUE($A621),WEEKLY_DATA!$A:$H,6,0)=0,\"No Sales\",Q621/(VLOOKUP(VALUE($A621),WEEKLY_DATA!$A:$H,6,0)/13))),\"\")","v":""},{"$f":"IFERROR(VLOOKUP(VALUE(A621),WEEKLY_DATA!$A:$H,8,0),0)","v":0},"—"]
[null,null,null,null,null,null,null,null,{"$f":"IFERROR(INDEX(BrandList!$B$2:$B$200,MATCH(TRUE,ISNUMBER(SEARCH(BrandList!$B$2:$B$200,G622)),0)),\"\")","v":""},null,null,null,null,null,null,"",{"$f":"IFERROR(VLOOKUP(VALUE(A622),WEEKLY_DATA!$A:$H,2,0),0)","v":0},{"$f":"IFERROR(VLOOKUP(VALUE(A622),WEEKLY_DATA!$A:$H,3,0),0)","v":0},{"$f":"IFERROR(VLOOKUP(VALUE(A622),WEEKLY_DATA!$A:$H,4,0),0)","v":0},{"$f":"IFERROR(VLOOKUP(VALUE(A622),WEEKLY_DATA!$A:$H,5,0),0)","v":0},{"$f":"IFERROR(VLOOKUP(VALUE(A622),WEEKLY_DATA!$A:$H,6,0),0)","v":0},{"$f":"IFERROR(VLOOKUP(VALUE(A622),WEEKLY_DATA!$A:$H,7,0),0)","v":0},{"$f":"IFERROR(IF(OR(Q622=\"\",Q622=0),\"\",IF(VLOOKUP(VALUE($A622),WEEKLY_DATA!$A:$H,6,0)=0,\"No Sales\",Q622/(VLOOKUP(VALUE($A622),WEEKLY_DATA!$A:$H,6,0)/13))),\"\")","v":""},{"$f":"IFERROR(VLOOKUP(VALUE(A622),WEEKLY_DATA!$A:$H,8,0),0)","v":0},"—"]
[null,null,null,null,null,null,null,null,{"$f":"IFERROR(INDEX(BrandList!$B$2:$B$200,MATCH(TRUE,ISNUMBER(SEARCH(BrandList!$B$2:$B$200,G623)),0)),\"\")","v":""},null,null,null,null,null,null,"",{"$f":"IFERROR(VLOOKUP(VALUE(A623),WEEKLY_DATA!$A:$H,2,0),0)","v":0},{"$f":"IFERROR(VLOOKUP(VALUE(A623),WEEKLY_DATA!$A:$H,3,0),0)","v":0},{"$f":"IFERROR(VLOOKUP(VALUE(A623),WEEKLY_DATA!$A:$H,4,0),0)","v":0},{"$f":"IFERROR(VLOOKUP(VALUE(A623),WEEKLY_DATA!$A:$H,5,0),0)","v":0},{"$f":"IFERROR(VLOOKUP(VALUE(A623),WEEKLY_DATA!$A:$H,6,0),0)","v":0},{"$f":"IFERROR(VLOOKUP(VALUE(A623),WEEKLY_DATA!$A:$H,7,0),0)","v":0},{"$f":"IFERROR(IF(OR(Q623=\"\",Q623=0),\"\",IF(VLOOKUP(VALUE($A623),WEEKLY_DATA!$A:$H,6,0)=0,\"No Sales\",Q623/(VLOOKUP(VALUE($A623),WEEKLY_DATA!$A:$H,6,0)/13))),\"\")","v":""},{"$f":"IFERROR(VLOOKUP(VALUE(A623),WEEKLY_DATA!$A:$H,8,0),0)","v":0},"—"]
[null,null,null,null,null,null,null,null,{"$f":"IFERROR(INDEX(BrandList!$B$2:$B$200,MATCH(TRUE,ISNUMBER(SEARCH(BrandList!$B$2:$B$200,G624)),0)),\"\")","v":""},null,null,null,null,null,null,"",{"$f":"IFERROR(VLOOKUP(VALUE(A624),WEEKLY_DATA!$A:$H,2,0),0)","v":0},{"$f":"IFERROR(VLOOKUP(VALUE(A624),WEEKLY_DATA!$A:$H,3,0),0)","v":0},{"$f":"IFERROR(VLOOKUP(VALUE(A624),WEEKLY_DATA!$A:$H,4,0),0)","v":0},{"$f":"IFERROR(VLOOKUP(VALUE(A624),WEEKLY_DATA!$A:$H,5,0),0)","v":0},{"$f":"IFERROR(VLOOKUP(VALUE(A624),WEEKLY_DATA!$A:$H,6,0),0)","v":0},{"$f":"IFERROR(VLOOKUP(VALUE(A624),WEEKLY_DATA!$A:$H,7,0),0)","v":0},{"$f":"IFERROR(IF(OR(Q624=\"\",Q624=0),\"\",IF(VLOOKUP(VALUE($A624),WEEKLY_DATA!$A:$H,6,0)=0,\"No Sales\",Q624/(VLOOKUP(VALUE($A624),WEEKLY_DATA!$A:$H,6,0)/13))),\"\")","v":""},{"$f":"IFERROR(VLOOKUP(VALUE(A624),WEEKLY_DATA!$A:$H,8,0),0)","v":0},"—"]
[null,null,null,null,null,null,null,null,{"$f":"IFERROR(INDEX(BrandList!$B$2:$B$200,MATCH(TRUE,ISNUMBER(SEARCH(BrandList!$B$2:$B$200,G625)),0)),\"\")","v":""},null,null,null,null,null,null,"",{"$f":"IFERROR(VLOOKUP(VALUE(A625),WEEKLY_DATA!$A:$H,2,0),0)","v":0},{"$f":"IFERROR(VLOOKUP(VALUE(A625),WEEKLY_DATA!$A:$H,3,0),0)","v":0},{"$f":"IFERROR(VLOOKUP(VALUE(A625),WEEKLY_DATA!$A:$H,4,0),0)","v":0},{"$f":"IFERROR(VLOOKUP(VALUE(A625),WEEKLY_DATA!$A:$H,5,0),0)","v":0},{"$f":"IFERROR(VLOOKUP(VALUE(A625),WEEKLY_DATA!$A:$H,6,0),0)","v":0},{"$f":"IFERROR(VLOOKUP(VALUE(A625),WEEKLY_DATA!$A:$H,7,0),0)","v":0},{"$f":"IFERROR(IF(OR(Q625=\"\",Q625=0),\"\",IF(VLOOKUP(VALUE($A625),WEEKLY_DATA!$A:$H,6,0)=0,\"No Sales\",Q625/(VLOOKUP(VALUE($A625),WEEKLY_DATA!$A:$H,6,0)/13))),\"\")","v":""},{"$f":"IFERROR(VLOOKUP(VALUE(A625),WEEKLY_DATA!$A:$H,8,0),0)","v":0},"—"]
[null,null,null,null,null,null,null,null,{"$f":"IFERROR(INDEX(BrandList!$B$2:$B$200,MATCH(TRUE,ISNUMBER(SEARCH(BrandList!$B$2:$B$200,G626)),0)),\"\")","v":""},null,null,null,null,null,null,"",{"$f":"IFERROR(VLOOKUP(VALUE(A626),WEEKLY_DATA!$A:$H,2,0),0)","v":0},{"$f":"IFERROR(VLOOKUP(VALUE(A626),WEEKLY_DATA!$A:$H,3,0),0)","v":0},{"$f":"IFERROR(VLOOKUP(VALUE(A626),WEEKLY_DATA!$A:$H,4,0),0)","v":0},{"$f":"IFERROR(VLOOKUP(VALUE(A626),WEEKLY_DATA!$A:$H,5,0),0)","v":0},{"$f":"IFERROR(VLOOKUP(VALUE(A626),WEEKLY_DATA!$A:$H,6,0),0)","v":0},{"$f":"IFERROR(VLOOKUP(VALUE(A626),WEEKLY_DATA!$A:$H,7,0),0)","v":0},{"$f":"IFERROR(IF(OR(Q626=\"\",Q626=0),\"\",IF(VLOOKUP(VALUE($A626),WEEKLY_DATA!$A:$H,6,0)=0,\"No Sales\",Q626/(VLOOKUP(VALUE($A626),WEEKLY_DATA!$A:$H,6,0)/13))),\"\")","v":""},{"$f":"IFERROR(VLOOKUP(VALUE(A626),WEEKLY_DATA!$A:$H,8,0),0)","v":0},"—"]
[null,null,null,null,null,null,null,null,{"$f":"IFERROR(INDEX(BrandList!$B$2:$B$200,MATCH(TRUE,ISNUMBER(SEARCH(BrandList!$B$2:$B$200,G627)),0)),\"\")","v":""},null,null,null,null,null,null,"",{"$f":"IFERROR(VLOOKUP(VALUE(A627),WEEKLY_DATA!$A:$H,2,0),0)","v":0},{"$f":"IFERROR(VLOOKUP(VALUE(A627),WEEKLY_DATA!$A:$H,3,0),0)","v":0},{"$f":"IFERROR(VLOOKUP(VALUE(A627),WEEKLY_DATA!$A:$H,4,0),0)","v":0},{"$f":"IFERROR(VLOOKUP(VALUE(A627),WEEKLY_DATA!$A:$H,5,0),0)","v":0},{"$f":"IFERROR(VLOOKUP(VALUE(A627),WEEKLY_DATA!$A:$H,6,0),0)","v":0},{"$f":"IFERROR(VLOOKUP(VALUE(A627),WEEKLY_DATA!$A:$H,7,0),0)","v":0},{"$f":"IFERROR(IF(OR(Q627=\"\",Q627=0),\"\",IF(VLOOKUP(VALUE($A627),WEEKLY_DATA!$A:$H,6,0)=0,\"No Sales\",Q627/(VLOOKUP(VALUE($A627),WEEKLY_DATA!$A:$H,6,0)/13))),\"\")","v":""},{"$f":"IFERROR(VLOOKUP(VALUE(A627),WEEKLY_DATA!$A:$H,8,0),0)","v":0},"—"]
[null,null,null,null,null,null,null,null,{"$f":"IFERROR(INDEX(BrandList!$B$2:$B$200,MATCH(TRUE,ISNUMBER(SEARCH(BrandList!$B$2:$B$200,G628)),0)),\"\")","v":""},null,null,null,null,null,null,"",{"$f":"IFERROR(VLOOKUP(VALUE(A628),WEEKLY_DATA!$A:$H,2,0),0)","v":0},{"$f":"IFERROR(VLOOKUP(VALUE(A628),WEEKLY_DATA!$A:$H,3,0),0)","v":0},{"$f":"IFERROR(VLOOKUP(VALUE(A628),WEEKLY_DATA!$A:$H,4,0),0)","v":0},{"$f":"IFERROR(VLOOKUP(VALUE(A628),WEEKLY_DATA!$A:$H,5,0),0)","v":0},{"$f":"IFERROR(VLOOKUP(VALUE(A628),WEEKLY_DATA!$A:$H,6,0),0)","v":0},{"$f":"IFERROR(VLOOKUP(VALUE(A628),WEEKLY_DATA!$A:$H,7,0),0)","v":0},{"$f":"IFERROR(IF(OR(Q628=\"\",Q628=0),\"\",IF(VLOOKUP(VALUE($A628),WEEKLY_DATA!$A:$H,6,0)=0,\"No Sales\",Q628/(VLOOKUP(VALUE($A628),WEEKLY_DATA!$A:$H,6,0)/13))),\"\")","v":""},{"$f":"IFERROR(VLOOKUP(VALUE(A628),WEEKLY_DATA!$A:$H,8,0),0)","v":0},"—"]
[null,null,null,null,null,null,null,null,{"$f":"IFERROR(INDEX(BrandList!$B$2:$B$200,MATCH(TRUE,ISNUMBER(SEARCH(BrandList!$B$2:$B$200,G629)),0)),\"\")","v":""},null,null,null,null,null,null,"",{"$f":"IFERROR(VLOOKUP(VALUE(A629),WEEKLY_DATA!$A:$H,2,0),0)","v":0},{"$f":"IFERROR(VLOOKUP(VALUE(A629),WEEKLY_DATA!$A:$H,3,0),0)","v":0},{"$f":"IFERROR(VLOOKUP(VALUE(A629),WEEKLY_DATA!$A:$H,4,0),0)","v":0},{"$f":"IFERROR(VLOOKUP(VALUE(A629),WEEKLY_DATA!$A:$H,5,0),0)","v":0},{"$f":"IFERROR(VLOOKUP(VALUE(A629),WEEKLY_DATA!$A:$H,6,0),0)","v":0},{"$f":"IFERROR(VLOOKUP(VALUE(A629),WEEKLY_DATA!$A:$H,7,0),0)","v":0},{"$f":"IFERROR(IF(OR(Q629=\"\",Q629=0),\"\",IF(VLOOKUP(VALUE($A629),WEEKLY_DATA!$A:$H,6,0)=0,\"No Sales\",Q629/(VLOOKUP(VALUE($A629),WEEKLY_DATA!$A:$H,6,0)/13))),\"\")","v":""},{"$f":"IFERROR(VLOOKUP(VALUE(A629),WEEKLY_DATA!$A:$H,8,0),0)","v":0},"—"]
[null,null,null,null,null,null,null,null,{"$f":"IFERROR(INDEX(BrandList!$B$2:$B$200,MATCH(TRUE,ISNUMBER(SEARCH(BrandList!$B$2:$B$200,G630)),0)),\"\")","v":""},null,null,null,null,null,null,"",{"$f":"IFERROR(VLOOKUP(VALUE(A630),WEEKLY_DATA!$A:$H,2,0),0)","v":0},{"$f":"IFERROR(VLOOKUP(VALUE(A630),WEEKLY_DATA!$A:$H,3,0),0)","v":0},{"$f":"IFERROR(VLOOKUP(VALUE(A630),WEEKLY_DATA!$A:$H,4,0),0)","v":0},{"$f":"IFERROR(VLOOKUP(VALUE(A630),WEEKLY_DATA!$A:$H,5,0),0)","v":0},{"$f":"IFERROR(VLOOKUP(VALUE(A630),WEEKLY_DATA!$A:$H,6,0),0)","v":0},{"$f":"IFERROR(VLOOKUP(VALUE(A630),WEEKLY_DATA!$A:$H,7,0),0)","v":0},{"$f":"IFERROR(IF(OR(Q630=\"\",Q630=0),\"\",IF(VLOOKUP(VALUE($A630),WEEKLY_DATA!$A:$H,6,0)=0,\"No Sales\",Q630/(VLOOKUP(VALUE($A630),WEEKLY_DATA!$A:$H,6,0)/13))),\"\")","v":""},{"$f":"IFERROR(VLOOKUP(VALUE(A630),WEEKLY_DATA!$A:$H,8,0),0)","v":0},"—"]
[null,null,null,null,null,null,null,null,{"$f":"IFERROR(INDEX(BrandList!$B$2:$B$200,MATCH(TRUE,ISNUMBER(SEARCH(BrandList!$B$2:$B$200,G631)),0)),\"\")","v":""},null,null,null,null,null,null,"",{"$f":"IFERROR(VLOOKUP(VALUE(A631),WEEKLY_DATA!$A:$H,2,0),0)","v":0},{"$f":"IFERROR(VLOOKUP(VALUE(A631),WEEKLY_DATA!$A:$H,3,0),0)","v":0},{"$f":"IFERROR(VLOOKUP(VALUE(A631),WEEKLY_DATA!$A:$H,4,0),0)","v":0},{"$f":"IFERROR(VLOOKUP(VALUE(A631),WEEKLY_DATA!$A:$H,5,0),0)","v":0},{"$f":"IFERROR(VLOOKUP(VALUE(A631),WEEKLY_DATA!$A:$H,6,0),0)","v":0},{"$f":"IFERROR(VLOOKUP(VALUE(A631),WEEKLY_DATA!$A:$H,7,0),0)","v":0},{"$f":"IFERROR(IF(OR(Q631=\"\",Q631=0),\"\",IF(VLOOKUP(VALUE($A631),WEEKLY_DATA!$A:$H,6,0)=0,\"No Sales\",Q631/(VLOOKUP(VALUE($A631),WEEKLY_DATA!$A:$H,6,0)/13))),\"\")","v":""},{"$f":"IFERROR(VLOOKUP(VALUE(A631),WEEKLY_DATA!$A:$H,8,0),0)","v":0},"—"]
[null,null,null,null,null,null,null,null,{"$f":"IFERROR(INDEX(BrandList!$B$2:$B$200,MATCH(TRUE,ISNUMBER(SEARCH(BrandList!$B$2:$B$200,G632)),0)),\"\")","v":""},null,null,null,null,null,null,"",{"$f":"IFERROR(VLOOKUP(VALUE(A632),WEEKLY_DATA!$A:$H,2,0),0)","v":0},{"$f":"IFERROR(VLOOKUP(VALUE(A632),WEEKLY_DATA!$A:$H,3,0),0)","v":0},{"$f":"IFERROR(VLOOKUP(VALUE(A632),WEEKLY_DATA!$A:$H,4,0),0)","v":0},{"$f":"IFERROR(VLOOKUP(VALUE(A632),WEEKLY_DATA!$A:$H,5,0),0)","v":0},{"$f":"IFERROR(VLOOKUP(VALUE(A632),WEEKLY_DATA!$A:$H,6,0),0)","v":0},{"$f":"IFERROR(VLOOKUP(VALUE(A632),WEEKLY_DATA!$A:$H,7,0),0)","v":0},{"$f":"IFERROR(IF(OR(Q632=\"\",Q632=0),\"\",IF(VLOOKUP(VALUE($A632),WEEKLY_DATA!$A:$H,6,0)=0,\"No Sales\",Q632/(VLOOKUP(VALUE($A632),WEEKLY_DATA!$A:$H,6,0)/13))),\"\")","v":""},{"$f":"IFERROR(VLOOKUP(VALUE(A632),WEEKLY_DATA!$A:$H,8,0),0)","v":0},"—"]
[null,null,null,null,null,null,null,null,{"$f":"IFERROR(INDEX(BrandList!$B$2:$B$200,MATCH(TRUE,ISNUMBER(SEARCH(BrandList!$B$2:$B$200,G633)),0)),\"\")","v":""},null,null,null,null,null,null,"",{"$f":"IFERROR(VLOOKUP(VALUE(A633),WEEKLY_DATA!$A:$H,2,0),0)","v":0},{"$f":"IFERROR(VLOOKUP(VALUE(A633),WEEKLY_DATA!$A:$H,3,0),0)","v":0},{"$f":"IFERROR(VLOOKUP(VALUE(A633),WEEKLY_DATA!$A:$H,4,0),0)","v":0},{"$f":"IFERROR(VLOOKUP(VALUE(A633),WEEKLY_DATA!$A:$H,5,0),0)","v":0},{"$f":"IFERROR(VLOOKUP(VALUE(A633),WEEKLY_DATA!$A:$H,6,0),0)","v":0},{"$f":"IFERROR(VLOOKUP(VALUE(A633),WEEKLY_DATA!$A:$H,7,0),0)","v":0},{"$f":"IFERROR(IF(OR(Q633=\"\",Q633=0),\"\",IF(VLOOKUP(VALUE($A633),WEEKLY_DATA!$A:$H,6,0)=0,\"No Sales\",Q633/(VLOOKUP(VALUE($A633),WEEKLY_DATA!$A:$H,6,0)/13))),\"\")","v":""},{"$f":"IFERROR(VLOOKUP(VALUE(A633),WEEKLY_DATA!$A:$H,8,0),0)","v":0},"—"]
[null,null,null,null,null,null,null,null,{"$f":"IFERROR(INDEX(BrandList!$B$2:$B$200,MATCH(TRUE,ISNUMBER(SEARCH(BrandList!$B$2:$B$200,G634)),0)),\"\")","v":""},null,null,null,null,null,null,"",{"$f":"IFERROR(VLOOKUP(VALUE(A634),WEEKLY_DATA!$A:$H,2,0),0)","v":0},{"$f":"IFERROR(VLOOKUP(VALUE(A634),WEEKLY_DATA!$A:$H,3,0),0)","v":0},{"$f":"IFERROR(VLOOKUP(VALUE(A634),WEEKLY_DATA!$A:$H,4,0),0)","v":0},{"$f":"IFERROR(VLOOKUP(VALUE(A634),WEEKLY_DATA!$A:$H,5,0),0)","v":0},{"$f":"IFERROR(VLOOKUP(VALUE(A634),WEEKLY_DATA!$A:$H,6,0),0)","v":0},{"$f":"IFERROR(VLOOKUP(VALUE(A634),WEEKLY_DATA!$A:$H,7,0),0)","v":0},{"$f":"IFERROR(IF(OR(Q634=\"\",Q634=0),\"\",IF(VLOOKUP(VALUE($A634),WEEKLY_DATA!$A:$H,6,0)=0,\"No Sales\",Q634/(VLOOKUP(VALUE($A634),WEEKLY_DATA!$A:$H,6,0)/13))),\"\")","v":""},{"$f":"IFERROR(VLOOKUP(VALUE(A634),WEEKLY_DATA!$A:$H,8,0),0)","v":0},"—"]
[null,null,null,null,null,null,null,null,{"$f":"IFERROR(INDEX(BrandList!$B$2:$B$200,MATCH(TRUE,ISNUMBER(SEARCH(BrandList!$B$2:$B$200,G635)),0)),\"\")","v":""},null,null,null,null,null,null,"",{"$f":"IFERROR(VLOOKUP(VALUE(A635),WEEKLY_DATA!$A:$H,2,0),0)","v":0},{"$f":"IFERROR(VLOOKUP(VALUE(A635),WEEKLY_DATA!$A:$H,3,0),0)","v":0},{"$f":"IFERROR(VLOOKUP(VALUE(A635),WEEKLY_DATA!$A:$H,4,0),0)","v":0},{"$f":"IFERROR(VLOOKUP(VALUE(A635),WEEKLY_DATA!$A:$H,5,0),0)","v":0},{"$f":"IFERROR(VLOOKUP(VALUE(A635),WEEKLY_DATA!$A:$H,6,0),0)","v":0},{"$f":"IFERROR(VLOOKUP(VALUE(A635),WEEKLY_DATA!$A:$H,7,0),0)","v":0},{"$f":"IFERROR(IF(OR(Q635=\"\",Q635=0),\"\",IF(VLOOKUP(VALUE($A635),WEEKLY_DATA!$A:$H,6,0)=0,\"No Sales\",Q635/(VLOOKUP(VALUE($A635),WEEKLY_DATA!$A:$H,6,0)/13))),\"\")","v":""},{"$f":"IFERROR(VLOOKUP(VALUE(A635),WEEKLY_DATA!$A:$H,8,0),0)","v":0},"—"]

{"sheet":"Executive Dashboard","index":3,"n_rows":21,"n_cols":16,"rows_kept":21,"cut":false,"hidden":false,"merged":[[0,0,0,15],[5,0,5,15]]}
["📊  EXECUTIVE DASHBOARD — Computers & Accessories  |  2026"]
[]
[null,"Total SKUs","Active","Discontinued","Avg WOS","New","🔴 Critical","🟡 Low","🟢 Healthy","🔵 Overstock","🔴 EOL","13-Week IMU%","LW Sales\nUnits","4-Wk \nSales","13-Wk \nSales","26-Wk\nSales"]
[null,{"$f":"COUNTA('Master Assortment'!A5:A2460)","v":0},{"$f":"COUNTIF('Master Assortment'!J5:J2460,\"Active\")","v":0},{"$f":"COUNTIF('Master Assortment'!J5:J2460,\"Discontinued\")","v":0},{"$f":"IFERROR(AVERAGE(E8:E158),\"\")","v":""},{"$f":"COUNTIF('Master Assortment'!J5:J2460,\"New\")","v":0},{"$f":"COUNTIF('Master Assortment'!Y5:Y2460,\"🔴 Critical\")","v":0},{"$f":"COUNTIF('Master Assortment'!Y5:Y2460,\"🟡 Low\")","v":0},{"$f":"COUNTIF('Master Assortment'!Y5:Y2460,\"🟢 Healthy\")","v":0},{"$f":"COUNTIF('Master Assortment'!Y5:Y2460,\"🔵 Overstock\")","v":0},{"$f":"COUNTIF('Master Assortment'!Y5:Y2460,\"🔴 EOL\")","v":0},{"$f":"AVERAGE(L8:L500)","v":{"$error":"#DIV/0!"}},{"$f":"SUM(M8:M30)","v":0},{"$f":"SUM(N8:N30)","v":0},0,0]
[]
["BRAND SUMMARY"]
["Brand","SKUs","Active","Discontinued","Avg WOS","🆕 New","🔴 Critical","🟡 Low","🟢 Healthy","🔵 Overstock","🔴 EOL","13-Week IMU%","LW Sales\nUnits","4-Wk \nSales","13-Wk \nSales","26-Wk\nSales"]
[null,{"$f":"COUNTIF('Master Assortment'!$H$5:$H$2460,A8)","v":0},{"$f":"COUNTIFS('Master Assortment'!$H$5:$H$2460,A8,'Master Assortment'!$J$5:$J$2460,\"Active\")","v":0},{"$f":"COUNTIFS('Master Assortment'!$H$5:$H$2460,A8,'Master Assortment'!$J$5:$J$2460,\"Discontinued\")","v":0},{"$f":"IFERROR(AVERAGEIF('Master Assortment'!$H$5:$H$2460,A8,'Master Assortment'!$W$5:$W$2460),\"0\")","v":"0"},{"$f":"IFERROR(COUNTIFS('Master Assortment'!H$5:H$2460,A8,'Master Assortment'!Y$5:Y$2460,\"🆕 New\"),\"\")","v":0},{"$f":"COUNTIFS('Master Assortment'!$H$5:$H$2460,A8,'Master Assortment'!$Y$5:$Y$2460,\"🔴 Critical\")","v":0},{"$f":"COUNTIFS('Master Assortment'!$H$5:$H$2460,A8,'Master Assortment'!$Y$5:$Y$2460,\"🟡 Low\")","v":0},{"$f":"COUNTIFS('Master Assortment'!$H$5:$H$2460,A8,'Master Assortment'!$Y$5:$Y$2460,\"🟢 Healthy\")","v":0},{"$f":"IFERROR(COUNTIFS('Master Assortment'!$H$5:$H$2460,A8,'Master Assortment'!$Y$5:$Y$2460,\"🔵 Overstock\"),\"\")","v":0},{"$f":"IFERROR(COUNTIFS('Master Assortment'!$H$5:$H$2460,A8,'Master Assortment'!$Y$5:$Y$2460,\"🔴 EOL\"),\"\")","v":0},{"$f":"IFERROR(SUMPRODUCT(('Master Assortment'!$H$5:$H$2494=A8)*IFERROR(VALUE('Master Assortment'!$U$5:$U$2494),0)*IFERROR(VALUE('Master Assortment'!$P$5:$P$2494),0))/SUMPRODUCT(('Master Assortment'!$H$5:$H$2494=A8)*IFERROR(VALUE('Master Assortment'!$U$5:$U$2494),0)),\"\")","v":""},{"$f":"IFERROR(SUMIF('Master Assortment'!$H$5:$H$2458,A8,'Master Assortment'!$S$5:$S$2458),\"\")","v":0},{"$f":"IFERROR(SUMIF('Master Assortment'!$H$5:$H$2458,A8,'Master Assortment'!$T$5:$T$2458),\"\")","v":0},{"$f":"IFERROR(SUMIF('Master Assortment'!$H$5:$H$2458,A8,'Master Assortment'!$U$5:$U$2458),\"\")","v":0},{"$f":"IFERROR(SUMIF('Master Assortment'!$H$5:HJ$2458,A8,'Master Assortment'!$V$5:$V$2458),\"\")","v":0}]
[null,{"$f":"COUNTIF('Master Assortment'!$H$5:$H$2460,A9)","v":0},{"$f":"COUNTIFS('Master Assortment'!$H$5:$H$2460,A9,'Master Assortment'!$J$5:$J$2460,\"Active\")","v":0},{"$f":"COUNTIFS('Master Assortment'!$H$5:$H$2460,A9,'Master Assortment'!$J$5:$J$2460,\"Discontinued\")","v":0},{"$f":"IFERROR(AVERAGEIF('Master Assortment'!$H$5:$H$2460,A9,'Master Assortment'!$W$5:$W$2460),\"0\")","v":"0"},{"$f":"IFERROR(COUNTIFS('Master Assortment'!H$5:H$2460,A9,'Master Assortment'!Y$5:Y$2460,\"🆕 New\"),\"\")","v":0},{"$f":"COUNTIFS('Master Assortment'!$H$5:$H$2460,A9,'Master Assortment'!$Y$5:$Y$2460,\"🔴 Critical\")","v":0},{"$f":"COUNTIFS('Master Assortment'!$H$5:$H$2460,A9,'Master Assortment'!$Y$5:$Y$2460,\"🟡 Low\")","v":0},{"$f":"COUNTIFS('Master Assortment'!$H$5:$H$2460,A9,'Master Assortment'!$Y$5:$Y$2460,\"🟢 Healthy\")","v":0},{"$f":"IFERROR(COUNTIFS('Master Assortment'!$H$5:$H$2460,A9,'Master Assortment'!$Y$5:$Y$2460,\"🔵 Overstock\"),\"\")","v":0},{"$f":"IFERROR(COUNTIFS('Master Assortment'!$H$5:$H$2460,A9,'Master Assortment'!$Y$5:$Y$2460,\"🔴 EOL\"),\"\")","v":0},{"$f":"IFERROR(SUMPRODUCT(('Master Assortment'!$H$5:$H$2494=A9)*IFERROR(VALUE('Master Assortment'!$U$5:$U$2494),0)*IFERROR(VALUE('Master Assortment'!$P$5:$P$2494),0))/SUMPRODUCT(('Master Assortment'!$H$5:$H$2494=A9)*IFERROR(VALUE('Master Assortment'!$U$5:$U$2494),0)),\"\")","v":""},{"$f":"IFERROR(SUMIF('Master Assortment'!$H$5:$H$2458,A9,'Master Assortment'!$S$5:$S$2458),\"\")","v":0},{"$f":"IFERROR(SUMIF('Master Assortment'!$H$5:$H$2458,A9,'Master Assortment'!$T$5:$T$2458),\"\")","v":0},{"$f":"IFERROR(SUMIF('Master Assortment'!$H$5:$H$2458,A9,'Master Assortment'!$U$5:$U$2458),\"\")","v":0},{"$f":"IFERROR(SUMIF('Master Assortment'!$H$5:HJ$2458,A9,'Master Assortment'!$V$5:$V$2458),\"\")","v":0}]
[null,{"$f":"COUNTIF('Master Assortment'!$H$5:$H$2460,A10)","v":0},{"$f":"COUNTIFS('Master Assortment'!$H$5:$H$2460,A10,'Master Assortment'!$J$5:$J$2460,\"Active\")","v":0},{"$f":"COUNTIFS('Master Assortment'!$H$5:$H$2460,A10,'Master Assortment'!$J$5:$J$2460,\"Discontinued\")","v":0},{"$f":"IFERROR(AVERAGEIF('Master Assortment'!$H$5:$H$2460,A10,'Master Assortment'!$W$5:$W$2460),\"0\")","v":"0"},{"$f":"IFERROR(COUNTIFS('Master Assortment'!H$5:H$2460,A10,'Master Assortment'!Y$5:Y$2460,\"🆕 New\"),\"\")","v":0},{"$f":"COUNTIFS('Master Assortment'!$H$5:$H$2460,A10,'Master Assortment'!$Y$5:$Y$2460,\"🔴 Critical\")","v":0},{"$f":"COUNTIFS('Master Assortment'!$H$5:$H$2460,A10,'Master Assortment'!$Y$5:$Y$2460,\"🟡 Low\")","v":0},{"$f":"COUNTIFS('Master Assortment'!$H$5:$H$2460,A10,'Master Assortment'!$Y$5:$Y$2460,\"🟢 Healthy\")","v":0},{"$f":"IFERROR(COUNTIFS('Master Assortment'!$H$5:$H$2460,A10,'Master Assortment'!$Y$5:$Y$2460,\"🔵 Overstock\"),\"\")","v":0},{"$f":"IFERROR(COUNTIFS('Master Assortment'!$H$5:$H$2460,A10,'Master Assortment'!$Y$5:$Y$2460,\"🔴 EOL\"),\"\")","v":0},{"$f":"IFERROR(SUMPRODUCT(('Master Assortment'!$H$5:$H$2494=A10)*IFERROR(VALUE('Master Assortment'!$U$5:$U$2494),0)*IFERROR(VALUE('Master Assortment'!$P$5:$P$2494),0))/SUMPRODUCT(('Master Assortment'!$H$5:$H$2494=A10)*IFERROR(VALUE('Master Assortment'!$U$5:$U$2494),0)),\"\")","v":""},{"$f":"IFERROR(SUMIF('Master Assortment'!$H$5:$H$2458,A10,'Master Assortment'!$S$5:$S$2458),\"\")","v":0},{"$f":"IFERROR(SUMIF('Master Assortment'!$H$5:$H$2458,A10,'Master Assortment'!$T$5:$T$2458),\"\")","v":0},{"$f":"IFERROR(SUMIF('Master Assortment'!$H$5:$H$2458,A10,'Master Assortment'!$U$5:$U$2458),\"\")","v":0},{"$f":"IFERROR(SUMIF('Master Assortment'!$H$5:HJ$2458,A10,'Master Assortment'!$V$5:$V$2458),\"\")","v":0}]
[null,{"$f":"COUNTIF('Master Assortment'!$H$5:$H$2460,A11)","v":0},{"$f":"COUNTIFS('Master Assortment'!$H$5:$H$2460,A11,'Master Assortment'!$J$5:$J$2460,\"Active\")","v":0},{"$f":"COUNTIFS('Master Assortment'!$H$5:$H$2460,A11,'Master Assortment'!$J$5:$J$2460,\"Discontinued\")","v":0},{"$f":"IFERROR(AVERAGEIF('Master Assortment'!$H$5:$H$2460,A11,'Master Assortment'!$W$5:$W$2460),\"0\")","v":"0"},{"$f":"IFERROR(COUNTIFS('Master Assortment'!H$5:H$2460,A11,'Master Assortment'!Y$5:Y$2460,\"🆕 New\"),\"\")","v":0},{"$f":"COUNTIFS('Master Assortment'!$H$5:$H$2460,A11,'Master Assortment'!$Y$5:$Y$2460,\"🔴 Critical\")","v":0},{"$f":"COUNTIFS('Master Assortment'!$H$5:$H$2460,A11,'Master Assortment'!$Y$5:$Y$2460,\"🟡 Low\")","v":0},{"$f":"COUNTIFS('Master Assortment'!$H$5:$H$2460,A11,'Master Assortment'!$Y$5:$Y$2460,\"🟢 Healthy\")","v":0},{"$f":"IFERROR(COUNTIFS('Master Assortment'!$H$5:$H$2460,A11,'Master Assortment'!$Y$5:$Y$2460,\"🔵 Overstock\"),\"\")","v":0},{"$f":"IFERROR(COUNTIFS('Master Assortment'!$H$5:$H$2460,A11,'Master Assortment'!$Y$5:$Y$2460,\"🔴 EOL\"),\"\")","v":0},{"$f":"IFERROR(SUMPRODUCT(('Master Assortment'!$H$5:$H$2494=A11)*IFERROR(VALUE('Master Assortment'!$U$5:$U$2494),0)*IFERROR(VALUE('Master Assortment'!$P$5:$P$2494),0))/SUMPRODUCT(('Master Assortment'!$H$5:$H$2494=A11)*IFERROR(VALUE('Master Assortment'!$U$5:$U$2494),0)),\"\")","v":""},{"$f":"IFERROR(SUMIF('Master Assortment'!$H$5:$H$2458,A11,'Master Assortment'!$S$5:$S$2458),\"\")","v":0},{"$f":"IFERROR(SUMIF('Master Assortment'!$H$5:$H$2458,A11,'Master Assortment'!$T$5:$T$2458),\"\")","v":0},{"$f":"IFERROR(SUMIF('Master Assortment'!$H$5:$H$2458,A11,'Master Assortment'!$U$5:$U$2458),\"\")","v":0},{"$f":"IFERROR(SUMIF('Master Assortment'!$H$5:HJ$2458,A11,'Master Assortment'!$V$5:$V$2458),\"\")","v":0}]
[null,{"$f":"COUNTIF('Master Assortment'!$H$5:$H$2460,A12)","v":0},{"$f":"COUNTIFS('Master Assortment'!$H$5:$H$2460,A12,'Master Assortment'!$J$5:$J$2460,\"Active\")","v":0},{"$f":"COUNTIFS('Master Assortment'!$H$5:$H$2460,A12,'Master Assortment'!$J$5:$J$2460,\"Discontinued\")","v":0},{"$f":"IFERROR(AVERAGEIF('Master Assortment'!$H$5:$H$2460,A12,'Master Assortment'!$W$5:$W$2460),\"0\")","v":"0"},{"$f":"IFERROR(COUNTIFS('Master Assortment'!H$5:H$2460,A12,'Master Assortment'!Y$5:Y$2460,\"🆕 New\"),\"\")","v":0},{"$f":"COUNTIFS('Master Assortment'!$H$5:$H$2460,A12,'Master Assortment'!$Y$5:$Y$2460,\"🔴 Critical\")","v":0},{"$f":"COUNTIFS('Master Assortment'!$H$5:$H$2460,A12,'Master Assortment'!$Y$5:$Y$2460,\"🟡 Low\")","v":0},{"$f":"COUNTIFS('Master Assortment'!$H$5:$H$2460,A12,'Master Assortment'!$Y$5:$Y$2460,\"🟢 Healthy\")","v":0},{"$f":"IFERROR(COUNTIFS('Master Assortment'!$H$5:$H$2460,A12,'Master Assortment'!$Y$5:$Y$2460,\"🔵 Overstock\"),\"\")","v":0},{"$f":"IFERROR(COUNTIFS('Master Assortment'!$H$5:$H$2460,A12,'Master Assortment'!$Y$5:$Y$2460,\"🔴 EOL\"),\"\")","v":0},{"$f":"IFERROR(SUMPRODUCT(('Master Assortment'!$H$5:$H$2494=A12)*IFERROR(VALUE('Master Assortment'!$U$5:$U$2494),0)*IFERROR(VALUE('Master Assortment'!$P$5:$P$2494),0))/SUMPRODUCT(('Master Assortment'!$H$5:$H$2494=A12)*IFERROR(VALUE('Master Assortment'!$U$5:$U$2494),0)),\"\")","v":""},{"$f":"IFERROR(SUMIF('Master Assortment'!$H$5:$H$2458,A12,'Master Assortment'!$S$5:$S$2458),\"\")","v":0},{"$f":"IFERROR(SUMIF('Master Assortment'!$H$5:$H$2458,A12,'Master Assortment'!$T$5:$T$2458),\"\")","v":0},{"$f":"IFERROR(SUMIF('Master Assortment'!$H$5:$H$2458,A12,'Master Assortment'!$U$5:$U$2458),\"\")","v":0},{"$f":"IFERROR(SUMIF('Master Assortment'!$H$5:HJ$2458,A12,'Master Assortment'!$V$5:$V$2458),\"\")","v":0}]
[null,{"$f":"COUNTIF('Master Assortment'!$H$5:$H$2460,A13)","v":0},{"$f":"COUNTIFS('Master Assortment'!$H$5:$H$2460,A13,'Master Assortment'!$J$5:$J$2460,\"Active\")","v":0},{"$f":"COUNTIFS('Master Assortment'!$H$5:$H$2460,A13,'Master Assortment'!$J$5:$J$2460,\"Discontinued\")","v":0},{"$f":"IFERROR(AVERAGEIF('Master Assortment'!$H$5:$H$2460,A13,'Master Assortment'!$W$5:$W$2460),\"0\")","v":"0"},{"$f":"IFERROR(COUNTIFS('Master Assortment'!H$5:H$2460,A13,'Master Assortment'!Y$5:Y$2460,\"🆕 New\"),\"\")","v":0},{"$f":"COUNTIFS('Master Assortment'!$H$5:$H$2460,A13,'Master Assortment'!$Y$5:$Y$2460,\"🔴 Critical\")","v":0},{"$f":"COUNTIFS('Master Assortment'!$H$5:$H$2460,A13,'Master Assortment'!$Y$5:$Y$2460,\"🟡 Low\")","v":0},{"$f":"COUNTIFS('Master Assortment'!$H$5:$H$2460,A13,'Master Assortment'!$Y$5:$Y$2460,\"🟢 Healthy\")","v":0},{"$f":"IFERROR(COUNTIFS('Master Assortment'!$H$5:$H$2460,A13,'Master Assortment'!$Y$5:$Y$2460,\"🔵 Overstock\"),\"\")","v":0},{"$f":"IFERROR(COUNTIFS('Master Assortment'!$H$5:$H$2460,A13,'Master Assortment'!$Y$5:$Y$2460,\"🔴 EOL\"),\"\")","v":0},{"$f":"IFERROR(SUMPRODUCT(('Master Assortment'!$H$5:$H$2494=A13)*IFERROR(VALUE('Master Assortment'!$U$5:$U$2494),0)*IFERROR(VALUE('Master Assortment'!$P$5:$P$2494),0))/SUMPRODUCT(('Master Assortment'!$H$5:$H$2494=A13)*IFERROR(VALUE('Master Assortment'!$U$5:$U$2494),0)),\"\")","v":""},{"$f":"IFERROR(SUMIF('Master Assortment'!$H$5:$H$2458,A13,'Master Assortment'!$S$5:$S$2458),\"\")","v":0},{"$f":"IFERROR(SUMIF('Master Assortment'!$H$5:$H$2458,A13,'Master Assortment'!$T$5:$T$2458),\"\")","v":0},{"$f":"IFERROR(SUMIF('Master Assortment'!$H$5:$H$2458,A13,'Master Assortment'!$U$5:$U$2458),\"\")","v":0},{"$f":"IFERROR(SUMIF('Master Assortment'!$H$5:HJ$2458,A13,'Master Assortment'!$V$5:$V$2458),\"\")","v":0}]
[null,{"$f":"COUNTIF('Master Assortment'!$H$5:$H$2460,A14)","v":0},{"$f":"COUNTIFS('Master Assortment'!$H$5:$H$2460,A14,'Master Assortment'!$J$5:$J$2460,\"Active\")","v":0},{"$f":"COUNTIFS('Master Assortment'!$H$5:$H$2460,A14,'Master Assortment'!$J$5:$J$2460,\"Discontinued\")","v":0},{"$f":"IFERROR(AVERAGEIF('Master Assortment'!$H$5:$H$2460,A14,'Master Assortment'!$W$5:$W$2460),\"0\")","v":"0"},{"$f":"IFERROR(COUNTIFS('Master Assortment'!H$5:H$2460,A14,'Master Assortment'!Y$5:Y$2460,\"🆕 New\"),\"\")","v":0},{"$f":"COUNTIFS('Master Assortment'!$H$5:$H$2460,A14,'Master Assortment'!$Y$5:$Y$2460,\"🔴 Critical\")","v":0},{"$f":"COUNTIFS('Master Assortment'!$H$5:$H$2460,A14,'Master Assortment'!$Y$5:$Y$2460,\"🟡 Low\")","v":0},{"$f":"COUNTIFS('Master Assortment'!$H$5:$H$2460,A14,'Master Assortment'!$Y$5:$Y$2460,\"🟢 Healthy\")","v":0},{"$f":"IFERROR(COUNTIFS('Master Assortment'!$H$5:$H$2460,A14,'Master Assortment'!$Y$5:$Y$2460,\"🔵 Overstock\"),\"\")","v":0},{"$f":"IFERROR(COUNTIFS('Master Assortment'!$H$5:$H$2460,A14,'Master Assortment'!$Y$5:$Y$2460,\"🔴 EOL\"),\"\")","v":0},{"$f":"IFERROR(SUMPRODUCT(('Master Assortment'!$H$5:$H$2494=A14)*IFERROR(VALUE('Master Assortment'!$U$5:$U$2494),0)*IFERROR(VALUE('Master Assortment'!$P$5:$P$2494),0))/SUMPRODUCT(('Master Assortment'!$H$5:$H$2494=A14)*IFERROR(VALUE('Master Assortment'!$U$5:$U$2494),0)),\"\")","v":""},{"$f":"IFERROR(SUMIF('Master Assortment'!$H$5:$H$2458,A14,'Master Assortment'!$S$5:$S$2458),\"\")","v":0},{"$f":"IFERROR(SUMIF('Master Assortment'!$H$5:$H$2458,A14,'Master Assortment'!$T$5:$T$2458),\"\")","v":0},{"$f":"IFERROR(SUMIF('Master Assortment'!$H$5:$H$2458,A14,'Master Assortment'!$U$5:$U$2458),\"\")","v":0},{"$f":"IFERROR(SUMIF('Master Assortment'!$H$5:HJ$2458,A14,'Master Assortment'!$V$5:$V$2458),\"\")","v":0}]
[null,{"$f":"COUNTIF('Master Assortment'!$H$5:$H$2460,A15)","v":0},{"$f":"COUNTIFS('Master Assortment'!$H$5:$H$2460,A15,'Master Assortment'!$J$5:$J$2460,\"Active\")","v":0},{"$f":"COUNTIFS('Master Assortment'!$H$5:$H$2460,A15,'Master Assortment'!$J$5:$J$2460,\"Discontinued\")","v":0},{"$f":"IFERROR(AVERAGEIF('Master Assortment'!$H$5:$H$2460,A15,'Master Assortment'!$W$5:$W$2460),\"0\")","v":"0"},{"$f":"IFERROR(COUNTIFS('Master Assortment'!H$5:H$2460,A15,'Master Assortment'!Y$5:Y$2460,\"🆕 New\"),\"\")","v":0},{"$f":"COUNTIFS('Master Assortment'!$H$5:$H$2460,A15,'Master Assortment'!$Y$5:$Y$2460,\"🔴 Critical\")","v":0},{"$f":"COUNTIFS('Master Assortment'!$H$5:$H$2460,A15,'Master Assortment'!$Y$5:$Y$2460,\"🟡 Low\")","v":0},{"$f":"COUNTIFS('Master Assortment'!$H$5:$H$2460,A15,'Master Assortment'!$Y$5:$Y$2460,\"🟢 Healthy\")","v":0},{"$f":"IFERROR(COUNTIFS('Master Assortment'!$H$5:$H$2460,A15,'Master Assortment'!$Y$5:$Y$2460,\"🔵 Overstock\"),\"\")","v":0},{"$f":"IFERROR(COUNTIFS('Master Assortment'!$H$5:$H$2460,A15,'Master Assortment'!$Y$5:$Y$2460,\"🔴 EOL\"),\"\")","v":0},{"$f":"IFERROR(SUMPRODUCT(('Master Assortment'!$H$5:$H$2494=A15)*IFERROR(VALUE('Master Assortment'!$U$5:$U$2494),0)*IFERROR(VALUE('Master Assortment'!$P$5:$P$2494),0))/SUMPRODUCT(('Master Assortment'!$H$5:$H$2494=A15)*IFERROR(VALUE('Master Assortment'!$U$5:$U$2494),0)),\"\")","v":""},{"$f":"IFERROR(SUMIF('Master Assortment'!$H$5:$H$2458,A15,'Master Assortment'!$S$5:$S$2458),\"\")","v":0},{"$f":"IFERROR(SUMIF('Master Assortment'!$H$5:$H$2458,A15,'Master Assortment'!$T$5:$T$2458),\"\")","v":0},{"$f":"IFERROR(SUMIF('Master Assortment'!$H$5:$H$2458,A15,'Master Assortment'!$U$5:$U$2458),\"\")","v":0},{"$f":"IFERROR(SUMIF('Master Assortment'!$H$5:HJ$2458,A15,'Master Assortment'!$V$5:$V$2458),\"\")","v":0}]
[null,{"$f":"COUNTIF('Master Assortment'!$H$5:$H$2460,A16)","v":0},{"$f":"COUNTIFS('Master Assortment'!$H$5:$H$2460,A16,'Master Assortment'!$J$5:$J$2460,\"Active\")","v":0},{"$f":"COUNTIFS('Master Assortment'!$H$5:$H$2460,A16,'Master Assortment'!$J$5:$J$2460,\"Discontinued\")","v":0},{"$f":"IFERROR(AVERAGEIF('Master Assortment'!$H$5:$H$2460,A16,'Master Assortment'!$W$5:$W$2460),\"0\")","v":"0"},{"$f":"IFERROR(COUNTIFS('Master Assortment'!H$5:H$2460,A16,'Master Assortment'!Y$5:Y$2460,\"🆕 New\"),\"\")","v":0},{"$f":"COUNTIFS('Master Assortment'!$H$5:$H$2460,A16,'Master Assortment'!$Y$5:$Y$2460,\"🔴 Critical\")","v":0},{"$f":"COUNTIFS('Master Assortment'!$H$5:$H$2460,A16,'Master Assortment'!$Y$5:$Y$2460,\"🟡 Low\")","v":0},{"$f":"COUNTIFS('Master Assortment'!$H$5:$H$2460,A16,'Master Assortment'!$Y$5:$Y$2460,\"🟢 Healthy\")","v":0},{"$f":"IFERROR(COUNTIFS('Master Assortment'!$H$5:$H$2460,A16,'Master Assortment'!$Y$5:$Y$2460,\"🔵 Overstock\"),\"\")","v":0},{"$f":"IFERROR(COUNTIFS('Master Assortment'!$H$5:$H$2460,A16,'Master Assortment'!$Y$5:$Y$2460,\"🔴 EOL\"),\"\")","v":0},{"$f":"IFERROR(SUMPRODUCT(('Master Assortment'!$H$5:$H$2494=A16)*IFERROR(VALUE('Master Assortment'!$U$5:$U$2494),0)*IFERROR(VALUE('Master Assortment'!$P$5:$P$2494),0))/SUMPRODUCT(('Master Assortment'!$H$5:$H$2494=A16)*IFERROR(VALUE('Master Assortment'!$U$5:$U$2494),0)),\"\")","v":""},{"$f":"IFERROR(SUMIF('Master Assortment'!$H$5:$H$2458,A16,'Master Assortment'!$S$5:$S$2458),\"\")","v":0},{"$f":"IFERROR(SUMIF('Master Assortment'!$H$5:$H$2458,A16,'Master Assortment'!$T$5:$T$2458),\"\")","v":0},{"$f":"IFERROR(SUMIF('Master Assortment'!$H$5:$H$2458,A16,'Master Assortment'!$U$5:$U$2458),\"\")","v":0},{"$f":"IFERROR(SUMIF('Master Assortment'!$H$5:HJ$2458,A16,'Master Assortment'!$V$5:$V$2458),\"\")","v":0}]
[null,{"$f":"COUNTIF('Master Assortment'!$H$5:$H$2460,A17)","v":0},{"$f":"COUNTIFS('Master Assortment'!$H$5:$H$2460,A17,'Master Assortment'!$J$5:$J$2460,\"Active\")","v":0},{"$f":"COUNTIFS('Master Assortment'!$H$5:$H$2460,A17,'Master Assortment'!$J$5:$J$2460,\"Discontinued\")","v":0},{"$f":"IFERROR(AVERAGEIF('Master Assortment'!$H$5:$H$2460,A17,'Master Assortment'!$W$5:$W$2460),\"0\")","v":"0"},{"$f":"IFERROR(COUNTIFS('Master Assortment'!H$5:H$2460,A17,'Master Assortment'!Y$5:Y$2460,\"🆕 New\"),\"\")","v":0},{"$f":"COUNTIFS('Master Assortment'!$H$5:$H$2460,A17,'Master Assortment'!$Y$5:$Y$2460,\"🔴 Critical\")","v":0},{"$f":"COUNTIFS('Master Assortment'!$H$5:$H$2460,A17,'Master Assortment'!$Y$5:$Y$2460,\"🟡 Low\")","v":0},{"$f":"COUNTIFS('Master Assortment'!$H$5:$H$2460,A17,'Master Assortment'!$Y$5:$Y$2460,\"🟢 Healthy\")","v":0},{"$f":"IFERROR(COUNTIFS('Master Assortment'!$H$5:$H$2460,A17,'Master Assortment'!$Y$5:$Y$2460,\"🔵 Overstock\"),\"\")","v":0},{"$f":"IFERROR(COUNTIFS('Master Assortment'!$H$5:$H$2460,A17,'Master Assortment'!$Y$5:$Y$2460,\"🔴 EOL\"),\"\")","v":0},{"$f":"IFERROR(SUMPRODUCT(('Master Assortment'!$H$5:$H$2494=A17)*IFERROR(VALUE('Master Assortment'!$U$5:$U$2494),0)*IFERROR(VALUE('Master Assortment'!$P$5:$P$2494),0))/SUMPRODUCT(('Master Assortment'!$H$5:$H$2494=A17)*IFERROR(VALUE('Master Assortment'!$U$5:$U$2494),0)),\"\")","v":""},{"$f":"IFERROR(SUMIF('Master Assortment'!$H$5:$H$2458,A17,'Master Assortment'!$S$5:$S$2458),\"\")","v":0},{"$f":"IFERROR(SUMIF('Master Assortment'!$H$5:$H$2458,A17,'Master Assortment'!$T$5:$T$2458),\"\")","v":0},{"$f":"IFERROR(SUMIF('Master Assortment'!$H$5:$H$2458,A17,'Master Assortment'!$U$5:$U$2458),\"\")","v":0},{"$f":"IFERROR(SUMIF('Master Assortment'!$H$5:HJ$2458,A17,'Master Assortment'!$V$5:$V$2458),\"\")","v":0}]
[null,{"$f":"COUNTIF('Master Assortment'!$H$5:$H$2460,A18)","v":0},{"$f":"COUNTIFS('Master Assortment'!$H$5:$H$2460,A18,'Master Assortment'!$J$5:$J$2460,\"Active\")","v":0},{"$f":"COUNTIFS('Master Assortment'!$H$5:$H$2460,A18,'Master Assortment'!$J$5:$J$2460,\"Discontinued\")","v":0},{"$f":"IFERROR(AVERAGEIF('Master Assortment'!$H$5:$H$2460,A18,'Master Assortment'!$W$5:$W$2460),\"0\")","v":"0"},{"$f":"IFERROR(COUNTIFS('Master Assortment'!H$5:H$2460,A18,'Master Assortment'!Y$5:Y$2460,\"🆕 New\"),\"\")","v":0},{"$f":"COUNTIFS('Master Assortment'!$H$5:$H$2460,A18,'Master Assortment'!$Y$5:$Y$2460,\"🔴 Critical\")","v":0},{"$f":"COUNTIFS('Master Assortment'!$H$5:$H$2460,A18,'Master Assortment'!$Y$5:$Y$2460,\"🟡 Low\")","v":0},{"$f":"COUNTIFS('Master Assortment'!$H$5:$H$2460,A18,'Master Assortment'!$Y$5:$Y$2460,\"🟢 Healthy\")","v":0},{"$f":"IFERROR(COUNTIFS('Master Assortment'!$H$5:$H$2460,A18,'Master Assortment'!$Y$5:$Y$2460,\"🔵 Overstock\"),\"\")","v":0},{"$f":"IFERROR(COUNTIFS('Master Assortment'!$H$5:$H$2460,A18,'Master Assortment'!$Y$5:$Y$2460,\"🔴 EOL\"),\"\")","v":0},{"$f":"IFERROR(SUMPRODUCT(('Master Assortment'!$H$5:$H$2494=A18)*IFERROR(VALUE('Master Assortment'!$U$5:$U$2494),0)*IFERROR(VALUE('Master Assortment'!$P$5:$P$2494),0))/SUMPRODUCT(('Master Assortment'!$H$5:$H$2494=A18)*IFERROR(VALUE('Master Assortment'!$U$5:$U$2494),0)),\"\")","v":""},{"$f":"IFERROR(SUMIF('Master Assortment'!$H$5:$H$2458,A18,'Master Assortment'!$S$5:$S$2458),\"\")","v":0},{"$f":"IFERROR(SUMIF('Master Assortment'!$H$5:$H$2458,A18,'Master Assortment'!$T$5:$T$2458),\"\")","v":0},{"$f":"IFERROR(SUMIF('Master Assortment'!$H$5:$H$2458,A18,'Master Assortment'!$U$5:$U$2458),\"\")","v":0},{"$f":"IFERROR(SUMIF('Master Assortment'!$H$5:HJ$2458,A18,'Master Assortment'!$V$5:$V$2458),\"\")","v":0}]
[null,{"$f":"COUNTIF('Master Assortment'!$H$5:$H$2460,A19)","v":0},{"$f":"COUNTIFS('Master Assortment'!$H$5:$H$2460,A19,'Master Assortment'!$J$5:$J$2460,\"Active\")","v":0},{"$f":"COUNTIFS('Master Assortment'!$H$5:$H$2460,A19,'Master Assortment'!$J$5:$J$2460,\"Discontinued\")","v":0},{"$f":"IFERROR(AVERAGEIF('Master Assortment'!$H$5:$H$2460,A19,'Master Assortment'!$W$5:$W$2460),\"0\")","v":"0"},{"$f":"IFERROR(COUNTIFS('Master Assortment'!H$5:H$2460,A19,'Master Assortment'!Y$5:Y$2460,\"🆕 New\"),\"\")","v":0},{"$f":"COUNTIFS('Master Assortment'!$H$5:$H$2460,A19,'Master Assortment'!$Y$5:$Y$2460,\"🔴 Critical\")","v":0},{"$f":"COUNTIFS('Master Assortment'!$H$5:$H$2460,A19,'Master Assortment'!$Y$5:$Y$2460,\"🟡 Low\")","v":0},{"$f":"COUNTIFS('Master Assortment'!$H$5:$H$2460,A19,'Master Assortment'!$Y$5:$Y$2460,\"🟢 Healthy\")","v":0},{"$f":"IFERROR(COUNTIFS('Master Assortment'!$H$5:$H$2460,A19,'Master Assortment'!$Y$5:$Y$2460,\"🔵 Overstock\"),\"\")","v":0},{"$f":"IFERROR(COUNTIFS('Master Assortment'!$H$5:$H$2460,A19,'Master Assortment'!$Y$5:$Y$2460,\"🔴 EOL\"),\"\")","v":0},{"$f":"IFERROR(SUMPRODUCT(('Master Assortment'!$H$5:$H$2494=A19)*IFERROR(VALUE('Master Assortment'!$U$5:$U$2494),0)*IFERROR(VALUE('Master Assortment'!$P$5:$P$2494),0))/SUMPRODUCT(('Master Assortment'!$H$5:$H$2494=A19)*IFERROR(VALUE('Master Assortment'!$U$5:$U$2494),0)),\"\")","v":""},{"$f":"IFERROR(SUMIF('Master Assortment'!$H$5:$H$2458,A19,'Master Assortment'!$S$5:$S$2458),\"\")","v":0},{"$f":"IFERROR(SUMIF('Master Assortment'!$H$5:$H$2458,A19,'Master Assortment'!$T$5:$T$2458),\"\")","v":0},{"$f":"IFERROR(SUMIF('Master Assortment'!$H$5:$H$2458,A19,'Master Assortment'!$U$5:$U$2458),\"\")","v":0},{"$f":"IFERROR(SUMIF('Master Assortment'!$H$5:HJ$2458,A19,'Master Assortment'!$V$5:$V$2458),\"\")","v":0}]
[null,{"$f":"COUNTIF('Master Assortment'!$H$5:$H$2460,A20)","v":0},{"$f":"COUNTIFS('Master Assortment'!$H$5:$H$2460,A20,'Master Assortment'!$J$5:$J$2460,\"Active\")","v":0},{"$f":"COUNTIFS('Master Assortment'!$H$5:$H$2460,A20,'Master Assortment'!$J$5:$J$2460,\"Discontinued\")","v":0},{"$f":"IFERROR(AVERAGEIF('Master Assortment'!$H$5:$H$2460,A20,'Master Assortment'!$W$5:$W$2460),\"0\")","v":"0"},{"$f":"IFERROR(COUNTIFS('Master Assortment'!H$5:H$2460,A20,'Master Assortment'!Y$5:Y$2460,\"🆕 New\"),\"\")","v":0},{"$f":"COUNTIFS('Master Assortment'!$H$5:$H$2460,A20,'Master Assortment'!$Y$5:$Y$2460,\"🔴 Critical\")","v":0},{"$f":"COUNTIFS('Master Assortment'!$H$5:$H$2460,A20,'Master Assortment'!$Y$5:$Y$2460,\"🟡 Low\")","v":0},{"$f":"COUNTIFS('Master Assortment'!$H$5:$H$2460,A20,'Master Assortment'!$Y$5:$Y$2460,\"🟢 Healthy\")","v":0},{"$f":"IFERROR(COUNTIFS('Master Assortment'!$H$5:$H$2460,A20,'Master Assortment'!$Y$5:$Y$2460,\"🔵 Overstock\"),\"\")","v":0},{"$f":"IFERROR(COUNTIFS('Master Assortment'!$H$5:$H$2460,A20,'Master Assortment'!$Y$5:$Y$2460,\"🔴 EOL\"),\"\")","v":0},{"$f":"IFERROR(SUMPRODUCT(('Master Assortment'!$H$5:$H$2494=A20)*IFERROR(VALUE('Master Assortment'!$U$5:$U$2494),0)*IFERROR(VALUE('Master Assortment'!$P$5:$P$2494),0))/SUMPRODUCT(('Master Assortment'!$H$5:$H$2494=A20)*IFERROR(VALUE('Master Assortment'!$U$5:$U$2494),0)),\"\")","v":""},{"$f":"IFERROR(SUMIF('Master Assortment'!$H$5:$H$2458,A20,'Master Assortment'!$S$5:$S$2458),\"\")","v":0},{"$f":"IFERROR(SUMIF('Master Assortment'!$H$5:$H$2458,A20,'Master Assortment'!$T$5:$T$2458),\"\")","v":0},{"$f":"IFERROR(SUMIF('Master Assortment'!$H$5:$H$2458,A20,'Master Assortment'!$U$5:$U$2458),\"\")","v":0},{"$f":"IFERROR(SUMIF('Master Assortment'!$H$5:HJ$2458,A20,'Master Assortment'!$V$5:$V$2458),\"\")","v":0}]
[null,{"$f":"COUNTIF('Master Assortment'!$H$5:$H$2460,A21)","v":0},{"$f":"COUNTIFS('Master Assortment'!$H$5:$H$2460,A21,'Master Assortment'!$J$5:$J$2460,\"Active\")","v":0},{"$f":"COUNTIFS('Master Assortment'!$H$5:$H$2460,A21,'Master Assortment'!$J$5:$J$2460,\"Discontinued\")","v":0},{"$f":"IFERROR(AVERAGEIF('Master Assortment'!$H$5:$H$2460,A21,'Master Assortment'!$W$5:$W$2460),\"0\")","v":"0"},{"$f":"IFERROR(COUNTIFS('Master Assortment'!H$5:H$2460,A21,'Master Assortment'!Y$5:Y$2460,\"🆕 New\"),\"\")","v":0},{"$f":"COUNTIFS('Master Assortment'!$H$5:$H$2460,A21,'Master Assortment'!$Y$5:$Y$2460,\"🔴 Critical\")","v":0},{"$f":"COUNTIFS('Master Assortment'!$H$5:$H$2460,A21,'Master Assortment'!$Y$5:$Y$2460,\"🟡 Low\")","v":0},{"$f":"COUNTIFS('Master Assortment'!$H$5:$H$2460,A21,'Master Assortment'!$Y$5:$Y$2460,\"🟢 Healthy\")","v":0},{"$f":"IFERROR(COUNTIFS('Master Assortment'!$H$5:$H$2460,A21,'Master Assortment'!$Y$5:$Y$2460,\"🔵 Overstock\"),\"\")","v":0},{"$f":"IFERROR(COUNTIFS('Master Assortment'!$H$5:$H$2460,A21,'Master Assortment'!$Y$5:$Y$2460,\"🔴 EOL\"),\"\")","v":0},{"$f":"IFERROR(SUMPRODUCT(('Master Assortment'!$H$5:$H$2494=A21)*IFERROR(VALUE('Master Assortment'!$U$5:$U$2494),0)*IFERROR(VALUE('Master Assortment'!$P$5:$P$2494),0))/SUMPRODUCT(('Master Assortment'!$H$5:$H$2494=A21)*IFERROR(VALUE('Master Assortment'!$U$5:$U$2494),0)),\"\")","v":""},{"$f":"IFERROR(SUMIF('Master Assortment'!$H$5:$H$2458,A21,'Master Assortment'!$S$5:$S$2458),\"\")","v":0},{"$f":"IFERROR(SUMIF('Master Assortment'!$H$5:$H$2458,A21,'Master Assortment'!$T$5:$T$2458),\"\")","v":0},{"$f":"IFERROR(SUMIF('Master Assortment'!$H$5:$H$2458,A21,'Master Assortment'!$U$5:$U$2458),\"\")","v":0},{"$f":"IFERROR(SUMIF('Master Assortment'!$H$5:HJ$2458,A21,'Master Assortment'!$V$5:$V$2458),\"\")","v":0}]

{"sheet":"Buyer View","index":4,"n_rows":190,"n_cols":11,"rows_kept":190,"cut":false,"hidden":false,"merged":[[0,0,0,10]]}
["👁  BUYER VIEW — Vendor-safe  |  No cost or internal margin data"]
["Trans RIN","VPN","UPC","Brand","Category","Description","Status","Retail","Sell Margin","Fact Tags","WOS Status"]
[{"$f":"'Master Assortment'!A93","v":0},{"$f":"'Master Assortment'!C93","v":0},{"$f":"'Master Assortment'!D93","v":0},{"$f":"'Master Assortment'!H93","v":""},{"$f":"'Master Assortment'!I93","v":""},{"$f":"'Master Assortment'!G93","v":0},{"$f":"'Master Assortment'!J93","v":0},{"$f":"'Master Assortment'!F93","v":0},{"$f":"'Master Assortment'!P93","v":""},{"$f":"'Master Assortment'!AD93","v":0},{"$f":"'Master Assortment'!Y93","v":"—"}]
[{"$f":"'Master Assortment'!A47","v":0},{"$f":"'Master Assortment'!C47","v":0},{"$f":"'Master Assortment'!D47","v":0},{"$f":"'Master Assortment'!H47","v":""},{"$f":"'Master Assortment'!I47","v":""},{"$f":"'Master Assortment'!G47","v":0},{"$f":"'Master Assortment'!J47","v":0},{"$f":"'Master Assortment'!F47","v":0},{"$f":"'Master Assortment'!P47","v":""},{"$f":"'Master Assortment'!AD47","v":0},{"$f":"'Master Assortment'!Y47","v":"—"}]
[{"$f":"'Master Assortment'!A122","v":0},{"$f":"'Master Assortment'!C122","v":0},{"$f":"'Master Assortment'!D122","v":0},{"$f":"'Master Assortment'!H122","v":""},{"$f":"'Master Assortment'!I122","v":""},{"$f":"'Master Assortment'!G122","v":0},{"$f":"'Master Assortment'!J122","v":0},{"$f":"'Master Assortment'!F122","v":0},{"$f":"'Master Assortment'!P122","v":""},{"$f":"'Master Assortment'!AD122","v":0},{"$f":"'Master Assortment'!Y122","v":"—"}]
[{"$f":"'Master Assortment'!A106","v":0},{"$f":"'Master Assortment'!C106","v":0},{"$f":"'Master Assortment'!D106","v":0},{"$f":"'Master Assortment'!H106","v":""},{"$f":"'Master Assortment'!I106","v":""},{"$f":"'Master Assortment'!G106","v":0},{"$f":"'Master Assortment'!J106","v":0},{"$f":"'Master Assortment'!F106","v":0},{"$f":"'Master Assortment'!P106","v":""},{"$f":"'Master Assortment'!AD106","v":0},{"$f":"'Master Assortment'!Y106","v":"—"}]
[{"$f":"'Master Assortment'!A8","v":0},{"$f":"'Master Assortment'!C8","v":0},{"$f":"'Master Assortment'!D8","v":0},{"$f":"'Master Assortment'!H8","v":""},{"$f":"'Master Assortment'!I8","v":""},{"$f":"'Master Assortment'!G8","v":0},{"$f":"'Master Assortment'!J8","v":0},{"$f":"'Master Assortment'!F8","v":0},{"$f":"'Master Assortment'!P8","v":""},{"$f":"'Master Assortment'!AD8","v":0},{"$f":"'Master Assortment'!Y8","v":"—"}]
[{"$f":"'Master Assortment'!A68","v":0},{"$f":"'Master Assortment'!C68","v":0},{"$f":"'Master Assortment'!D68","v":0},{"$f":"'Master Assortment'!H68","v":""},{"$f":"'Master Assortment'!I68","v":""},{"$f":"'Master Assortment'!G68","v":0},{"$f":"'Master Assortment'!J68","v":0},{"$f":"'Master Assortment'!F68","v":0},{"$f":"'Master Assortment'!P68","v":""},{"$f":"'Master Assortment'!AD68","v":0},{"$f":"'Master Assortment'!Y68","v":"—"}]
[{"$f":"'Master Assortment'!A75","v":0},{"$f":"'Master Assortment'!C75","v":0},{"$f":"'Master Assortment'!D75","v":0},{"$f":"'Master Assortment'!H75","v":""},{"$f":"'Master Assortment'!I75","v":""},{"$f":"'Master Assortment'!G75","v":0},{"$f":"'Master Assortment'!J75","v":0},{"$f":"'Master Assortment'!F75","v":0},{"$f":"'Master Assortment'!P75","v":""},{"$f":"'Master Assortment'!AD75","v":0},{"$f":"'Master Assortment'!Y75","v":"—"}]
[{"$f":"'Master Assortment'!A43","v":0},{"$f":"'Master Assortment'!C43","v":0},{"$f":"'Master Assortment'!D43","v":0},{"$f":"'Master Assortment'!H43","v":""},{"$f":"'Master Assortment'!I43","v":""},{"$f":"'Master Assortment'!G43","v":0},{"$f":"'Master Assortment'!J43","v":0},{"$f":"'Master Assortment'!F43","v":0},{"$f":"'Master Assortment'!P43","v":""},{"$f":"'Master Assortment'!AD43","v":0},{"$f":"'Master Assortment'!Y43","v":"—"}]
[{"$f":"'Master Assortment'!A129","v":0},{"$f":"'Master Assortment'!C129","v":0},{"$f":"'Master Assortment'!D129","v":0},{"$f":"'Master Assortment'!H129","v":""},{"$f":"'Master Assortment'!I129","v":""},{"$f":"'Master Assortment'!G129","v":0},{"$f":"'Master Assortment'!J129","v":0},{"$f":"'Master Assortment'!F129","v":0},{"$f":"'Master Assortment'!P129","v":""},{"$f":"'Master Assortment'!AD129","v":0},{"$f":"'Master Assortment'!Y129","v":"—"}]
[{"$f":"'Master Assortment'!A52","v":0},{"$f":"'Master Assortment'!C52","v":0},{"$f":"'Master Assortment'!D52","v":0},{"$f":"'Master Assortment'!H52","v":""},{"$f":"'Master Assortment'!I52","v":""},{"$f":"'Master Assortment'!G52","v":0},{"$f":"'Master Assortment'!J52","v":0},{"$f":"'Master Assortment'!F52","v":0},{"$f":"'Master Assortment'!P52","v":""},{"$f":"'Master Assortment'!AD52","v":0},{"$f":"'Master Assortment'!Y52","v":"—"}]
[{"$f":"'Master Assortment'!A20","v":0},{"$f":"'Master Assortment'!C20","v":0},{"$f":"'Master Assortment'!D20","v":0},{"$f":"'Master Assortment'!H20","v":""},{"$f":"'Master Assortment'!I20","v":""},{"$f":"'Master Assortment'!G20","v":0},{"$f":"'Master Assortment'!J20","v":0},{"$f":"'Master Assortment'!F20","v":0},{"$f":"'Master Assortment'!P20","v":""},{"$f":"'Master Assortment'!AD20","v":0},{"$f":"'Master Assortment'!Y20","v":"—"}]
[{"$f":"'Master Assortment'!A12","v":0},{"$f":"'Master Assortment'!C12","v":0},{"$f":"'Master Assortment'!D12","v":0},{"$f":"'Master Assortment'!H12","v":""},{"$f":"'Master Assortment'!I12","v":""},{"$f":"'Master Assortment'!G12","v":0},{"$f":"'Master Assortment'!J12","v":0},{"$f":"'Master Assortment'!F12","v":0},{"$f":"'Master Assortment'!P12","v":""},{"$f":"'Master Assortment'!AD12","v":0},{"$f":"'Master Assortment'!Y12","v":"—"}]
[{"$f":"'Master Assortment'!A108","v":0},{"$f":"'Master Assortment'!C108","v":0},{"$f":"'Master Assortment'!D108","v":0},{"$f":"'Master Assortment'!H108","v":""},{"$f":"'Master Assortment'!I108","v":""},{"$f":"'Master Assortment'!G108","v":0},{"$f":"'Master Assortment'!J108","v":0},{"$f":"'Master Assortment'!F108","v":0},{"$f":"'Master Assortment'!P108","v":""},{"$f":"'Master Assortment'!AD108","v":0},{"$f":"'Master Assortment'!Y108","v":"—"}]
[{"$f":"'Master Assortment'!A90","v":0},{"$f":"'Master Assortment'!C90","v":0},{"$f":"'Master Assortment'!D90","v":0},{"$f":"'Master Assortment'!H90","v":""},{"$f":"'Master Assortment'!I90","v":""},{"$f":"'Master Assortment'!G90","v":0},{"$f":"'Master Assortment'!J90","v":0},{"$f":"'Master Assortment'!F90","v":0},{"$f":"'Master Assortment'!P90","v":""},{"$f":"'Master Assortment'!AD90","v":0},{"$f":"'Master Assortment'!Y90","v":"—"}]
[{"$f":"'Master Assortment'!A48","v":0},{"$f":"'Master Assortment'!C48","v":0},{"$f":"'Master Assortment'!D48","v":0},{"$f":"'Master Assortment'!H48","v":""},{"$f":"'Master Assortment'!I48","v":""},{"$f":"'Master Assortment'!G48","v":0},{"$f":"'Master Assortment'!J48","v":0},{"$f":"'Master Assortment'!F48","v":0},{"$f":"'Master Assortment'!P48","v":""},{"$f":"'Master Assortment'!AD48","v":0},{"$f":"'Master Assortment'!Y48","v":"—"}]
[{"$f":"'Master Assortment'!A73","v":0},{"$f":"'Master Assortment'!C73","v":0},{"$f":"'Master Assortment'!D73","v":0},{"$f":"'Master Assortment'!H73","v":""},{"$f":"'Master Assortment'!I73","v":""},{"$f":"'Master Assortment'!G73","v":0},{"$f":"'Master Assortment'!J73","v":0},{"$f":"'Master Assortment'!F73","v":0},{"$f":"'Master Assortment'!P73","v":""},{"$f":"'Master Assortment'!AD73","v":0},{"$f":"'Master Assortment'!Y73","v":"—"}]
[{"$f":"'Master Assortment'!A72","v":0},{"$f":"'Master Assortment'!C72","v":0},{"$f":"'Master Assortment'!D72","v":0},{"$f":"'Master Assortment'!H72","v":""},{"$f":"'Master Assortment'!I72","v":""},{"$f":"'Master Assortment'!G72","v":0},{"$f":"'Master Assortment'!J72","v":0},{"$f":"'Master Assortment'!F72","v":0},{"$f":"'Master Assortment'!P72","v":""},{"$f":"'Master Assortment'!AD72","v":0},{"$f":"'Master Assortment'!Y72","v":"—"}]
[{"$f":"'Master Assortment'!A95","v":0},{"$f":"'Master Assortment'!C95","v":0},{"$f":"'Master Assortment'!D95","v":0},{"$f":"'Master Assortment'!H95","v":""},{"$f":"'Master Assortment'!I95","v":""},{"$f":"'Master Assortment'!G95","v":0},{"$f":"'Master Assortment'!J95","v":0},{"$f":"'Master Assortment'!F95","v":0},{"$f":"'Master Assortment'!P95","v":""},{"$f":"'Master Assortment'!AD95","v":0},{"$f":"'Master Assortment'!Y95","v":"—"}]
[{"$f":"'Master Assortment'!A99","v":0},{"$f":"'Master Assortment'!C99","v":0},{"$f":"'Master Assortment'!D99","v":0},{"$f":"'Master Assortment'!H99","v":""},{"$f":"'Master Assortment'!I99","v":""},{"$f":"'Master Assortment'!G99","v":0},{"$f":"'Master Assortment'!J99","v":0},{"$f":"'Master Assortment'!F99","v":0},{"$f":"'Master Assortment'!P99","v":""},{"$f":"'Master Assortment'!AD99","v":0},{"$f":"'Master Assortment'!Y99","v":"—"}]
[{"$f":"'Master Assortment'!A21","v":0},{"$f":"'Master Assortment'!C21","v":0},{"$f":"'Master Assortment'!D21","v":0},{"$f":"'Master Assortment'!H21","v":""},{"$f":"'Master Assortment'!I21","v":""},{"$f":"'Master Assortment'!G21","v":0},{"$f":"'Master Assortment'!J21","v":0},{"$f":"'Master Assortment'!F21","v":0},{"$f":"'Master Assortment'!P21","v":""},{"$f":"'Master Assortment'!AD21","v":0},{"$f":"'Master Assortment'!Y21","v":"—"}]
[{"$f":"'Master Assortment'!A49","v":0},{"$f":"'Master Assortment'!C49","v":0},{"$f":"'Master Assortment'!D49","v":0},{"$f":"'Master Assortment'!H49","v":""},{"$f":"'Master Assortment'!I49","v":""},{"$f":"'Master Assortment'!G49","v":0},{"$f":"'Master Assortment'!J49","v":0},{"$f":"'Master Assortment'!F49","v":0},{"$f":"'Master Assortment'!P49","v":""},{"$f":"'Master Assortment'!AD49","v":0},{"$f":"'Master Assortment'!Y49","v":"—"}]
[{"$f":"'Master Assortment'!A30","v":0},{"$f":"'Master Assortment'!C30","v":0},{"$f":"'Master Assortment'!D30","v":0},{"$f":"'Master Assortment'!H30","v":""},{"$f":"'Master Assortment'!I30","v":""},{"$f":"'Master Assortment'!G30","v":0},{"$f":"'Master Assortment'!J30","v":0},{"$f":"'Master Assortment'!F30","v":0},{"$f":"'Master Assortment'!P30","v":""},{"$f":"'Master Assortment'!AD30","v":0},{"$f":"'Master Assortment'!Y30","v":"—"}]
[{"$f":"'Master Assortment'!A62","v":0},{"$f":"'Master Assortment'!C62","v":0},{"$f":"'Master Assortment'!D62","v":0},{"$f":"'Master Assortment'!H62","v":""},{"$f":"'Master Assortment'!I62","v":""},{"$f":"'Master Assortment'!G62","v":0},{"$f":"'Master Assortment'!J62","v":0},{"$f":"'Master Assortment'!F62","v":0},{"$f":"'Master Assortment'!P62","v":""},{"$f":"'Master Assortment'!AD62","v":0},{"$f":"'Master Assortment'!Y62","v":"—"}]
[{"$f":"'Master Assortment'!A69","v":0},{"$f":"'Master Assortment'!C69","v":0},{"$f":"'Master Assortment'!D69","v":0},{"$f":"'Master Assortment'!H69","v":""},{"$f":"'Master Assortment'!I69","v":""},{"$f":"'Master Assortment'!G69","v":0},{"$f":"'Master Assortment'!J69","v":0},{"$f":"'Master Assortment'!F69","v":0},{"$f":"'Master Assortment'!P69","v":""},{"$f":"'Master Assortment'!AD69","v":0},{"$f":"'Master Assortment'!Y69","v":"—"}]
[{"$f":"'Master Assortment'!A92","v":0},{"$f":"'Master Assortment'!C92","v":0},{"$f":"'Master Assortment'!D92","v":0},{"$f":"'Master Assortment'!H92","v":""},{"$f":"'Master Assortment'!I92","v":""},{"$f":"'Master Assortment'!G92","v":0},{"$f":"'Master Assortment'!J92","v":0},{"$f":"'Master Assortment'!F92","v":0},{"$f":"'Master Assortment'!P92","v":""},{"$f":"'Master Assortment'!AD92","v":0},{"$f":"'Master Assortment'!Y92","v":"—"}]
[{"$f":"'Master Assortment'!A53","v":0},{"$f":"'Master Assortment'!C53","v":0},{"$f":"'Master Assortment'!D53","v":0},{"$f":"'Master Assortment'!H53","v":""},{"$f":"'Master Assortment'!I53","v":""},{"$f":"'Master Assortment'!G53","v":0},{"$f":"'Master Assortment'!J53","v":0},{"$f":"'Master Assortment'!F53","v":0},{"$f":"'Master Assortment'!P53","v":""},{"$f":"'Master Assortment'!AD53","v":0},{"$f":"'Master Assortment'!Y53","v":"—"}]
[{"$f":"'Master Assortment'!A61","v":0},{"$f":"'Master Assortment'!C61","v":0},{"$f":"'Master Assortment'!D61","v":0},{"$f":"'Master Assortment'!H61","v":""},{"$f":"'Master Assortment'!I61","v":""},{"$f":"'Master Assortment'!G61","v":0},{"$f":"'Master Assortment'!J61","v":0},{"$f":"'Master Assortment'!F61","v":0},{"$f":"'Master Assortment'!P61","v":""},{"$f":"'Master Assortment'!AD61","v":0},{"$f":"'Master Assortment'!Y61","v":"—"}]
[{"$f":"'Master Assortment'!A151","v":0},{"$f":"'Master Assortment'!C151","v":0},{"$f":"'Master Assortment'!D151","v":0},{"$f":"'Master Assortment'!H151","v":""},{"$f":"'Master Assortment'!I151","v":""},{"$f":"'Master Assortment'!G151","v":0},{"$f":"'Master Assortment'!J151","v":0},{"$f":"'Master Assortment'!F151","v":0},{"$f":"'Master Assortment'!P151","v":""},{"$f":"'Master Assortment'!AD151","v":0},{"$f":"'Master Assortment'!Y151","v":"—"}]
[{"$f":"'Master Assortment'!A34","v":0},{"$f":"'Master Assortment'!C34","v":0},{"$f":"'Master Assortment'!D34","v":0},{"$f":"'Master Assortment'!H34","v":""},{"$f":"'Master Assortment'!I34","v":""},{"$f":"'Master Assortment'!G34","v":0},{"$f":"'Master Assortment'!J34","v":0},{"$f":"'Master Assortment'!F34","v":0},{"$f":"'Master Assortment'!P34","v":""},{"$f":"'Master Assortment'!AD34","v":0},{"$f":"'Master Assortment'!Y34","v":"—"}]
[{"$f":"'Master Assortment'!A83","v":0},{"$f":"'Master Assortment'!C83","v":0},{"$f":"'Master Assortment'!D83","v":0},{"$f":"'Master Assortment'!H83","v":""},{"$f":"'Master Assortment'!I83","v":""},{"$f":"'Master Assortment'!G83","v":0},{"$f":"'Master Assortment'!J83","v":0},{"$f":"'Master Assortment'!F83","v":0},{"$f":"'Master Assortment'!P83","v":""},{"$f":"'Master Assortment'!AD83","v":0},{"$f":"'Master Assortment'!Y83","v":"—"}]
[{"$f":"'Master Assortment'!A74","v":0},{"$f":"'Master Assortment'!C74","v":0},{"$f":"'Master Assortment'!D74","v":0},{"$f":"'Master Assortment'!H74","v":""},{"$f":"'Master Assortment'!I74","v":""},{"$f":"'Master Assortment'!G74","v":0},{"$f":"'Master Assortment'!J74","v":0},{"$f":"'Master Assortment'!F74","v":0},{"$f":"'Master Assortment'!P74","v":""},{"$f":"'Master Assortment'!AD74","v":0},{"$f":"'Master Assortment'!Y74","v":"—"}]
[{"$f":"'Master Assortment'!A135","v":0},{"$f":"'Master Assortment'!C135","v":0},{"$f":"'Master Assortment'!D135","v":0},{"$f":"'Master Assortment'!H135","v":""},{"$f":"'Master Assortment'!I135","v":""},{"$f":"'Master Assortment'!G135","v":0},{"$f":"'Master Assortment'!J135","v":0},{"$f":"'Master Assortment'!F135","v":0},{"$f":"'Master Assortment'!P135","v":""},{"$f":"'Master Assortment'!AD135","v":0},{"$f":"'Master Assortment'!Y135","v":"—"}]
[{"$f":"'Master Assortment'!A132","v":0},{"$f":"'Master Assortment'!C132","v":0},{"$f":"'Master Assortment'!D132","v":0},{"$f":"'Master Assortment'!H132","v":""},{"$f":"'Master Assortment'!I132","v":""},{"$f":"'Master Assortment'!G132","v":0},{"$f":"'Master Assortment'!J132","v":0},{"$f":"'Master Assortment'!F132","v":0},{"$f":"'Master Assortment'!P132","v":""},{"$f":"'Master Assortment'!AD132","v":0},{"$f":"'Master Assortment'!Y132","v":"—"}]
[{"$f":"'Master Assortment'!A70","v":0},{"$f":"'Master Assortment'!C70","v":0},{"$f":"'Master Assortment'!D70","v":0},{"$f":"'Master Assortment'!H70","v":""},{"$f":"'Master Assortment'!I70","v":""},{"$f":"'Master Assortment'!G70","v":0},{"$f":"'Master Assortment'!J70","v":0},{"$f":"'Master Assortment'!F70","v":0},{"$f":"'Master Assortment'!P70","v":""},{"$f":"'Master Assortment'!AD70","v":0},{"$f":"'Master Assortment'!Y70","v":"—"}]
[{"$f":"'Master Assortment'!A105","v":0},{"$f":"'Master Assortment'!C105","v":0},{"$f":"'Master Assortment'!D105","v":0},{"$f":"'Master Assortment'!H105","v":""},{"$f":"'Master Assortment'!I105","v":""},{"$f":"'Master Assortment'!G105","v":0},{"$f":"'Master Assortment'!J105","v":0},{"$f":"'Master Assortment'!F105","v":0},{"$f":"'Master Assortment'!P105","v":""},{"$f":"'Master Assortment'!AD105","v":0},{"$f":"'Master Assortment'!Y105","v":"—"}]
[{"$f":"'Master Assortment'!A134","v":0},{"$f":"'Master Assortment'!C134","v":0},{"$f":"'Master Assortment'!D134","v":0},{"$f":"'Master Assortment'!H134","v":""},{"$f":"'Master Assortment'!I134","v":""},{"$f":"'Master Assortment'!G134","v":0},{"$f":"'Master Assortment'!J134","v":0},{"$f":"'Master Assortment'!F134","v":0},{"$f":"'Master Assortment'!P134","v":""},{"$f":"'Master Assortment'!AD134","v":0},{"$f":"'Master Assortment'!Y134","v":"—"}]
[{"$f":"'Master Assortment'!A42","v":0},{"$f":"'Master Assortment'!C42","v":0},{"$f":"'Master Assortment'!D42","v":0},{"$f":"'Master Assortment'!H42","v":""},{"$f":"'Master Assortment'!I42","v":""},{"$f":"'Master Assortment'!G42","v":0},{"$f":"'Master Assortment'!J42","v":0},{"$f":"'Master Assortment'!F42","v":0},{"$f":"'Master Assortment'!P42","v":""},{"$f":"'Master Assortment'!AD42","v":0},{"$f":"'Master Assortment'!Y42","v":"—"}]
[{"$f":"'Master Assortment'!A23","v":0},{"$f":"'Master Assortment'!C23","v":0},{"$f":"'Master Assortment'!D23","v":0},{"$f":"'Master Assortment'!H23","v":""},{"$f":"'Master Assortment'!I23","v":""},{"$f":"'Master Assortment'!G23","v":0},{"$f":"'Master Assortment'!J23","v":0},{"$f":"'Master Assortment'!F23","v":0},{"$f":"'Master Assortment'!P23","v":""},{"$f":"'Master Assortment'!AD23","v":0},{"$f":"'Master Assortment'!Y23","v":"—"}]
[{"$f":"'Master Assortment'!A45","v":0},{"$f":"'Master Assortment'!C45","v":0},{"$f":"'Master Assortment'!D45","v":0},{"$f":"'Master Assortment'!H45","v":""},{"$f":"'Master Assortment'!I45","v":""},{"$f":"'Master Assortment'!G45","v":0},{"$f":"'Master Assortment'!J45","v":0},{"$f":"'Master Assortment'!F45","v":0},{"$f":"'Master Assortment'!P45","v":""},{"$f":"'Master Assortment'!AD45","v":0},{"$f":"'Master Assortment'!Y45","v":"—"}]
[{"$f":"'Master Assortment'!A54","v":0},{"$f":"'Master Assortment'!C54","v":0},{"$f":"'Master Assortment'!D54","v":0},{"$f":"'Master Assortment'!H54","v":""},{"$f":"'Master Assortment'!I54","v":""},{"$f":"'Master Assortment'!G54","v":0},{"$f":"'Master Assortment'!J54","v":0},{"$f":"'Master Assortment'!F54","v":0},{"$f":"'Master Assortment'!P54","v":""},{"$f":"'Master Assortment'!AD54","v":0},{"$f":"'Master Assortment'!Y54","v":"—"}]
[{"$f":"'Master Assortment'!A55","v":0},{"$f":"'Master Assortment'!C55","v":0},{"$f":"'Master Assortment'!D55","v":0},{"$f":"'Master Assortment'!H55","v":""},{"$f":"'Master Assortment'!I55","v":""},{"$f":"'Master Assortment'!G55","v":0},{"$f":"'Master Assortment'!J55","v":0},{"$f":"'Master Assortment'!F55","v":0},{"$f":"'Master Assortment'!P55","v":""},{"$f":"'Master Assortment'!AD55","v":0},{"$f":"'Master Assortment'!Y55","v":"—"}]
[{"$f":"'Master Assortment'!A64","v":0},{"$f":"'Master Assortment'!C64","v":0},{"$f":"'Master Assortment'!D64","v":0},{"$f":"'Master Assortment'!H64","v":""},{"$f":"'Master Assortment'!I64","v":""},{"$f":"'Master Assortment'!G64","v":0},{"$f":"'Master Assortment'!J64","v":0},{"$f":"'Master Assortment'!F64","v":0},{"$f":"'Master Assortment'!P64","v":""},{"$f":"'Master Assortment'!AD64","v":0},{"$f":"'Master Assortment'!Y64","v":"—"}]
[{"$f":"'Master Assortment'!A140","v":0},{"$f":"'Master Assortment'!C140","v":0},{"$f":"'Master Assortment'!D140","v":0},{"$f":"'Master Assortment'!H140","v":""},{"$f":"'Master Assortment'!I140","v":""},{"$f":"'Master Assortment'!G140","v":0},{"$f":"'Master Assortment'!J140","v":0},{"$f":"'Master Assortment'!F140","v":0},{"$f":"'Master Assortment'!P140","v":""},{"$f":"'Master Assortment'!AD140","v":0},{"$f":"'Master Assortment'!Y140","v":"—"}]
[{"$f":"'Master Assortment'!A116","v":0},{"$f":"'Master Assortment'!C116","v":0},{"$f":"'Master Assortment'!D116","v":0},{"$f":"'Master Assortment'!H116","v":""},{"$f":"'Master Assortment'!I116","v":""},{"$f":"'Master Assortment'!G116","v":0},{"$f":"'Master Assortment'!J116","v":0},{"$f":"'Master Assortment'!F116","v":0},{"$f":"'Master Assortment'!P116","v":""},{"$f":"'Master Assortment'!AD116","v":0},{"$f":"'Master Assortment'!Y116","v":"—"}]
[{"$f":"'Master Assortment'!A80","v":0},{"$f":"'Master Assortment'!C80","v":0},{"$f":"'Master Assortment'!D80","v":0},{"$f":"'Master Assortment'!H80","v":""},{"$f":"'Master Assortment'!I80","v":""},{"$f":"'Master Assortment'!G80","v":0},{"$f":"'Master Assortment'!J80","v":0},{"$f":"'Master Assortment'!F80","v":0},{"$f":"'Master Assortment'!P80","v":""},{"$f":"'Master Assortment'!AD80","v":0},{"$f":"'Master Assortment'!Y80","v":"—"}]
[{"$f":"'Master Assortment'!A79","v":0},{"$f":"'Master Assortment'!C79","v":0},{"$f":"'Master Assortment'!D79","v":0},{"$f":"'Master Assortment'!H79","v":""},{"$f":"'Master Assortment'!I79","v":""},{"$f":"'Master Assortment'!G79","v":0},{"$f":"'Master Assortment'!J79","v":0},{"$f":"'Master Assortment'!F79","v":0},{"$f":"'Master Assortment'!P79","v":""},{"$f":"'Master Assortment'!AD79","v":0},{"$f":"'Master Assortment'!Y79","v":"—"}]
[{"$f":"'Master Assortment'!A96","v":0},{"$f":"'Master Assortment'!C96","v":0},{"$f":"'Master Assortment'!D96","v":0},{"$f":"'Master Assortment'!H96","v":""},{"$f":"'Master Assortment'!I96","v":""},{"$f":"'Master Assortment'!G96","v":0},{"$f":"'Master Assortment'!J96","v":0},{"$f":"'Master Assortment'!F96","v":0},{"$f":"'Master Assortment'!P96","v":""},{"$f":"'Master Assortment'!AD96","v":0},{"$f":"'Master Assortment'!Y96","v":"—"}]
[{"$f":"'Master Assortment'!A17","v":0},{"$f":"'Master Assortment'!C17","v":0},{"$f":"'Master Assortment'!D17","v":0},{"$f":"'Master Assortment'!H17","v":""},{"$f":"'Master Assortment'!I17","v":""},{"$f":"'Master Assortment'!G17","v":0},{"$f":"'Master Assortment'!J17","v":0},{"$f":"'Master Assortment'!F17","v":0},{"$f":"'Master Assortment'!P17","v":""},{"$f":"'Master Assortment'!AD17","v":0},{"$f":"'Master Assortment'!Y17","v":"—"}]
[{"$f":"'Master Assortment'!A168","v":0},{"$f":"'Master Assortment'!C168","v":0},{"$f":"'Master Assortment'!D168","v":0},{"$f":"'Master Assortment'!H168","v":""},{"$f":"'Master Assortment'!I168","v":""},{"$f":"'Master Assortment'!G168","v":0},{"$f":"'Master Assortment'!J168","v":0},{"$f":"'Master Assortment'!F168","v":0},{"$f":"'Master Assortment'!P168","v":""},{"$f":"'Master Assortment'!AD168","v":0},{"$f":"'Master Assortment'!Y168","v":"—"}]
[{"$f":"'Master Assortment'!A81","v":0},{"$f":"'Master Assortment'!C81","v":0},{"$f":"'Master Assortment'!D81","v":0},{"$f":"'Master Assortment'!H81","v":""},{"$f":"'Master Assortment'!I81","v":""},{"$f":"'Master Assortment'!G81","v":0},{"$f":"'Master Assortment'!J81","v":0},{"$f":"'Master Assortment'!F81","v":0},{"$f":"'Master Assortment'!P81","v":""},{"$f":"'Master Assortment'!AD81","v":0},{"$f":"'Master Assortment'!Y81","v":"—"}]
[{"$f":"'Master Assortment'!A138","v":0},{"$f":"'Master Assortment'!C138","v":0},{"$f":"'Master Assortment'!D138","v":0},{"$f":"'Master Assortment'!H138","v":""},{"$f":"'Master Assortment'!I138","v":""},{"$f":"'Master Assortment'!G138","v":0},{"$f":"'Master Assortment'!J138","v":0},{"$f":"'Master Assortment'!F138","v":0},{"$f":"'Master Assortment'!P138","v":""},{"$f":"'Master Assortment'!AD138","v":0},{"$f":"'Master Assortment'!Y138","v":"—"}]
[{"$f":"'Master Assortment'!A88","v":0},{"$f":"'Master Assortment'!C88","v":0},{"$f":"'Master Assortment'!D88","v":0},{"$f":"'Master Assortment'!H88","v":""},{"$f":"'Master Assortment'!I88","v":""},{"$f":"'Master Assortment'!G88","v":0},{"$f":"'Master Assortment'!J88","v":0},{"$f":"'Master Assortment'!F88","v":0},{"$f":"'Master Assortment'!P88","v":""},{"$f":"'Master Assortment'!AD88","v":0},{"$f":"'Master Assortment'!Y88","v":"—"}]
[{"$f":"'Master Assortment'!A86","v":0},{"$f":"'Master Assortment'!C86","v":0},{"$f":"'Master Assortment'!D86","v":0},{"$f":"'Master Assortment'!H86","v":""},{"$f":"'Master Assortment'!I86","v":""},{"$f":"'Master Assortment'!G86","v":0},{"$f":"'Master Assortment'!J86","v":0},{"$f":"'Master Assortment'!F86","v":0},{"$f":"'Master Assortment'!P86","v":""},{"$f":"'Master Assortment'!AD86","v":0},{"$f":"'Master Assortment'!Y86","v":"—"}]
[{"$f":"'Master Assortment'!A97","v":0},{"$f":"'Master Assortment'!C97","v":0},{"$f":"'Master Assortment'!D97","v":0},{"$f":"'Master Assortment'!H97","v":""},{"$f":"'Master Assortment'!I97","v":""},{"$f":"'Master Assortment'!G97","v":0},{"$f":"'Master Assortment'!J97","v":0},{"$f":"'Master Assortment'!F97","v":0},{"$f":"'Master Assortment'!P97","v":""},{"$f":"'Master Assortment'!AD97","v":0},{"$f":"'Master Assortment'!Y97","v":"—"}]
[{"$f":"'Master Assortment'!A24","v":0},{"$f":"'Master Assortment'!C24","v":0},{"$f":"'Master Assortment'!D24","v":0},{"$f":"'Master Assortment'!H24","v":""},{"$f":"'Master Assortment'!I24","v":""},{"$f":"'Master Assortment'!G24","v":0},{"$f":"'Master Assortment'!J24","v":0},{"$f":"'Master Assortment'!F24","v":0},{"$f":"'Master Assortment'!P24","v":""},{"$f":"'Master Assortment'!AD24","v":0},{"$f":"'Master Assortment'!Y24","v":"—"}]
[{"$f":"'Master Assortment'!A76","v":0},{"$f":"'Master Assortment'!C76","v":0},{"$f":"'Master Assortment'!D76","v":0},{"$f":"'Master Assortment'!H76","v":""},{"$f":"'Master Assortment'!I76","v":""},{"$f":"'Master Assortment'!G76","v":0},{"$f":"'Master Assortment'!J76","v":0},{"$f":"'Master Assortment'!F76","v":0},{"$f":"'Master Assortment'!P76","v":""},{"$f":"'Master Assortment'!AD76","v":0},{"$f":"'Master Assortment'!Y76","v":"—"}]
[{"$f":"'Master Assortment'!A98","v":0},{"$f":"'Master Assortment'!C98","v":0},{"$f":"'Master Assortment'!D98","v":0},{"$f":"'Master Assortment'!H98","v":""},{"$f":"'Master Assortment'!I98","v":""},{"$f":"'Master Assortment'!G98","v":0},{"$f":"'Master Assortment'!J98","v":0},{"$f":"'Master Assortment'!F98","v":0},{"$f":"'Master Assortment'!P98","v":""},{"$f":"'Master Assortment'!AD98","v":0},{"$f":"'Master Assortment'!Y98","v":"—"}]
[{"$f":"'Master Assortment'!A94","v":0},{"$f":"'Master Assortment'!C94","v":0},{"$f":"'Master Assortment'!D94","v":0},{"$f":"'Master Assortment'!H94","v":""},{"$f":"'Master Assortment'!I94","v":""},{"$f":"'Master Assortment'!G94","v":0},{"$f":"'Master Assortment'!J94","v":0},{"$f":"'Master Assortment'!F94","v":0},{"$f":"'Master Assortment'!P94","v":""},{"$f":"'Master Assortment'!AD94","v":0},{"$f":"'Master Assortment'!Y94","v":"—"}]
[{"$f":"'Master Assortment'!A58","v":0},{"$f":"'Master Assortment'!C58","v":0},{"$f":"'Master Assortment'!D58","v":0},{"$f":"'Master Assortment'!H58","v":""},{"$f":"'Master Assortment'!I58","v":""},{"$f":"'Master Assortment'!G58","v":0},{"$f":"'Master Assortment'!J58","v":0},{"$f":"'Master Assortment'!F58","v":0},{"$f":"'Master Assortment'!P58","v":""},{"$f":"'Master Assortment'!AD58","v":0},{"$f":"'Master Assortment'!Y58","v":"—"}]
[{"$f":"'Master Assortment'!A87","v":0},{"$f":"'Master Assortment'!C87","v":0},{"$f":"'Master Assortment'!D87","v":0},{"$f":"'Master Assortment'!H87","v":""},{"$f":"'Master Assortment'!I87","v":""},{"$f":"'Master Assortment'!G87","v":0},{"$f":"'Master Assortment'!J87","v":0},{"$f":"'Master Assortment'!F87","v":0},{"$f":"'Master Assortment'!P87","v":""},{"$f":"'Master Assortment'!AD87","v":0},{"$f":"'Master Assortment'!Y87","v":"—"}]
[{"$f":"'Master Assortment'!A142","v":0},{"$f":"'Master Assortment'!C142","v":0},{"$f":"'Master Assortment'!D142","v":0},{"$f":"'Master Assortment'!H142","v":""},{"$f":"'Master Assortment'!I142","v":""},{"$f":"'Master Assortment'!G142","v":0},{"$f":"'Master Assortment'!J142","v":0},{"$f":"'Master Assortment'!F142","v":0},{"$f":"'Master Assortment'!P142","v":""},{"$f":"'Master Assortment'!AD142","v":0},{"$f":"'Master Assortment'!Y142","v":"—"}]
[{"$f":"'Master Assortment'!A82","v":0},{"$f":"'Master Assortment'!C82","v":0},{"$f":"'Master Assortment'!D82","v":0},{"$f":"'Master Assortment'!H82","v":""},{"$f":"'Master Assortment'!I82","v":""},{"$f":"'Master Assortment'!G82","v":0},{"$f":"'Master Assortment'!J82","v":0},{"$f":"'Master Assortment'!F82","v":0},{"$f":"'Master Assortment'!P82","v":""},{"$f":"'Master Assortment'!AD82","v":0},{"$f":"'Master Assortment'!Y82","v":"—"}]
[{"$f":"'Master Assortment'!A123","v":0},{"$f":"'Master Assortment'!C123","v":0},{"$f":"'Master Assortment'!D123","v":0},{"$f":"'Master Assortment'!H123","v":""},{"$f":"'Master Assortment'!I123","v":""},{"$f":"'Master Assortment'!G123","v":0},{"$f":"'Master Assortment'!J123","v":0},{"$f":"'Master Assortment'!F123","v":0},{"$f":"'Master Assortment'!P123","v":""},{"$f":"'Master Assortment'!AD123","v":0},{"$f":"'Master Assortment'!Y123","v":"—"}]
[{"$f":"'Master Assortment'!A102","v":0},{"$f":"'Master Assortment'!C102","v":0},{"$f":"'Master Assortment'!D102","v":0},{"$f":"'Master Assortment'!H102","v":""},{"$f":"'Master Assortment'!I102","v":""},{"$f":"'Master Assortment'!G102","v":0},{"$f":"'Master Assortment'!J102","v":0},{"$f":"'Master Assortment'!F102","v":0},{"$f":"'Master Assortment'!P102","v":""},{"$f":"'Master Assortment'!AD102","v":0},{"$f":"'Master Assortment'!Y102","v":"—"}]
[{"$f":"'Master Assortment'!A84","v":0},{"$f":"'Master Assortment'!C84","v":0},{"$f":"'Master Assortment'!D84","v":0},{"$f":"'Master Assortment'!H84","v":""},{"$f":"'Master Assortment'!I84","v":""},{"$f":"'Master Assortment'!G84","v":0},{"$f":"'Master Assortment'!J84","v":0},{"$f":"'Master Assortment'!F84","v":0},{"$f":"'Master Assortment'!P84","v":""},{"$f":"'Master Assortment'!AD84","v":0},{"$f":"'Master Assortment'!Y84","v":"—"}]
[{"$f":"'Master Assortment'!A188","v":0},{"$f":"'Master Assortment'!C188","v":0},{"$f":"'Master Assortment'!D188","v":0},{"$f":"'Master Assortment'!H188","v":""},{"$f":"'Master Assortment'!I188","v":""},{"$f":"'Master Assortment'!G188","v":0},{"$f":"'Master Assortment'!J188","v":0},{"$f":"'Master Assortment'!F188","v":0},{"$f":"'Master Assortment'!P188","v":""},{"$f":"'Master Assortment'!AD188","v":0},{"$f":"'Master Assortment'!Y188","v":"—"}]
[{"$f":"'Master Assortment'!A187","v":0},{"$f":"'Master Assortment'!C187","v":0},{"$f":"'Master Assortment'!D187","v":0},{"$f":"'Master Assortment'!H187","v":""},{"$f":"'Master Assortment'!I187","v":""},{"$f":"'Master Assortment'!G187","v":0},{"$f":"'Master Assortment'!J187","v":0},{"$f":"'Master Assortment'!F187","v":0},{"$f":"'Master Assortment'!P187","v":""},{"$f":"'Master Assortment'!AD187","v":0},{"$f":"'Master Assortment'!Y187","v":"—"}]
[{"$f":"'Master Assortment'!A186","v":0},{"$f":"'Master Assortment'!C186","v":0},{"$f":"'Master Assortment'!D186","v":0},{"$f":"'Master Assortment'!H186","v":""},{"$f":"'Master Assortment'!I186","v":""},{"$f":"'Master Assortment'!G186","v":0},{"$f":"'Master Assortment'!J186","v":0},{"$f":"'Master Assortment'!F186","v":0},{"$f":"'Master Assortment'!P186","v":""},{"$f":"'Master Assortment'!AD186","v":0},{"$f":"'Master Assortment'!Y186","v":"—"}]
[{"$f":"'Master Assortment'!A25","v":0},{"$f":"'Master Assortment'!C25","v":0},{"$f":"'Master Assortment'!D25","v":0},{"$f":"'Master Assortment'!H25","v":""},{"$f":"'Master Assortment'!I25","v":""},{"$f":"'Master Assortment'!G25","v":0},{"$f":"'Master Assortment'!J25","v":0},{"$f":"'Master Assortment'!F25","v":0},{"$f":"'Master Assortment'!P25","v":""},{"$f":"'Master Assortment'!AD25","v":0},{"$f":"'Master Assortment'!Y25","v":"—"}]
[{"$f":"'Master Assortment'!A111","v":0},{"$f":"'Master Assortment'!C111","v":0},{"$f":"'Master Assortment'!D111","v":0},{"$f":"'Master Assortment'!H111","v":""},{"$f":"'Master Assortment'!I111","v":""},{"$f":"'Master Assortment'!G111","v":0},{"$f":"'Master Assortment'!J111","v":0},{"$f":"'Master Assortment'!F111","v":0},{"$f":"'Master Assortment'!P111","v":""},{"$f":"'Master Assortment'!AD111","v":0},{"$f":"'Master Assortment'!Y111","v":"—"}]
[{"$f":"'Master Assortment'!A38","v":0},{"$f":"'Master Assortment'!C38","v":0},{"$f":"'Master Assortment'!D38","v":0},{"$f":"'Master Assortment'!H38","v":""},{"$f":"'Master Assortment'!I38","v":""},{"$f":"'Master Assortment'!G38","v":0},{"$f":"'Master Assortment'!J38","v":0},{"$f":"'Master Assortment'!F38","v":0},{"$f":"'Master Assortment'!P38","v":""},{"$f":"'Master Assortment'!AD38","v":0},{"$f":"'Master Assortment'!Y38","v":"—"}]
[{"$f":"'Master Assortment'!A121","v":0},{"$f":"'Master Assortment'!C121","v":0},{"$f":"'Master Assortment'!D121","v":0},{"$f":"'Master Assortment'!H121","v":""},{"$f":"'Master Assortment'!I121","v":""},{"$f":"'Master Assortment'!G121","v":0},{"$f":"'Master Assortment'!J121","v":0},{"$f":"'Master Assortment'!F121","v":0},{"$f":"'Master Assortment'!P121","v":""},{"$f":"'Master Assortment'!AD121","v":0},{"$f":"'Master Assortment'!Y121","v":"—"}]
[{"$f":"'Master Assortment'!A117","v":0},{"$f":"'Master Assortment'!C117","v":0},{"$f":"'Master Assortment'!D117","v":0},{"$f":"'Master Assortment'!H117","v":""},{"$f":"'Master Assortment'!I117","v":""},{"$f":"'Master Assortment'!G117","v":0},{"$f":"'Master Assortment'!J117","v":0},{"$f":"'Master Assortment'!F117","v":0},{"$f":"'Master Assortment'!P117","v":""},{"$f":"'Master Assortment'!AD117","v":0},{"$f":"'Master Assortment'!Y117","v":"—"}]
[{"$f":"'Master Assortment'!A41","v":0},{"$f":"'Master Assortment'!C41","v":0},{"$f":"'Master Assortment'!D41","v":0},{"$f":"'Master Assortment'!H41","v":""},{"$f":"'Master Assortment'!I41","v":""},{"$f":"'Master Assortment'!G41","v":0},{"$f":"'Master Assortment'!J41","v":0},{"$f":"'Master Assortment'!F41","v":0},{"$f":"'Master Assortment'!P41","v":""},{"$f":"'Master Assortment'!AD41","v":0},{"$f":"'Master Assortment'!Y41","v":"—"}]
[{"$f":"'Master Assortment'!A22","v":0},{"$f":"'Master Assortment'!C22","v":0},{"$f":"'Master Assortment'!D22","v":0},{"$f":"'Master Assortment'!H22","v":""},{"$f":"'Master Assortment'!I22","v":""},{"$f":"'Master Assortment'!G22","v":0},{"$f":"'Master Assortment'!J22","v":0},{"$f":"'Master Assortment'!F22","v":0},{"$f":"'Master Assortment'!P22","v":""},{"$f":"'Master Assortment'!AD22","v":0},{"$f":"'Master Assortment'!Y22","v":"—"}]
[{"$f":"'Master Assortment'!A170","v":0},{"$f":"'Master Assortment'!C170","v":0},{"$f":"'Master Assortment'!D170","v":0},{"$f":"'Master Assortment'!H170","v":""},{"$f":"'Master Assortment'!I170","v":""},{"$f":"'Master Assortment'!G170","v":0},{"$f":"'Master Assortment'!J170","v":0},{"$f":"'Master Assortment'!F170","v":0},{"$f":"'Master Assortment'!P170","v":""},{"$f":"'Master Assortment'!AD170","v":0},{"$f":"'Master Assortment'!Y170","v":"—"}]
[{"$f":"'Master Assortment'!A192","v":0},{"$f":"'Master Assortment'!C192","v":0},{"$f":"'Master Assortment'!D192","v":0},{"$f":"'Master Assortment'!H192","v":""},{"$f":"'Master Assortment'!I192","v":""},{"$f":"'Master Assortment'!G192","v":0},{"$f":"'Master Assortment'!J192","v":0},{"$f":"'Master Assortment'!F192","v":0},{"$f":"'Master Assortment'!P192","v":""},{"$f":"'Master Assortment'!AD192","v":0},{"$f":"'Master Assortment'!Y192","v":"—"}]
[{"$f":"'Master Assortment'!A109","v":0},{"$f":"'Master Assortment'!C109","v":0},{"$f":"'Master Assortment'!D109","v":0},{"$f":"'Master Assortment'!H109","v":""},{"$f":"'Master Assortment'!I109","v":""},{"$f":"'Master Assortment'!G109","v":0},{"$f":"'Master Assortment'!J109","v":0},{"$f":"'Master Assortment'!F109","v":0},{"$f":"'Master Assortment'!P109","v":""},{"$f":"'Master Assortment'!AD109","v":0},{"$f":"'Master Assortment'!Y109","v":"—"}]
[{"$f":"'Master Assortment'!A44","v":0},{"$f":"'Master Assortment'!C44","v":0},{"$f":"'Master Assortment'!D44","v":0},{"$f":"'Master Assortment'!H44","v":""},{"$f":"'Master Assortment'!I44","v":""},{"$f":"'Master Assortment'!G44","v":0},{"$f":"'Master Assortment'!J44","v":0},{"$f":"'Master Assortment'!F44","v":0},{"$f":"'Master Assortment'!P44","v":""},{"$f":"'Master Assortment'!AD44","v":0},{"$f":"'Master Assortment'!Y44","v":"—"}]
[{"$f":"'Master Assortment'!A33","v":0},{"$f":"'Master Assortment'!C33","v":0},{"$f":"'Master Assortment'!D33","v":0},{"$f":"'Master Assortment'!H33","v":""},{"$f":"'Master Assortment'!I33","v":""},{"$f":"'Master Assortment'!G33","v":0},{"$f":"'Master Assortment'!J33","v":0},{"$f":"'Master Assortment'!F33","v":0},{"$f":"'Master Assortment'!P33","v":""},{"$f":"'Master Assortment'!AD33","v":0},{"$f":"'Master Assortment'!Y33","v":"—"}]
[{"$f":"'Master Assortment'!A115","v":0},{"$f":"'Master Assortment'!C115","v":0},{"$f":"'Master Assortment'!D115","v":0},{"$f":"'Master Assortment'!H115","v":""},{"$f":"'Master Assortment'!I115","v":""},{"$f":"'Master Assortment'!G115","v":0},{"$f":"'Master Assortment'!J115","v":0},{"$f":"'Master Assortment'!F115","v":0},{"$f":"'Master Assortment'!P115","v":""},{"$f":"'Master Assortment'!AD115","v":0},{"$f":"'Master Assortment'!Y115","v":"—"}]
[{"$f":"'Master Assortment'!A100","v":0},{"$f":"'Master Assortment'!C100","v":0},{"$f":"'Master Assortment'!D100","v":0},{"$f":"'Master Assortment'!H100","v":""},{"$f":"'Master Assortment'!I100","v":""},{"$f":"'Master Assortment'!G100","v":0},{"$f":"'Master Assortment'!J100","v":0},{"$f":"'Master Assortment'!F100","v":0},{"$f":"'Master Assortment'!P100","v":""},{"$f":"'Master Assortment'!AD100","v":0},{"$f":"'Master Assortment'!Y100","v":"—"}]
[{"$f":"'Master Assortment'!A103","v":0},{"$f":"'Master Assortment'!C103","v":0},{"$f":"'Master Assortment'!D103","v":0},{"$f":"'Master Assortment'!H103","v":""},{"$f":"'Master Assortment'!I103","v":""},{"$f":"'Master Assortment'!G103","v":0},{"$f":"'Master Assortment'!J103","v":0},{"$f":"'Master Assortment'!F103","v":0},{"$f":"'Master Assortment'!P103","v":""},{"$f":"'Master Assortment'!AD103","v":0},{"$f":"'Master Assortment'!Y103","v":"—"}]
[{"$f":"'Master Assortment'!A107","v":0},{"$f":"'Master Assortment'!C107","v":0},{"$f":"'Master Assortment'!D107","v":0},{"$f":"'Master Assortment'!H107","v":""},{"$f":"'Master Assortment'!I107","v":""},{"$f":"'Master Assortment'!G107","v":0},{"$f":"'Master Assortment'!J107","v":0},{"$f":"'Master Assortment'!F107","v":0},{"$f":"'Master Assortment'!P107","v":""},{"$f":"'Master Assortment'!AD107","v":0},{"$f":"'Master Assortment'!Y107","v":"—"}]
[{"$f":"'Master Assortment'!A119","v":0},{"$f":"'Master Assortment'!C119","v":0},{"$f":"'Master Assortment'!D119","v":0},{"$f":"'Master Assortment'!H119","v":""},{"$f":"'Master Assortment'!I119","v":""},{"$f":"'Master Assortment'!G119","v":0},{"$f":"'Master Assortment'!J119","v":0},{"$f":"'Master Assortment'!F119","v":0},{"$f":"'Master Assortment'!P119","v":""},{"$f":"'Master Assortment'!AD119","v":0},{"$f":"'Master Assortment'!Y119","v":"—"}]
[{"$f":"'Master Assortment'!A155","v":0},{"$f":"'Master Assortment'!C155","v":0},{"$f":"'Master Assortment'!D155","v":0},{"$f":"'Master Assortment'!H155","v":""},{"$f":"'Master Assortment'!I155","v":""},{"$f":"'Master Assortment'!G155","v":0},{"$f":"'Master Assortment'!J155","v":0},{"$f":"'Master Assortment'!F155","v":0},{"$f":"'Master Assortment'!P155","v":""},{"$f":"'Master Assortment'!AD155","v":0},{"$f":"'Master Assortment'!Y155","v":"—"}]
[{"$f":"'Master Assortment'!A118","v":0},{"$f":"'Master Assortment'!C118","v":0},{"$f":"'Master Assortment'!D118","v":0},{"$f":"'Master Assortment'!H118","v":""},{"$f":"'Master Assortment'!I118","v":""},{"$f":"'Master Assortment'!G118","v":0},{"$f":"'Master Assortment'!J118","v":0},{"$f":"'Master Assortment'!F118","v":0},{"$f":"'Master Assortment'!P118","v":""},{"$f":"'Master Assortment'!AD118","v":0},{"$f":"'Master Assortment'!Y118","v":"—"}]
[{"$f":"'Master Assortment'!A164","v":0},{"$f":"'Master Assortment'!C164","v":0},{"$f":"'Master Assortment'!D164","v":0},{"$f":"'Master Assortment'!H164","v":""},{"$f":"'Master Assortment'!I164","v":""},{"$f":"'Master Assortment'!G164","v":0},{"$f":"'Master Assortment'!J164","v":0},{"$f":"'Master Assortment'!F164","v":0},{"$f":"'Master Assortment'!P164","v":""},{"$f":"'Master Assortment'!AD164","v":0},{"$f":"'Master Assortment'!Y164","v":"—"}]
[{"$f":"'Master Assortment'!A13","v":0},{"$f":"'Master Assortment'!C13","v":0},{"$f":"'Master Assortment'!D13","v":0},{"$f":"'Master Assortment'!H13","v":""},{"$f":"'Master Assortment'!I13","v":""},{"$f":"'Master Assortment'!G13","v":0},{"$f":"'Master Assortment'!J13","v":0},{"$f":"'Master Assortment'!F13","v":0},{"$f":"'Master Assortment'!P13","v":""},{"$f":"'Master Assortment'!AD13","v":0},{"$f":"'Master Assortment'!Y13","v":"—"}]
[{"$f":"'Master Assortment'!A63","v":0},{"$f":"'Master Assortment'!C63","v":0},{"$f":"'Master Assortment'!D63","v":0},{"$f":"'Master Assortment'!H63","v":""},{"$f":"'Master Assortment'!I63","v":""},{"$f":"'Master Assortment'!G63","v":0},{"$f":"'Master Assortment'!J63","v":0},{"$f":"'Master Assortment'!F63","v":0},{"$f":"'Master Assortment'!P63","v":""},{"$f":"'Master Assortment'!AD63","v":0},{"$f":"'Master Assortment'!Y63","v":"—"}]
[{"$f":"'Master Assortment'!A104","v":0},{"$f":"'Master Assortment'!C104","v":0},{"$f":"'Master Assortment'!D104","v":0},{"$f":"'Master Assortment'!H104","v":""},{"$f":"'Master Assortment'!I104","v":""},{"$f":"'Master Assortment'!G104","v":0},{"$f":"'Master Assortment'!J104","v":0},{"$f":"'Master Assortment'!F104","v":0},{"$f":"'Master Assortment'!P104","v":""},{"$f":"'Master Assortment'!AD104","v":0},{"$f":"'Master Assortment'!Y104","v":"—"}]
[{"$f":"'Master Assortment'!A161","v":0},{"$f":"'Master Assortment'!C161","v":0},{"$f":"'Master Assortment'!D161","v":0},{"$f":"'Master Assortment'!H161","v":""},{"$f":"'Master Assortment'!I161","v":""},{"$f":"'Master Assortment'!G161","v":0},{"$f":"'Master Assortment'!J161","v":0},{"$f":"'Master Assortment'!F161","v":0},{"$f":"'Master Assortment'!P161","v":""},{"$f":"'Master Assortment'!AD161","v":0},{"$f":"'Master Assortment'!Y161","v":"—"}]
[{"$f":"'Master Assortment'!A101","v":0},{"$f":"'Master Assortment'!C101","v":0},{"$f":"'Master Assortment'!D101","v":0},{"$f":"'Master Assortment'!H101","v":""},{"$f":"'Master Assortment'!I101","v":""},{"$f":"'Master Assortment'!G101","v":0},{"$f":"'Master Assortment'!J101","v":0},{"$f":"'Master Assortment'!F101","v":0},{"$f":"'Master Assortment'!P101","v":""},{"$f":"'Master Assortment'!AD101","v":0},{"$f":"'Master Assortment'!Y101","v":"—"}]
[{"$f":"'Master Assortment'!A11","v":0},{"$f":"'Master Assortment'!C11","v":0},{"$f":"'Master Assortment'!D11","v":0},{"$f":"'Master Assortment'!H11","v":""},{"$f":"'Master Assortment'!I11","v":""},{"$f":"'Master Assortment'!G11","v":0},{"$f":"'Master Assortment'!J11","v":0},{"$f":"'Master Assortment'!F11","v":0},{"$f":"'Master Assortment'!P11","v":""},{"$f":"'Master Assortment'!AD11","v":0},{"$f":"'Master Assortment'!Y11","v":"—"}]
[{"$f":"'Master Assortment'!A15","v":0},{"$f":"'Master Assortment'!C15","v":0},{"$f":"'Master Assortment'!D15","v":0},{"$f":"'Master Assortment'!H15","v":""},{"$f":"'Master Assortment'!I15","v":""},{"$f":"'Master Assortment'!G15","v":0},{"$f":"'Master Assortment'!J15","v":0},{"$f":"'Master Assortment'!F15","v":0},{"$f":"'Master Assortment'!P15","v":""},{"$f":"'Master Assortment'!AD15","v":0},{"$f":"'Master Assortment'!Y15","v":"—"}]
[{"$f":"'Master Assortment'!A36","v":0},{"$f":"'Master Assortment'!C36","v":0},{"$f":"'Master Assortment'!D36","v":0},{"$f":"'Master Assortment'!H36","v":""},{"$f":"'Master Assortment'!I36","v":""},{"$f":"'Master Assortment'!G36","v":0},{"$f":"'Master Assortment'!J36","v":0},{"$f":"'Master Assortment'!F36","v":0},{"$f":"'Master Assortment'!P36","v":""},{"$f":"'Master Assortment'!AD36","v":0},{"$f":"'Master Assortment'!Y36","v":"—"}]
[{"$f":"'Master Assortment'!A29","v":0},{"$f":"'Master Assortment'!C29","v":0},{"$f":"'Master Assortment'!D29","v":0},{"$f":"'Master Assortment'!H29","v":""},{"$f":"'Master Assortment'!I29","v":""},{"$f":"'Master Assortment'!G29","v":0},{"$f":"'Master Assortment'!J29","v":0},{"$f":"'Master Assortment'!F29","v":0},{"$f":"'Master Assortment'!P29","v":""},{"$f":"'Master Assortment'!AD29","v":0},{"$f":"'Master Assortment'!Y29","v":"—"}]
[{"$f":"'Master Assortment'!A35","v":0},{"$f":"'Master Assortment'!C35","v":0},{"$f":"'Master Assortment'!D35","v":0},{"$f":"'Master Assortment'!H35","v":""},{"$f":"'Master Assortment'!I35","v":""},{"$f":"'Master Assortment'!G35","v":0},{"$f":"'Master Assortment'!J35","v":0},{"$f":"'Master Assortment'!F35","v":0},{"$f":"'Master Assortment'!P35","v":""},{"$f":"'Master Assortment'!AD35","v":0},{"$f":"'Master Assortment'!Y35","v":"—"}]
[{"$f":"'Master Assortment'!A110","v":0},{"$f":"'Master Assortment'!C110","v":0},{"$f":"'Master Assortment'!D110","v":0},{"$f":"'Master Assortment'!H110","v":""},{"$f":"'Master Assortment'!I110","v":""},{"$f":"'Master Assortment'!G110","v":0},{"$f":"'Master Assortment'!J110","v":0},{"$f":"'Master Assortment'!F110","v":0},{"$f":"'Master Assortment'!P110","v":""},{"$f":"'Master Assortment'!AD110","v":0},{"$f":"'Master Assortment'!Y110","v":"—"}]
[{"$f":"'Master Assortment'!A156","v":0},{"$f":"'Master Assortment'!C156","v":0},{"$f":"'Master Assortment'!D156","v":0},{"$f":"'Master Assortment'!H156","v":""},{"$f":"'Master Assortment'!I156","v":""},{"$f":"'Master Assortment'!G156","v":0},{"$f":"'Master Assortment'!J156","v":0},{"$f":"'Master Assortment'!F156","v":0},{"$f":"'Master Assortment'!P156","v":""},{"$f":"'Master Assortment'!AD156","v":0},{"$f":"'Master Assortment'!Y156","v":"—"}]
[{"$f":"'Master Assortment'!A67","v":0},{"$f":"'Master Assortment'!C67","v":0},{"$f":"'Master Assortment'!D67","v":0},{"$f":"'Master Assortment'!H67","v":""},{"$f":"'Master Assortment'!I67","v":""},{"$f":"'Master Assortment'!G67","v":0},{"$f":"'Master Assortment'!J67","v":0},{"$f":"'Master Assortment'!F67","v":0},{"$f":"'Master Assortment'!P67","v":""},{"$f":"'Master Assortment'!AD67","v":0},{"$f":"'Master Assortment'!Y67","v":"—"}]
[{"$f":"'Master Assortment'!A85","v":0},{"$f":"'Master Assortment'!C85","v":0},{"$f":"'Master Assortment'!D85","v":0},{"$f":"'Master Assortment'!H85","v":""},{"$f":"'Master Assortment'!I85","v":""},{"$f":"'Master Assortment'!G85","v":0},{"$f":"'Master Assortment'!J85","v":0},{"$f":"'Master Assortment'!F85","v":0},{"$f":"'Master Assortment'!P85","v":""},{"$f":"'Master Assortment'!AD85","v":0},{"$f":"'Master Assortment'!Y85","v":"—"}]
[{"$f":"'Master Assortment'!A7","v":0},{"$f":"'Master Assortment'!C7","v":0},{"$f":"'Master Assortment'!D7","v":0},{"$f":"'Master Assortment'!H7","v":""},{"$f":"'Master Assortment'!I7","v":""},{"$f":"'Master Assortment'!G7","v":0},{"$f":"'Master Assortment'!J7","v":0},{"$f":"'Master Assortment'!F7","v":0},{"$f":"'Master Assortment'!P7","v":""},{"$f":"'Master Assortment'!AD7","v":0},{"$f":"'Master Assortment'!Y7","v":"—"}]
[{"$f":"'Master Assortment'!A10","v":0},{"$f":"'Master Assortment'!C10","v":0},{"$f":"'Master Assortment'!D10","v":0},{"$f":"'Master Assortment'!H10","v":""},{"$f":"'Master Assortment'!I10","v":""},{"$f":"'Master Assortment'!G10","v":0},{"$f":"'Master Assortment'!J10","v":0},{"$f":"'Master Assortment'!F10","v":0},{"$f":"'Master Assortment'!P10","v":""},{"$f":"'Master Assortment'!AD10","v":0},{"$f":"'Master Assortment'!Y10","v":"—"}]
[{"$f":"'Master Assortment'!A147","v":0},{"$f":"'Master Assortment'!C147","v":0},{"$f":"'Master Assortment'!D147","v":0},{"$f":"'Master Assortment'!H147","v":""},{"$f":"'Master Assortment'!I147","v":""},{"$f":"'Master Assortment'!G147","v":0},{"$f":"'Master Assortment'!J147","v":0},{"$f":"'Master Assortment'!F147","v":0},{"$f":"'Master Assortment'!P147","v":""},{"$f":"'Master Assortment'!AD147","v":0},{"$f":"'Master Assortment'!Y147","v":"—"}]
[{"$f":"'Master Assortment'!A162","v":0},{"$f":"'Master Assortment'!C162","v":0},{"$f":"'Master Assortment'!D162","v":0},{"$f":"'Master Assortment'!H162","v":""},{"$f":"'Master Assortment'!I162","v":""},{"$f":"'Master Assortment'!G162","v":0},{"$f":"'Master Assortment'!J162","v":0},{"$f":"'Master Assortment'!F162","v":0},{"$f":"'Master Assortment'!P162","v":""},{"$f":"'Master Assortment'!AD162","v":0},{"$f":"'Master Assortment'!Y162","v":"—"}]
[{"$f":"'Master Assortment'!A125","v":0},{"$f":"'Master Assortment'!C125","v":0},{"$f":"'Master Assortment'!D125","v":0},{"$f":"'Master Assortment'!H125","v":""},{"$f":"'Master Assortment'!I125","v":""},{"$f":"'Master Assortment'!G125","v":0},{"$f":"'Master Assortment'!J125","v":0},{"$f":"'Master Assortment'!F125","v":0},{"$f":"'Master Assortment'!P125","v":""},{"$f":"'Master Assortment'!AD125","v":0},{"$f":"'Master Assortment'!Y125","v":"—"}]
[{"$f":"'Master Assortment'!A124","v":0},{"$f":"'Master Assortment'!C124","v":0},{"$f":"'Master Assortment'!D124","v":0},{"$f":"'Master Assortment'!H124","v":""},{"$f":"'Master Assortment'!I124","v":""},{"$f":"'Master Assortment'!G124","v":0},{"$f":"'Master Assortment'!J124","v":0},{"$f":"'Master Assortment'!F124","v":0},{"$f":"'Master Assortment'!P124","v":""},{"$f":"'Master Assortment'!AD124","v":0},{"$f":"'Master Assortment'!Y124","v":"—"}]
[{"$f":"'Master Assortment'!A130","v":0},{"$f":"'Master Assortment'!C130","v":0},{"$f":"'Master Assortment'!D130","v":0},{"$f":"'Master Assortment'!H130","v":""},{"$f":"'Master Assortment'!I130","v":""},{"$f":"'Master Assortment'!G130","v":0},{"$f":"'Master Assortment'!J130","v":0},{"$f":"'Master Assortment'!F130","v":0},{"$f":"'Master Assortment'!P130","v":""},{"$f":"'Master Assortment'!AD130","v":0},{"$f":"'Master Assortment'!Y130","v":"—"}]
[{"$f":"'Master Assortment'!A139","v":0},{"$f":"'Master Assortment'!C139","v":0},{"$f":"'Master Assortment'!D139","v":0},{"$f":"'Master Assortment'!H139","v":""},{"$f":"'Master Assortment'!I139","v":""},{"$f":"'Master Assortment'!G139","v":0},{"$f":"'Master Assortment'!J139","v":0},{"$f":"'Master Assortment'!F139","v":0},{"$f":"'Master Assortment'!P139","v":""},{"$f":"'Master Assortment'!AD139","v":0},{"$f":"'Master Assortment'!Y139","v":"—"}]
[{"$f":"'Master Assortment'!A148","v":0},{"$f":"'Master Assortment'!C148","v":0},{"$f":"'Master Assortment'!D148","v":0},{"$f":"'Master Assortment'!H148","v":""},{"$f":"'Master Assortment'!I148","v":""},{"$f":"'Master Assortment'!G148","v":0},{"$f":"'Master Assortment'!J148","v":0},{"$f":"'Master Assortment'!F148","v":0},{"$f":"'Master Assortment'!P148","v":""},{"$f":"'Master Assortment'!AD148","v":0},{"$f":"'Master Assortment'!Y148","v":"—"}]
[{"$f":"'Master Assortment'!A6","v":0},{"$f":"'Master Assortment'!C6","v":0},{"$f":"'Master Assortment'!D6","v":0},{"$f":"'Master Assortment'!H6","v":""},{"$f":"'Master Assortment'!I6","v":""},{"$f":"'Master Assortment'!G6","v":0},{"$f":"'Master Assortment'!J6","v":0},{"$f":"'Master Assortment'!F6","v":0},{"$f":"'Master Assortment'!P6","v":""},{"$f":"'Master Assortment'!AD6","v":0},{"$f":"'Master Assortment'!Y6","v":"—"}]
[{"$f":"'Master Assortment'!A59","v":0},{"$f":"'Master Assortment'!C59","v":0},{"$f":"'Master Assortment'!D59","v":0},{"$f":"'Master Assortment'!H59","v":""},{"$f":"'Master Assortment'!I59","v":""},{"$f":"'Master Assortment'!G59","v":0},{"$f":"'Master Assortment'!J59","v":0},{"$f":"'Master Assortment'!F59","v":0},{"$f":"'Master Assortment'!P59","v":""},{"$f":"'Master Assortment'!AD59","v":0},{"$f":"'Master Assortment'!Y59","v":"—"}]
[{"$f":"'Master Assortment'!A133","v":0},{"$f":"'Master Assortment'!C133","v":0},{"$f":"'Master Assortment'!D133","v":0},{"$f":"'Master Assortment'!H133","v":""},{"$f":"'Master Assortment'!I133","v":""},{"$f":"'Master Assortment'!G133","v":0},{"$f":"'Master Assortment'!J133","v":0},{"$f":"'Master Assortment'!F133","v":0},{"$f":"'Master Assortment'!P133","v":""},{"$f":"'Master Assortment'!AD133","v":0},{"$f":"'Master Assortment'!Y133","v":"—"}]
[{"$f":"'Master Assortment'!A28","v":0},{"$f":"'Master Assortment'!C28","v":0},{"$f":"'Master Assortment'!D28","v":0},{"$f":"'Master Assortment'!H28","v":""},{"$f":"'Master Assortment'!I28","v":""},{"$f":"'Master Assortment'!G28","v":0},{"$f":"'Master Assortment'!J28","v":0},{"$f":"'Master Assortment'!F28","v":0},{"$f":"'Master Assortment'!P28","v":""},{"$f":"'Master Assortment'!AD28","v":0},{"$f":"'Master Assortment'!Y28","v":"—"}]
[{"$f":"'Master Assortment'!A127","v":0},{"$f":"'Master Assortment'!C127","v":0},{"$f":"'Master Assortment'!D127","v":0},{"$f":"'Master Assortment'!H127","v":""},{"$f":"'Master Assortment'!I127","v":""},{"$f":"'Master Assortment'!G127","v":0},{"$f":"'Master Assortment'!J127","v":0},{"$f":"'Master Assortment'!F127","v":0},{"$f":"'Master Assortment'!P127","v":""},{"$f":"'Master Assortment'!AD127","v":0},{"$f":"'Master Assortment'!Y127","v":"—"}]
[{"$f":"'Master Assortment'!A57","v":0},{"$f":"'Master Assortment'!C57","v":0},{"$f":"'Master Assortment'!D57","v":0},{"$f":"'Master Assortment'!H57","v":""},{"$f":"'Master Assortment'!I57","v":""},{"$f":"'Master Assortment'!G57","v":0},{"$f":"'Master Assortment'!J57","v":0},{"$f":"'Master Assortment'!F57","v":0},{"$f":"'Master Assortment'!P57","v":""},{"$f":"'Master Assortment'!AD57","v":0},{"$f":"'Master Assortment'!Y57","v":"—"}]
[{"$f":"'Master Assortment'!A165","v":0},{"$f":"'Master Assortment'!C165","v":0},{"$f":"'Master Assortment'!D165","v":0},{"$f":"'Master Assortment'!H165","v":""},{"$f":"'Master Assortment'!I165","v":""},{"$f":"'Master Assortment'!G165","v":0},{"$f":"'Master Assortment'!J165","v":0},{"$f":"'Master Assortment'!F165","v":0},{"$f":"'Master Assortment'!P165","v":""},{"$f":"'Master Assortment'!AD165","v":0},{"$f":"'Master Assortment'!Y165","v":"—"}]
[{"$f":"'Master Assortment'!A173","v":0},{"$f":"'Master Assortment'!C173","v":0},{"$f":"'Master Assortment'!D173","v":0},{"$f":"'Master Assortment'!H173","v":""},{"$f":"'Master Assortment'!I173","v":""},{"$f":"'Master Assortment'!G173","v":0},{"$f":"'Master Assortment'!J173","v":0},{"$f":"'Master Assortment'!F173","v":0},{"$f":"'Master Assortment'!P173","v":""},{"$f":"'Master Assortment'!AD173","v":0},{"$f":"'Master Assortment'!Y173","v":"—"}]
[{"$f":"'Master Assortment'!A91","v":0},{"$f":"'Master Assortment'!C91","v":0},{"$f":"'Master Assortment'!D91","v":0},{"$f":"'Master Assortment'!H91","v":""},{"$f":"'Master Assortment'!I91","v":""},{"$f":"'Master Assortment'!G91","v":0},{"$f":"'Master Assortment'!J91","v":0},{"$f":"'Master Assortment'!F91","v":0},{"$f":"'Master Assortment'!P91","v":""},{"$f":"'Master Assortment'!AD91","v":0},{"$f":"'Master Assortment'!Y91","v":"—"}]
[{"$f":"'Master Assortment'!A50","v":0},{"$f":"'Master Assortment'!C50","v":0},{"$f":"'Master Assortment'!D50","v":0},{"$f":"'Master Assortment'!H50","v":""},{"$f":"'Master Assortment'!I50","v":""},{"$f":"'Master Assortment'!G50","v":0},{"$f":"'Master Assortment'!J50","v":0},{"$f":"'Master Assortment'!F50","v":0},{"$f":"'Master Assortment'!P50","v":""},{"$f":"'Master Assortment'!AD50","v":0},{"$f":"'Master Assortment'!Y50","v":"—"}]
[{"$f":"'Master Assortment'!A27","v":0},{"$f":"'Master Assortment'!C27","v":0},{"$f":"'Master Assortment'!D27","v":0},{"$f":"'Master Assortment'!H27","v":""},{"$f":"'Master Assortment'!I27","v":""},{"$f":"'Master Assortment'!G27","v":0},{"$f":"'Master Assortment'!J27","v":0},{"$f":"'Master Assortment'!F27","v":0},{"$f":"'Master Assortment'!P27","v":""},{"$f":"'Master Assortment'!AD27","v":0},{"$f":"'Master Assortment'!Y27","v":"—"}]
[{"$f":"'Master Assortment'!A65","v":0},{"$f":"'Master Assortment'!C65","v":0},{"$f":"'Master Assortment'!D65","v":0},{"$f":"'Master Assortment'!H65","v":""},{"$f":"'Master Assortment'!I65","v":""},{"$f":"'Master Assortment'!G65","v":0},{"$f":"'Master Assortment'!J65","v":0},{"$f":"'Master Assortment'!F65","v":0},{"$f":"'Master Assortment'!P65","v":""},{"$f":"'Master Assortment'!AD65","v":0},{"$f":"'Master Assortment'!Y65","v":"—"}]
[{"$f":"'Master Assortment'!A16","v":0},{"$f":"'Master Assortment'!C16","v":0},{"$f":"'Master Assortment'!D16","v":0},{"$f":"'Master Assortment'!H16","v":""},{"$f":"'Master Assortment'!I16","v":""},{"$f":"'Master Assortment'!G16","v":0},{"$f":"'Master Assortment'!J16","v":0},{"$f":"'Master Assortment'!F16","v":0},{"$f":"'Master Assortment'!P16","v":""},{"$f":"'Master Assortment'!AD16","v":0},{"$f":"'Master Assortment'!Y16","v":"—"}]
[{"$f":"'Master Assortment'!A137","v":0},{"$f":"'Master Assortment'!C137","v":0},{"$f":"'Master Assortment'!D137","v":0},{"$f":"'Master Assortment'!H137","v":""},{"$f":"'Master Assortment'!I137","v":""},{"$f":"'Master Assortment'!G137","v":0},{"$f":"'Master Assortment'!J137","v":0},{"$f":"'Master Assortment'!F137","v":0},{"$f":"'Master Assortment'!P137","v":""},{"$f":"'Master Assortment'!AD137","v":0},{"$f":"'Master Assortment'!Y137","v":"—"}]
[{"$f":"'Master Assortment'!A126","v":0},{"$f":"'Master Assortment'!C126","v":0},{"$f":"'Master Assortment'!D126","v":0},{"$f":"'Master Assortment'!H126","v":""},{"$f":"'Master Assortment'!I126","v":""},{"$f":"'Master Assortment'!G126","v":0},{"$f":"'Master Assortment'!J126","v":0},{"$f":"'Master Assortment'!F126","v":0},{"$f":"'Master Assortment'!P126","v":""},{"$f":"'Master Assortment'!AD126","v":0},{"$f":"'Master Assortment'!Y126","v":"—"}]
[{"$f":"'Master Assortment'!A172","v":0},{"$f":"'Master Assortment'!C172","v":0},{"$f":"'Master Assortment'!D172","v":0},{"$f":"'Master Assortment'!H172","v":""},{"$f":"'Master Assortment'!I172","v":""},{"$f":"'Master Assortment'!G172","v":0},{"$f":"'Master Assortment'!J172","v":0},{"$f":"'Master Assortment'!F172","v":0},{"$f":"'Master Assortment'!P172","v":""},{"$f":"'Master Assortment'!AD172","v":0},{"$f":"'Master Assortment'!Y172","v":"—"}]
[{"$f":"'Master Assortment'!A189","v":0},{"$f":"'Master Assortment'!C189","v":0},{"$f":"'Master Assortment'!D189","v":0},{"$f":"'Master Assortment'!H189","v":""},{"$f":"'Master Assortment'!I189","v":""},{"$f":"'Master Assortment'!G189","v":0},{"$f":"'Master Assortment'!J189","v":0},{"$f":"'Master Assortment'!F189","v":0},{"$f":"'Master Assortment'!P189","v":""},{"$f":"'Master Assortment'!AD189","v":0},{"$f":"'Master Assortment'!Y189","v":"—"}]
[{"$f":"'Master Assortment'!A190","v":0},{"$f":"'Master Assortment'!C190","v":0},{"$f":"'Master Assortment'!D190","v":0},{"$f":"'Master Assortment'!H190","v":""},{"$f":"'Master Assortment'!I190","v":""},{"$f":"'Master Assortment'!G190","v":0},{"$f":"'Master Assortment'!J190","v":0},{"$f":"'Master Assortment'!F190","v":0},{"$f":"'Master Assortment'!P190","v":""},{"$f":"'Master Assortment'!AD190","v":0},{"$f":"'Master Assortment'!Y190","v":"—"}]
[{"$f":"'Master Assortment'!A191","v":0},{"$f":"'Master Assortment'!C191","v":0},{"$f":"'Master Assortment'!D191","v":0},{"$f":"'Master Assortment'!H191","v":""},{"$f":"'Master Assortment'!I191","v":""},{"$f":"'Master Assortment'!G191","v":0},{"$f":"'Master Assortment'!J191","v":0},{"$f":"'Master Assortment'!F191","v":0},{"$f":"'Master Assortment'!P191","v":""},{"$f":"'Master Assortment'!AD191","v":0},{"$f":"'Master Assortment'!Y191","v":"—"}]
[{"$f":"'Master Assortment'!A136","v":0},{"$f":"'Master Assortment'!C136","v":0},{"$f":"'Master Assortment'!D136","v":0},{"$f":"'Master Assortment'!H136","v":""},{"$f":"'Master Assortment'!I136","v":""},{"$f":"'Master Assortment'!G136","v":0},{"$f":"'Master Assortment'!J136","v":0},{"$f":"'Master Assortment'!F136","v":0},{"$f":"'Master Assortment'!P136","v":""},{"$f":"'Master Assortment'!AD136","v":0},{"$f":"'Master Assortment'!Y136","v":"—"}]
[{"$f":"'Master Assortment'!A144","v":0},{"$f":"'Master Assortment'!C144","v":0},{"$f":"'Master Assortment'!D144","v":0},{"$f":"'Master Assortment'!H144","v":""},{"$f":"'Master Assortment'!I144","v":""},{"$f":"'Master Assortment'!G144","v":0},{"$f":"'Master Assortment'!J144","v":0},{"$f":"'Master Assortment'!F144","v":0},{"$f":"'Master Assortment'!P144","v":""},{"$f":"'Master Assortment'!AD144","v":0},{"$f":"'Master Assortment'!Y144","v":"—"}]
[{"$f":"'Master Assortment'!A150","v":0},{"$f":"'Master Assortment'!C150","v":0},{"$f":"'Master Assortment'!D150","v":0},{"$f":"'Master Assortment'!H150","v":""},{"$f":"'Master Assortment'!I150","v":""},{"$f":"'Master Assortment'!G150","v":0},{"$f":"'Master Assortment'!J150","v":0},{"$f":"'Master Assortment'!F150","v":0},{"$f":"'Master Assortment'!P150","v":""},{"$f":"'Master Assortment'!AD150","v":0},{"$f":"'Master Assortment'!Y150","v":"—"}]
[{"$f":"'Master Assortment'!A114","v":0},{"$f":"'Master Assortment'!C114","v":0},{"$f":"'Master Assortment'!D114","v":0},{"$f":"'Master Assortment'!H114","v":""},{"$f":"'Master Assortment'!I114","v":""},{"$f":"'Master Assortment'!G114","v":0},{"$f":"'Master Assortment'!J114","v":0},{"$f":"'Master Assortment'!F114","v":0},{"$f":"'Master Assortment'!P114","v":""},{"$f":"'Master Assortment'!AD114","v":0},{"$f":"'Master Assortment'!Y114","v":"—"}]
[{"$f":"'Master Assortment'!A77","v":0},{"$f":"'Master Assortment'!C77","v":0},{"$f":"'Master Assortment'!D77","v":0},{"$f":"'Master Assortment'!H77","v":""},{"$f":"'Master Assortment'!I77","v":""},{"$f":"'Master Assortment'!G77","v":0},{"$f":"'Master Assortment'!J77","v":0},{"$f":"'Master Assortment'!F77","v":0},{"$f":"'Master Assortment'!P77","v":""},{"$f":"'Master Assortment'!AD77","v":0},{"$f":"'Master Assortment'!Y77","v":"—"}]
[{"$f":"'Master Assortment'!A171","v":0},{"$f":"'Master Assortment'!C171","v":0},{"$f":"'Master Assortment'!D171","v":0},{"$f":"'Master Assortment'!H171","v":""},{"$f":"'Master Assortment'!I171","v":""},{"$f":"'Master Assortment'!G171","v":0},{"$f":"'Master Assortment'!J171","v":0},{"$f":"'Master Assortment'!F171","v":0},{"$f":"'Master Assortment'!P171","v":""},{"$f":"'Master Assortment'!AD171","v":0},{"$f":"'Master Assortment'!Y171","v":"—"}]
[{"$f":"'Master Assortment'!A56","v":0},{"$f":"'Master Assortment'!C56","v":0},{"$f":"'Master Assortment'!D56","v":0},{"$f":"'Master Assortment'!H56","v":""},{"$f":"'Master Assortment'!I56","v":""},{"$f":"'Master Assortment'!G56","v":0},{"$f":"'Master Assortment'!J56","v":0},{"$f":"'Master Assortment'!F56","v":0},{"$f":"'Master Assortment'!P56","v":""},{"$f":"'Master Assortment'!AD56","v":0},{"$f":"'Master Assortment'!Y56","v":"—"}]
[{"$f":"'Master Assortment'!A31","v":0},{"$f":"'Master Assortment'!C31","v":0},{"$f":"'Master Assortment'!D31","v":0},{"$f":"'Master Assortment'!H31","v":""},{"$f":"'Master Assortment'!I31","v":""},{"$f":"'Master Assortment'!G31","v":0},{"$f":"'Master Assortment'!J31","v":0},{"$f":"'Master Assortment'!F31","v":0},{"$f":"'Master Assortment'!P31","v":""},{"$f":"'Master Assortment'!AD31","v":0},{"$f":"'Master Assortment'!Y31","v":"—"}]
[{"$f":"'Master Assortment'!A37","v":0},{"$f":"'Master Assortment'!C37","v":0},{"$f":"'Master Assortment'!D37","v":0},{"$f":"'Master Assortment'!H37","v":""},{"$f":"'Master Assortment'!I37","v":""},{"$f":"'Master Assortment'!G37","v":0},{"$f":"'Master Assortment'!J37","v":0},{"$f":"'Master Assortment'!F37","v":0},{"$f":"'Master Assortment'!P37","v":""},{"$f":"'Master Assortment'!AD37","v":0},{"$f":"'Master Assortment'!Y37","v":"—"}]
[{"$f":"'Master Assortment'!A157","v":0},{"$f":"'Master Assortment'!C157","v":0},{"$f":"'Master Assortment'!D157","v":0},{"$f":"'Master Assortment'!H157","v":""},{"$f":"'Master Assortment'!I157","v":""},{"$f":"'Master Assortment'!G157","v":0},{"$f":"'Master Assortment'!J157","v":0},{"$f":"'Master Assortment'!F157","v":0},{"$f":"'Master Assortment'!P157","v":""},{"$f":"'Master Assortment'!AD157","v":0},{"$f":"'Master Assortment'!Y157","v":"—"}]
[{"$f":"'Master Assortment'!A146","v":0},{"$f":"'Master Assortment'!C146","v":0},{"$f":"'Master Assortment'!D146","v":0},{"$f":"'Master Assortment'!H146","v":""},{"$f":"'Master Assortment'!I146","v":""},{"$f":"'Master Assortment'!G146","v":0},{"$f":"'Master Assortment'!J146","v":0},{"$f":"'Master Assortment'!F146","v":0},{"$f":"'Master Assortment'!P146","v":""},{"$f":"'Master Assortment'!AD146","v":0},{"$f":"'Master Assortment'!Y146","v":"—"}]
[{"$f":"'Master Assortment'!A145","v":0},{"$f":"'Master Assortment'!C145","v":0},{"$f":"'Master Assortment'!D145","v":0},{"$f":"'Master Assortment'!H145","v":""},{"$f":"'Master Assortment'!I145","v":""},{"$f":"'Master Assortment'!G145","v":0},{"$f":"'Master Assortment'!J145","v":0},{"$f":"'Master Assortment'!F145","v":0},{"$f":"'Master Assortment'!P145","v":""},{"$f":"'Master Assortment'!AD145","v":0},{"$f":"'Master Assortment'!Y145","v":"—"}]
[{"$f":"'Master Assortment'!A153","v":0},{"$f":"'Master Assortment'!C153","v":0},{"$f":"'Master Assortment'!D153","v":0},{"$f":"'Master Assortment'!H153","v":""},{"$f":"'Master Assortment'!I153","v":""},{"$f":"'Master Assortment'!G153","v":0},{"$f":"'Master Assortment'!J153","v":0},{"$f":"'Master Assortment'!F153","v":0},{"$f":"'Master Assortment'!P153","v":""},{"$f":"'Master Assortment'!AD153","v":0},{"$f":"'Master Assortment'!Y153","v":"—"}]
[{"$f":"'Master Assortment'!A169","v":0},{"$f":"'Master Assortment'!C169","v":0},{"$f":"'Master Assortment'!D169","v":0},{"$f":"'Master Assortment'!H169","v":""},{"$f":"'Master Assortment'!I169","v":""},{"$f":"'Master Assortment'!G169","v":0},{"$f":"'Master Assortment'!J169","v":0},{"$f":"'Master Assortment'!F169","v":0},{"$f":"'Master Assortment'!P169","v":""},{"$f":"'Master Assortment'!AD169","v":0},{"$f":"'Master Assortment'!Y169","v":"—"}]
[{"$f":"'Master Assortment'!A46","v":0},{"$f":"'Master Assortment'!C46","v":0},{"$f":"'Master Assortment'!D46","v":0},{"$f":"'Master Assortment'!H46","v":""},{"$f":"'Master Assortment'!I46","v":""},{"$f":"'Master Assortment'!G46","v":0},{"$f":"'Master Assortment'!J46","v":0},{"$f":"'Master Assortment'!F46","v":0},{"$f":"'Master Assortment'!P46","v":""},{"$f":"'Master Assortment'!AD46","v":0},{"$f":"'Master Assortment'!Y46","v":"—"}]
[{"$f":"'Master Assortment'!A14","v":0},{"$f":"'Master Assortment'!C14","v":0},{"$f":"'Master Assortment'!D14","v":0},{"$f":"'Master Assortment'!H14","v":""},{"$f":"'Master Assortment'!I14","v":""},{"$f":"'Master Assortment'!G14","v":0},{"$f":"'Master Assortment'!J14","v":0},{"$f":"'Master Assortment'!F14","v":0},{"$f":"'Master Assortment'!P14","v":""},{"$f":"'Master Assortment'!AD14","v":0},{"$f":"'Master Assortment'!Y14","v":"—"}]
[{"$f":"'Master Assortment'!A166","v":0},{"$f":"'Master Assortment'!C166","v":0},{"$f":"'Master Assortment'!D166","v":0},{"$f":"'Master Assortment'!H166","v":""},{"$f":"'Master Assortment'!I166","v":""},{"$f":"'Master Assortment'!G166","v":0},{"$f":"'Master Assortment'!J166","v":0},{"$f":"'Master Assortment'!F166","v":0},{"$f":"'Master Assortment'!P166","v":""},{"$f":"'Master Assortment'!AD166","v":0},{"$f":"'Master Assortment'!Y166","v":"—"}]
[{"$f":"'Master Assortment'!A152","v":0},{"$f":"'Master Assortment'!C152","v":0},{"$f":"'Master Assortment'!D152","v":0},{"$f":"'Master Assortment'!H152","v":""},{"$f":"'Master Assortment'!I152","v":""},{"$f":"'Master Assortment'!G152","v":0},{"$f":"'Master Assortment'!J152","v":0},{"$f":"'Master Assortment'!F152","v":0},{"$f":"'Master Assortment'!P152","v":""},{"$f":"'Master Assortment'!AD152","v":0},{"$f":"'Master Assortment'!Y152","v":"—"}]
[{"$f":"'Master Assortment'!A39","v":0},{"$f":"'Master Assortment'!C39","v":0},{"$f":"'Master Assortment'!D39","v":0},{"$f":"'Master Assortment'!H39","v":""},{"$f":"'Master Assortment'!I39","v":""},{"$f":"'Master Assortment'!G39","v":0},{"$f":"'Master Assortment'!J39","v":0},{"$f":"'Master Assortment'!F39","v":0},{"$f":"'Master Assortment'!P39","v":""},{"$f":"'Master Assortment'!AD39","v":0},{"$f":"'Master Assortment'!Y39","v":"—"}]
[{"$f":"'Master Assortment'!A158","v":0},{"$f":"'Master Assortment'!C158","v":0},{"$f":"'Master Assortment'!D158","v":0},{"$f":"'Master Assortment'!H158","v":""},{"$f":"'Master Assortment'!I158","v":""},{"$f":"'Master Assortment'!G158","v":0},{"$f":"'Master Assortment'!J158","v":0},{"$f":"'Master Assortment'!F158","v":0},{"$f":"'Master Assortment'!P158","v":""},{"$f":"'Master Assortment'!AD158","v":0},{"$f":"'Master Assortment'!Y158","v":"—"}]
[{"$f":"'Master Assortment'!A149","v":0},{"$f":"'Master Assortment'!C149","v":0},{"$f":"'Master Assortment'!D149","v":0},{"$f":"'Master Assortment'!H149","v":""},{"$f":"'Master Assortment'!I149","v":""},{"$f":"'Master Assortment'!G149","v":0},{"$f":"'Master Assortment'!J149","v":0},{"$f":"'Master Assortment'!F149","v":0},{"$f":"'Master Assortment'!P149","v":""},{"$f":"'Master Assortment'!AD149","v":0},{"$f":"'Master Assortment'!Y149","v":"—"}]
[{"$f":"'Master Assortment'!A180","v":0},{"$f":"'Master Assortment'!C180","v":0},{"$f":"'Master Assortment'!D180","v":0},{"$f":"'Master Assortment'!H180","v":""},{"$f":"'Master Assortment'!I180","v":""},{"$f":"'Master Assortment'!G180","v":0},{"$f":"'Master Assortment'!J180","v":0},{"$f":"'Master Assortment'!F180","v":0},{"$f":"'Master Assortment'!P180","v":""},{"$f":"'Master Assortment'!AD180","v":0},{"$f":"'Master Assortment'!Y180","v":"—"}]
[{"$f":"'Master Assortment'!A179","v":0},{"$f":"'Master Assortment'!C179","v":0},{"$f":"'Master Assortment'!D179","v":0},{"$f":"'Master Assortment'!H179","v":""},{"$f":"'Master Assortment'!I179","v":""},{"$f":"'Master Assortment'!G179","v":0},{"$f":"'Master Assortment'!J179","v":0},{"$f":"'Master Assortment'!F179","v":0},{"$f":"'Master Assortment'!P179","v":""},{"$f":"'Master Assortment'!AD179","v":0},{"$f":"'Master Assortment'!Y179","v":"—"}]
[{"$f":"'Master Assortment'!A178","v":0},{"$f":"'Master Assortment'!C178","v":0},{"$f":"'Master Assortment'!D178","v":0},{"$f":"'Master Assortment'!H178","v":""},{"$f":"'Master Assortment'!I178","v":""},{"$f":"'Master Assortment'!G178","v":0},{"$f":"'Master Assortment'!J178","v":0},{"$f":"'Master Assortment'!F178","v":0},{"$f":"'Master Assortment'!P178","v":""},{"$f":"'Master Assortment'!AD178","v":0},{"$f":"'Master Assortment'!Y178","v":"—"}]
[{"$f":"'Master Assortment'!A181","v":0},{"$f":"'Master Assortment'!C181","v":0},{"$f":"'Master Assortment'!D181","v":0},{"$f":"'Master Assortment'!H181","v":""},{"$f":"'Master Assortment'!I181","v":""},{"$f":"'Master Assortment'!G181","v":0},{"$f":"'Master Assortment'!J181","v":0},{"$f":"'Master Assortment'!F181","v":0},{"$f":"'Master Assortment'!P181","v":""},{"$f":"'Master Assortment'!AD181","v":0},{"$f":"'Master Assortment'!Y181","v":"—"}]
[{"$f":"'Master Assortment'!A131","v":0},{"$f":"'Master Assortment'!C131","v":0},{"$f":"'Master Assortment'!D131","v":0},{"$f":"'Master Assortment'!H131","v":""},{"$f":"'Master Assortment'!I131","v":""},{"$f":"'Master Assortment'!G131","v":0},{"$f":"'Master Assortment'!J131","v":0},{"$f":"'Master Assortment'!F131","v":0},{"$f":"'Master Assortment'!P131","v":""},{"$f":"'Master Assortment'!AD131","v":0},{"$f":"'Master Assortment'!Y131","v":"—"}]
[{"$f":"'Master Assortment'!A177","v":0},{"$f":"'Master Assortment'!C177","v":0},{"$f":"'Master Assortment'!D177","v":0},{"$f":"'Master Assortment'!H177","v":""},{"$f":"'Master Assortment'!I177","v":""},{"$f":"'Master Assortment'!G177","v":0},{"$f":"'Master Assortment'!J177","v":0},{"$f":"'Master Assortment'!F177","v":0},{"$f":"'Master Assortment'!P177","v":""},{"$f":"'Master Assortment'!AD177","v":0},{"$f":"'Master Assortment'!Y177","v":"—"}]
[{"$f":"'Master Assortment'!A175","v":0},{"$f":"'Master Assortment'!C175","v":0},{"$f":"'Master Assortment'!D175","v":0},{"$f":"'Master Assortment'!H175","v":""},{"$f":"'Master Assortment'!I175","v":""},{"$f":"'Master Assortment'!G175","v":0},{"$f":"'Master Assortment'!J175","v":0},{"$f":"'Master Assortment'!F175","v":0},{"$f":"'Master Assortment'!P175","v":""},{"$f":"'Master Assortment'!AD175","v":0},{"$f":"'Master Assortment'!Y175","v":"—"}]
[{"$f":"'Master Assortment'!A141","v":0},{"$f":"'Master Assortment'!C141","v":0},{"$f":"'Master Assortment'!D141","v":0},{"$f":"'Master Assortment'!H141","v":""},{"$f":"'Master Assortment'!I141","v":""},{"$f":"'Master Assortment'!G141","v":0},{"$f":"'Master Assortment'!J141","v":0},{"$f":"'Master Assortment'!F141","v":0},{"$f":"'Master Assortment'!P141","v":""},{"$f":"'Master Assortment'!AD141","v":0},{"$f":"'Master Assortment'!Y141","v":"—"}]
[{"$f":"'Master Assortment'!A89","v":0},{"$f":"'Master Assortment'!C89","v":0},{"$f":"'Master Assortment'!D89","v":0},{"$f":"'Master Assortment'!H89","v":""},{"$f":"'Master Assortment'!I89","v":""},{"$f":"'Master Assortment'!G89","v":0},{"$f":"'Master Assortment'!J89","v":0},{"$f":"'Master Assortment'!F89","v":0},{"$f":"'Master Assortment'!P89","v":""},{"$f":"'Master Assortment'!AD89","v":0},{"$f":"'Master Assortment'!Y89","v":"—"}]
[{"$f":"'Master Assortment'!A143","v":0},{"$f":"'Master Assortment'!C143","v":0},{"$f":"'Master Assortment'!D143","v":0},{"$f":"'Master Assortment'!H143","v":""},{"$f":"'Master Assortment'!I143","v":""},{"$f":"'Master Assortment'!G143","v":0},{"$f":"'Master Assortment'!J143","v":0},{"$f":"'Master Assortment'!F143","v":0},{"$f":"'Master Assortment'!P143","v":""},{"$f":"'Master Assortment'!AD143","v":0},{"$f":"'Master Assortment'!Y143","v":"—"}]
[{"$f":"'Master Assortment'!A167","v":0},{"$f":"'Master Assortment'!C167","v":0},{"$f":"'Master Assortment'!D167","v":0},{"$f":"'Master Assortment'!H167","v":""},{"$f":"'Master Assortment'!I167","v":""},{"$f":"'Master Assortment'!G167","v":0},{"$f":"'Master Assortment'!J167","v":0},{"$f":"'Master Assortment'!F167","v":0},{"$f":"'Master Assortment'!P167","v":""},{"$f":"'Master Assortment'!AD167","v":0},{"$f":"'Master Assortment'!Y167","v":"—"}]
[{"$f":"'Master Assortment'!A78","v":0},{"$f":"'Master Assortment'!C78","v":0},{"$f":"'Master Assortment'!D78","v":0},{"$f":"'Master Assortment'!H78","v":""},{"$f":"'Master Assortment'!I78","v":""},{"$f":"'Master Assortment'!G78","v":0},{"$f":"'Master Assortment'!J78","v":0},{"$f":"'Master Assortment'!F78","v":0},{"$f":"'Master Assortment'!P78","v":""},{"$f":"'Master Assortment'!AD78","v":0},{"$f":"'Master Assortment'!Y78","v":"—"}]
[{"$f":"'Master Assortment'!A112","v":0},{"$f":"'Master Assortment'!C112","v":0},{"$f":"'Master Assortment'!D112","v":0},{"$f":"'Master Assortment'!H112","v":""},{"$f":"'Master Assortment'!I112","v":""},{"$f":"'Master Assortment'!G112","v":0},{"$f":"'Master Assortment'!J112","v":0},{"$f":"'Master Assortment'!F112","v":0},{"$f":"'Master Assortment'!P112","v":""},{"$f":"'Master Assortment'!AD112","v":0},{"$f":"'Master Assortment'!Y112","v":"—"}]
[{"$f":"'Master Assortment'!A174","v":0},{"$f":"'Master Assortment'!C174","v":0},{"$f":"'Master Assortment'!D174","v":0},{"$f":"'Master Assortment'!H174","v":""},{"$f":"'Master Assortment'!I174","v":""},{"$f":"'Master Assortment'!G174","v":0},{"$f":"'Master Assortment'!J174","v":0},{"$f":"'Master Assortment'!F174","v":0},{"$f":"'Master Assortment'!P174","v":""},{"$f":"'Master Assortment'!AD174","v":0},{"$f":"'Master Assortment'!Y174","v":"—"}]
[{"$f":"'Master Assortment'!A176","v":0},{"$f":"'Master Assortment'!C176","v":0},{"$f":"'Master Assortment'!D176","v":0},{"$f":"'Master Assortment'!H176","v":""},{"$f":"'Master Assortment'!I176","v":""},{"$f":"'Master Assortment'!G176","v":0},{"$f":"'Master Assortment'!J176","v":0},{"$f":"'Master Assortment'!F176","v":0},{"$f":"'Master Assortment'!P176","v":""},{"$f":"'Master Assortment'!AD176","v":0},{"$f":"'Master Assortment'!Y176","v":"—"}]
[{"$f":"'Master Assortment'!A60","v":0},{"$f":"'Master Assortment'!C60","v":0},{"$f":"'Master Assortment'!D60","v":0},{"$f":"'Master Assortment'!H60","v":""},{"$f":"'Master Assortment'!I60","v":""},{"$f":"'Master Assortment'!G60","v":0},{"$f":"'Master Assortment'!J60","v":0},{"$f":"'Master Assortment'!F60","v":0},{"$f":"'Master Assortment'!P60","v":""},{"$f":"'Master Assortment'!AD60","v":0},{"$f":"'Master Assortment'!Y60","v":"—"}]
[{"$f":"'Master Assortment'!A185","v":0},{"$f":"'Master Assortment'!C185","v":0},{"$f":"'Master Assortment'!D185","v":0},{"$f":"'Master Assortment'!H185","v":""},{"$f":"'Master Assortment'!I185","v":""},{"$f":"'Master Assortment'!G185","v":0},{"$f":"'Master Assortment'!J185","v":0},{"$f":"'Master Assortment'!F185","v":0},{"$f":"'Master Assortment'!P185","v":""},{"$f":"'Master Assortment'!AD185","v":0},{"$f":"'Master Assortment'!Y185","v":"—"}]
[{"$f":"'Master Assortment'!A184","v":0},{"$f":"'Master Assortment'!C184","v":0},{"$f":"'Master Assortment'!D184","v":0},{"$f":"'Master Assortment'!H184","v":""},{"$f":"'Master Assortment'!I184","v":""},{"$f":"'Master Assortment'!G184","v":0},{"$f":"'Master Assortment'!J184","v":0},{"$f":"'Master Assortment'!F184","v":0},{"$f":"'Master Assortment'!P184","v":""},{"$f":"'Master Assortment'!AD184","v":0},{"$f":"'Master Assortment'!Y184","v":"—"}]
[{"$f":"'Master Assortment'!A183","v":0},{"$f":"'Master Assortment'!C183","v":0},{"$f":"'Master Assortment'!D183","v":0},{"$f":"'Master Assortment'!H183","v":""},{"$f":"'Master Assortment'!I183","v":""},{"$f":"'Master Assortment'!G183","v":0},{"$f":"'Master Assortment'!J183","v":0},{"$f":"'Master Assortment'!F183","v":0},{"$f":"'Master Assortment'!P183","v":""},{"$f":"'Master Assortment'!AD183","v":0},{"$f":"'Master Assortment'!Y183","v":"—"}]
[{"$f":"'Master Assortment'!A182","v":0},{"$f":"'Master Assortment'!C182","v":0},{"$f":"'Master Assortment'!D182","v":0},{"$f":"'Master Assortment'!H182","v":""},{"$f":"'Master Assortment'!I182","v":""},{"$f":"'Master Assortment'!G182","v":0},{"$f":"'Master Assortment'!J182","v":0},{"$f":"'Master Assortment'!F182","v":0},{"$f":"'Master Assortment'!P182","v":""},{"$f":"'Master Assortment'!AD182","v":0},{"$f":"'Master Assortment'!Y182","v":"—"}]
[{"$f":"'Master Assortment'!A40","v":0},{"$f":"'Master Assortment'!C40","v":0},{"$f":"'Master Assortment'!D40","v":0},{"$f":"'Master Assortment'!H40","v":""},{"$f":"'Master Assortment'!I40","v":""},{"$f":"'Master Assortment'!G40","v":0},{"$f":"'Master Assortment'!J40","v":0},{"$f":"'Master Assortment'!F40","v":0},{"$f":"'Master Assortment'!P40","v":""},{"$f":"'Master Assortment'!AD40","v":0},{"$f":"'Master Assortment'!Y40","v":"—"}]
[{"$f":"'Master Assortment'!A160","v":0},{"$f":"'Master Assortment'!C160","v":0},{"$f":"'Master Assortment'!D160","v":0},{"$f":"'Master Assortment'!H160","v":""},{"$f":"'Master Assortment'!I160","v":""},{"$f":"'Master Assortment'!G160","v":0},{"$f":"'Master Assortment'!J160","v":0},{"$f":"'Master Assortment'!F160","v":0},{"$f":"'Master Assortment'!P160","v":""},{"$f":"'Master Assortment'!AD160","v":0},{"$f":"'Master Assortment'!Y160","v":"—"}]
[{"$f":"'Master Assortment'!A18","v":0},{"$f":"'Master Assortment'!C18","v":0},{"$f":"'Master Assortment'!D18","v":0},{"$f":"'Master Assortment'!H18","v":""},{"$f":"'Master Assortment'!I18","v":""},{"$f":"'Master Assortment'!G18","v":0},{"$f":"'Master Assortment'!J18","v":0},{"$f":"'Master Assortment'!F18","v":0},{"$f":"'Master Assortment'!P18","v":""},{"$f":"'Master Assortment'!AD18","v":0},{"$f":"'Master Assortment'!Y18","v":"—"}]
[{"$f":"'Master Assortment'!A71","v":0},{"$f":"'Master Assortment'!C71","v":0},{"$f":"'Master Assortment'!D71","v":0},{"$f":"'Master Assortment'!H71","v":""},{"$f":"'Master Assortment'!I71","v":""},{"$f":"'Master Assortment'!G71","v":0},{"$f":"'Master Assortment'!J71","v":0},{"$f":"'Master Assortment'!F71","v":0},{"$f":"'Master Assortment'!P71","v":""},{"$f":"'Master Assortment'!AD71","v":0},{"$f":"'Master Assortment'!Y71","v":"—"}]
[{"$f":"'Master Assortment'!A128","v":0},{"$f":"'Master Assortment'!C128","v":0},{"$f":"'Master Assortment'!D128","v":0},{"$f":"'Master Assortment'!H128","v":""},{"$f":"'Master Assortment'!I128","v":""},{"$f":"'Master Assortment'!G128","v":0},{"$f":"'Master Assortment'!J128","v":0},{"$f":"'Master Assortment'!F128","v":0},{"$f":"'Master Assortment'!P128","v":""},{"$f":"'Master Assortment'!AD128","v":0},{"$f":"'Master Assortment'!Y128","v":"—"}]
[{"$f":"'Master Assortment'!A66","v":0},{"$f":"'Master Assortment'!C66","v":0},{"$f":"'Master Assortment'!D66","v":0},{"$f":"'Master Assortment'!H66","v":""},{"$f":"'Master Assortment'!I66","v":""},{"$f":"'Master Assortment'!G66","v":0},{"$f":"'Master Assortment'!J66","v":0},{"$f":"'Master Assortment'!F66","v":0},{"$f":"'Master Assortment'!P66","v":""},{"$f":"'Master Assortment'!AD66","v":0},{"$f":"'Master Assortment'!Y66","v":"—"}]
[{"$f":"'Master Assortment'!A113","v":0},{"$f":"'Master Assortment'!C113","v":0},{"$f":"'Master Assortment'!D113","v":0},{"$f":"'Master Assortment'!H113","v":""},{"$f":"'Master Assortment'!I113","v":""},{"$f":"'Master Assortment'!G113","v":0},{"$f":"'Master Assortment'!J113","v":0},{"$f":"'Master Assortment'!F113","v":0},{"$f":"'Master Assortment'!P113","v":""},{"$f":"'Master Assortment'!AD113","v":0},{"$f":"'Master Assortment'!Y113","v":"—"}]
[{"$f":"'Master Assortment'!A26","v":0},{"$f":"'Master Assortment'!C26","v":0},{"$f":"'Master Assortment'!D26","v":0},{"$f":"'Master Assortment'!H26","v":""},{"$f":"'Master Assortment'!I26","v":""},{"$f":"'Master Assortment'!G26","v":0},{"$f":"'Master Assortment'!J26","v":0},{"$f":"'Master Assortment'!F26","v":0},{"$f":"'Master Assortment'!P26","v":""},{"$f":"'Master Assortment'!AD26","v":0},{"$f":"'Master Assortment'!Y26","v":"—"}]
[{"$f":"'Master Assortment'!A120","v":0},{"$f":"'Master Assortment'!C120","v":0},{"$f":"'Master Assortment'!D120","v":0},{"$f":"'Master Assortment'!H120","v":""},{"$f":"'Master Assortment'!I120","v":""},{"$f":"'Master Assortment'!G120","v":0},{"$f":"'Master Assortment'!J120","v":0},{"$f":"'Master Assortment'!F120","v":0},{"$f":"'Master Assortment'!P120","v":""},{"$f":"'Master Assortment'!AD120","v":0},{"$f":"'Master Assortment'!Y120","v":"—"}]
[{"$f":"'Master Assortment'!A163","v":0},{"$f":"'Master Assortment'!C163","v":0},{"$f":"'Master Assortment'!D163","v":0},{"$f":"'Master Assortment'!H163","v":""},{"$f":"'Master Assortment'!I163","v":""},{"$f":"'Master Assortment'!G163","v":0},{"$f":"'Master Assortment'!J163","v":0},{"$f":"'Master Assortment'!F163","v":0},{"$f":"'Master Assortment'!P163","v":""},{"$f":"'Master Assortment'!AD163","v":0},{"$f":"'Master Assortment'!Y163","v":"—"}]
[{"$f":"'Master Assortment'!A159","v":0},{"$f":"'Master Assortment'!C159","v":0},{"$f":"'Master Assortment'!D159","v":0},{"$f":"'Master Assortment'!H159","v":""},{"$f":"'Master Assortment'!I159","v":""},{"$f":"'Master Assortment'!G159","v":0},{"$f":"'Master Assortment'!J159","v":0},{"$f":"'Master Assortment'!F159","v":0},{"$f":"'Master Assortment'!P159","v":""},{"$f":"'Master Assortment'!AD159","v":0},{"$f":"'Master Assortment'!Y159","v":"—"}]
[{"$f":"'Master Assortment'!A19","v":0},{"$f":"'Master Assortment'!C19","v":0},{"$f":"'Master Assortment'!D19","v":0},{"$f":"'Master Assortment'!H19","v":""},{"$f":"'Master Assortment'!I19","v":""},{"$f":"'Master Assortment'!G19","v":0},{"$f":"'Master Assortment'!J19","v":0},{"$f":"'Master Assortment'!F19","v":0},{"$f":"'Master Assortment'!P19","v":""},{"$f":"'Master Assortment'!AD19","v":0},{"$f":"'Master Assortment'!Y19","v":"—"}]
[{"$f":"'Master Assortment'!A51","v":0},{"$f":"'Master Assortment'!C51","v":0},{"$f":"'Master Assortment'!D51","v":0},{"$f":"'Master Assortment'!H51","v":""},{"$f":"'Master Assortment'!I51","v":""},{"$f":"'Master Assortment'!G51","v":0},{"$f":"'Master Assortment'!J51","v":0},{"$f":"'Master Assortment'!F51","v":0},{"$f":"'Master Assortment'!P51","v":""},{"$f":"'Master Assortment'!AD51","v":0},{"$f":"'Master Assortment'!Y51","v":"—"}]
[{"$f":"'Master Assortment'!A5","v":0},{"$f":"'Master Assortment'!C5","v":0},{"$f":"'Master Assortment'!D5","v":0},{"$f":"'Master Assortment'!H5","v":""},{"$f":"'Master Assortment'!I5","v":""},{"$f":"'Master Assortment'!G5","v":0},{"$f":"'Master Assortment'!J5","v":0},{"$f":"'Master Assortment'!F5","v":0},{"$f":"'Master Assortment'!P5","v":""},{"$f":"'Master Assortment'!AD5","v":0},{"$f":"'Master Assortment'!Y5","v":"—"}]
[{"$f":"'Master Assortment'!A9","v":0},{"$f":"'Master Assortment'!C9","v":0},{"$f":"'Master Assortment'!D9","v":0},{"$f":"'Master Assortment'!H9","v":""},{"$f":"'Master Assortment'!I9","v":""},{"$f":"'Master Assortment'!G9","v":0},{"$f":"'Master Assortment'!J9","v":0},{"$f":"'Master Assortment'!F9","v":0},{"$f":"'Master Assortment'!P9","v":""},{"$f":"'Master Assortment'!AD9","v":0},{"$f":"'Master Assortment'!Y9","v":"—"}]
[{"$f":"'Master Assortment'!A154","v":0},{"$f":"'Master Assortment'!C154","v":0},{"$f":"'Master Assortment'!D154","v":0},{"$f":"'Master Assortment'!H154","v":""},{"$f":"'Master Assortment'!I154","v":""},{"$f":"'Master Assortment'!G154","v":0},{"$f":"'Master Assortment'!J154","v":0},{"$f":"'Master Assortment'!F154","v":0},{"$f":"'Master Assortment'!P154","v":""},{"$f":"'Master Assortment'!AD154","v":0},{"$f":"'Master Assortment'!Y154","v":"—"}]
[{"$f":"'Master Assortment'!A32","v":0},{"$f":"'Master Assortment'!C32","v":0},{"$f":"'Master Assortment'!D32","v":0},{"$f":"'Master Assortment'!H32","v":""},{"$f":"'Master Assortment'!I32","v":""},{"$f":"'Master Assortment'!G32","v":0},{"$f":"'Master Assortment'!J32","v":0},{"$f":"'Master Assortment'!F32","v":0},{"$f":"'Master Assortment'!P32","v":""},{"$f":"'Master Assortment'!AD32","v":0},{"$f":"'Master Assortment'!Y32","v":"—"}]

{"sheet":"Settings","index":5,"n_rows":26,"n_cols":13,"rows_kept":26,"cut":false,"hidden":false,"merged":[[0,0,0,12],[2,0,2,3],[24,0,24,12]]}
["⚙️  SETTINGS — Lead Times, Target WOS & Seasonal Weights  |  Edit yellow cells only"]
[]
["LEAD TIME & TARGET WOS BY BRAND"]
["Brand","Seasonal Weight","Lead Time (wks)","Target WOS"]
["Brand","Seasonal Weight","Lead Time (wks)","Target WOS"]
[]
[]
[]
[]
[]
[]
[]
[]
[]
[]
[]
[]
[]
[]
[]
[]
[]
[]
[]
["SEASONAL WEIGHTS BY BRAND"]
["Brand","Feb","Mar","Apr","May","Jun","Jul","Aug","Sep","Oct","Nov","Dec","Jan"]

{"sheet":"Ad Week Dates","index":6,"n_rows":2,"n_cols":5,"rows_kept":2,"cut":false,"hidden":false,"merged":[[0,0,0,4]]}
["📅  AD WEEK DATES — Reference calendar  |  Do not edit"]
["Week Num","Year","Week","Start Date","End Date"]

{"sheet":"WEEKLY_DATA","index":7,"n_rows":5524,"n_cols":8,"rows_kept":5524,"cut":false,"hidden":false,"merged":[[0,0,0,7],[1,0,3,7]]}
["📥  WEEKLY DATA — Sales & Inventory Feed  |  Load via 🔄 button  |  DO NOT EDIT MANUALLY"]
["SOURCE REPORT: My Groups MSA Weekly Data Pull V3\nHeaders on ROW 3, data starts ROW 4\nColumn mapping → A=SKU | B=SOH (Inv OH U) | C=On Order (Curr. OO U) | D=LW Sales (Sales U) | E=4W Sales (Sales U LC4W) | F=13W Sales (Sales U LC13W) | G=26W Sales (Sales U LC26W) | H=Avg $/U (Sales Avg $/U)\nCost and Retail are loaded separately via the Oracle VBA button (UpdateButton)"]
[]
[]
["SKU","SOH","ON_ORDER","LW_SALES","SALES_4W","SALES_13W","SALES_26W","AVG_PER_UNIT"]
[10005284,-5,0,0,0,0,0,0]
[10005746,0,0,0,0,0,0,0]
[10012602,0,0,0,0,0,0,0]
[10012984,0,0,0,0,0,0,0]
[10013033,0,0,0,0,0,0,0]
[10013042,-3,0,0,1,2,3,0]
[10016747,0,0,0,0,0,0,0]
[10030630,0,0,0,0,0,0,0]
[10031370,0,0,0,0,0,0,0]
[10036161,69,40,7,40,126,193,24.99]
[10054558,0,0,0,0,0,0,0]
[10062732,0,0,0,0,0,0,0]
[10069609,0,0,0,0,0,0,0]
[10069900,0,0,0,0,0,0,0]
[10069932,1,0,0,0,0,0,0]
[10070117,-1,0,0,0,0,1,0]
[10070141,-1,0,0,0,0,1,0]
[10070143,176,0,37,70,223,606,27.005700000000001]
[10070151,-1,0,0,0,0,0,0]
[10071579,0,0,0,0,0,0,0]
[10071954,0,0,0,0,0,0,0]
[10071995,0,0,0,0,0,0,0]
[10072034,1,0,0,0,0,0,0]
[10073688,0,0,0,0,0,0,0]
[10073711,0,0,0,0,0,0,0]
[10073713,0,0,0,0,0,0,0]
[10073717,0,0,0,0,0,0,0]
[10073745,0,0,0,0,0,0,0]
[10078096,0,0,0,0,0,0,0]
[10096393,0,0,0,0,0,0,0]
[10111266,0,0,0,0,0,0,0]
[10121661,1,0,0,0,0,0,0]
[10122257,0,0,0,0,0,0,0]
[10142521,0,0,0,0,0,0,0]
[10145516,0,0,0,0,0,0,0]
[10152745,0,0,0,0,0,0,0]
[10158472,0,0,0,0,0,0,0]
[10176892,0,0,0,0,0,0,0]
[10179373,0,0,0,0,0,0,0]
[10185642,0,0,0,0,0,0,0]
[10185896,0,0,0,0,0,0,0]
[10198298,0,0,0,0,0,0,0]
[1020385,0,0,0,0,0,0,0]
[10207498,0,0,0,0,0,0,0]
[10216924,0,0,0,0,0,0,0]
[10217736,271,12,11,47,190,401,43.6464]
[10223220,0,0,0,0,0,0,0]
[10228196,-9,0,0,0,4,7,0]
[10232060,0,0,0,0,0,0,0]
[10232264,0,0,0,0,0,0,0]
[10232426,0,0,0,0,0,0,0]
[10232444,0,0,0,0,0,0,0]
[10232464,0,0,0,0,0,0,0]
[10233674,0,0,0,0,0,0,0]
[10238804,0,0,0,0,32,48,0]
[10238807,154,40,24,65,264,377,16.954999999999998]
[10238808,18,10,1,8,49,103,15.99]
[10238809,13,20,3,21,70,124,18.353300000000001]
[10238811,15,0,0,0,1,1,0]
[10238814,18,10,0,2,14,26,0]
[10238816,21,5,1,4,11,19,21.99]
[10238821,19,5,0,0,4,6,0]
[10238822,23,5,0,2,12,26,0]
[10239144,0,0,0,0,0,0,0]
[10241307,0,0,0,0,0,0,0]
[10242016,-14,0,1,1,3,6,0.87]
[10245860,0,0,0,0,0,0,0]
[10247703,0,0,0,0,0,0,0]
[10250151,2,0,0,0,0,0,0]
[10250459,14,0,0,1,13,75,0]
[10250895,0,0,0,0,0,0,0]
[10252981,2,0,0,0,0,0,0]
[10259522,0,0,0,0,0,0,0]
[10259526,0,0,0,0,0,0,0]
[10259545,0,0,0,0,0,0,0]
[10259567,0,0,0,0,0,0,0]
[10259586,0,0,0,0,0,0,0]
[10259662,0,0,0,0,0,0,0]
[10259839,0,0,0,0,0,0,0]
[10264185,7,0,0,0,1,5,0]
[10267178,0,0,0,0,0,0,0]
[10267495,0,0,0,0,0,0,0]
[10267551,0,0,0,0,0,0,0]
[10271889,37,0,0,0,3,10,0]
[10272645,0,0,0,0,0,0,0]
[10272700,451,170,47,142,566,2106,48.187399999999997]
[10283078,3,0,0,0,0,1,0]
[10284244,0,0,0,0,0,0,0]
[10285239,0,0,0,0,0,0,0]
[10291426,0,0,0,0,0,0,0]
[10291457,0,0,0,0,0,0,0]
[10291473,0,0,0,0,0,0,0]
[10291476,0,0,0,0,0,0,0]
[10291487,0,0,0,0,0,0,0]
[10291493,0,0,0,0,0,0,0]
[10291499,5,0,0,0,0,3,0]
[10291506,0,0,0,0,0,0,0]
[10295049,0,0,0,0,0,0,0]
[10297361,0,0,0,0,0,0,0]
[10297658,0,0,0,0,0,0,0]
[10297768,0,0,0,0,0,0,0]
[10297815,0,0,0,0,0,0,0]
[10297874,0,0,0,0,0,0,0]
[10297965,0,0,0,0,0,0,0]
[10297988,0,0,0,0,0,0,0]
[10298342,0,0,0,0,0,0,0]
[10298464,67,0,2,3,26,98,29.25]
[10299372,0,0,0,0,0,0,0]
[10299383,0,0,0,0,0,0,0]
[10299389,0,0,0,0,0,0,0]
[10301922,0,0,0,0,0,0,0]
[10305476,0,0,0,0,0,0,0]
[10305964,0,0,0,0,0,0,0]
[10310142,0,0,0,0,0,0,0]
[10321072,0,0,0,0,0,0,0]
[10334437,0,0,0,0,0,0,0]
[10335012,0,0,0,0,0,0,0]
[10335039,400,240,58,232,729,1648,11.774100000000001]
[10339424,0,0,0,0,0,0,0]
[10348267,-9,0,0,0,0,0,0]
[10363517,0,0,0,0,0,0,0]
[10364221,27,0,0,0,0,0,0]
[1037521,3643,408,188,841,2847,5684,6.6715999999999998]
[1037542,1932,624,93,387,1371,2997,12.1647]
[10382557,0,0,0,0,0,0,0]
[10384487,0,0,0,0,0,0,0]
[10387795,0,0,0,0,0,0,0]
[10387802,0,0,0,0,0,0,0]
[10388783,6,0,0,0,1,4,0]
[10394309,0,0,0,0,0,0,0]
[10396513,-21,0,1,2,8,25,99.99]
[10396547,10,0,0,1,6,20,0]
[10399965,0,0,0,0,0,0,0]
[10411221,67,6,1,10,37,98,29.99]
[10420343,0,0,0,0,0,0,0]
[10439506,0,0,0,0,0,0,0]
[10443699,0,0,0,0,0,0,0]
[10445660,0,0,0,0,0,0,0]
[10445667,0,0,0,0,0,0,0]
[10446419,150,0,9,48,243,514,74.9833]
[10460706,0,0,0,0,0,0,0]
[10494044,0,0,0,0,0,0,0]
[10505769,0,0,0,0,0,0,0]
[10510832,0,0,0,0,0,0,0]
[10520312,0,0,0,0,0,0,0]
[10528456,0,0,0,0,0,0,0]
[10532663,0,0,0,0,0,0,0]
[10537423,0,0,0,0,0,0,0]
[10538737,0,0,0,0,0,0,0]
[10545145,0,0,0,0,2,6,0]
[10545171,0,0,0,0,0,0,0]
[10557362,0,0,0,0,0,0,0]
[10558523,0,0,0,0,0,0,0]
[10558536,0,0,0,0,0,0,0]
[10558575,0,0,0,0,0,0,0]
[10558621,0,0,0,0,0,0,0]
[10558629,0,0,0,0,0,0,0]
[10558649,0,0,0,0,0,0,0]
[10558690,0,0,0,0,0,0,0]
[10559012,0,0,0,0,0,0,0]
[10559290,0,0,0,0,0,0,0]
[10559308,3627,460,190,783,2879,5964,18.6417]
[10559338,80,0,4,27,66,142,8.1875]
[10559532,0,0,0,0,0,0,0]
[10559696,0,0,0,0,0,0,0]
[10559713,0,0,0,0,0,0,0]
[10559717,0,0,0,0,0,0,0]
[10569833,0,0,0,0,0,0,0]
[10569869,0,0,0,0,0,0,0]
[10569908,0,0,0,0,0,0,0]
[10574357,0,0,0,0,0,0,0]
[10590032,0,0,0,0,0,36,0]
[10590037,0,0,0,0,0,42,0]
[10590412,0,0,0,0,0,0,0]
[10594552,0,0,0,0,0,0,0]
[10594841,0,0,0,0,0,0,0]
[10610720,0,0,0,0,0,0,0]
[10615565,0,0,0,0,0,0,0]
[10637549,0,0,0,0,0,0,0]
[10637623,0,0,0,0,0,0,0]
[10637777,0,0,0,0,0,0,0]
[10640068,0,0,0,0,0,0,0]
[10640155,0,0,0,0,0,0,0]
[10644108,0,0,0,0,0,0,0]
[10653462,68,40,6,22,114,165,13.99]
[10653463,45,15,0,4,41,60,0]
[10660919,10,2,2,4,12,22,2078.91]
[10664448,0,0,0,0,0,0,0]
[10667859,8,0,0,0,0,1,0]
[10669000,-1,0,0,0,0,1,0]
[10679082,0,0,0,0,0,0,0]
[10698206,0,0,0,0,0,0,0]
[10720400,0,0,0,0,0,0,0]
[10734362,0,0,0,0,0,0,0]
[10735268,183,28,21,82,268,610,89.417100000000005]
[10735422,32,0,3,11,76,171,34.99]
[10745110,0,0,0,0,0,0,0]
[10745770,0,0,0,0,0,0,0]
[10746354,59,0,5,16,79,231,80.762]
[10748914,0,0,0,0,0,0,0]
[10749482,0,0,0,0,0,0,0]
[10752914,0,0,0,0,0,0,0]
[10765909,42,0,3,10,67,431,49.97]
[10767916,0,0,0,0,0,0,0]
[10768242,0,0,0,0,0,0,0]
[10768708,0,0,0,0,0,0,0]
[10768930,0,0,0,0,0,0,0]
[10769631,0,0,0,0,0,0,0]
[10770039,0,0,0,0,0,0,0]
[10770050,0,0,0,0,0,0,0]
[10770062,0,0,0,0,0,0,0]
[10770487,0,0,0,0,0,0,0]
[10770734,0,0,0,0,0,0,0]
[10770756,0,0,0,0,0,0,0]
[10772089,-1,0,0,0,1,1,0]
[10772103,0,0,0,0,0,0,0]
[10772128,0,0,0,0,0,0,0]
[10772142,0,0,0,0,0,0,0]
[10772155,0,0,0,0,0,0,0]
[10772206,0,0,0,0,0,0,0]
[10772254,0,0,0,0,0,0,0]
[10772269,1,0,0,0,0,0,0]
[10772295,0,0,0,0,0,0,0]
[10772342,-1,0,0,0,0,0,0]
[10772391,1,0,0,0,0,0,0]
[10773015,0,0,0,0,0,0,0]
[10775835,0,0,0,0,0,0,0]
[10777322,0,0,0,0,0,0,0]
[10779034,0,0,0,0,0,0,0]
[10779189,0,0,0,0,0,0,0]
[10779319,0,0,0,0,0,0,0]
[10779341,0,0,0,0,0,0,0]
[10779389,0,0,0,0,0,0,0]
[10779521,0,0,0,0,0,0,0]
[10779554,0,0,0,0,0,0,0]
[10779586,0,0,0,0,0,0,0]
[10779671,0,0,0,0,0,0,0]
[10779755,0,0,0,0,0,0,0]
[10781146,0,0,0,0,0,0,0]
[10781600,1,0,0,1,2,6,0]
[10783119,0,0,0,0,0,0,0]
[10783813,0,0,0,0,0,0,0]
[10785525,0,0,0,0,0,0,0]
[10786208,0,0,0,0,0,0,0]
[10786308,2,0,0,1,16,68,0]
[10787304,0,0,0,0,0,0,0]
[10788298,40,30,2,5,26,54,6.99]
[10788899,0,0,0,0,0,0,0]
[10794244,0,0,0,0,0,0,0]
[10801489,0,0,0,0,0,0,0]
[10801496,0,0,0,0,0,0,0]
[10808798,38,0,0,0,9,16,0]
[10811073,0,0,0,0,0,0,0]
[10811204,0,0,0,0,0,0,0]
[10811278,0,0,0,0,0,0,0]
[10811341,0,0,0,0,0,0,0]
[10811467,0,0,0,0,0,0,0]
[10811512,0,0,0,0,0,0,0]
[10811524,0,0,0,0,0,0,0]
[10811541,1,0,0,0,0,0,0]
[10811563,0,0,0,0,0,0,0]
[10811588,0,0,0,0,0,0,0]
[10811589,0,0,0,0,0,0,0]
[10811640,0,0,0,0,0,0,0]
[10811691,0,0,0,0,0,0,0]
[10811736,0,0,0,0,0,0,0]
[10811797,0,0,0,0,0,0,0]
[10811809,0,0,0,0,0,0,0]
[10811850,0,0,0,0,0,0,0]
[10811867,0,0,0,0,0,0,0]
[10811893,0,0,0,0,0,0,0]
[10811968,7,0,0,0,3,6,0]
[10812001,285,16,11,47,161,396,20.85]
[10812020,8,0,2,4,6,20,0.78]
[10812761,0,0,0,0,0,0,0]
[10812811,0,0,0,0,0,0,0]
[10812817,12,0,0,0,3,7,0]
[10813313,3,0,0,1,2,3,0]
[10817707,4,0,0,0,0,0,0]
[10817719,4,0,0,0,0,0,0]
[10818955,0,0,0,0,0,0,0]
[10822245,0,0,0,0,1,1,0]
[10825194,0,0,0,0,0,0,0]
[10827558,0,0,0,0,0,0,0]
[10828360,0,0,0,0,0,0,0]
[10828369,0,0,0,0,0,0,0]
[10828371,0,0,0,0,0,0,0]
[10828993,0,0,0,0,0,0,0]
[10833123,0,0,0,0,0,0,0]
[10835864,0,0,0,0,0,0,0]
[10835903,0,0,0,0,0,0,0]
[10835944,0,0,0,0,0,0,0]
[10851452,0,0,0,0,0,0,0]
[10859057,0,0,0,0,0,0,0]
[10859097,0,0,0,0,0,0,0]
[10860108,0,0,0,0,0,0,0]
[10860124,0,0,0,0,0,0,0]
[10860151,0,0,0,0,0,0,0]
[10860162,0,0,0,0,0,0,0]
[10860183,0,0,0,0,0,0,0]
[10860256,0,0,0,0,0,0,0]
[10860295,0,0,0,0,0,1,0]
[10860346,1,0,0,0,0,0,0]
[10860377,0,0,0,0,0,0,0]
[10861404,0,0,0,0,0,0,0]
[10861422,0,0,0,0,0,0,0]
[10864280,19,52,0,0,15,17,0]
[10875988,0,0,0,0,0,0,0]
[10882004,0,0,0,0,0,0,0]
[10882018,0,0,0,0,0,0,0]
[10888665,0,0,0,0,0,0,0]
[10911876,0,0,0,0,0,0,0]
[10915318,0,0,0,0,0,0,0]
[10918328,0,0,0,0,0,0,0]
[10923035,13,0,1,2,7,21,439.99]
[1092323,27,5,0,6,22,31,0]
[10928585,0,0,0,0,0,0,0]
[10938998,0,0,0,0,0,0,0]
[10939066,0,0,0,0,0,0,0]
[10939081,0,0,0,0,0,0,0]
[10939084,0,0,0,0,0,0,0]
[10939109,0,0,0,0,0,0,0]
[10939538,0,0,0,0,0,0,0]
[10939548,0,0,0,0,0,0,0]
[10939561,0,0,0,0,0,0,0]
[10939572,0,0,0,0,0,0,0]
[10939575,0,0,0,0,0,0,0]
[10939581,0,0,0,0,0,0,0]
[10939613,0,0,0,0,0,0,0]
[10939624,0,0,0,0,0,0,0]
[10939746,0,0,0,0,0,0,0]
[10940082,0,0,0,0,0,0,0]
[10940768,0,0,0,0,0,0,0]
[10942830,3,0,0,0,4,4,0]
[10946344,0,0,0,0,0,0,0]
[10949017,0,0,0,0,0,0,0]
[10949620,0,0,0,0,0,0,0]
[10951033,1,0,0,0,6,13,0]
[10951034,0,0,0,0,3,3,0]
[10957372,0,0,0,0,0,0,0]
[10958306,1,0,0,0,0,0,0]
[10959645,0,0,0,2,7,24,0]
[10964359,7,0,0,0,0,2,0]
[10970349,0,0,0,0,0,0,0]
[10974002,0,0,0,0,0,0,0]
[10975963,18,0,0,3,12,22,0]
[10976364,178,0,2,15,61,216,12.494999999999999]
[10976715,390,12,26,101,414,819,7.4935]
[10976725,567,112,36,182,610,1356,7.8125]
[10976737,53,0,0,5,14,26,0]
[10976899,1,0,0,0,0,0,0]
[10976934,155,12,2,15,42,121,19.489999999999998]
[10976938,170,0,1,15,98,321,31.99]
[10976960,301,24,4,24,90,214,12.6625]
[10976964,396,16,25,109,345,609,4.7859999999999996]
[10976970,441,16,19,73,286,665,6.3589000000000002]
[10976973,115,0,3,10,67,209,7.99]
[10976976,1,0,0,0,0,0,0]
[10976981,525,0,15,53,176,459,3.7919999999999998]
[10976989,294,32,20,82,269,531,4.8594999999999997]
[10976990,77,0,2,21,68,136,6.7750000000000004]
[10976993,37,0,1,6,14,45,5.85]
[10976996,487,36,9,56,178,363,11.976699999999999]
[10977001,181,0,3,10,38,93,5.0933000000000002]
[10977002,174,0,1,6,37,131,3.19]
[10977014,124,16,2,17,71,151,3.99]
[10977018,276,0,2,10,61,176,4.99]
[10977078,130,30,5,29,78,161,2.79]
[10977107,100,0,3,9,29,85,2.79]
[10977117,62,0,1,5,9,16,4.99]
[10977127,411,16,16,65,209,441,4.9462999999999999]
[10977170,49,0,1,2,11,32,12.99]
[10977179,192,0,0,4,35,105,0]
[10977181,289,16,5,15,64,138,8.99]
[10977187,378,12,8,25,69,139,14.99]
[10977189,22,0,1,7,29,93,12.5]
[10977192,17,0,0,0,0,69,0]
[10977193,33,0,0,0,14,343,0]
[10977195,28,0,0,4,10,65,0]
[10977196,2,0,0,0,0,5,0]
[10977197,1,0,0,0,0,9,0]
[10977207,3,0,0,0,1,3,0]
[10977762,103,0,2,9,64,183,5.99]
[10981775,13,0,0,2,20,139,0]
[10981793,35,0,0,1,9,150,0]
[10981811,52,0,2,10,77,545,14.99]
[10981819,125,0,6,36,151,378,29.49]
[10981827,37,0,1,2,5,19,34.99]
[10981828,55,0,9,49,208,509,22.187799999999999]
[10981832,158,0,1,5,41,96,24.99]
[10981843,174,8,-1,9,44,78,17.989999999999998]
[10981869,272,0,4,17,49,103,24.99]
[10981914,82,0,2,9,45,150,14.99]
[10981935,37,0,0,1,11,430,0]
[10981952,1,0,0,0,0,0,0]
[10981955,12,0,0,1,5,17,0]
[10981961,19,0,0,0,15,68,0]
[10981990,277,15,14,52,149,370,16.715699999999998]
[10982008,142,0,19,61,224,507,35.391599999999997]
[10982024,-1,0,0,1,8,32,0]
[10982050,1122,380,143,610,1922,4368,17.549700000000001]
[10982066,5,0,0,0,3,4,0]
[10982135,10,0,0,0,0,0,0]
[10982151,0,0,0,0,1,1,0]
[10982153,460,16,38,150,501,1191,10.506600000000001]
[10982161,84,6,4,7,44,134,11.99]
[10982163,20,0,0,0,1,1,0]
[10985168,0,0,0,0,0,0,0]
[10987848,16,0,1,1,2,5,1879.99]
[10999458,26,0,0,2,6,6,0]
[10999460,0,0,0,0,17,34,0]
[11002361,0,0,0,0,0,0,0]
[11012121,0,0,0,0,0,0,0]
[11012768,0,0,0,0,0,0,0]
[11023329,0,0,0,0,0,0,0]
[11023499,0,0,0,0,0,0,0]
[11026637,0,0,0,0,0,0,0]
[11031752,0,0,0,0,0,0,0]
[11049536,0,0,0,0,0,0,0]
[11049544,123,0,2,6,36,142,103.355]
[11057244,509,61,70,263,896,1858,28.9803]
[11057269,329,25,33,159,575,1216,37.247300000000003]
[11058817,0,0,0,0,0,0,0]
[11066367,119,0,4,14,56,145,42.674999999999997]
[11066373,197,36,16,48,113,332,32.583100000000002]
[11071848,0,0,0,0,0,0,0]
[11071862,0,0,0,0,0,0,0]
[11071864,0,0,0,0,0,0,0]
[11072818,30,0,0,0,0,0,0]
[11073446,0,0,0,0,0,0,0]
[11073510,0,0,0,0,0,0,0]
[11073610,0,0,0,0,0,0,0]
[11082187,0,0,0,0,0,0,0]
[11094302,0,0,0,0,0,0,0]
[11104693,0,0,0,0,0,0,0]
[11106298,0,0,0,0,0,0,0]
[11106815,0,0,0,0,0,0,0]
[11106817,0,0,0,0,0,0,0]
[11108857,0,0,0,0,0,0,0]
[11114819,19,0,3,12,41,74,9.99]
[11114820,13,0,2,7,20,30,9.99]
[11114821,63,0,6,26,105,209,7.1216999999999997]
[11114823,49,0,5,12,48,118,7.9480000000000004]
[11114825,165,0,20,79,277,575,7.5125000000000002]
[11114826,80,0,0,22,91,256,0]
[11114827,99,0,4,21,96,192,7.84]
[11119510,0,0,0,0,0,0,0]
[11146518,0,0,0,0,0,0,0]
[11166589,102,24,7,15,49,110,53.664299999999997]
[11166765,1,0,0,0,0,0,0]
[11166813,1,0,0,0,0,0,0]
[11166843,7,0,0,1,3,5,0]
[11166859,3,0,0,0,0,1,0]
[11185392,0,0,0,0,0,0,0]
[11199796,0,0,0,0,0,0,0]
[11199835,0,0,0,0,0,0,0]
[11220273,28,0,0,1,12,19,0]
[11220297,17,45,8,21,84,132,19.989999999999998]
[11220310,7,5,0,0,3,5,0]
[11220320,9,0,0,0,2,6,0]
[11220340,37,20,0,5,36,45,0]
[11220354,86,0,3,7,34,52,8.99]
[11221481,27,0,0,0,0,2,0]
[11222013,20,25,2,5,34,59,9.99]
[11222016,20,0,0,3,7,9,0]
[11222017,17,30,4,20,56,89,7.99]
[11222018,21,0,0,0,7,12,0]
[11222019,5,0,0,0,1,2,0]
[11222021,16,1,0,0,2,4,0]
[11222022,12,0,0,0,3,6,0]
[11222025,2,25,-1,12,26,31,19.989999999999998]
[11242662,109,8,6,19,55,195,24.5883]
[11256921,0,0,0,0,0,0,0]
[11278762,0,0,0,0,0,0,0]
[11279146,0,0,0,0,0,0,0]
[11279395,11,0,0,0,0,0,0]
[11279396,16,0,0,0,1,4,0]
[11297873,0,0,0,0,0,0,0]
[11298751,1,0,0,0,2,3,0]
[11299258,25,1,1,1,4,7,1087.49]
[11299598,0,0,0,0,0,0,0]
[11300701,0,0,0,0,0,0,0]
[11307833,0,0,0,0,0,0,0]
[11307876,0,0,0,0,0,0,0]
[11314473,0,0,0,0,0,0,0]
[11316912,0,0,0,0,0,0,0]
[11317380,0,0,0,0,0,0,0]
[11321519,0,0,0,0,0,0,0]
[11321533,0,0,0,0,0,0,0]
[11322044,135,0,3,26,141,735,13.826700000000001]
[11323195,25,0,8,16,33,73,48.836199999999998]
[11323212,19,0,10,17,28,36,49.073]
[11323293,0,0,0,0,0,0,0]
[11323324,0,0,0,0,0,0,0]
[11323333,0,0,0,0,0,0,0]
[11323335,0,0,0,0,0,0,0]
[11323914,0,0,0,0,0,0,0]
[11323961,0,0,0,0,0,0,0]
[11324320,0,0,0,0,0,0,0]
[11324333,0,0,0,0,0,0,0]
[11324380,0,0,0,0,0,0,0]
[11325368,0,0,0,0,0,0,0]
[11327694,0,0,0,0,0,16,0]
[11335317,35,0,1,6,34,103,24.04]
[11336274,0,0,0,0,0,0,0]
[11337414,0,0,0,0,0,0,0]
[11339775,0,0,0,0,0,0,0]
[11342964,227,0,3,30,144,555,113.3233]
[11342971,0,0,0,0,0,0,0]
[11343056,0,0,0,0,0,0,0]
[11345486,0,0,0,0,0,0,0]
[11348823,41,0,5,13,24,37,27.99]
[11351551,186,0,9,35,106,294,66.195599999999999]
[11351582,0,0,0,0,0,0,0]
[11351602,0,0,0,0,0,0,0]
[11354666,0,0,0,0,0,0,0]
[11355651,0,0,0,0,0,0,0]
[11357769,0,0,0,0,0,0,0]
[11361879,3,0,0,1,7,15,0]
[11361883,2,0,0,1,5,47,0]
[11362181,0,0,0,0,0,0,0]
[11362774,17,0,0,1,6,11,0]
[11366565,-1,0,0,0,0,0,0]
[11379115,0,0,0,0,0,0,0]
[12518767,0,0,0,0,0,0,0]
[12518768,0,0,0,0,0,0,0]
[12528726,0,0,0,0,0,0,0]
[12528729,0,0,0,0,0,0,0]
[12540419,0,0,0,0,0,0,0]
[12543434,0,0,0,0,0,0,0]
[12543435,0,0,0,0,0,0,0]
[12543702,59,0,0,7,25,99,0]
[12543703,3,0,0,0,0,31,0]
[12543732,0,0,0,0,0,0,0]
[12545614,0,0,0,0,0,0,0]
[12545615,0,0,0,0,0,0,0]
[12545639,0,0,0,0,0,0,0]
[12554736,16,1,0,0,1,3,0]
[12554737,15,0,1,1,4,6,44.99]
[12558741,0,0,0,0,0,0,0]
[12558743,0,0,0,0,0,0,0]
[12564114,0,0,0,0,0,0,0]
[12564116,0,0,0,0,0,0,0]
[12575681,0,0,0,0,0,0,0]
[12577504,0,0,0,0,0,0,0]
[12577505,0,0,0,0,0,0,0]
[12583968,11,8,1,1,11,32,1804.99]
[12604483,0,0,0,0,0,0,0]
[12606944,0,0,0,0,0,0,0]
[12613419,0,0,0,0,0,0,0]
[12613420,0,0,0,0,0,0,0]
[12613421,0,0,0,0,0,0,0]
[12618650,0,0,0,0,0,0,0]
[12618846,0,0,0,0,0,0,0]
[12623032,0,0,0,0,26,38,0]
[12623368,0,0,0,0,0,0,0]
[12627516,139,25,2,12,85,162,17.989999999999998]
[12627517,118,30,2,11,43,107,17.989999999999998]
[12627524,24,8,1,3,14,71,10.99]
[12627525,25,90,0,6,59,74,0]
[12627529,49,75,7,24,103,182,8.5756999999999994]
[12627530,18,43,0,6,24,31,0]
[12630639,0,0,0,0,0,0,0]
[12639467,0,0,0,0,0,0,0]
[12639469,0,0,0,0,0,0,0]
[12640689,2,0,0,0,0,1,0]
[12640695,31,18,2,3,16,17,37.99]
[12640697,46,11,5,8,40,68,15.916]
[12640706,37,39,0,5,15,18,0]
[12640757,44,25,1,9,44,47,14.09]
[12640764,6,0,0,1,2,5,0]
[12640768,39,35,4,11,44,45,16.989999999999998]
[12644053,0,0,0,0,0,0,0]
[12644058,0,0,0,0,0,0,0]
[12655371,-1,0,0,0,0,1,0]
[12670290,0,0,0,0,0,0,0]
[12674752,54,0,0,0,1,3,0]
[12691554,0,0,0,0,0,0,0]
[12693551,7,0,0,0,0,0,0]
[12693552,1,0,0,0,1,1,0]
[12693553,2,0,0,0,1,1,0]
[12693554,2,0,0,0,0,2,0]
[12694180,0,0,0,0,0,0,0]
[12695679,0,0,0,0,0,0,0]
[12695680,102,12,6,26,95,257,42.11]
[12695682,0,0,0,0,0,0,0]
[12696479,0,0,0,0,0,0,0]
[12696480,1,0,0,0,0,0,0]
[12696488,0,0,0,0,0,0,0]
[12697580,0,0,0,0,0,0,0]
[12702450,0,0,0,0,0,0,0]
[12702451,0,0,0,0,0,0,0]
[12702452,0,0,0,0,0,0,0]
[12713808,0,0,0,0,0,0,0]
[12716238,171,63,20,34,93,715,53.534500000000001]
[12719901,0,0,0,0,0,0,0]
[12727334,397,0,20,71,223,473,11.6995]
[12727343,0,0,0,0,0,0,0]
[12727346,278,0,10,24,94,297,24.937000000000001]
[12727486,0,0,0,0,0,1,0]
[12728325,125,13,1,5,39,143,499]
[12728326,0,0,0,0,0,0,0]
[12728328,133,0,2,8,40,159,697.94]
[12728329,57,0,2,2,3,19,349]
[12728374,3,0,0,0,1,1,0]
[12728377,31,0,1,6,18,60,349]
[12728423,0,0,0,0,0,0,0]
[12737124,1,0,0,0,0,0,0]
[12737140,0,0,0,0,0,0,0]
[12738386,0,0,0,0,0,0,0]
[12749767,0,0,0,0,0,0,0]
[12749768,0,0,0,0,0,0,0]
[12751097,0,0,0,0,0,0,0]
[12754123,0,0,0,0,0,0,0]
[12754125,0,0,0,0,0,0,0]
[12754126,0,0,0,0,0,0,0]
[12757191,0,0,0,0,0,0,0]
[12761444,6,0,0,0,0,0,0]
[12768889,0,0,0,0,0,0,0]
[12769662,0,0,0,0,0,0,0]
[12770286,0,0,0,0,0,0,0]
[12791921,0,0,0,0,0,0,0]
[12793437,0,0,0,0,0,0,0]
[12815977,-1,0,0,0,0,1,0]
[12826228,0,0,0,0,0,0,0]
[12832631,113,18,7,25,94,257,69.898600000000002]
[12840408,0,0,0,0,0,0,0]
[12852431,0,0,0,0,0,0,0]
[12854111,0,0,0,0,0,0,0]
[12854131,0,0,0,0,0,0,0]
[12854134,45,14,13,38,126,300,32.900799999999997]
[12854144,828,133,97,444,1714,3503,8.6521000000000008]
[12854151,6,0,0,-1,-2,0,0]
[12854152,0,0,0,0,0,0,0]
[12867120,0,0,0,0,0,0,0]
[12878384,0,0,0,0,3,7,0]
[12890060,0,0,0,0,0,1,0]
[12890062,16,0,1,3,10,38,19.989999999999998]
[12890066,7,0,0,0,4,18,0]
[12890146,5,0,0,1,1,1,0]
[12890148,8,0,0,0,0,1,0]
[12890156,-1,0,0,0,0,2,0]
[12890163,3,0,0,0,0,0,0]
[12895369,0,0,0,0,0,0,0]
[12913342,0,0,0,0,0,0,0]
[12920477,222,170,27,116,451,1331,11.412599999999999]
[12942229,0,0,0,0,0,0,0]
[12958687,-1,0,0,0,0,4,0]
[12958688,16,0,7,24,68,110,19.371400000000001]
[12961078,0,0,0,0,0,0,0]
[12962479,0,0,0,0,0,0,0]
[12964102,1,0,0,0,0,0,0]
[12972389,0,0,0,0,0,0,0]
[12978688,0,0,0,0,0,2,0]
[12982286,0,0,0,0,0,0,0]
[12982866,4,0,0,0,0,0,0]
[12983603,0,0,0,0,0,0,0]
[12984954,0,0,0,0,0,0,0]
[12985147,0,0,0,0,0,0,0]
[12985591,1,0,0,0,0,0,0]
[12989042,0,0,0,0,0,0,0]
[12991275,0,0,0,0,0,0,0]
[12991276,0,0,0,0,0,0,0]
[12999493,2,0,3,5,30,86,34.99]
[12999494,12,0,2,5,37,182,19.885000000000002]
[13008576,57,100,7,60,131,231,455.70710000000003]
[13015031,0,0,0,0,0,0,0]
[13015045,0,0,0,0,0,0,0]
[13015046,0,0,0,0,0,0,0]
[13015073,0,0,0,0,0,0,0]
[13015086,0,0,0,0,0,0,0]
[13015088,0,0,0,0,0,0,0]
[13018337,0,0,0,0,0,0,0]
[13018631,0,0,0,0,0,0,0]
[13018636,10,0,0,0,0,5,0]
[13023247,0,0,0,0,0,0,0]
[13023250,0,0,0,0,0,0,0]
[13023252,0,0,0,0,0,0,0]
[13023862,41,0,1,1,4,4,29.99]
[13023863,18,0,0,2,3,5,0]
[13026116,0,0,0,0,0,0,0]
[13027682,0,0,0,0,0,0,0]
[13029075,4,0,0,0,1,7,0]
[13029095,0,0,0,0,0,0,0]
[13029112,0,0,0,0,0,0,0]
[13029113,0,0,0,0,0,0,0]
[13029540,0,0,0,0,0,0,0]
[13029541,0,0,0,0,0,0,0]
[13031240,9,47,0,0,22,35,0]
[13031242,2,0,0,0,9,9,0]
[13031869,0,0,0,0,0,0,0]
[13032223,0,0,1,1,8,9,37.29]
[13035208,1,0,0,0,0,4,0]
[13037051,0,0,0,0,0,0,0]
[13038763,2,0,0,0,0,0,0]
[13045202,0,0,0,0,0,0,0]
[13047992,1,0,0,0,0,0,0]
[13048186,348,101,30,128,402,764,11.7723]
[13049091,0,0,0,0,0,0,0]
[13049092,0,0,0,0,0,0,0]
[13051311,1,0,0,0,0,0,0]
[13058825,0,0,0,0,0,0,0]
[13058841,174,0,1,1,3,10,199.99]
[13058940,0,0,0,0,0,0,0]
[13059043,0,0,0,0,0,0,0]
[13062129,0,0,0,0,0,0,0]
[13062131,0,0,0,0,0,0,0]
[13062132,0,0,0,0,0,0,0]
[13064749,0,0,0,0,0,0,0]
[13064750,0,0,0,0,0,0,0]
[13064751,0,0,0,0,0,0,0]
[13065182,69,74,6,23,73,160,32.146700000000003]
[13079107,172,0,6,36,121,352,31.5883]
[13079108,97,4,1,5,39,92,49.99]
[13079109,448,0,9,61,317,830,6.9511000000000003]
[13081314,0,0,0,0,0,0,0]
[13081315,0,0,0,0,0,0,0]
[13089219,0,0,0,0,0,1,0]
[13090507,852,176,87,356,1158,2425,23.539200000000001]
[13093519,0,0,0,0,0,0,0]
[13095041,0,0,0,0,0,0,0]
[13095042,0,0,0,0,0,0,0]
[13095043,0,0,0,0,0,0,0]
[13106443,0,0,0,0,0,0,0]
[13106444,0,0,0,0,0,0,0]
[13106854,0,0,0,0,0,0,0]
[13107508,0,0,0,0,0,0,0]
[13110969,0,0,0,0,0,0,0]
[13117536,27,0,0,3,24,36,0]
[13117537,16,0,0,0,15,32,0]
[13117538,2,0,0,0,0,0,0]
[13120107,0,0,0,0,0,0,0]
[13120108,0,0,0,0,0,0,0]
[13126244,0,0,0,0,0,0,0]
[13132821,729,120,28,135,426,854,15.4979]
[13132828,454,48,10,43,161,310,24.856999999999999]
[13132829,604,96,32,176,544,1027,12.5]
[13132830,727,144,39,126,374,786,34.297899999999998]
[13132831,618,0,53,160,350,633,29.316199999999998]
[13132843,357,144,17,104,336,705,71.271799999999999]
[13143952,0,0,0,0,0,0,0]
[13165980,0,0,0,0,0,0,0]
[13176362,0,0,0,0,0,0,0]
[13205378,5,0,0,0,0,29,0]
[13205380,6,0,0,2,15,22,0]
[13205397,0,0,0,0,0,0,0]
[13205403,0,0,0,0,0,0,0]
[13205405,0,0,0,0,0,0,0]
[13227392,0,0,0,0,0,0,0]
[13229130,0,0,0,0,0,0,0]
[13231079,0,0,0,0,0,0,0]
[13242627,159,0,8,81,284,921,37.002499999999998]
[13242628,244,10,30,69,223,942,24.335000000000001]
[13242789,0,0,0,0,0,0,0]
[13246609,0,0,0,0,0,0,0]
[13249835,177,0,3,21,81,196,14.99]
[13257806,0,0,0,0,0,0,0]
[13266378,0,0,0,0,0,0,0]
[13277295,0,0,0,0,0,0,0]
[13278608,103,27,21,79,220,221,66.374799999999993]
[13291688,526,156,16,100,420,1043,194.46879999999999]
[13293512,1,0,0,0,0,0,0]
[13293513,-1,0,0,0,0,0,0]
[13293641,0,0,0,0,0,0,0]
[13293642,0,0,0,0,0,0,0]
[13293684,5,0,0,0,0,0,0]
[13309063,0,0,0,0,4,6,0]
[13309064,-1,0,0,0,0,39,0]
[13309065,46,72,6,8,27,96,76.993300000000005]
[13309066,1,0,0,0,0,33,0]
[13309913,109,12,4,14,31,94,359]
[13309914,90,0,2,3,10,34,357.05]
[13309916,5,0,0,0,0,1,0]
[13313159,3,0,1,3,6,16,371.45]
[13319084,22,0,0,0,3,13,0]
[13319088,40,0,4,7,28,120,31.35]
[13327680,16,4,4,7,33,58,232.49]
[13353755,59,53,4,26,69,134,99.99]
[13362534,0,0,0,0,0,0,0]
[13364057,103,1,4,17,60,129,65.502499999999998]
[13364059,24,0,1,3,17,105,17.989999999999998]
[13374161,0,0,0,1,1,1,0]
[13377273,16,10,1,11,28,43,9.99]
[13377274,24,0,0,11,36,51,0]
[13378029,0,0,0,0,5,5,0]
[13390564,50,0,1,10,71,277,10]
[13390569,29,0,0,3,17,35,0]
[13390570,84,0,5,16,34,64,29.99]
[13395738,1,0,0,0,0,0,0]
[13399102,-2,0,0,0,0,0,0]
[13399103,5,0,0,0,0,0,0]
[13401810,1,0,0,0,0,0,0]
[13401812,2,0,0,0,0,1,0]
[13428727,0,0,0,0,2,6,0]
[13430588,0,0,0,0,0,0,0]
[13437689,0,0,0,0,0,0,0]
[13442930,55,30,4,11,51,100,17.989999999999998]
[13442931,101,39,1,8,45,79,17.989999999999998]
[13442933,1,0,0,0,0,0,0]
[13442935,0,0,0,0,2,3,0]
[13444348,17,47,2,16,48,77,13.445]
[13444352,11,9,2,4,12,27,21.99]
[13444354,99,35,3,16,69,110,16.989999999999998]
[13447297,0,0,0,1,2,2,0]
[13447299,2,0,0,0,0,0,0]
[13448591,0,0,0,0,0,0,0]
[13450408,36,0,1,42,75,322,48.39]
[13455284,0,0,0,0,0,0,0]
[13458615,316,0,11,58,196,437,14.747299999999999]
[13462500,5,0,0,0,0,2,0]
[13468732,39,0,4,7,15,40,58.83]
[13468988,43,6,5,26,71,125,35.99]
[13468989,22,0,0,1,3,18,0]
[13468990,3,0,0,0,3,8,0]
[13468991,40,0,2,17,37,78,19.989999999999998]
[13468993,31,0,0,0,0,0,0]
[13468994,1,0,0,0,0,0,0]
[13468999,5,0,0,0,0,0,0]
[13469004,6,0,0,0,0,0,0]
[13469005,27,0,0,0,0,2,0]
[13469017,0,0,0,0,0,0,0]
[13478087,0,0,0,0,0,0,0]
[13478099,0,0,0,0,0,2,0]
[13478101,1,0,0,0,0,0,0]
[13478103,0,0,0,0,0,0,0]
[13478104,0,0,0,0,0,0,0]
[13478105,0,0,0,0,0,0,0]
[13479763,0,0,0,0,0,1,0]
[13497009,238,0,15,42,152,464,223.98]
[13497010,332,0,13,33,74,219,227.52850000000001]
[13501533,1,0,0,0,0,0,0]
[13507932,344,0,13,55,186,462,33.1462]
[13507933,11,0,0,0,1,2,0]
[13507934,171,18,6,23,92,240,38.6083]
[13507935,15,0,0,0,0,0,0]
[13507938,0,0,0,0,1,1,0]
[13507940,155,22,4,18,71,166,80.819999999999993]
[13507941,172,0,1,9,36,97,32.99]
[13507942,63,0,0,2,7,27,0]
[13507943,61,0,1,4,9,28,35.979999999999997]
[13507944,27,0,0,1,2,8,0]
[13507945,51,0,0,-1,1,4,0]
[13508238,0,0,0,0,0,0,0]
[13513156,25,0,0,0,10,24,0]
[13513157,11,0,0,2,8,27,0]
[13516605,0,0,0,0,0,0,0]
[13517161,7,0,0,3,5,5,0]
[13519007,0,0,0,0,0,3,0]
[13520705,2,0,0,0,2,38,0]
[13520708,3,0,0,0,0,0,0]
[13520710,3,0,0,0,0,0,0]
[13520711,170,80,22,75,273,736,53.806800000000003]
[13520712,42,15,11,27,88,264,91.416399999999996]
[13520713,16,0,0,2,4,13,0]
[13520714,489,170,44,167,588,1304,9.6747999999999994]
[13522327,3,0,0,1,1,5,0]
[13522504,0,0,0,0,0,0,0]
[13522535,1,0,0,0,0,0,0]
[13527006,16,0,1,3,6,10,99.99]
[13529260,20,0,0,1,10,20,0]
[13529429,0,0,0,0,0,2,0]
[13529430,15,0,1,2,4,8,174.99]
[13529431,0,0,0,0,0,2,0]
[13529436,4,0,0,0,1,2,0]
[13529438,36,0,0,3,12,40,0]
[13529439,19,0,0,0,0,1,0]
[13534460,1,0,0,0,0,1,0]
[13534463,3,0,0,0,0,1,0]
[13534464,3,0,0,0,3,6,0]
[13534465,6,0,0,1,9,27,0]
[13534814,0,0,0,0,0,0,0]
[13534823,0,0,0,0,0,0,0]
[13536615,11,0,0,0,13,24,0]
[13540290,32,0,0,7,26,52,0]
[13541148,1,0,0,0,0,0,0]
[13545423,0,0,0,0,0,0,0]
[13547048,23,0,0,3,5,6,0]
[13547049,35,0,0,0,1,5,0]
[13549386,0,0,0,0,0,0,0]
[13549899,62,0,-1,2,5,40,559]
[13549900,7,0,1,1,2,8,559]
[13549901,13,0,0,0,6,18,0]
[13550053,2,0,0,0,1,4,0]
[13550054,3,0,0,1,3,19,0]
[13550055,17,0,0,1,2,5,0]
[13552407,3,0,0,0,1,3,0]
[13553674,3,0,0,0,5,18,0]
[13555045,0,0,0,0,0,0,0]
[13565299,-5,0,0,0,1,2,0]
[13568708,101,81,9,33,143,230,8.9656000000000002]
[13583382,17,16,3,18,41,73,106.0633]
[13587037,0,0,0,0,0,0,0]
[13587038,0,0,0,0,1,1,0]
[13587039,-1,0,0,0,4,6,0]
[13587042,-2,0,0,0,0,0,0]
[13587043,2,0,0,0,0,0,0]
[13587044,138,36,11,46,144,302,48.078200000000002]
[13587045,2,0,1,1,2,3,69.989999999999995]
[13587048,31,6,4,8,28,69,49.99]
[13597217,0,0,0,0,0,0,0]
[13603736,56,0,2,19,35,67,837.56]
[13603737,14,22,0,2,11,40,0]
[13614523,24,0,0,2,6,25,0]
[13634825,0,0,0,0,0,0,0]
[13634826,1,0,0,0,0,0,0]
[13636565,13,0,2,17,45,90,16.989999999999998]
[13636568,19,0,8,34,100,211,14.258699999999999]
[13636571,113,0,17,61,237,438,14.3453]
[13636572,93,0,31,129,380,720,14.7255]
[13636573,90,0,17,76,192,352,24.8429]
[13636574,42,0,5,49,205,383,69.683999999999997]
[13636575,23,0,0,9,73,133,0]
[13636853,223,49,5,15,125,536,229.19800000000001]
[13636857,0,0,0,0,0,0,0]
[13641855,22,0,0,3,13,44,0]
[13649504,6,0,0,0,1,1,0]
[13649505,1,0,0,0,0,0,0]
[13649509,362,0,2,9,54,144,27.99]
[13649510,173,0,3,15,61,131,16.47]
[13652552,0,0,0,0,0,0,0]
[13656739,324,0,3,12,58,147,20.056699999999999]
[13656740,431,0,4,16,66,215,19.23]
[13656741,10,0,1,4,15,43,11.99]
[13656742,14,0,0,0,2,4,0]
[13656743,219,0,1,7,22,53,27.99]
[13656744,18,0,0,1,4,13,0]
[13656745,58,0,1,4,16,37,19.989999999999998]
[13656749,31,0,0,4,23,107,0]
[13656750,-2,0,0,1,7,17,0]
[13659976,352,72,18,75,244,609,55.267200000000003]
[13659977,31,0,1,3,7,20,9.9700000000000006]
[13659978,10,0,0,0,3,8,0]
[13660370,693,0,11,62,274,542,153.0909]
[13671935,0,0,0,0,0,0,0]
[13672778,0,0,0,0,0,0,0]
[13673010,0,0,0,0,0,0,0]
[13673012,2,0,0,0,16,144,0]
[13673013,0,0,0,0,0,0,0]
[13673014,109,0,7,39,133,323,79.989999999999995]
[13674186,0,0,0,0,1,1,0]
[13684851,271,0,20,65,257,811,29.317499999999999]
[13684852,3,0,0,0,0,4,0]
[13684853,530,0,9,61,258,555,17.927800000000001]
[13684854,252,0,12,39,146,379,32.956699999999998]
[13684855,24,0,0,2,3,9,0]
[13684856,1,0,0,0,0,0,0]
[13684859,236,0,12,52,173,361,17.388300000000001]
[13685657,-1,0,0,0,1,1,0]
[13685659,232,0,22,71,494,1463,74.649500000000003]
[13685660,16,0,0,0,0,0,0]
[13685662,101,0,2,22,67,313,21.864999999999998]
[13685663,583,76,18,83,278,908,29.005600000000001]
[13686394,0,0,2,4,10,15,299.99]
[13686395,131,0,8,74,283,488,646.46119999999996]
[13686396,-1,0,0,0,0,2,0]
[13686397,-1,0,0,0,1,1,0]
[13686661,35,0,1,2,10,34,18.989999999999998]
[13689565,8,0,0,0,2,11,0]
[13689566,13,0,0,0,2,11,0]
[13689567,6,0,0,2,3,13,0]
[13689568,31,0,2,8,17,59,192.49]
[13689569,20,0,0,1,18,50,0]
[13695609,0,0,0,0,0,3,0]
[13695610,0,0,0,0,0,4,0]
[13701999,0,0,0,0,0,0,0]
[13705550,1,0,0,3,20,106,0]
[13709908,0,0,0,0,0,0,0]
[13709910,1,0,0,0,0,0,0]
[13709916,1,0,0,0,0,0,0]
[13709918,7,0,0,0,0,0,0]
[13710547,13,0,1,1,7,14,49.99]
[13712765,18,0,0,0,0,1,0]
[13714263,-1,0,1,1,1,1,89.1]
[13714264,5,0,0,0,0,13,0]
[13715028,24,0,0,0,2,3,0]
[13715905,3,0,0,0,0,0,0]
[13718492,0,0,0,0,0,0,0]
[13721647,16,0,0,4,33,51,0]
[13721649,3,0,0,-1,2,7,0]
[13721650,-1,0,0,0,0,3,0]
[13723072,0,0,0,0,0,0,0]
[13723298,8,0,0,0,0,4,0]
[13723557,15,0,0,2,36,51,0]
[13723558,209,0,18,36,219,979,36.318300000000001]
[13723805,2,0,0,0,1,10,0]
[13723806,0,0,0,0,2,4,0]
[13723807,0,0,0,0,0,3,0]
[13727609,2,0,0,0,2,2,0]
[13727610,5,0,0,0,0,0,0]
[13727611,10,0,0,0,0,0,0]
[13732435,0,0,0,0,3,3,0]
[13732436,1,0,0,0,0,0,0]
[13733631,0,0,0,0,0,0,0]
[13735679,6,0,0,0,0,1,0]
[13735682,198,0,2,29,118,168,57.27]
[13735683,54,0,2,2,2,5,92.614999999999995]
[13735687,60,0,0,0,0,5,0]
[13736045,21,0,1,0,8,16,21.59]
[13736047,50,34,0,2,10,42,0]
[13736434,0,0,0,0,0,0,0]
[13739609,17,0,0,1,2,9,0]
[13740998,1,0,0,0,0,0,0]
[13741830,498,8,23,103,412,1097,21.113]
[13751377,39,0,1,1,2,9,69.989999999999995]
[13753728,-1,0,0,0,0,0,0]
[13767164,1,0,0,0,0,0,0]
[13767165,0,0,0,0,0,2,0]
[13767215,0,0,0,0,0,0,0]
[13769073,41,5,1,8,25,44,60.37]
[13772888,1202,34,65,290,1308,2614,23.957799999999999]
[13772889,812,32,81,319,1138,2162,28.752199999999998]
[13772890,357,110,51,186,713,1443,26.358799999999999]
[13772891,286,51,32,141,556,1077,43.306600000000003]
[13783657,1,0,0,0,0,0,0]
[13798203,1,0,0,0,0,0,0]
[13798206,4,0,1,2,4,4,134.29]
[13798725,0,0,0,0,0,1,0]
[13806108,0,0,0,0,0,0,0]
[13806112,0,0,0,0,0,0,0]
[13813034,6,0,1,1,3,44,49.97]
[13817482,15,9,0,1,12,26,0]
[13817483,21,0,0,0,7,9,0]
[13817484,14,0,0,2,3,4,0]
[13824698,1,0,0,0,0,6,0]
[13824799,6,0,0,0,0,0,0]
[13835031,133,34,5,26,101,173,16.989999999999998]
[13835032,127,39,1,8,58,84,17.989999999999998]
[13840935,41,0,2,4,15,29,67]
[13840936,604,193,50,169,570,1099,85.546400000000006]
[13840937,23,0,2,3,12,31,85.114999999999995]
[13840938,71,0,0,3,7,13,0]
[13840939,26,0,1,3,14,28,87]
[13840940,395,385,40,177,680,1321,117.96680000000001]
[13840941,135,195,31,129,454,910,85.538399999999996]
[13840942,235,175,28,119,402,722,66.376099999999994]
[13848878,11,1,0,3,10,17,0]
[13854148,9,0,0,0,2,4,0]
[13854299,2,0,0,0,1,2,0]
[13855725,58,5,1,9,57,119,69.989999999999995]
[13860593,0,0,0,0,2,10,0]
[13860594,2,0,0,0,0,0,0]
[13862774,13,0,0,1,12,48,0]
[13862813,11,0,0,0,1,4,0]
[13863374,0,0,0,0,0,0,0]
[13863375,-1,0,0,0,0,0,0]
[13863381,29,0,0,0,1,26,0]
[13863382,74,0,0,3,9,22,0]
[13863383,28,0,0,1,9,42,0]
[13863384,39,0,0,2,15,36,0]
[13863385,25,0,0,1,2,2,0]
[13864749,0,0,0,1,2,2,0]
[13864753,24,0,1,1,3,5,89.99]
[13864756,1,0,0,0,0,5,0]
[13864757,9,0,0,0,0,0,0]
[13864759,20,0,1,2,3,8,44.99]
[13865298,40,0,0,4,12,20,0]
[13865299,0,0,0,0,0,1,0]
[13865302,8,0,2,3,9,15,44.99]
[13865303,18,0,0,0,2,10,0]
[13869549,0,0,0,0,0,0,0]
[13869551,0,0,0,0,0,0,0]
[13869555,0,0,1,1,1,1,295]
[13869559,0,0,0,0,0,0,0]
[13869560,0,0,0,0,0,0,0]
[13869608,0,0,0,0,0,0,0]
[13869618,0,0,0,0,0,0,0]
[13869660,0,0,0,0,0,0,0]
[13869661,0,0,0,0,0,0,0]
[13873393,9,0,0,0,0,4,0]
[13875498,0,0,0,0,0,0,0]
[13875499,0,0,0,0,0,0,0]
[13877043,5,0,0,1,1,3,0]
[13879016,141,85,21,78,261,562,79.743799999999993]
[13879022,-2,0,0,0,0,3,0]
[13879023,462,200,39,122,492,1030,28.575099999999999]
[13879025,0,0,0,0,0,1,0]
[13879390,20,0,0,13,59,133,0]
[13879391,1,0,0,0,0,2,0]
[13882346,0,0,0,0,0,0,0]
[13884097,2,0,0,0,1,2,0]
[13886327,154,0,1,2,15,36,19.989999999999998]
[13888009,8,0,0,0,1,1,0]
[13888010,6,0,0,0,0,0,0]
[13888011,6,0,0,0,0,0,0]
[13888017,0,0,0,0,1,1,0]
[13888802,0,0,0,0,0,1,0]
[13893820,0,0,0,0,0,0,0]
[13893821,0,0,0,0,0,0,0]
[13893824,0,0,0,0,0,0,0]
[13893826,0,0,0,0,0,0,0]
[13893843,0,0,0,0,0,0,0]
[13893861,0,0,0,0,0,0,0]
[13893862,1,0,0,0,0,0,0]
[13893865,0,0,0,0,0,0,0]
[13896074,0,0,0,0,0,0,0]
[13896141,9,5,3,8,11,17,16.853300000000001]
[13896142,14,5,2,7,20,32,11.465]
[13899054,3,0,0,0,0,9,0]
[13904381,93,0,0,1,3,4,0]
[13904382,22,0,0,0,5,8,0]
[13904507,0,0,0,0,0,6,0]
[13904508,0,0,0,0,0,1,0]
[13913202,0,0,0,0,0,1,0]
[13914157,24,0,8,45,115,342,214.69120000000001]
[13916219,2,0,0,0,0,1,0]
[13920537,0,0,0,0,0,21,0]
[13920538,28,0,3,10,62,658,74.97]
[13920547,0,0,0,0,0,0,0]
[13920553,0,0,0,0,0,0,0]
[13920554,0,0,0,0,0,0,0]
[13920557,0,0,0,0,0,1,0]
[13920566,1,0,0,0,0,0,0]
[13920582,0,0,0,0,0,0,0]
[13920605,4,0,0,0,0,0,0]
[13920607,2,0,0,1,11,26,0]
[13920608,8,0,0,0,0,0,0]
[13920609,8,0,0,0,0,2,0]
[13920610,21,0,0,2,13,29,0]
[13920611,25,0,0,0,1,10,0]
[13920908,3,0,1,1,1,2,349.99]
[13920909,10,0,0,4,16,34,0]
[13920910,40,0,0,1,2,14,0]
[13921826,116,12,6,9,39,124,79.438299999999998]
[13922468,3,0,0,0,1,4,0]
[13922469,47,0,11,34,102,171,9.99]
[13922470,58,0,3,31,108,214,14.99]
[13922472,-2,0,0,0,0,0,0]
[13922473,-2,0,0,2,8,17,0]
[13922474,-1,0,0,0,0,0,0]
[13922475,28,0,18,66,149,255,12.886699999999999]
[13925888,0,0,0,0,0,0,0]
[13926304,18,0,2,4,12,99,34.99]
[13926308,20,0,0,2,2,4,0]
[13926315,2,0,0,0,1,3,0]
[13926321,1,0,0,1,2,3,0]
[13926322,-1,0,0,0,0,1,0]
[13929103,92,0,4,16,89,330,13.74]
[13929105,2,0,0,0,0,0,0]
[13929107,37,0,0,3,38,109,0]
[13929108,55,0,0,7,21,51,0]
[13929111,57,0,2,3,8,30,25.765000000000001]
[13929256,3,37,0,1,28,42,0]
[13930126,44,10,4,9,27,60,10.664999999999999]
[13934811,210,130,23,88,261,579,65.289100000000005]
[13935293,197,260,11,69,282,643,9.8135999999999992]
[13935294,69,50,8,27,92,193,8.7874999999999996]
[13935298,222,118,11,49,164,357,9.7645]
[13935299,97,40,7,29,102,229,9.99]
[13940018,203,0,1,3,11,19,8.99]
[13943610,2,0,0,0,3,5,0]
[13947676,140,0,11,55,256,1138,73.897300000000001]
[13947677,123,0,14,53,426,2102,74.989999999999995]
[13950322,0,0,0,0,0,5,0]
[13950977,15,0,1,1,7,13,34.99]
[13950979,0,0,0,0,0,0,0]
[13951173,0,0,0,0,0,0,0]
[13954299,2,0,0,0,0,0,0]
[13954300,5,0,0,0,1,2,0]
[13961335,223,0,10,33,109,255,19.47]
[13961336,41,0,8,19,76,174,24.035]
[13961337,0,0,0,2,18,49,0]
[13963550,29,0,3,9,28,59,26.66]
[13973351,2,0,0,0,2,3,0]
[13973679,34,0,0,-1,7,8,0]
[13977046,-1,0,0,0,0,18,0]
[13977282,149,0,4,11,114,172,136.24]
[13977283,16,0,0,1,4,11,0]
[13977284,203,0,5,10,51,86,129.11600000000001]
[13990093,26,0,2,3,18,55,47.47]
[13990094,13,0,1,7,24,108,41.64]
[14006989,0,0,0,0,0,0,0]
[14018959,754,144,9,39,125,277,27.627800000000001]
[14018960,779,48,22,81,282,593,16.1127]
[14018961,552,24,4,26,83,172,28.28]
[14018962,717,24,14,37,130,235,26.6571]
[14018963,395,48,8,45,150,287,38.922499999999999]
[14018964,677,96,70,240,634,1185,26.295000000000002]
[14019241,384,72,18,73,230,436,29.18]
[14019242,573,0,10,31,111,217,28.829000000000001]
[14019243,299,48,25,78,202,344,29.199200000000001]
[14019244,470,72,19,81,240,309,16.333200000000001]
[14019245,1224,264,80,291,933,1970,14.5657]
[14019246,156,24,9,41,154,381,14.8011]
[14019247,93,0,1,12,54,107,14.99]
[14019248,523,216,33,93,321,658,19.725200000000001]
[14019249,327,72,15,55,189,446,19.245999999999999]
[14019251,491,120,23,83,254,610,19.035699999999999]
[14019252,380,72,16,72,207,453,18.036899999999999]
[14019253,86,0,2,12,44,78,14.96]
[14019254,320,48,17,66,190,394,23.382400000000001]
[14019255,282,72,10,44,145,316,24.832000000000001]
[14019257,434,240,42,157,552,1287,9.7759999999999998]
[14019258,214,24,21,60,220,456,9.3889999999999993]
[14019259,161,0,7,44,127,252,9.7570999999999994]
[14019260,678,124,49,198,688,1498,12.8604]
[14019261,432,48,29,102,335,781,12.5245]
[14019263,523,216,36,173,607,1224,12.4869]
[14019265,107,24,5,31,100,200,12.99]
[14019266,675,648,81,380,1145,2216,14.0573]
[14019267,461,312,42,128,453,833,14.067600000000001]
[14019268,0,0,0,0,0,20,0]
[14019273,225,0,3,20,72,200,8.89]
[14019274,212,0,36,96,335,641,3.0402999999999998]
[14019275,16,0,2,4,11,39,12.99]
[14019277,230,0,5,17,56,117,19.648]
[14019278,190,144,19,81,260,502,19.051600000000001]
[14019279,51,0,2,5,14,44,19.989999999999998]
[14019280,42,0,2,5,17,43,29.99]
[14019283,1,0,0,0,1,14,0]
[14019285,146,0,5,28,92,257,21.49]
[14019286,115,0,2,10,60,223,24.99]
[14019288,-8,0,1,1,9,9,14.99]
[14019291,9,0,0,0,16,32,0]
[14019293,33,0,6,17,80,235,19.989999999999998]
[14019295,110,24,9,27,115,205,13.94]
[14019298,10,0,0,2,2,2,0]
[14019300,0,0,0,0,1,2,0]
[14019301,-7,0,0,0,0,0,0]
[14019302,180,0,7,20,73,213,9.9657]
[14020766,18,0,0,4,11,25,0]
[14022108,-1,0,0,0,0,1,0]
[14022113,-1,0,0,0,0,1,0]
[14022119,-1,0,0,0,0,1,0]
[14023783,22,45,3,19,79,116,13.99]
[14028799,-2,0,0,0,0,1,0]
[14032701,91,0,4,9,26,40,29.335000000000001]
[14035118,0,0,0,0,0,0,0]
[14035135,239,0,6,32,142,479,391.07330000000002]
[14035136,1,0,0,0,1,14,0]
[14035703,5,0,0,0,0,0,0]
[14035704,2,0,0,0,1,1,0]
[14037078,2,0,0,0,0,0,0]
[14037548,0,0,0,1,1,1,0]
[14047727,1,0,0,0,0,0,0]
[14053275,-1,0,0,0,0,0,0]
[14056563,12,22,4,4,8,40,162.49]
[14056564,31,2,1,2,14,35,169.99]
[14056565,51,4,0,3,17,71,0]
[14056566,25,10,0,1,13,46,0]
[14056567,22,0,1,6,18,40,149.99]
[14056568,1,0,0,0,1,5,0]
[14056569,3,0,0,0,0,33,0]
[14056844,-1,0,0,0,0,0,0]
[14057140,2,0,0,0,1,6,0]
[14057141,10,0,0,0,3,12,0]
[14057142,2,0,0,1,2,4,0]
[14057143,34,0,0,0,6,13,0]
[14057145,1514,0,54,215,786,1861,33.838299999999997]
[14059058,94,0,0,2,11,46,0]
[14059059,57,0,0,1,4,16,0]
[14059061,0,0,0,0,0,2,0]
[14059062,2,0,0,0,0,6,0]
[14072967,2,0,0,0,0,1,0]
[14072968,8,0,0,0,2,2,0]
[14072970,0,0,0,0,-1,2,0]
[14079320,8,0,0,0,0,1,0]
[14080737,0,0,0,1,1,1,0]
[14081174,126,0,3,6,26,67,88.323300000000003]
[14081193,2,0,0,0,5,15,0]
[14081194,1,0,0,0,0,0,0]
[14090137,0,4,2,4,8,13,749]
[14095467,0,0,0,0,0,7,0]
[14095609,4,0,0,0,1,2,0]
[14095610,3,0,0,0,0,0,0]
[14097560,0,0,0,0,0,16,0]
[14097577,118,9,2,5,15,51,164.92500000000001]
[14098150,9,0,1,1,5,11,217.49]
[14098151,178,20,8,18,56,94,178.10249999999999]
[14098618,23,0,1,4,9,55,129.97]
[14098621,509,40,23,139,377,1061,22.730899999999998]
[14104003,233,84,25,120,395,777,36.066400000000002]
[14104005,150,42,8,41,162,364,39.428800000000003]
[14104007,32,4,4,9,32,80,64.64]
[14104008,6,0,0,0,0,0,0]
[14104009,4,0,0,0,0,0,0]
[14104010,4,0,0,0,1,4,0]
[14104012,7,0,0,0,1,9,0]
[14104016,225,26,14,65,247,510,26.776399999999999]
[14104017,1,0,0,0,0,-1,0]
[14104018,-4,0,0,0,0,0,0]
[14104019,37,40,5,17,76,176,118.996]
[14104020,-3,0,0,0,0,0,0]
[14104022,25,0,1,1,6,62,134.99]
[14104023,0,0,0,0,0,0,0]
[14104024,19,0,1,1,6,22,49.99]
[14105740,117,0,9,34,129,239,7.3033000000000001]
[14106861,0,0,0,0,6,16,0]
[14106864,0,0,0,0,0,4,0]
[14106868,0,0,0,0,0,0,0]
[14107003,0,0,0,0,0,0,0]
[14107005,1,0,0,0,0,0,0]
[14107020,0,0,0,0,0,0,0]
[14107867,2,0,0,0,0,0,0]
[14107869,2,0,0,0,0,0,0]
[14108151,22,0,0,1,4,13,0]
[14108152,103,13,7,14,67,192,477.99]
[14108686,468,130,40,133,521,1235,39.314500000000002]
[14111052,1,0,0,0,0,2,0]
[14111053,3,0,0,1,4,6,0]
[14111389,180,0,5,18,69,154,9.8219999999999992]
[14111546,1,0,0,0,3,10,0]
[14111768,52,0,0,3,7,11,0]
[14113737,-2,0,0,0,14,29,0]
[14113769,-1,0,0,0,0,0,0]
[14114476,34,0,1,2,16,30,12.99]
[14114478,18,0,0,0,2,11,0]
[14114481,80,0,0,0,4,13,0]
[14114485,48,0,0,0,6,15,0]
[14116720,30,0,3,6,26,54,12.99]
[14116725,22,0,2,6,21,37,12.99]
[14116729,13,0,3,6,12,29,12.99]
[14117887,31,0,3,6,19,38,491.67]
[14118511,3,0,0,0,1,1,0]
[14139352,44,0,0,3,17,58,0]
[14142156,1,0,0,0,0,0,0]
[14142162,1,0,0,0,0,0,0]
[14145537,107,31,7,27,143,262,21.99]
[14145538,35,11,1,5,35,39,10.62]
[14145543,0,0,0,0,2,37,0]
[14145544,0,0,0,0,7,8,0]
[14145545,6,0,0,1,3,3,0]
[14145546,-5,0,0,0,0,1,0]
[14145547,1,0,0,0,1,1,0]
[14145550,15,14,4,12,29,61,17.989999999999998]
[14145551,0,0,1,2,3,3,16.989999999999998]
[14145552,17,16,3,17,48,78,16.989999999999998]
[14145555,0,0,0,0,27,28,0]
[14145556,29,0,0,4,61,79,0]
[14145557,1,0,0,0,12,34,0]
[14145558,5,0,0,0,0,10,0]
[14150921,284,0,6,27,114,376,177.1567]
[14150922,38,0,3,5,22,86,189.99]
[14150923,63,0,4,12,37,148,189.99]
[14150924,108,0,1,12,57,165,189.99]
[14151247,-1,0,0,0,0,1,0]
[14151256,81,0,2,9,31,65,99]
[14151257,1,0,0,0,0,5,0]
[14151258,25,0,0,1,4,6,0]
[14152065,0,0,0,0,0,0,0]
[14152066,1,0,0,0,0,0,0]
[14152075,1,0,0,0,0,0,0]
[14152380,16,0,0,1,12,35,0]
[14152381,3,0,0,0,1,3,0]
[14152543,1,0,0,0,0,0,0]
[14173950,0,0,0,0,0,2,0]
[14173951,1,0,0,0,0,3,0]
[14173952,343,29,17,65,346,975,46.757100000000001]
[14188123,0,0,0,0,0,0,0]
[14192878,0,0,0,0,0,0,0]
[14192879,1,0,0,0,0,0,0]
[14200723,22,0,2,2,4,6,9.99]
[14205258,47,0,0,0,3,17,0]
[14205259,5,0,0,2,6,10,0]
[14205260,36,0,3,4,16,35,2.97]
[14205261,14,0,2,6,11,27,1.4850000000000001]
[14205266,57,0,0,2,3,15,0]
[14216959,1,0,0,0,0,68,0]
[14217687,4,0,0,0,6,16,0]
[14228147,2,0,0,0,0,0,0]
[14250482,1,0,0,0,1,1,0]
[14254370,55,0,6,17,30,41,31.496700000000001]
[14254816,1,0,0,0,0,1,0]
[14254817,0,0,0,0,0,16,0]
[14254818,0,0,0,0,0,4,0]
[14254820,0,0,0,0,0,3,0]
[14254822,0,0,0,0,0,0,0]
[14255662,4,0,0,0,5,15,0]
[14257887,4,0,0,0,0,1,0]
[14257888,77,0,7,51,230,255,88.704300000000003]
[14257889,23,0,0,1,3,4,0]
[14257890,23,0,0,0,1,3,0]
[14258408,33,0,0,0,5,14,0]
[14258409,31,0,-1,0,2,4,129.97]
[14262567,225,92,45,155,475,1044,73.175299999999993]
[14262569,225,56,30,111,309,687,73.743300000000005]
[14272433,3,0,0,2,4,8,0]
[14272434,97,0,10,31,72,231,112.09099999999999]
[14272435,562,100,37,93,305,772,110.093]
[14275770,214,144,26,125,519,1078,29.645800000000001]
[14275771,116,24,8,31,112,208,27.926200000000001]
[14275772,92,18,6,30,127,287,29.8367]
[14278530,-1,0,0,0,0,0,0]
[14287181,106,0,6,24,112,647,74.989999999999995]
[14288850,14,0,0,3,9,28,0]
[14289060,0,0,0,0,1,11,0]
[14289061,28,0,2,9,47,166,9.9700000000000006]
[14289563,44,0,7,27,85,600,48.551400000000001]
[14289567,0,0,0,0,11,24,0]
[14289594,0,0,0,0,1,1,0]
[14289855,24,0,1,2,4,31,129.97]
[14289856,54,0,4,8,10,60,140.16749999999999]
[14290812,15,0,0,0,0,2,0]
[14296183,1,0,3,3,3,3,271.66669999999999]
[14296185,0,0,1,1,2,2,150]
[14296186,3,0,0,0,0,0,0]
[14296187,0,0,0,0,0,0,0]
[14296188,0,0,0,0,0,0,0]
[14296480,40,4,0,0,2,12,0]
[14296481,37,0,1,1,4,23,236.77]
[14298285,147,0,19,87,316,702,23.376300000000001]
[14299624,68,20,7,28,73,156,4.2186000000000003]
[14299625,58,20,11,30,76,165,6.9363999999999999]
[14300445,0,0,0,0,0,0,0]
[14307916,3,0,0,0,0,0,0]
[14308052,12,0,0,0,0,0,0]
[14308090,1,0,0,0,0,0,0]
[14308092,1,0,0,0,0,0,0]
[14308093,1,0,0,0,1,1,0]
[14308366,0,0,0,0,0,0,0]
[14308367,0,0,0,0,0,0,0]
[14308612,4,0,0,0,2,2,0]
[14308614,12,0,3,9,35,40,1.66]
[14308615,51,0,6,16,48,87,2.99]
[14308616,51,20,2,8,32,69,2.99]
[14308625,20,0,0,0,3,4,0]
[14310028,1,0,0,0,1,1,0]
[14310030,1,0,0,1,8,64,0]
[14310238,1,0,0,0,0,0,0]
[14310239,11,0,3,3,5,10,196.66669999999999]
[14310242,1,0,3,6,6,8,216.66669999999999]
[14310396,9,0,0,0,1,4,0]
[14313203,0,0,0,0,0,0,0]
[14313211,0,0,1,1,1,2,400]
[14313215,0,0,0,0,0,0,0]
[14313216,0,0,0,0,0,0,0]
[14313225,-1,0,0,0,1,1,0]
[14313226,0,0,0,0,0,1,0]
[14313227,0,0,0,0,0,-1,0]
[14313228,1,0,0,1,1,1,0]
[14313229,1,0,0,0,0,0,0]
[14313230,0,0,0,0,1,1,0]
[14313231,1,0,1,1,1,2,50]
[14313232,4,0,0,0,0,0,0]
[14317491,31,0,4,6,23,47,656.24]
[14319224,265,10,10,46,166,459,223.88300000000001]
[14319590,1,0,1,1,1,1,149]
[14319591,4,0,0,1,1,2,0]
[14319592,4,0,0,1,7,14,0]
[14321181,80,0,0,3,27,101,0]
[14321182,31,0,0,3,68,130,0]
[14323178,131,0,5,19,83,189,77.384]
[14324600,2,0,0,0,0,1,0]
[14324664,3,0,0,1,1,13,0]
[14324665,4,0,0,0,4,6,0]
[14324668,0,0,0,0,0,1,0]
[14324669,4,0,1,2,3,10,35.97]
[14324670,5,0,0,2,4,16,0]
[14324671,3,0,0,0,1,5,0]
[14324672,10,0,0,1,3,5,0]
[14324673,2,0,0,0,0,2,0]
[14324675,16,0,-1,0,2,4,179.99]
[14326785,1,0,0,0,1,1,0]
[14326786,55,0,0,7,21,96,0]
[14337772,13,0,8,11,11,13,47.07]
[14338690,5,0,0,0,1,3,0]
[14338691,5,0,0,0,2,2,0]
[14338692,370,0,2,12,91,142,47.22]
[14338694,60,0,3,16,51,116,22.436699999999998]
[14338695,4,0,0,1,15,29,0]
[14338696,100,0,3,6,21,35,71.276700000000005]
[14338697,190,0,25,62,188,440,29.976800000000001]
[14339843,0,0,0,0,0,0,0]
[14339844,0,0,0,0,0,0,0]
[14339845,0,0,0,0,0,1,0]
[14339846,0,0,0,0,1,1,0]
[14339849,0,0,0,0,0,0,0]
[14341948,0,0,0,0,0,0,0]
[14343267,84,22,9,33,101,198,49.1967]
[14344122,0,0,0,0,0,2,0]
[14344961,12,0,1,2,3,14,38.15]
[14344962,5,0,0,0,5,7,0]
[14344972,27,0,0,6,16,29,0]
[14344973,15,0,0,-1,2,3,0]
[14344975,10,0,0,0,2,13,0]
[14347962,0,0,0,0,0,0,0]
[14348031,0,0,0,0,0,0,0]
[14348036,1,0,0,0,0,0,0]
[14348042,0,0,0,0,0,0,0]
[14348891,8,0,0,1,3,28,0]
[14348892,27,0,1,3,7,24,149.99]
[14348893,476,8,11,44,179,486,286.85359999999997]
[14348894,378,0,8,19,74,170,286.64879999999999]
[14349176,279,0,3,7,16,43,3.26]
[14349177,439,0,0,4,23,46,0]
[14349178,122,0,0,4,18,41,0]
[14349179,268,0,1,2,10,29,5.47]
[14349180,325,0,3,4,13,33,5.27]
[14349181,118,0,0,2,21,38,0]
[14349182,216,0,0,3,8,21,0]
[14349183,312,0,-1,2,7,20,24.97]
[14349184,85,0,0,1,5,14,0]
[14354607,20,0,0,0,5,7,0]
[14354608,7,0,0,0,0,1,0]
[14361257,64,13,2,9,34,100,209]
[14361258,29,0,0,0,0,11,0]
[14362035,270,42,5,38,135,298,94.364000000000004]
[14362036,65,36,16,29,91,175,140.3125]
[14362452,7,0,0,1,4,13,0]
[14362453,-1,0,0,0,0,0,0]
[14362456,61,0,2,2,8,12,15.925000000000001]
[14363735,0,0,0,0,0,0,0]
[14366935,0,0,0,0,0,0,0]
[14368652,0,0,0,0,0,0,0]
[14368657,5,0,0,1,1,3,0]
[14368658,1,0,0,0,1,3,0]
[14368659,0,0,0,0,0,1,0]
[14369014,0,0,0,0,0,1,0]
[14369349,1,0,0,0,0,1,0]
[14374317,141,0,5,16,55,113,78.584000000000003]
[14383038,75,0,2,10,28,73,177.49]
[14383039,116,0,4,10,30,100,210.7225]
[14389522,34,0,1,3,6,12,74.989999999999995]
[14389523,281,0,35,100,264,479,94.9709]
[14389881,5,0,0,0,0,1,0]
[14389882,5,0,0,0,0,0,0]
[14392343,0,0,0,0,0,0,0]
[14392344,0,0,0,0,0,0,0]
[14392345,0,0,0,0,0,3,0]
[14406198,0,0,0,0,0,0,0]
[14419348,1,0,0,0,0,2,0]
[14419350,0,0,0,0,0,2,0]
[14419351,1,0,0,0,0,0,0]
[14419353,1,0,0,0,0,0,0]
[14419355,1,0,0,0,0,0,0]
[14419356,0,0,0,0,1,1,0]
[14419358,0,0,0,0,0,0,0]
[14419361,0,0,0,0,0,3,0]
[14424839,1,0,0,0,1,1,0]
[14424840,1,0,0,0,0,0,0]
[14425505,37,0,0,9,32,69,0]
[14439587,14,0,2,4,8,12,108.80500000000001]
[14439588,2,0,0,0,0,0,0]
[14439589,40,0,0,0,2,6,0]
[14439590,76,0,0,0,2,4,0]
[14439591,3,0,0,0,0,0,0]
[14441684,8,0,0,-1,3,28,0]
[14443713,125,0,2,11,20,106,59.99]
[14443714,3,0,0,0,2,110,0]
[14443715,74,0,3,10,43,120,94.99]
[14443716,104,18,10,21,50,118,29.315000000000001]
[14443717,168,32,1,14,59,162,37.99]
[14443718,99,0,-1,0,7,62,74.989999999999995]
[14443719,3,0,0,2,4,22,0]
[14443720,156,0,1,9,54,219,24.99]
[14443721,151,0,6,11,50,182,44.306699999999999]
[14443722,110,12,2,19,63,179,51.87]
[14443723,84,0,3,6,15,44,79.78]
[14443724,36,0,2,27,67,153,22.47]
[14443725,-1,0,0,0,0,5,0]
[14464620,0,0,0,0,5,16,0]
[14467700,0,0,0,0,0,1,0]
[14482746,1,0,0,0,0,0,0]
[14482995,-1,0,0,0,0,1,0]
[14483384,0,0,0,0,0,0,0]
[14484351,42,21,2,7,23,24,20.324999999999999]
[14484354,70,33,2,9,42,61,25.99]
[14484357,9,0,1,1,27,98,17.989999999999998]
[14484358,0,0,0,0,0,14,0]
[14484359,22,0,3,6,17,23,11.99]
[14487090,289,10,14,54,199,430,57.038600000000002]
[14487091,1,0,0,0,0,0,0]
[14487092,226,120,32,100,293,659,33.739100000000001]
[14487093,-1,0,0,0,0,1,0]
[14487094,164,56,12,55,161,545,47.49]
[14487095,24,0,0,2,7,13,0]
[14487096,299,88,28,88,333,910,79.345399999999998]
[14504167,45,0,2,3,10,20,59.99]
[14507814,187,51,18,73,215,519,76.308300000000003]
[14507815,120,18,7,28,87,218,79.252899999999997]
[14507816,103,4,0,8,21,76,0]
[14507817,153,34,8,42,118,274,156.46629999999999]
[14507818,59,6,2,13,32,89,159.99]
[14507819,47,3,2,14,35,83,144.99]
[14507820,107,22,8,30,88,219,206.3613]
[14507821,82,2,1,8,19,42,257.11]
[14507822,56,3,1,1,12,62,199.95]
[14511352,0,0,0,0,2,15,0]
[14511353,102,72,4,12,58,162,69.989999999999995]
[14511354,0,48,0,0,0,1,0]
[14511355,116,0,0,5,21,62,0]
[14511356,1,0,0,1,2,5,0]
[14512047,17,0,1,4,20,28,69.989999999999995]
[14518008,293,96,24,91,348,886,57.817900000000002]
[14518010,8,0,0,0,0,5,0]
[14518038,0,0,1,2,4,7,25]
[14518476,38,3,0,4,9,41,0]
[14518805,1267,302,104,455,1886,3355,8.6784999999999997]
[14518806,54,0,4,15,45,119,6.97]
[14518807,11,0,0,0,14,67,0]
[14518808,454,20,29,95,330,777,22.570699999999999]
[14518809,16,0,1,5,26,64,14.97]
[14518810,10,0,0,2,4,19,0]
[14519249,271,0,6,29,121,218,24.99]
[14519809,25,0,1,3,4,5,64.989999999999995]
[14520952,0,0,0,0,0,0,0]
[14522982,-2,0,0,0,0,8,0]
[14522984,0,0,0,0,0,10,0]
[14525652,7,0,0,0,2,5,0]
[14526520,42,0,3,10,52,113,39.833300000000001]
[14526521,41,0,2,16,56,136,39.97]
[14543831,8,0,0,0,7,19,0]
[14543832,85,11,1,8,44,141,479]
[14546963,11,0,0,0,0,3,0]
[14547041,594,112,32,131,424,991,141.73249999999999]
[14551690,5,0,0,0,0,0,0]
[14551692,1,0,0,0,0,0,0]
[14551694,1,0,0,0,0,0,0]
[14551782,0,0,0,0,0,1,0]
[14551792,-1,0,0,0,0,0,0]
[14551797,1,0,0,0,0,0,0]
[14551798,1,0,0,0,0,0,0]
[14551813,1,0,0,0,0,0,0]
[14551895,0,0,0,0,1,1,0]
[14554036,1,0,0,0,0,0,0]
[14554057,2,0,0,0,0,1,0]
[14554059,2,0,0,0,0,0,0]
[14554985,6,0,0,2,4,7,0]
[14554986,21,0,0,2,4,6,0]
[14557016,-1,0,0,0,0,0,0]
[14557278,0,0,0,0,0,0,0]
[14557279,0,0,0,0,0,0,0]
[14562833,5,0,1,1,2,2,174.99]
[14564137,0,0,0,0,0,0,0]
[14566279,1,0,0,1,1,4,0]
[14568800,4,0,0,0,4,3,0]
[14568801,3,0,0,0,0,0,0]
[14568803,0,0,0,0,0,2,0]
[14569811,92,0,0,0,2,4,0]
[14574190,10,0,0,-2,1,53,0]
[14574191,4,0,0,0,6,38,0]
[14574192,-2,0,0,0,3,13,0]
[14574193,0,0,0,0,0,1,0]
[14576703,249,0,17,94,497,2163,73.665300000000002]
[14576704,2,0,0,0,0,54,0]
[14576982,0,0,0,0,0,1,0]
[14580163,0,0,0,0,0,39,0]
[14580510,2,0,0,0,6,202,0]
[14581506,102,24,6,9,23,121,37.369999999999997]
[14581507,76,27,1,19,41,84,39.99]
[14581508,18,81,1,3,13,91,39.99]
[14581571,5,0,0,0,0,3,0]
[14581926,1,0,0,0,0,0,0]
[14585110,0,0,0,0,0,0,0]
[14586178,284,0,11,51,212,457,39.240900000000003]
[14586549,120,3,16,55,254,685,123.74]
[14586550,127,35,27,88,303,716,140.9752]
[14586551,1,0,0,0,0,0,0]
[14586555,0,0,0,0,0,0,0]
[14586556,0,0,0,0,0,0,0]
[14586568,1,0,0,0,0,0,0]
[14586578,0,0,0,0,0,0,0]
[14586909,10,0,0,0,0,3,0]
[14586911,-1,0,0,0,0,0,0]
[14587463,105,6,7,17,58,152,57.492899999999999]
[14587464,1,0,0,1,5,9,0]
[14587465,4,0,0,2,15,27,0]
[14587469,16,0,-1,0,1,5,77]
[14587470,0,0,0,0,0,1,0]
[14587471,681,170,79,377,1354,2652,18.526800000000001]
[14587472,136,0,3,17,60,150,8.9]
[14587473,1,0,0,0,18,22,0]
[14588551,3,0,0,1,2,6,0]
[14588553,0,0,0,0,1,1,0]
[14588853,303,24,20,89,317,810,341.3175]
[14590015,0,0,0,0,0,0,0]
[14591320,0,0,0,0,0,0,0]
[14591323,0,0,0,0,0,0,0]
[14591328,0,0,0,0,0,2,0]
[14591751,447,95,54,105,417,1189,31.523099999999999]
[14591752,327,16,22,24,93,336,43.991799999999998]
[14591753,369,65,26,54,188,668,73.531899999999993]
[14591754,267,171,4,16,155,602,136.91249999999999]
[14591756,10,0,0,0,25,153,0]
[14594386,1,0,0,0,0,0,0]
[14598948,1,0,0,0,0,0,0]
[14598952,0,0,0,0,0,0,0]
[14620145,0,0,0,0,0,1,0]
[14626458,-11,0,2,4,7,11,99.444999999999993]
[14630989,0,0,0,0,0,1,0]
[14630999,0,0,0,0,0,4,0]
[14631008,0,0,0,0,2,8,0]
[14645064,2,0,1,1,3,7,9.9700000000000006]
[14645276,59,16,5,13,43,77,147.99]
[14646690,0,0,0,0,1,1,0]
[14652089,1,0,0,0,0,0,0]
[14656147,0,0,0,0,0,1,0]
[14658869,-8,0,0,0,1,6,0]
[14662386,0,0,0,0,0,1,0]
[14662387,0,0,0,0,0,1,0]
[14662390,0,0,0,0,1,1,0]
[14662404,3,0,0,0,0,4,0]
[14666005,37,5,4,9,34,83,289]
[14666006,40,0,3,8,19,51,262.33330000000001]
[14674704,0,0,0,0,0,0,0]
[14676962,3,0,3,4,7,9,49.97]
[14676963,135,0,10,39,135,526,82.745999999999995]
[14676964,126,0,11,47,153,557,80.855500000000006]
[14676965,56,0,7,29,103,436,85.284300000000002]
[14676967,330,10,41,124,499,1503,12.3529]
[14676968,194,136,11,59,203,599,85.304500000000004]
[14677517,0,0,0,0,1,2,0]
[14677523,0,0,0,0,0,1,0]
[14677527,0,0,0,0,1,1,0]
[14677530,0,0,0,1,2,2,0]
[14677538,0,0,0,0,0,1,0]
[14677540,0,0,0,0,0,4,0]
[14677542,0,0,0,0,1,1,0]
[14677543,0,0,0,1,2,2,0]
[14682720,30,0,5,20,144,407,44.99]
[14682721,58,15,9,16,61,113,41.438899999999997]
[14682722,159,10,17,27,112,211,31.642399999999999]
[14684983,579,72,10,26,229,581,197.93100000000001]
[14685036,1,0,0,0,0,0,0]
[14685191,1,0,0,0,0,0,0]
[14685353,95,8,0,10,42,145,0]
[14685354,316,2,7,23,77,327,209]
[14685355,16,0,0,0,5,23,0]
[14685356,97,3,0,5,64,196,0]
[14686865,1,0,0,1,1,2,0]
[14686955,-2,0,0,0,0,0,0]
[14686956,26,0,0,2,12,35,0]
[14687879,5,0,0,0,1,1,0]
[14687881,-4,0,0,0,0,0,0]
[14689311,0,0,0,0,3,10,0]
[14689314,3,0,0,0,1,10,0]
[14689315,-1,0,0,0,3,15,0]
[14689316,0,0,0,0,2,9,0]
[14689318,285,0,1,13,46,157,116.94]
[14691001,19,0,1,2,12,38,95.99]
[14691002,2,0,1,2,6,29,119.99]
[14695181,10,0,0,0,6,21,0]
[14697258,2,0,3,3,5,8,499.99]
[14697259,115,43,32,81,236,531,348.33499999999998]
[14697386,3,0,0,0,4,13,0]
[14697387,4,0,0,0,3,20,0]
[14697388,0,0,0,0,0,7,0]
[14699232,20,0,2,3,23,71,19.989999999999998]
[14699233,12,0,0,2,14,57,0]
[14699236,22,0,6,12,58,243,19.291699999999999]
[14699238,2,0,0,0,1,1,0]
[14701401,-1,0,0,0,0,1,0]
[14701402,18,0,0,0,10,33,0]
[14701403,-9,0,0,0,6,21,0]
[14703218,-1,0,0,1,1,1,0]
[14707139,1,0,0,1,1,1,0]
[14707140,1,0,0,0,1,1,0]
[14707142,0,0,0,0,0,0,0]
[14707143,0,0,0,0,0,0,0]
[14707309,473,90,23,97,372,957,66.299599999999998]
[14707310,81,20,8,29,120,298,86.864999999999995]
[14707311,1,0,0,0,1,3,0]
[14707927,128,0,2,5,12,28,19.170000000000002]
[14707928,-1,0,0,0,0,33,0]
[14707929,54,0,4,11,30,102,8.4]
[14707930,152,0,1,18,120,362,14.78]
[14707931,89,0,0,24,134,395,0]
[14707932,1,0,0,0,4,37,0]
[14707933,0,0,0,0,1,36,0]
[14707934,0,0,0,0,0,46,0]
[14710023,1,0,0,0,6,56,0]
[14710024,209,70,37,92,304,825,12.0268]
[14710055,43,5,2,8,34,73,197.99]
[14710056,366,20,6,32,114,252,59.99]
[14710084,0,0,0,0,0,0,0]
[14710873,438,30,23,96,322,679,19.969100000000001]
[14710874,453,15,15,50,158,428,29.859300000000001]
[14710876,536,0,18,76,280,574,19.213899999999999]
[14710877,31,0,2,11,38,84,17.47]
[14710878,16,0,1,4,26,61,19.97]
[14711072,1,0,0,0,0,0,0]
[14711081,3,0,0,1,1,2,0]
[14711082,0,0,2,2,3,3,175]
[14711090,1,0,7,7,10,10,287.8571]
[14711091,3,0,1,2,3,6,300]
[14711094,0,0,0,0,1,1,0]
[14711095,2,0,0,0,1,2,0]
[14711096,1,0,0,0,0,0,0]
[14711099,1,0,2,2,2,2,250]
[14711101,2,0,0,0,0,0,0]
[14711102,0,0,0,0,0,1,0]
[14711111,1,0,1,1,1,1,300]
[14711112,-1,0,2,3,5,5,200]
[14711114,1,0,0,0,0,1,0]
[14711116,1,0,0,0,0,0,0]
[14711117,1,0,1,1,1,1,100]
[14711118,0,0,0,0,0,1,0]
[14711122,1,0,0,0,1,1,0]
[14711123,2,0,1,2,2,2,385]
[14712087,11,2,0,2,11,20,0]
[14712088,4,18,0,1,15,43,0]
[14712089,10,2,1,4,18,33,3459.99]
[14712513,1,0,0,0,2,26,0]
[14712514,0,0,0,0,0,15,0]
[14712772,0,0,0,0,0,1,0]
[14714053,1,0,0,0,0,0,0]
[14714055,0,0,0,0,0,0,0]
[14717780,39,0,5,13,44,91,9.4060000000000006]
[14717867,0,0,0,0,0,0,0]
[14718330,18,0,1,2,9,18,0]
[14718331,23,0,1,2,18,62,0]
[14718332,76,0,0,2,31,83,0]
[14718333,15,0,0,1,6,36,0]
[14718335,140,0,1,5,40,147,2.97]
[14718336,61,0,1,1,56,298,19.32]
[14718337,288,136,52,139,557,1313,28.865200000000002]
[14718339,102,0,1,6,14,42,29.99]
[14718341,43,0,0,4,22,65,0]
[14718342,0,0,0,0,0,1,0]
[14718344,-1,0,0,0,0,0,0]
[14718345,0,0,0,0,0,1,0]
[14718348,187,0,5,12,44,189,19.088000000000001]
[14718461,0,0,0,0,0,1,0]
[14718462,0,0,0,0,1,1,0]
[14718464,0,0,0,0,1,5,0]
[14722589,3,0,0,0,1,1,0]
[14722590,7,0,0,0,0,1,0]
[14725244,357,0,44,138,475,1179,43.781599999999997]
[14725245,494,72,21,94,346,919,33.669499999999999]
[14725246,495,38,21,102,335,906,74.965699999999998]
[14725853,1,0,0,0,0,0,0]
[14725854,1,0,0,0,0,0,0]
[14726054,3,0,2,2,2,2,500]
[14726055,1,0,0,0,0,0,0]
[14726056,0,0,0,1,1,2,0]
[14726057,0,0,0,0,0,0,0]
[14726058,0,0,6,7,8,8,495.83330000000001]
[14726059,1,0,0,0,0,0,0]
[14726060,0,0,0,0,1,1,0]
[14726061,1,0,4,4,5,5,500]
[14726062,0,0,3,4,6,6,350.00330000000002]
[14726063,1,0,0,0,0,1,0]
[14726064,3,0,6,7,8,9,200]
[14726072,0,0,0,0,0,0,0]
[14726225,6,0,0,1,4,14,0]
[14726343,8,0,2,3,6,7,23.8]
[14726344,7,0,0,0,2,45,0]
[14726345,333,0,9,54,255,571,260.37670000000003]
[14726346,410,0,15,50,140,424,235.99]
[14726347,165,0,8,36,125,314,292.6463]
[14726348,0,0,0,0,1,1,0]
[14726349,0,0,0,0,0,0,0]
[14726352,0,0,1,3,4,9,112.5]
[14726783,77,70,7,58,144,263,10.6671]
[14726784,95,60,10,34,120,202,17.89]
[14726785,39,40,0,9,59,147,0]
[14726786,96,0,1,13,80,179,2.99]
[14726787,93,20,7,31,73,136,5.99]
[14726788,104,0,15,43,82,155,6.77]
[14726789,122,0,4,9,31,77,8.99]
[14726790,116,20,4,12,34,115,8.3874999999999993]
[14726791,83,20,4,22,75,157,7.8574999999999999]
[14726792,-3,0,0,0,14,22,0]
[14727398,0,0,0,0,3,16,0]
[14727399,36,11,1,3,16,23,12.99]
[14727400,89,22,2,14,45,75,12.005000000000001]
[14727401,75,16,5,19,54,102,21.616]
[14727403,1,0,0,0,2,9,0]
[14727404,6,1,0,6,16,36,0]
[14727405,-8,0,0,0,7,15,0]
[14727407,25,65,2,20,68,96,12.99]
[14727408,9,4,0,6,16,24,0]
[14727409,24,40,1,13,40,52,16.989999999999998]
[14727411,0,0,0,0,1,6,0]
[14727413,11,12,0,5,19,43,0]
[14727415,37,42,2,12,45,57,39.99]
[14727416,96,30,5,23,63,135,27.99]
[14727418,159,98,9,44,146,234,21.918900000000001]
[14727421,28,19,2,7,39,70,54.99]
[14727522,13,2,0,0,6,9,0]
[14727524,-4,0,0,0,10,25,0]
[14727525,-6,0,0,0,0,18,0]
[14727526,8,2,3,9,17,30,7.99]
[14727527,28,0,1,1,7,16,7.99]
[14727530,3,0,0,0,2,4,0]
[14727531,-5,0,0,0,3,10,0]
[14727595,0,14,0,0,0,30,0]
[14727599,6,0,0,0,113,125,0]
[14727603,24,0,0,0,4,4,0]
[14728770,438,184,37,151,522,1160,47.506500000000003]
[14728771,313,20,3,38,159,621,113.3233]
[14729204,2,0,0,0,0,0,0]
[14729820,3,0,0,0,1,14,0]
[14732242,-1,0,0,0,2,3,0]
[14732243,1,0,0,0,0,0,0]
[14732244,0,0,0,0,0,9,0]
[14732245,1,0,0,0,0,0,0]
[14732538,31,0,0,3,16,59,0]
[14732540,0,0,0,0,9,18,0]
[14732642,0,0,0,0,0,1,0]
[14733834,2,0,0,0,5,16,0]
[14735491,105,60,23,91,239,586,20.377400000000002]
[14735492,874,201,78,330,1131,2163,21.1645]
[14735493,1,0,2,3,6,35,19.989999999999998]
[14735494,0,0,0,2,4,11,0]
[14736688,1,0,0,0,0,1,0]
[14738194,7,0,0,1,2,5,0]
[14738195,59,0,0,1,12,28,0]
[14738196,8,0,0,1,4,11,0]
[14738197,17,0,1,1,51,92,67]
[14738198,12,0,0,0,9,23,0]
[14738385,6,0,3,7,14,22,273.97000000000003]
[14738488,0,0,0,0,0,0,0]
[14738489,0,0,0,0,0,0,0]
[14738778,838,140,50,183,769,1618,28.700600000000001]
[14738779,626,0,20,102,330,698,39.116500000000002]
[14738780,571,40,7,28,75,199,34.99]
[14738783,350,60,12,50,163,333,34.727499999999999]
[14738784,409,0,10,48,168,331,33.49]
[14738785,1759,416,187,683,2064,3990,27.3582]
[14738786,1688,48,85,346,1177,2430,34.249099999999999]
[14738787,309,10,18,45,151,317,78.8506]
[14738788,1356,392,154,535,1764,3393,7.6322999999999999]
[14741397,45,0,2,6,15,20,10.99]
[14741399,43,0,12,45,250,665,14.485799999999999]
[14741400,39,0,0,3,12,27,0]
[14741401,81,4,4,13,52,156,26.21]
[14741402,40,0,1,3,10,27,14.99]
[14741403,1155,96,107,441,1652,3599,6.7910000000000004]
[14741404,35,0,0,0,4,9,0]
[14741406,173,0,0,5,24,35,0]
[14741407,71,0,0,2,16,29,0]
[14741408,338,60,12,64,281,737,29.000800000000002]
[14741472,1,0,4,13,35,93,143.88999999999999]
[14741473,6,0,3,4,9,15,113.3433]
[14743245,89,0,0,9,59,84,0]
[14743246,71,0,4,12,39,79,13.99]
[14743481,692,0,31,115,396,918,23.959700000000002]
[14743696,0,0,0,0,0,1,0]
[14743697,2,0,0,0,0,0,0]
[14743699,0,0,0,0,0,0,0]
[14743700,1,0,0,0,-1,0,0]
[14745093,2,0,3,3,4,5,496.66669999999999]
[14745497,0,0,0,2,2,3,0]
[14745498,6,0,0,0,0,2,0]
[14745500,8,0,0,1,1,2,0]
[14745501,6,0,0,-1,3,7,0]
[14745503,5,0,0,0,0,2,0]
[14745505,837,0,49,194,748,1600,69.260000000000005]
[14745529,12,36,4,12,30,66,149.99]
[14745530,40,0,7,16,40,97,79.178600000000003]
[14745935,17,0,3,4,24,65,232.99]
[14745936,50,0,2,9,31,68,197.49]
[14745937,-1,0,0,2,6,38,0]
[14745938,6,0,0,0,0,0,0]
[14746905,-4,0,0,0,2,23,0]
[14746906,0,0,0,0,14,177,0]
[14746908,7,0,0,0,0,4,0]
[14746909,12,0,0,0,0,10,0]
[14748707,-1,0,0,0,0,0,0]
[14748711,1,0,0,0,0,0,0]
[14753929,0,0,0,0,0,0,0]
[14753930,0,0,0,0,0,0,0]
[14754838,4,0,0,0,0,0,0]
[14756037,42,0,10,19,30,55,9.8859999999999992]
[14757264,113,0,15,57,303,769,88.492000000000004]
[14757265,18,0,0,0,3,5,0]
[14757266,6,0,0,0,3,21,0]
[14757267,0,0,0,1,5,9,0]
[14758411,0,0,0,0,0,0,0]
[14758414,9,0,0,0,6,8,0]
[14758415,7,0,5,5,6,8,474]
[14758416,1,0,3,4,5,9,290]
[14758418,3,0,1,1,1,9,400]
[14758419,10,0,0,1,3,12,0]
[14758426,0,0,0,0,0,0,0]
[14759671,-4,0,0,0,0,10,0]
[14759673,0,0,2,4,14,26,9.9700000000000006]
[14759674,4,0,0,3,5,22,0]
[14759676,0,0,0,0,0,10,0]
[14759678,-5,0,0,2,10,109,0]
[14759679,78,0,4,10,73,386,8.7200000000000006]
[14759682,0,0,0,2,11,41,0]
[14759683,2,0,0,2,11,27,0]
[14759684,0,0,0,0,0,6,0]
[14759686,0,0,0,0,0,0,0]
[14760269,0,0,0,0,0,15,0]
[14761134,0,0,0,0,0,0,0]
[14762188,1,0,0,3,6,15,0]
[14762189,0,0,0,0,3,3,0]
[14762191,22,0,2,2,13,34,2.97]
[14762192,6,0,0,0,6,19,0]
[14762193,7,0,0,0,8,20,0]
[14762194,40,0,0,0,3,5,0]
[14762195,16,0,0,0,12,28,0]
[14763148,0,0,0,0,1,1,0]
[14764535,8,0,0,0,0,15,0]
[14764536,96,0,2,7,19,66,19.97]
[14764719,22,0,0,0,5,16,0]
[14764720,284,25,15,68,201,694,43.99]
[14764721,5,0,0,0,1,11,0]
[14764722,38,0,0,0,1,6,0]
[14764723,2,0,0,1,1,4,0]
[14765032,20,0,1,3,9,55,297.99]
[14765818,96,39,13,69,207,386,34.755400000000002]
[14765819,64,0,0,3,12,34,0]
[14765820,0,0,0,0,1,3,0]
[14765821,63,7,2,11,57,164,72.23]
[14765822,7,0,0,0,2,12,0]
[14765824,8,0,0,0,0,2,0]
[14765825,0,0,0,0,1,5,0]
[14766113,306,30,17,89,298,669,138.48759999999999]
[14766114,141,14,11,40,127,248,149.07]
[14766115,173,23,16,35,126,268,140.49189999999999]
[14766497,397,48,34,110,324,822,139.8526]
[14766498,628,224,93,376,1178,2479,24.023299999999999]
[14766499,52,0,33,86,213,425,13.7667]
[14766500,1,0,-2,-1,4,5,44.97]
[14766501,62,0,2,10,48,100,44.97]
[14766613,-2,0,0,0,0,0,0]
[14766616,1,0,0,0,0,0,0]
[14766617,13,0,0,0,1,6,0]
[14766618,-1,0,0,0,0,0,0]
[14766630,27,0,0,0,3,5,0]
[14766631,30,0,0,1,1,1,0]
[14766632,1,0,0,0,0,1,0]
[14766633,0,0,0,0,0,3,0]
[14766636,9,0,1,3,13,62,9.9700000000000006]
[14766644,1,0,0,0,0,1,0]
[14766646,10,0,0,0,2,7,0]
[14766649,4,0,0,0,0,3,0]
[14766653,7,0,0,0,2,7,0]
[14766654,14,0,1,1,5,11,24.99]
[14766659,9,0,0,0,3,14,0]
[14766661,0,0,0,0,0,1,0]
[14766663,-1,0,0,0,0,0,0]
[14767290,1,0,0,1,6,52,0]
[14768681,56,0,0,1,4,6,0]
[14768682,34,0,0,0,2,6,0]
[14768683,80,0,0,1,8,24,0]
[14768847,23,0,0,1,7,26,0]
[14769156,1,0,0,0,0,6,0]
[14769157,0,0,0,0,0,2,0]
[14769158,2,0,0,0,1,4,0]
[14769159,2,0,0,0,1,4,0]
[14770255,72,0,9,31,137,446,174.99]
[14770256,127,0,7,33,111,252,179.68]
[14772027,2,0,0,0,0,0,0]
[14772429,1,0,0,0,0,0,0]
[14772620,152,45,16,64,282,710,97.767499999999998]
[14772622,215,85,17,90,334,833,68.3506]
[14772623,271,128,32,130,437,1044,29.843800000000002]
[14772624,123,42,12,36,113,253,56.684199999999997]
[14772625,143,44,18,46,165,341,94.188299999999998]
[14772627,476,90,25,108,368,794,34.743600000000001]
[14772628,17,0,0,2,4,12,0]
[14772629,89,5,3,12,85,215,107.99]
[14772641,307,5,5,24,87,182,12.99]
[14772642,247,10,3,16,59,141,12.99]
[14772643,241,35,7,36,100,219,12.617100000000001]
[14772644,84,0,0,1,3,6,0]
[14772645,1,0,0,0,2,3,0]
[14772646,14,0,0,0,2,4,0]
[14772647,36,0,0,0,4,5,0]
[14772648,25,0,1,2,9,31,9.9700000000000006]
[14772649,0,0,0,0,2,16,0]
[14772650,2,0,0,1,1,3,0]
[14773972,4,0,0,1,8,90,0]
[14773982,4,0,0,1,1,1,0]
[14773984,0,0,0,0,1,6,0]
[14773985,5,0,0,0,0,0,0]
[14773987,0,0,0,0,0,2,0]
[14773988,0,0,0,0,0,1,0]
[14774524,648,530,90,361,1260,2451,10.598100000000001]
[14774525,888,110,65,274,905,1723,17.3065]
[14774526,982,370,119,429,1318,2475,8.7790999999999997]
[14774527,447,590,61,301,932,1818,7.6532999999999998]
[14774528,756,255,63,237,779,1503,14.689]
[14774529,338,200,35,173,542,965,10.711399999999999]
[14774530,441,376,23,57,487,1367,7.9226000000000001]
[14774531,641,364,111,374,1108,2133,12.6431]
[14774532,5,0,0,0,3,7,0]
[14774533,691,268,103,357,1015,1943,14.55]
[14774534,5,0,0,2,2,11,0]
[14774535,4,0,1,2,8,17,11.49]
[14779563,0,0,0,0,0,0,0]
[14779564,0,0,0,0,0,2,0]
[14779565,0,0,0,0,0,0,0]
[14782436,0,0,0,0,1,3,0]
[14790693,605,0,48,173,727,1679,179.7627]
[14790694,0,0,0,0,0,2,0]
[14798035,6,0,0,0,10,24,0]
[14800414,0,0,0,0,5,7,0]
[14800415,0,0,0,0,11,25,0]
[14800416,19,0,0,2,34,79,0]
[14800851,1731,276,62,263,868,1769,9.6577000000000002]
[14800852,514,444,67,293,979,1997,6.7530000000000001]
[14801477,1,0,0,0,0,21,0]
[14801479,0,0,0,0,0,0,0]
[14801480,0,0,0,18,18,39,0]
[14801988,8,5,0,5,17,31,0]
[14801989,4,5,1,4,14,23,105.12]
[14801990,35,0,3,8,28,68,37.99]
[14801991,27,6,2,8,30,62,21.99]
[14801992,18,10,3,9,26,55,20.47]
[14801993,19,6,4,11,31,61,20.192499999999999]
[14802034,0,0,-1,0,1,1,999.97]
[14802035,20,0,2,3,5,20,1529.99]
[14802326,68,0,1,5,15,50,18.989999999999998]
[14802327,130,0,2,13,31,74,18.989999999999998]
[14802328,145,0,1,5,16,51,24.99]
[14802329,104,0,1,5,22,44,22.99]
[14802330,104,0,5,26,44,77,8.99]
[14802331,33,0,1,2,11,15,7.99]
[14802767,1441,144,58,226,862,2043,12.799099999999999]
[14804540,22,0,1,2,4,8,229.99]
[14804541,86,0,12,58,396,1255,18.594200000000001]
[14805165,0,0,0,0,0,1,0]
[14805168,0,0,0,0,0,2,0]
[14805180,0,0,0,0,1,1,0]
[14805190,0,0,0,0,0,1,0]
[14805194,0,0,0,0,0,1,0]
[14805201,-1,0,0,0,1,2,0]
[14805203,0,0,0,0,0,0,0]
[14805210,0,0,0,1,5,38,0]
[14805211,-1,0,0,1,9,36,0]
[14805212,-2,0,0,0,3,16,0]
[14805214,0,0,0,0,1,1,0]
[14805215,0,0,0,0,0,1,0]
[14805216,0,0,0,2,2,2,0]
[14805224,0,0,0,0,0,1,0]
[14805226,0,0,0,0,1,1,0]
[14805231,1,0,0,0,0,0,0]
[14805232,0,0,0,0,0,5,0]
[14805233,0,0,0,0,1,3,0]
[14805238,0,0,0,0,0,2,0]
[14805239,0,0,0,0,0,3,0]
[14805241,0,0,0,0,1,14,0]
[14805247,0,0,0,0,1,1,0]
[14805254,0,0,0,1,1,1,0]
[14805255,0,0,0,0,0,2,0]
[14805256,0,0,0,0,1,1,0]
[14805275,0,0,0,1,1,1,0]
[14805277,0,0,0,0,0,2,0]
[14808027,177,48,22,82,292,750,28.135000000000002]
[14808028,0,0,0,0,0,12,0]
[14808029,0,0,0,0,2,14,0]
[14808030,173,60,9,64,209,515,37.097799999999999]
[14808031,0,0,0,0,0,10,0]
[14808032,0,0,0,0,5,44,0]
[14808033,160,60,21,107,293,616,54.504300000000001]
[14808034,0,0,0,0,0,7,0]
[14808035,19,0,0,0,2,11,0]
[14809057,1,0,0,0,0,2,0]
[14809063,3,0,0,0,1,3,0]
[14809064,1,0,0,0,0,0,0]
[14809065,144,1,7,27,98,238,58.921399999999998]
[14811483,143,0,6,22,68,163,70.790000000000006]
[14811484,92,0,1,8,20,61,64.989999999999995]
[14811489,28,0,1,3,18,137,29.99]
[14814653,366,20,10,37,92,462,627.62699999999995]
[14824083,0,0,0,0,0,1,0]
[14827428,53,36,5,19,50,114,31.012]
[14827429,30,18,3,12,48,102,43.106699999999996]
[14828749,164,36,7,38,107,364,224.49709999999999]
[14828750,55,11,6,21,40,90,480.44670000000002]
[14834651,-2,0,0,0,0,2,0]
[14834653,8,0,0,0,13,98,0]
[14834654,-5,0,0,0,3,27,0]
[14834655,-1,0,0,0,3,30,0]
[14834656,1,0,0,0,3,20,0]
[14834657,13,0,0,0,9,94,0]
[14834658,1,0,0,0,2,20,0]
[14834659,4,0,0,0,2,29,0]
[14834660,7,0,0,0,5,23,0]
[14837364,20,0,1,6,12,36,9.9700000000000006]
[14837365,0,0,0,0,3,6,0]
[14841105,0,0,0,0,0,0,0]
[14841418,0,0,0,0,0,14,0]
[14841419,3,0,1,5,58,195,88.49]
[14841421,12,0,0,0,2,30,0]
[14841516,10,0,0,7,101,169,0]
[14843453,530,7,24,69,230,1165,260.0992]
[14843454,410,3,10,34,108,627,322]
[14843455,129,11,5,17,63,327,202.78399999999999]
[14843456,91,8,5,17,70,237,271.38]
[14847573,0,0,0,0,0,0,0]
[14847599,6,0,0,0,3,6,0]
[14847600,6,0,0,0,1,4,0]
[14847601,1,0,0,0,3,11,0]
[14847606,11,0,1,3,5,16,139.99]
[14847607,16,0,0,0,1,3,0]
[14855612,0,0,4,7,13,45,9.82]
[14855613,-1,0,0,0,4,38,0]
[14855835,0,0,0,0,4,27,0]
[14862298,15,0,0,1,4,5,0]
[14862313,0,0,0,0,0,0,0]
[14867593,1,0,0,0,0,0,0]
[14867594,0,0,0,0,2,3,0]
[14872613,2,0,1,1,3,8,79.989999999999995]
[14872615,22,0,0,0,0,14,0]
[14872619,1,0,0,0,0,3,0]
[14872620,611,292,95,399,1222,2437,29.365200000000002]
[14872621,370,32,16,59,179,414,89.99]
[14874149,8,0,0,0,35,55,0]
[14874152,0,0,0,0,1,8,0]
[14874186,-1,0,0,0,9,13,0]
[14875831,0,0,0,0,0,0,0]
[14875833,-1,0,0,0,0,0,0]
[14877995,0,0,0,0,0,1,0]
[14879388,39,0,2,5,17,33,49.99]
[14879389,0,0,0,0,0,3,0]
[14879390,0,0,0,0,1,1,0]
[14879394,719,111,52,190,607,1646,36.241199999999999]
[14880263,-2,0,0,1,5,29,0]
[14880264,22,0,2,3,19,76,4.97]
[14880265,54,0,1,7,49,159,4.97]
[14880266,59,0,2,8,38,86,2.97]
[14880267,10,0,1,7,24,99,4.97]
[14884317,0,0,0,0,0,0,0]
[14884824,28,0,0,2,17,50,0]
[14884826,10,0,0,18,53,80,0]
[14884827,9,0,1,15,237,300,39.97]
[14886146,73,-3,3,10,45,91,764]
[14887164,30,15,0,3,22,51,0]
[14887165,1,0,0,0,0,0,0]
[14889770,2,0,0,0,4,10,0]
[14889771,65,0,0,3,35,82,0]
[14891616,3,0,0,0,1,7,0]
[14891617,28,0,0,8,27,117,0]
[14891618,0,0,0,0,5,21,0]
[14891619,22,0,0,1,7,142,0]
[14891620,1,0,0,0,0,7,0]
[14892270,0,0,0,0,0,3,0]
[14892623,177,0,1,16,79,231,349.99]
[14893524,22,0,0,3,11,43,0]
[14893525,1,0,0,0,0,0,0]
[14895662,-2,0,0,0,10,41,0]
[14904360,1,0,0,0,0,3,0]
[14904361,-12,0,0,0,0,0,0]
[14905070,-1,0,0,0,0,0,0]
[14905298,1,0,0,0,0,2,0]
[14905299,185,114,18,93,318,1103,580.45669999999996]
[14906846,0,0,0,0,3,18,0]
[14906847,1,0,0,0,4,32,0]
[14906848,1,0,0,0,7,20,0]
[14906849,1,0,0,0,0,9,0]
[14907199,675,0,9,38,159,337,32.264400000000002]
[14907200,946,51,19,93,328,631,39.726799999999997]
[14907201,647,0,12,47,174,380,22.688300000000002]
[14907202,106,46,16,53,173,353,53.055599999999998]
[14907203,123,20,5,40,141,291,99.12]
[14907218,2,0,0,2,8,13,0]
[14907219,3,0,0,2,17,45,0]
[14907220,6,0,0,0,2,4,0]
[14907221,4,0,1,2,7,8,19.989999999999998]
[14907222,20,0,1,2,9,24,2.4900000000000002]
[14907223,5,0,0,0,3,8,0]
[14907224,17,0,1,5,11,52,4.99]
[14907225,0,0,0,0,0,1,0]
[14908551,7,0,0,0,1,5,0]
[14909100,0,0,0,2,2,2,0]
[14909104,1,0,0,0,0,2,0]
[14909105,30,12,5,13,48,92,5.99]
[14909106,71,36,8,28,102,225,7.99]
[14909107,0,24,4,17,53,101,7.99]
[14909108,52,12,0,5,26,55,0]
[14909109,32,0,1,5,24,43,7.99]
[14909110,40,0,2,8,42,93,7.99]
[14909111,143,0,5,37,269,503,9.99]
[14909112,443,48,26,87,452,687,10.497299999999999]
[14909113,5,0,0,1,4,12,0]
[14909216,3,0,0,1,1,6,0]
[14909217,5,0,0,3,7,20,0]
[14909218,2,0,0,0,0,1,0]
[14909219,3,0,0,0,0,1,0]
[14910468,1,0,0,0,1,4,0]
[14910470,0,0,0,0,0,3,0]
[14910472,11,0,0,3,10,21,0]
[14910473,0,0,0,0,0,2,0]
[14910474,0,0,0,0,6,7,0]
[14914344,0,0,0,0,0,10,0]
[14914345,0,0,0,0,3,6,0]
[14914656,-1,0,0,0,0,19,0]
[14914657,-2,0,0,0,1,20,0]
[14923786,0,0,0,0,0,0,0]
[14924674,0,0,0,0,0,1,0]
[14924682,8,0,0,0,0,4,0]
[14925226,-1,0,0,0,0,11,0]
[14925228,0,0,0,0,0,3,0]
[14925229,0,0,0,0,0,2,0]
[14925233,0,0,0,0,0,1,0]
[14951250,7,0,0,0,0,1,0]
[14951252,64,0,6,13,31,77,218.9717]
[14951390,156,67,23,84,204,494,107.1943]
[14951391,134,24,6,34,87,226,105.1]
[14951392,135,7,7,15,33,80,106.7829]
[14952800,9,0,1,3,13,18,539.99]
[14952801,10,0,0,9,17,28,0]
[14958579,2,0,0,0,6,97,0]
[14965317,32,0,0,1,2,12,0]
[14967802,34,0,0,0,1,5,0]
[14967803,16,42,1,2,17,76,99.99]
[14971504,164,0,5,16,71,284,898.46799999999996]
[14971505,83,0,3,5,18,66,264.52999999999997]
[14971506,187,0,2,6,23,50,228.98500000000001]
[14971507,477,30,13,38,325,774,258.86689999999999]
[14971508,302,0,8,18,157,513,217.46879999999999]
[14971510,98,0,1,4,23,79,399]
[14971511,84,0,0,3,6,35,0]
[14988194,1,0,0,0,0,0,0]
[14988197,1,0,0,0,0,0,0]
[14988201,1,0,0,0,0,0,0]
[14988237,103,0,0,3,76,934,0]
[14990918,0,0,0,0,0,0,0]
[14990919,0,0,0,0,1,1,0]
[14997073,2,0,0,0,4,62,0]
[14997074,-1,0,0,0,0,45,0]
[14997075,3,0,0,0,0,25,0]
[14997076,0,0,0,0,0,9,0]
[14997077,8,0,0,0,2,10,0]
[15006487,-1,0,0,0,0,0,0]
[15008209,158,0,9,25,87,160,20.988900000000001]
[15012824,1,0,0,0,0,0,0]
[15012825,1,0,0,0,0,0,0]
[15012826,1,0,0,0,0,0,0]
[15012827,1,0,0,0,0,0,0]
[15083470,71,0,0,0,6,56,0]
[15083559,17,0,0,0,7,7,0]
[15141588,30,0,-1,0,1,5,289.99]
[15141589,5,0,0,-1,0,1,0]
[15141590,7,0,0,0,0,2,0]
[15141592,12,0,1,1,1,2,239.99]
[15141593,16,0,0,0,0,7,0]
[15141594,16,0,0,0,2,4,0]
[15156591,0,0,0,0,0,0,0]
[15156806,1188,312,76,268,788,1905,52.536099999999998]
[15156807,7,0,0,0,2,3,0]
[15157042,152,8,3,22,51,195,69.989999999999995]
[15157043,225,16,9,34,90,289,127.06]
[15157044,96,65,3,10,47,239,37.956699999999998]
[15157045,0,0,0,0,0,2,0]
[15157048,0,0,0,0,0,1,0]
[15157049,11,15,1,4,32,71,279.99]
[15157989,-1,0,0,1,1,2,0]
[15157990,0,0,0,0,0,1,0]
[15157993,-1,0,0,0,0,0,0]
[15157995,-1,0,0,0,0,0,0]
[15158004,161,0,8,36,109,237,28.74]
[15158005,649,40,111,356,1114,2946,28.110299999999999]
[15158006,1041,40,63,254,890,1757,27.9359]
[15158007,4,0,0,0,1,7,0]
[15158008,2,0,0,2,3,3,0]
[15158009,0,0,0,0,2,3,0]
[15158011,58,0,0,4,18,29,0]
[15158012,14,0,0,0,2,7,0]
[15158013,0,0,0,0,0,1,0]
[15158016,0,0,0,0,1,2,0]
[15158017,0,0,0,0,1,2,0]
[15158018,38,0,0,0,8,18,0]
[15158019,0,0,0,0,1,1,0]
[15158020,1,0,0,1,2,4,0]
[15158021,0,0,0,2,4,7,0]
[15158022,14,0,0,1,8,12,0]
[15158023,0,0,1,1,2,5,39]
[15158024,20,0,0,0,8,15,0]
[15235827,0,0,0,0,3,20,0]
[15246412,11,0,0,0,7,24,0]
[15252003,15,0,0,0,33,55,0]
[15253274,1,0,0,0,0,0,0]
[15253275,0,0,0,0,0,0,0]
[15254113,3,0,0,0,0,10,0]
[15254114,0,0,0,0,1,19,0]
[15254115,1,0,0,0,2,9,0]
[15254116,0,0,0,0,1,13,0]
[15254873,0,0,0,0,1,6,0]
[15255922,0,0,0,0,2,15,0]
[15256513,24,2,0,2,20,40,0]
[15256514,11,0,0,0,0,1,0]
[15256515,23,0,0,0,5,6,0]
[15256795,0,0,0,0,0,0,0]
[15261279,126,0,6,25,84,107,29.4617]
[15261280,201,0,6,24,98,300,102.0317]
[15261331,257,0,21,55,214,829,71.069500000000005]
[15261333,482,40,9,74,305,1109,208.10220000000001]
[15261560,182,0,14,58,226,804,74.057100000000005]
[15274460,0,0,0,0,0,8,0]
[15275035,3,0,0,0,0,0,0]
[15275036,2,0,0,0,0,0,0]
[15275045,1,0,0,0,0,0,0]
[15275047,0,0,0,0,0,1,0]
[15275051,0,0,0,0,0,0,0]
[15275053,0,0,0,0,0,1,0]
[15275059,0,0,0,0,0,0,0]
[15275063,1,0,0,0,0,0,0]
[15275064,0,0,0,0,0,1,0]
[15276677,0,0,0,0,0,1,0]
[15276719,3,0,0,8,12,37,0]
[15276720,0,0,0,0,0,3,0]
[15276721,-1,0,0,0,0,0,0]
[15276723,586,140,68,242,955,2597,77.113100000000003]
[15277360,2,0,0,0,0,0,0]
[15277364,1,0,0,0,0,0,0]
[15277365,5,0,0,0,0,0,0]
[15279115,30,0,0,2,13,225,0]
[15290863,0,0,0,0,0,0,0]
[15293004,442,0,18,97,379,2945,553.20719999999994]
[15311589,20,0,1,3,7,18,10.99]
[15311590,18,0,0,8,15,24,0]
[15311591,17,0,0,0,4,6,0]
[15311592,29,0,0,2,9,19,0]
[15311593,9,0,0,0,8,12,0]
[15311594,17,0,0,1,8,17,0]
[15311595,30,0,0,2,7,16,0]
[15311596,29,0,0,2,7,16,0]
[15311597,20,0,0,6,8,18,0]
[15311598,11,0,1,1,7,9,10.99]
[15322090,0,0,0,0,1,3,0]
[15322091,0,0,0,0,0,15,0]
[15322094,1,0,0,0,0,12,0]
[15322110,-6,0,0,0,16,20,0]
[15322111,0,0,0,0,0,4,0]
[15332153,0,0,0,0,0,0,0]
[15336074,3,0,0,0,3,6,0]
[15350810,1631,0,52,211,786,3890,588.62980000000005]
[15358314,1187,324,101,502,1404,2921,7.7439999999999998]
[15358315,692,408,63,278,853,1718,7.7119]
[15358316,862,192,34,130,523,1075,7.5391000000000004]
[15367383,37,0,2,3,48,180,44.99]
[15367384,1,0,0,0,5,38,0]
[15377640,252,0,5,17,69,221,27.404]
[15377641,1279,78,20,142,342,942,65.201499999999996]
[15377642,591,0,2,8,51,120,199.99]
[15377643,77,0,4,15,55,129,16.892499999999998]
[15381749,-1,0,0,0,0,2,0]
[15389458,7,0,0,0,2,12,0]
[15389459,0,0,0,0,0,7,0]
[15389461,5,0,0,0,3,36,0]
[15396604,-1,0,0,0,0,0,0]
[15396605,1,0,0,0,82,126,0]
[15396606,-1,0,0,11,72,147,0]
[15416475,1,0,0,0,0,3,0]
[15459312,7,0,0,3,11,15,0]
[15459313,7,0,0,0,0,5,0]
[15459316,0,0,0,0,14,16,0]
[15492704,59,0,5,25,61,143,22.99]
[15501100,4,4,0,2,3,27,0]
[15501101,-2,0,0,0,4,7,0]
[15501103,16,0,0,2,3,6,0]
[15501104,13,0,0,0,13,20,0]
[15501105,27,0,1,3,4,6,23.99]
[15501106,23,0,0,2,6,10,0]
[15501108,0,0,0,0,0,1,0]
[15501109,20,0,0,0,4,13,0]
[15501110,22,2,0,0,2,9,0]
[15501111,17,0,0,1,6,20,0]
[15501112,9,1,1,3,9,21,23.99]
[15501113,11,0,0,1,6,24,0]
[15501115,85,20,5,17,72,129,16.989999999999998]
[15501116,26,3,0,3,24,36,0]
[15501117,9,2,0,-1,9,14,0]
[15501118,39,36,5,15,35,42,32.514000000000003]
[15501119,86,17,7,20,55,111,27.674299999999999]
[15501120,0,0,0,0,0,3,0]
[15501122,3,14,0,0,13,28,0]
[15501125,5,0,0,2,3,4,0]
[15501126,1,0,0,0,3,10,0]
[15501127,0,0,0,0,2,12,0]
[15501128,1,0,0,0,3,4,0]
[15501129,0,0,0,0,4,13,0]
[15501130,-2,0,0,2,3,4,0]
[15501131,2,45,4,12,34,55,16.512499999999999]
[15501132,26,0,0,4,9,11,0]
[15501133,22,0,0,0,2,3,0]
[15501134,-1,0,0,0,2,2,0]
[15501135,1,0,0,0,0,0,0]
[15501136,18,2,0,2,8,10,0]
[15501137,20,1,1,2,9,19,21.99]
[15501139,-3,0,0,0,0,6,0]
[15501140,8,0,2,15,17,36,6.99]
[15501141,13,0,0,2,6,7,0]
[15501142,0,0,0,0,0,1,0]
[15501230,40,0,5,24,81,170,155]
[15516586,0,0,0,0,0,1,0]
[15521173,313,12,13,42,147,348,252.9238]
[15521174,311,0,7,19,72,204,259.41000000000003]
[15526717,0,0,0,0,0,27,0]
[15527026,34,0,4,16,54,116,33.44]
[15527027,110,0,0,2,7,72,0]
[15527028,275,0,11,34,113,253,52.250900000000001]
[15527029,0,0,0,0,0,2,0]
[15527031,72,0,3,7,23,78,124.99]
[15527032,122,16,2,16,51,160,84.99]
[15531947,-1,0,0,0,0,0,0]
[15531951,1,0,0,0,0,0,0]
[15531953,1,0,0,0,0,0,0]
[15531962,2,0,0,0,0,0,0]
[15531965,0,0,0,0,1,1,0]
[15531990,0,0,0,0,0,3,0]
[15588502,183,0,4,15,50,112,79.989999999999995]
[15622980,-2,0,0,0,0,0,0]
[15629618,0,0,0,0,0,0,0]
[15629619,-1,0,0,1,3,4,0]
[15629620,0,0,0,0,0,0,0]
[15629622,1,0,0,0,1,5,0]
[15647742,11,0,0,0,11,24,0]
[15657428,13,30,1,2,12,15,68.989999999999995]
[15657429,21,58,0,0,8,9,0]
[15662735,0,0,0,0,0,1,0]
[15662736,1,0,0,0,2,4,0]
[15662737,0,0,0,0,0,2,0]
[15662738,12,0,0,0,1,5,0]
[15662739,-2,0,0,0,0,8,0]
[15738080,6,0,0,0,6,10,0]
[15738081,8,0,1,1,3,4,399.97]
[15738344,35,0,1,1,23,48,149.99]
[15787361,-1,0,0,0,0,0,0]
[15922315,9,0,0,0,2,2,0]
[15922316,10,0,0,0,1,1,0]
[15932529,0,0,0,0,0,0,0]
[15932530,0,0,0,0,0,0,0]
[15932531,5,0,0,0,6,19,0]
[15932533,1,0,0,0,0,0,0]
[15932534,7,0,1,1,2,9,576.25]
[15932535,0,0,0,0,1,2,0]
[15932536,1,0,0,-1,0,1,0]
[15932537,1,0,0,0,0,0,0]
[15932538,0,0,0,0,0,2,0]
[15997314,13,0,0,0,0,1,0]
[16173892,71,0,3,10,53,164,149.99]
[16174269,38,0,5,21,142,390,105.084]
[16232313,0,0,0,0,0,1,0]
[16232314,2,0,0,0,1,2,0]
[16292506,411,54,18,94,315,807,37.478900000000003]
[16292508,574,66,33,139,439,1092,39.276699999999998]
[16292509,-1,0,0,1,1,1,0]
[16292510,416,25,8,59,253,660,88.991200000000006]
[16292511,426,50,11,86,277,802,90.601799999999997]
[16292512,320,40,13,69,253,687,102.9731]
[16292514,378,45,9,65,261,727,109.62]
[16292516,52,20,3,24,64,128,218.32329999999999]
[16297314,19,0,0,1,9,19,0]
[16402497,100,18,7,35,143,297,37.4086]
[16402498,114,10,6,23,114,280,78.954999999999998]
[16402499,111,30,8,26,70,210,96.942499999999995]
[16403899,36,18,1,11,45,80,189.99]
[16403900,27,2,0,3,7,9,0]
[16403901,57,0,4,8,15,29,124.99]
[16403902,26,0,0,3,15,24,0]
[16403903,64,0,3,8,25,49,49.99]
[16403904,32,4,0,3,17,29,0]
[16403905,1,0,0,0,0,37,0]
[16403906,-1,0,0,0,1,11,0]
[16412314,157,50,32,121,319,783,200.0762]
[16412315,34,18,13,26,75,225,200.06]
[16437620,12,0,1,1,9,72,24.97]
[16437621,3,0,0,0,0,9,0]
[16448348,3,0,1,2,4,22,9.9700000000000006]
[16452670,1,0,0,0,0,0,0]
[16452682,21,0,0,0,4,16,0]
[16452683,2,0,2,2,2,10,397.51499999999999]
[16452686,0,0,0,0,0,1,0]
[16452688,8,0,0,2,6,10,0]
[16452689,8,0,0,0,10,30,0]
[16452693,2,0,6,10,11,11,399.16500000000002]
[16452696,2,0,7,7,9,15,477.88]
[16452697,41,0,1,1,7,19,2144.9899999999998]
[16452698,5,0,14,15,18,22,284.4171]
[16452699,2,0,1,2,4,4,200]
[16452702,6,0,0,0,3,20,0]
[16452704,1,0,1,1,7,8,150]
[16452705,3,0,0,0,1,8,0]
[16452706,1,0,2,2,9,15,100]
[16452709,70,0,4,19,49,146,1678.7474999999999]
[16452716,0,0,1,2,2,2,225]
[16452717,7,0,1,2,3,9,-99]
[16452719,3,0,3,3,6,10,150]
[16452721,2,0,4,5,9,21,100]
[16452722,8,0,3,4,9,16,100]
[16452723,3,0,1,2,7,12,100]
[16452727,3,0,9,9,9,21,235.78219999999999]
[16452761,80,25,4,28,101,300,144.00749999999999]
[16452762,165,60,13,44,175,408,59.567700000000002]
[16452763,14,0,2,4,14,35,49.99]
[16452764,170,40,14,52,170,424,117.0393]
[16462330,73,0,18,84,297,799,56.527799999999999]
[16462331,2,0,0,0,2,7,0]
[16462353,0,0,1,1,4,7,100]
[16462354,0,0,1,1,2,3,100]
[16462357,0,0,4,5,5,6,197.5]
[16462358,0,0,0,1,2,2,0]
[16462360,136,0,0,5,45,179,0]
[16462509,1,0,0,0,1,1,0]
[16462517,0,0,0,0,0,3,0]
[16462631,2,0,0,0,0,0,0]
[16462632,3,0,0,0,0,0,0]
[16463159,56,30,8,20,57,123,120.23869999999999]
[16463255,0,0,0,1,3,3,0]
[16463256,0,0,0,0,0,1,0]
[16463259,0,0,0,0,0,1,0]
[16463260,1,0,4,4,4,6,583.245]
[16463261,5,0,6,6,6,18,300]
[16463262,16,0,7,7,11,19,500]
[16463263,9,0,6,8,17,27,285]
[16463266,1,0,0,0,0,0,0]
[16463271,0,0,0,1,1,4,0]
[16463274,1,0,4,5,8,7,300]
[16463275,3,0,4,6,9,20,281.25]
[16463276,0,0,1,1,1,4,225]
[16463277,6,0,5,5,7,10,237.21199999999999]
[16463279,1,0,0,0,0,0,0]
[16463285,1,0,0,0,1,3,0]
[16463286,2,0,1,1,1,5,100]
[16463288,1,0,1,1,1,2,75]
[16463289,1,0,1,2,2,2,47.37]
[16463290,1,0,1,1,1,4,50]
[16463291,2,0,0,1,1,6,0]
[16463292,564,0,14,57,233,504,145.88499999999999]
[16463293,472,0,19,53,184,437,145.84209999999999]
[16467320,0,0,0,0,0,0,0]
[16467322,1,0,0,0,0,0,0]
[16467326,2,0,0,0,0,10,0]
[16467327,1,0,0,0,0,13,0]
[16467329,0,0,0,0,0,1,0]
[16467332,1,0,0,0,0,0,0]
[16467333,1,0,0,0,0,1,0]
[16467335,1,0,0,0,0,0,0]
[16472316,37,0,0,9,36,110,0]
[16482594,-1,0,0,0,0,2,0]
[16488345,169,105,32,105,381,810,28.9297]
[16507562,0,0,0,0,0,0,0]
[16507563,0,0,0,0,0,0,0]
[16507564,10,0,0,3,15,62,0]
[16507565,0,0,0,0,0,1,0]
[16517423,602,36,31,74,233,560,29.048100000000002]
[16522411,265,72,46,181,580,1198,27.2789]
[16522412,274,80,42,177,622,1185,18.9771]
[16522413,130,36,7,69,248,514,14.32]
[16522414,230,8,22,93,324,810,20.232299999999999]
[16522415,90,12,4,21,52,133,44.657499999999999]
[16522416,101,40,11,70,207,414,23.723600000000001]
[16522417,66,8,6,16,71,168,24.35]
[16522420,115,0,9,36,140,362,45.52]
[16522422,892,0,52,197,723,1899,14.5296]
[16522424,159,0,2,12,55,116,5.99]
[16522425,225,0,15,47,167,388,9.1679999999999993]
[16547479,8,0,0,1,8,15,0]
[16547480,40,0,1,9,11,20,319.95999999999998]
[16547481,32,0,1,1,4,4,624.99]
[16547483,46,0,1,7,16,39,159.97]
[16547484,1,0,0,0,3,19,0]
[16547485,1,0,0,0,0,0,0]
[16547530,17,13,2,13,60,145,147.745]
[16547618,208,54,9,40,168,432,52.148899999999998]
[16547619,228,42,10,48,179,466,142.62799999999999]
[16552433,8,0,0,0,2,61,0]
[16552434,-1,0,0,0,0,0,0]
[16563060,516,240,95,331,906,1965,8.7302]
[16563061,337,600,33,351,1439,3361,8.7758000000000003]
[16563062,589,120,13,74,198,491,8.99]
[16563063,701,24,33,169,295,477,12.591200000000001]
[16563064,66,0,2,6,42,174,11.75]
[16563065,135,72,19,77,242,574,17.239999999999998]
[16563066,163,72,10,56,194,389,17.266999999999999]
[16563067,17,0,0,3,11,63,0]
[16563068,-1,0,0,0,0,0,0]
[16563069,40,0,1,5,28,86,12.99]
[16563070,165,168,20,77,378,845,8.4024999999999999]
[16563071,139,96,15,70,308,638,8.6199999999999992]
[16563072,263,24,39,121,356,668,8.7007999999999992]
[16563073,195,72,14,55,185,508,23.14]
[16563074,151,0,2,8,33,91,24.99]
[16563075,75,0,3,6,27,64,42.33]
[16563077,112,24,3,14,54,131,63.326700000000002]
[16563079,1029,24,34,148,530,830,17.637899999999998]
[16563080,681,384,66,288,718,965,17.835899999999999]
[16563081,55,0,0,0,0,7,0]
[16572390,2,0,0,0,0,0,0]
[16572391,1,0,0,0,0,0,0]
[16572393,2,0,0,0,0,0,0]
[16592525,1846,784,189,865,2684,5402,19.355499999999999]
[16592526,1000,0,53,175,670,1386,10.8492]
[16592680,2049,395,144,563,1697,3435,18.450099999999999]
[16592681,2091,260,133,545,1824,3895,18.2774]
[16592682,103,109,10,15,63,282,39]
[16592683,393,95,42,119,346,610,59.264800000000001]
[16592685,42,0,0,9,30,162,0]
[16592686,410,12,10,70,258,556,89.3]
[16592687,507,24,17,43,153,311,68.664699999999996]
[16592688,513,84,34,132,469,1008,41.253500000000003]
[16592689,1488,140,57,223,719,1413,11.739100000000001]
[16592690,1105,75,50,163,613,1216,14.685]
[16592691,1178,580,122,530,1752,3545,9.6286000000000005]
[16592692,2085,240,187,674,2198,4534,10.5975]
[16592693,1557,80,43,130,448,979,14.449299999999999]
[16592694,2356,120,51,224,739,1512,10.7524]
[16592695,514,18,29,124,406,870,24.720700000000001]
[16592696,1960,720,163,654,2040,4131,8.8821999999999992]
[16592697,979,0,42,153,600,1412,28.592099999999999]
[16592698,344,0,7,26,98,227,27.332899999999999]
[16593405,1,0,0,0,0,0,0]
[16593407,2,0,0,0,0,0,0]
[16593410,2,0,0,0,0,0,0]
[16593411,2,0,0,0,0,0,0]
[16593415,0,0,0,0,0,3,0]
[16593416,0,0,0,0,0,0,0]
[16595939,19,0,0,0,4,31,0]
[16597594,141,8,9,29,119,249,52.782200000000003]
[16597595,0,0,0,0,0,11,0]
[16597596,254,90,11,83,320,750,29.052700000000002]
[16597597,32,0,0,0,1,5,0]
[16597598,9,9,2,12,50,106,179.99]
[16602365,0,0,0,0,0,0,0]
[16602366,0,0,0,0,6,40,0]
[16602367,2,0,0,0,2,5,0]
[16602476,89,0,5,20,50,174,23.97]
[16602477,47,15,1,4,39,87,77.62]
[16602478,2,0,0,0,8,37,0]
[16602479,92,0,2,5,39,92,27.99]
[16602480,75,0,5,25,79,151,27.99]
[16602481,-5,0,0,0,0,3,0]
[16602482,14,0,1,4,24,70,19.97]
[16602483,1,0,0,0,3,5,0]
[16602484,5,0,0,0,1,5,0]
[16602485,-3,0,1,1,2,10,9.9700000000000006]
[16602486,2,0,0,3,10,83,0]
[16602487,29,0,2,8,25,76,2.97]
[16602528,595,0,56,184,617,1141,43.650399999999998]
[16612372,215,0,26,131,533,1040,24.776499999999999]
[16612373,219,0,22,98,374,787,43.946800000000003]
[16612374,52,0,6,26,127,244,77.778300000000002]
[16612375,68,0,4,21,178,397,149.495]
[16612376,123,0,28,149,530,933,23.283200000000001]
[16612377,79,0,6,61,315,578,44.99]
[16612378,86,0,6,28,175,353,79.841700000000003]
[16612379,120,0,17,74,470,955,14.2841]
[16612380,95,0,10,68,493,1239,17.491]
[16622801,437,40,3,25,95,369,194.80330000000001]
[16622802,-1,0,0,0,0,0,0]
[16622803,153,50,10,31,97,307,214.99]
[16622805,123,0,9,28,69,167,293.32330000000002]
[16622806,58,0,1,4,19,54,597.99]
[16622809,-3,0,0,0,0,1,0]
[16627763,2,0,0,0,0,0,0]
[16627836,4,0,0,0,0,10,0]
[16627837,6,0,0,2,9,22,0]
[16637756,0,0,0,0,0,1,0]
[16638095,-1,0,0,0,0,0,0]
[16642696,8,4,0,2,4,13,0]
[16653374,2155,192,112,450,1523,2914,8.6959999999999997]
[16653391,54,0,4,8,41,80,308.11250000000001]
[16653393,332,30,7,42,154,510,102.78570000000001]
[16653394,185,15,5,17,64,224,97.123999999999995]
[16653395,64,5,3,9,38,106,99.99]
[16653396,5,0,0,0,0,5,0]
[16653397,88,2,3,8,39,94,373.32330000000002]
[16653398,93,201,19,64,255,615,168.5368]
[16653702,87,0,3,10,33,66,16.79]
[16653703,69,0,1,12,46,82,24.69]
[16654357,18,0,0,1,1,13,0]
[16654358,5,0,2,3,7,12,150]
[16654359,13,0,0,2,5,21,0]
[16654360,11,0,1,3,6,8,849.99]
[16654361,17,0,0,-1,0,24,0]
[16654363,9,0,11,19,28,57,298.70359999999999]
[16654364,21,0,1,4,10,48,1979.99]
[16654365,0,0,0,0,1,1,0]
[16654366,19,0,0,0,5,14,0]
[16654367,75,0,4,17,42,129,1579.99]
[16654368,10,20,0,0,10,23,0]
[16654369,0,0,1,2,3,5,400]
[16654370,0,0,0,0,3,5,0]
[16654423,60,0,1,9,37,130,7.49]
[16654986,8,0,0,0,1,5,0]
[16658200,276,35,18,40,158,402,33.202800000000003]
[16658201,160,25,2,14,58,158,38.774999999999999]
[16658202,282,35,8,34,100,251,33.854999999999997]
[16658203,122,25,6,20,72,160,39.4283]
[16659246,2,0,0,0,0,7,0]
[16673614,263,5,34,88,225,912,181.54759999999999]
[16673615,14,0,0,2,9,33,0]
[16673616,283,0,22,41,133,581,183.55590000000001]
[16683229,240,0,9,39,105,271,139.2611]
[16683230,551,480,89,391,1256,2500,19.252700000000001]
[16683232,770,0,42,213,719,1676,51.681399999999996]
[16683233,311,0,22,58,242,617,95.626400000000004]
[16683234,72,0,5,20,98,214,402.24799999999999]
[16683235,24,0,1,3,18,36,609.99]
[16683236,168,0,6,27,140,404,149.57830000000001]
[16683237,159,0,20,57,157,642,132.398]
[16683238,12,0,8,32,135,295,131.34620000000001]
[16683365,36,22,6,15,34,70,32.99]
[16703844,0,0,0,0,0,1,0]
[16704570,560,16,28,99,301,574,42.329300000000003]
[16704571,523,40,17,56,150,334,49.715899999999998]
[16704572,54,3,2,14,36,86,129.99]
[16704573,795,60,20,86,287,611,16.718]
[16727507,1,0,0,0,1,5,0]
[16727718,50,4,1,7,30,88,144.99]
[16727720,131,6,4,20,68,174,112.01]
[16727722,161,15,5,33,102,216,37.99]
[16727723,89,0,4,10,63,160,66.594999999999999]
[16727724,50,4,2,4,15,47,92.91]
[16727726,21,0,0,5,18,57,0]
[16727728,0,0,0,0,6,9,0]
[16727729,42,1,2,5,20,60,380]
[16727730,50,0,1,3,19,54,135]
[16727731,12,2,1,2,13,34,294.99]
[16727732,21,0,0,0,1,8,0]
[16727733,32,6,2,7,30,72,364.995]
[16732829,1,0,0,0,0,0,0]
[16747425,130,12,5,35,105,320,357.64400000000001]
[16747426,129,11,1,15,52,200,359]
[16752466,125,0,0,4,26,89,0]
[16752467,167,0,2,7,57,159,168.29499999999999]
[16752468,26,0,0,0,4,26,0]
[16752469,37,4,2,8,30,73,299]
[16762401,733,0,27,68,224,1396,124.4144]
[16763164,3,0,0,0,0,2,0]
[16763166,4,0,0,0,0,4,0]
[16763167,2,0,0,0,0,7,0]
[16763168,1,0,0,0,0,1,0]
[16763169,8,0,0,1,4,7,0]
[16763170,6,0,0,0,1,1,0]
[16763171,1,0,0,0,0,0,0]
[16763172,813,93,61,237,1044,2721,120.8411]
[16763173,86,3,1,2,23,68,299]
[16763174,193,18,5,33,119,248,281.49]
[16763175,88,1,0,7,21,75,0]
[16763176,212,19,12,33,134,304,331.25749999999999]
[16763500,6,0,0,1,1,5,0]
[16763501,3,0,0,0,0,1,0]
[16763502,6,0,0,0,1,9,0]
[16763503,0,0,0,0,0,0,0]
[16763504,8,0,0,0,1,3,0]
[16763505,7,0,0,1,2,8,0]
[16763819,35,0,6,27,148,1621,19.97]
[16765460,58,1,3,11,37,93,789.99]
[16777372,9,0,0,0,5,39,0]
[16777373,54,6,1,7,37,79,104.99]
[16777374,14,0,0,0,19,81,0]
[16777375,0,0,0,0,6,15,0]
[16777376,3,0,2,4,17,54,9.67]
[16777377,3,0,2,11,64,104,9.9700000000000006]
[16777378,0,0,0,0,2,21,0]
[16777379,8,0,0,1,23,47,0]
[16777380,25,0,1,7,37,144,71.959999999999994]
[16777381,5,0,0,0,0,12,0]
[16777382,1,0,0,0,0,5,0]
[16777383,410,120,4,30,146,513,14.99]
[16777384,32,88,7,41,162,392,17.517099999999999]
[16777699,81,0,5,17,78,282,19.838000000000001]
[16778057,595,252,66,242,739,1400,36.838900000000002]
[16778058,517,54,5,47,178,456,55.54]
[16778059,474,48,20,91,287,665,52.226999999999997]
[16778060,253,24,10,36,161,389,17.475999999999999]
[16778061,308,24,16,42,159,339,17.016200000000001]
[16782824,4,0,0,1,4,20,0]
[16782829,0,0,0,0,0,0,0]
[16782830,2,0,0,0,0,0,0]
[16782831,2,0,0,0,0,0,0]
[16782833,0,0,0,0,0,0,0]
[16782834,0,0,0,0,0,1,0]
[16782837,0,0,0,0,0,1,0]
[16782845,2,0,0,0,1,2,0]
[16782846,2,0,0,0,0,2,0]
[16782849,1,0,0,1,1,1,0]
[16782851,1,0,0,0,0,0,0]
[16782861,8,0,0,1,1,67,0]
[16782862,3,0,0,0,0,55,0]
[16782863,4,0,0,0,0,21,0]
[16782864,2,0,0,0,1,30,0]
[16782865,4,0,0,0,1,50,0]
[16782866,7,0,0,0,0,16,0]
[16782867,2,0,0,0,1,25,0]
[16782868,0,0,0,0,0,10,0]
[16799118,694,40,30,86,260,576,29.4437]
[16799119,694,40,51,178,547,1395,9.9809999999999999]
[16799120,719,120,73,258,794,1545,14.541499999999999]
[16799121,348,0,16,54,184,430,19.699400000000001]
[16799122,749,80,23,102,408,905,9.5922000000000001]
[16799123,269,0,5,37,155,421,18.47]
[16799143,267,240,64,257,884,1742,9.8452000000000002]
[16799144,316,264,68,269,888,1875,12.062799999999999]
[16799145,14,0,0,5,19,63,0]
[16799146,155,180,28,154,545,1149,12.7568]
[16799147,225,48,26,104,360,795,14.599600000000001]
[16799148,141,204,18,143,647,1276,14.5822]
[16799149,228,180,45,208,729,1506,14.665100000000001]
[16799150,41,0,1,3,19,63,17.989999999999998]
[16799151,7,0,0,1,2,11,0]
[16799152,197,108,35,131,407,861,22.566600000000001]
[16799153,0,0,0,0,0,7,0]
[16799154,14,0,0,4,17,250,0]
[16799155,167,60,15,59,217,521,27.704699999999999]
[16799157,36,0,0,4,11,51,0]
[16799158,9,0,0,0,0,25,0]
[16799159,90,0,6,19,102,340,77.408299999999997]
[16799160,355,144,31,106,320,654,22.4803]
[16799161,83,0,2,13,45,116,99.99]
[16799162,173,60,23,85,262,560,27.584800000000001]
[16802965,330,45,41,132,399,1123,66.735399999999998]
[16802966,306,0,7,52,191,611,65.704300000000003]
[16802967,248,19,18,50,181,563,67.079400000000007]
[16803154,1,0,0,0,0,0,0]
[16803155,1,0,0,0,0,0,0]
[16803166,0,0,0,0,0,2,0]
[16803168,1,0,0,0,0,0,0]
[16803170,0,0,0,0,1,1,0]
[16803172,1,0,0,0,0,0,0]
[16803174,1,0,0,0,0,0,0]
[16803175,1,0,0,0,0,0,0]
[16803185,1,0,0,0,0,1,0]
[16803194,0,0,0,0,0,1,0]
[16803196,2,0,0,0,0,0,0]
[16803212,-1,0,0,0,0,0,0]
[16803323,7,0,0,1,5,13,0]
[16803324,13,0,2,2,7,37,38.76]
[16803325,32,0,0,2,9,34,0]
[16803326,14,0,0,1,3,27,0]
[16803327,12,0,0,2,3,9,0]
[16803328,24,0,0,0,4,14,0]
[16803329,18,0,1,3,6,14,37.229999999999997]
[16803330,30,0,0,1,3,17,0]
[16807550,974,0,31,167,759,2129,47.890599999999999]
[16807551,16,0,3,6,6,16,38.99]
[16807552,865,60,56,251,792,1653,60.8352]
[16807553,567,18,29,114,373,785,59.232799999999997]
[16807554,1,0,6,8,15,26,59.99]
[16807555,403,0,14,49,161,402,292.25569999999999]
[16818726,335,70,23,82,275,603,26.525700000000001]
[16818727,228,52,17,55,157,366,28.872900000000001]
[16818728,245,0,13,47,152,361,54.605400000000003]
[16818729,250,26,11,46,144,289,59.1036]
[16818730,204,72,11,53,139,274,81.585499999999996]
[16818731,216,20,4,25,73,196,119.19750000000001]
[16818732,426,14,14,74,293,674,21.347899999999999]
[16818733,373,60,11,69,248,628,21.856400000000001]
[16832938,0,0,0,0,0,1,0]
[16833395,256,0,2,10,47,133,19.53]
[16833396,127,0,1,3,9,39,19.97]
[16833397,1,0,0,0,1,4,0]
[16833398,0,0,0,0,6,17,0]
[16847375,-3,0,0,0,6,18,0]
[16847376,-2,0,0,0,0,6,0]
[16847377,49,0,15,55,408,1006,5.3993000000000002]
[16847378,-4,0,0,0,9,9,0]
[16847379,0,0,0,0,0,3,0]
[16847381,69,0,3,61,299,660,2.6633]
[16847382,0,0,0,2,29,35,0]
[16857579,26,0,0,2,8,26,0]
[16857580,24,0,0,0,5,26,0]
[16857581,10,0,0,0,3,7,0]
[16857596,-1,0,0,0,1,1,0]
[16857599,1,0,0,0,0,0,0]
[16857601,1,0,0,0,2,3,0]
[16857602,1,0,0,0,1,2,0]
[16857604,3,0,0,1,2,3,0]
[16857605,0,0,0,0,6,7,0]
[16857606,0,0,0,0,0,4,0]
[16857607,2,0,0,0,3,10,0]
[16857608,0,0,0,0,5,6,0]
[16857611,29,0,1,6,37,96,1599.99]
[16857613,-1,0,0,1,7,16,0]
[16857614,45,0,2,15,37,67,1248.4849999999999]
[16857616,1,0,0,0,0,0,0]
[16857617,23,0,0,1,15,67,0]
[16857620,0,0,0,1,1,2,0]
[16857622,1,0,0,0,0,0,0]
[16857623,1,0,0,0,0,0,0]
[16857624,0,0,0,1,6,9,0]
[16857625,-2,0,1,1,5,12,1524.98]
[16857627,10,0,0,-1,4,17,0]
[16857932,6,0,0,0,0,2,0]
[16857934,0,0,0,0,2,4,0]
[16857936,25,0,1,1,6,24,84.99]
[16857938,399,102,51,198,637,1204,23.932200000000002]
[16858568,5,0,0,0,1,6,0]
[16858569,29,0,0,2,5,17,0]
[16858688,10,0,0,1,3,11,0]
[16862504,3,0,0,1,6,14,0]
[16862506,13,0,0,0,3,16,0]
[16862507,3,0,0,2,9,43,0]
[16862509,7,0,0,0,1,26,0]
[17027671,240,46,16,69,212,551,48.277500000000003]
[17033077,337,120,18,72,250,570,23.3994]
[17078268,14,0,1,1,1,7,343.04]
[17078269,5,0,2,3,3,11,403.61500000000001]
[17078270,15,0,0,2,3,11,0]
[17078687,53,12,6,10,40,100,179.99]
[17087864,1,0,0,0,3,5,0]
[17087865,30,0,0,-1,12,63,0]
[17090028,46,6,1,3,14,36,14.99]
[17090029,42,6,0,6,27,61,0]
[17090030,52,29,6,17,65,128,27.966699999999999]
[17124625,4,0,0,1,1,2,0]
[17124627,23,0,1,2,6,11,1799.99]
[17138357,13,16,3,7,41,94,179.99]
[17138358,0,0,0,0,1,1,0]
[17138362,0,0,0,0,0,1,0]
[17138363,0,0,0,0,0,1,0]
[17138450,1,0,0,0,0,9,0]
[17138489,0,0,0,0,0,0,0]
[17138490,198,0,2,10,52,453,40.5]
[17143818,1,0,0,1,13,84,0]
[17148195,11,0,0,0,8,16,0]
[17155471,1,0,0,0,0,0,0]
[17155492,31,0,0,1,5,10,0]
[17173942,0,0,0,0,0,1,0]
[17174689,329,0,7,16,38,92,94.99]
[17174690,619,0,59,180,538,1146,32.741900000000001]
[17174691,9,0,0,1,25,66,0]
[17174692,422,0,18,111,351,665,58.1]
[17174693,440,24,18,132,360,658,96.853300000000004]
[17174694,242,184,14,63,216,416,85.883600000000001]
[17175645,-1,0,0,0,3,10,0]
[17175646,0,0,0,1,1,1,0]
[17175686,-1,0,1,1,1,10,190.73]
[17175687,0,0,0,0,0,7,0]
[17177662,63,8,4,29,89,158,123.9975]
[17177663,122,20,11,37,115,242,75.196399999999997]
[17177664,170,30,8,24,73,166,53.813699999999997]
[17177665,35,0,13,34,136,352,17.586200000000002]
[17177666,8,0,0,1,13,26,0]
[17177667,8,0,0,3,9,30,0]
[17177668,3,0,2,2,10,60,35.97]
[17177669,13,0,0,4,13,44,0]
[17177670,29,5,12,32,98,230,46.528300000000002]
[17177671,41,10,4,19,62,118,67.989999999999995]
[17177672,7,0,1,3,25,48,35.97]
[17177673,16,0,0,0,0,1,0]
[17177674,17,0,1,1,1,1,49.99]
[17177677,87,0,12,51,145,297,37.672499999999999]
[17177678,13,0,0,1,2,5,0]
[17183699,-1,0,0,0,0,3,0]
[17183700,1,0,0,0,0,0,0]
[17183701,2,0,0,0,0,0,0]
[17184649,1,0,0,0,0,4,0]
[17184650,-3,0,0,0,0,0,0]
[17184695,4,0,0,0,0,8,0]
[17197501,133,3,1,7,33,61,16.989999999999998]
[17197504,16,0,0,2,5,9,0]
[17197505,0,0,0,0,0,7,0]
[17198189,1,0,0,0,1,2,0]
[17198190,159,0,2,102,708,946,30.475000000000001]
[17198191,2,0,0,0,11,58,0]
[17198192,46,0,0,5,98,138,0]
[17202753,-78,0,0,0,0,78,0]
[17203005,321,0,7,36,77,255,165.22710000000001]
[17203006,62,0,0,2,19,79,0]
[17203080,36,0,1,4,9,58,9.9700000000000006]
[17203081,235,66,14,133,352,693,59.148600000000002]
[17203082,58,48,10,77,184,293,59.845999999999997]
[17203083,5,0,0,0,0,13,0]
[17203525,39,3,4,13,34,69,46.622500000000002]
[17203714,0,0,0,0,0,4,0]
[17205036,0,0,0,0,0,0,0]
[17208674,3,0,0,1,11,96,0]
[17208675,13,0,0,0,16,66,0]
[17208676,10,0,0,0,13,77,0]
[17208677,16,0,0,0,4,40,0]
[17208678,-5,0,0,0,6,51,0]
[17208679,4,0,0,0,7,56,0]
[17208680,10,0,0,0,9,47,0]
[17208681,3,0,0,0,9,58,0]
[17208682,6,0,0,0,12,59,0]
[17214208,0,0,0,0,0,0,0]
[17227659,9708,540,953,4063,13002,24656,19.478200000000001]
[17227661,3,0,0,0,4,7,0]
[17228576,182,36,5,38,112,251,167.99]
[17228703,1,0,0,0,0,0,0]
[17228704,28,0,2,9,137,797,104.99]
[17228710,310,40,30,82,290,705,110.97799999999999]
[17228711,-2,0,0,1,12,19,0]
[17228712,0,0,0,0,0,4,0]
[17228713,0,0,0,0,0,1,0]
[17232805,500,144,38,157,531,1035,5.9070999999999998]
[17232806,342,192,60,261,650,1393,14.368]
[17232808,332,240,38,141,407,910,11.051600000000001]
[17232809,471,0,32,116,304,633,7.5774999999999997]
[17239545,6,0,0,1,3,63,0]
[17239637,149,0,15,52,195,818,102.848]
[17241015,7,0,0,1,1,3,0]
[17241016,5,0,0,0,0,4,0]
[17257803,291,12,17,64,143,282,370.20409999999998]
[17257804,183,0,6,27,87,312,215.30500000000001]
[17257805,136,0,7,23,77,148,89.887100000000004]
[17257806,0,0,0,0,1,3,0]
[17257807,3,0,0,0,0,1,0]
[17257808,205,12,3,11,44,156,18.1433]
[17257809,3,0,0,0,0,3,0]
[17257810,0,0,0,0,0,4,0]
[17258500,1,0,0,0,0,2,0]
[17258501,0,0,0,0,0,5,0]
[17258502,11,0,0,2,6,34,0]
[17258503,32,0,1,1,7,29,29.97]
[17258504,-3,0,0,0,0,4,0]
[17258508,0,0,0,0,0,4,0]
[17258509,4,0,0,0,3,41,0]
[17258569,37,0,0,4,21,66,0]
[17258570,0,0,1,4,7,16,9.89]
[17258571,5,0,1,2,7,21,9.9700000000000006]
[17258572,0,0,0,0,0,4,0]
[17258573,0,0,0,0,2,6,0]
[17258575,31,0,0,4,9,17,0]
[17258576,1,0,0,0,1,7,0]
[17258577,1,0,0,0,0,8,0]
[17258579,0,0,0,0,0,1,0]
[17272839,1,0,0,0,0,0,0]
[17272844,56,15,4,19,67,133,86.24]
[17272845,-4,0,0,0,0,0,0]
[17272846,81,0,0,1,23,101,0]
[17272847,-4,0,0,0,0,0,0]
[17272850,18,0,2,7,62,154,99]
[17272851,375,273,33,136,390,743,98.051500000000004]
[17272853,4,0,1,4,39,137,159]
[17272854,22,0,2,6,28,200,159]
[17272856,712,520,72,292,907,1637,10.3665]
[17272857,743,235,37,156,489,1053,15.6349]
[17272858,607,260,67,214,580,1033,23.9072]
[17272861,28,0,6,14,56,112,187.5633]
[17272862,189,0,27,84,283,587,138.15110000000001]
[17273757,81,3,3,8,40,122,1026.6567]
[17273758,70,8,8,16,55,149,934.86500000000001]
[17273759,150,11,7,17,76,159,1047.1329000000001]
[17273760,17,0,1,4,11,43,192.5]
[17279432,295,72,37,101,345,670,28.801100000000002]
[17279433,275,24,28,87,278,566,29.570399999999999]
[17279434,0,0,0,0,0,2,0]
[17279441,68,13,7,15,45,141,846.26]
[17282470,155,0,3,16,47,156,7.84]
[17282471,13,0,1,1,7,73,13.56]
[17282472,90,0,2,10,27,63,29.99]
[17282474,50,0,1,9,59,203,15]
[17282475,6,0,1,4,35,125,12]
[17292478,55,0,1,9,40,79,26.45]
[17292479,15,0,3,4,24,67,29.97]
[17292480,155,0,5,36,128,270,24.96]
[17292481,84,0,5,22,98,229,24.97]
[17292483,72,0,1,6,18,42,29.97]
[17292484,9,0,5,17,46,86,23.97]
[17292485,40,0,1,9,20,52,27.99]
[17292486,85,0,4,14,92,251,24.99]
[17292711,28,0,0,3,15,45,0]
[17292712,67,0,4,8,19,95,19.97]
[17292713,100,0,1,17,68,187,9.9700000000000006]
[17292714,41,0,1,8,48,141,9.9700000000000006]
[17292715,19,0,1,4,24,131,19.97]
[17292716,538,88,28,127,381,821,14.259600000000001]
[17292717,223,24,6,42,149,296,29.605]
[17297597,12,0,0,1,7,52,0]
[17297598,39,0,2,7,33,568,399.99]
[17297599,1,0,0,0,1,9,0]
[17297600,148,0,9,34,89,398,69.761099999999999]
[17297601,5,0,0,0,1,9,0]
[17297602,172,0,6,38,131,445,57.5867]
[17297603,26,0,2,3,9,33,30.84]
[17297604,21,0,0,1,3,10,0]
[17303047,146,8,1,37,89,252,199.99]
[17303048,226,0,6,38,148,382,209.32169999999999]
[17303058,-3,0,0,2,3,3,0]
[17303089,40,35,2,9,33,54,39]
[17303092,49,55,1,8,43,77,54]
[17303096,33,0,1,3,11,29,79]
[17303098,72,35,1,9,38,53,29]
[17303099,-2,0,0,0,5,19,0]
[17303103,203,220,17,57,298,437,23.551200000000001]
[17303108,54,70,12,24,72,164,39.528300000000002]
[17303114,2,0,0,0,0,4,0]
[17303118,0,0,0,0,0,8,0]
[17303123,1,0,0,0,0,0,0]
[17303318,0,0,0,0,0,0,0]
[17303319,0,0,0,0,0,1,0]
[17303320,0,0,0,0,1,2,0]
[17303992,0,0,0,0,1,2,0]
[17304819,0,0,0,0,1,1,0]
[17329519,3,0,0,0,0,20,0]
[17329629,0,0,0,0,0,6,0]
[17333248,-1,0,0,0,0,0,0]
[17333559,19,0,4,9,50,81,682.48500000000001]
[17334098,146,38,5,19,76,264,496.98]
[17334099,413,36,13,61,255,732,144.72460000000001]
[17334100,284,12,1,17,100,283,145.02000000000001]
[17334101,41,0,1,6,21,61,124]
[17342896,3,0,1,2,6,20,49.97]
[17357767,77,28,18,39,103,229,150.89940000000001]
[17357768,92,32,11,48,155,299,153.5009]
[17357769,391,192,59,260,724,1441,147.8492]
[17357770,0,4,2,7,19,31,125.62]
[17357824,0,0,1,1,1,2,649.99]
[17357825,0,0,1,2,2,11,699.99]
[17357826,0,0,0,0,0,2,0]
[17357828,0,0,0,0,0,11,0]
[17357829,0,0,0,0,0,3,0]
[17357830,0,0,0,0,0,6,0]
[17357835,2,0,0,0,1,2,0]
[17357836,0,0,0,0,2,3,0]
[17357839,0,0,0,1,1,1,0]
[17357848,0,0,0,0,0,1,0]
[17357850,0,0,0,0,1,2,0]
[17357852,-1,0,0,0,0,3,0]
[17357856,0,0,0,0,1,2,0]
[17357859,0,0,0,0,0,1,0]
[17357860,0,0,0,0,0,1,0]
[17357861,0,0,0,0,0,2,0]
[17357862,0,0,0,0,4,8,0]
[17357863,0,0,0,1,1,1,0]
[17357865,0,0,0,0,1,1,0]
[17357877,0,0,0,0,1,1,0]
[17357883,0,0,0,0,1,1,0]
[17357884,0,0,0,0,1,1,0]
[17357886,-1,0,0,0,2,3,0]
[17357887,0,0,0,0,0,1,0]
[17357899,0,0,0,0,1,1,0]
[17357904,0,0,0,0,1,1,0]
[17366266,0,0,0,0,0,1,0]
[17366269,-1,0,0,0,0,0,0]
[17366275,0,0,0,0,0,8,0]
[17366276,1,0,0,0,0,9,0]
[17366277,0,0,0,0,0,8,0]
[17366279,1,0,0,0,0,0,0]
[17366280,0,0,0,0,0,2,0]
[17366287,2,0,0,0,0,17,0]
[17366311,0,0,0,0,0,3,0]
[17366312,1,0,0,0,0,4,0]
[17366313,0,0,0,0,0,1,0]
[17366314,1,0,0,0,0,0,0]
[17366439,0,0,0,0,0,2,0]
[17366441,-1,0,0,0,0,0,0]
[17366442,1,0,0,0,0,0,0]
[17366450,2,0,0,0,0,0,0]
[17366452,1,0,0,0,0,3,0]
[17366453,0,0,0,0,0,0,0]
[17366454,2,0,0,0,0,11,0]
[17366455,6,0,0,0,0,9,0]
[17366456,2,0,0,0,0,8,0]
[17366457,6,0,0,0,0,26,0]
[17366458,5,0,0,0,0,5,0]
[17366459,-2,0,0,0,0,18,0]
[17366460,0,0,0,0,0,3,0]
[17366461,2,0,0,0,0,11,0]
[17366462,0,0,0,0,0,1,0]
[17366464,-1,0,0,0,1,8,0]
[17366467,0,0,0,0,0,1,0]
[17366473,0,0,0,0,0,1,0]
[17366478,1,0,0,0,0,3,0]
[17366479,1,0,0,0,0,17,0]
[17366483,0,0,0,0,0,3,0]
[17366487,1,0,0,0,0,1,0]
[17366489,0,0,0,0,0,3,0]
[17366623,5,0,0,0,4,13,0]
[17366624,90,3,2,9,50,148,620.38]
[17366625,2,2,0,0,6,13,0]
[17366626,106,11,6,16,88,223,874.85170000000005]
[17366635,1,0,0,1,1,1,0]
[17366636,3,0,0,0,0,0,0]
[17366867,1,0,0,1,7,39,0]
[17366870,1,0,0,0,0,0,0]
[17366871,0,0,0,0,0,0,0]
[17367265,2,0,0,0,2,27,0]
[17373541,1,1,0,0,0,0,0]
[17373918,14,0,1,13,80,224,408]
[17373919,65,0,3,34,334,928,515.07330000000002]
[17373920,17,0,0,7,38,105,0]
[17373921,9,0,3,16,65,194,544]
[17373922,40,0,4,10,151,415,518.05999999999995]
[17373923,2322,325,201,761,2687,7602,118.98050000000001]
[17373924,2247,320,203,835,3008,7900,168.0436]
[17373939,33,0,1,2,34,203,414.99]
[17373940,85,0,14,27,78,183,317.6429]
[17373941,58,0,1,4,18,76,319.99]
[17373943,118,8,3,9,68,199,20.746700000000001]
[17373944,204,40,13,35,130,360,23.49]
[17373945,59,40,5,10,66,148,44.357999999999997]
[17373946,36,0,3,9,17,39,20.38]
[17373947,30,0,3,4,9,27,19.97]
[17373948,42,0,0,1,10,39,0]
[17373949,40,0,2,5,16,51,49.99]
[17373950,21,0,1,2,6,31,29.97]
[17373951,18,0,0,1,9,30,0]
[17374954,259,24,3,17,67,161,253.33330000000001]
[17374955,123,0,1,8,34,104,269]
[17374957,5,0,0,0,4,5,0]
[17374958,0,48,0,0,1,52,0]
[17374959,0,0,0,0,0,1,0]
[17374960,1,24,0,0,0,14,0]
[17374961,0,0,0,0,2,6,0]
[17374962,0,0,0,0,0,0,0]
[17377633,3,0,1,1,8,57,349.99]
[17377835,0,0,0,0,0,8,0]
[17377905,150,60,17,73,241,470,29.519400000000001]
[17377906,72,5,0,7,34,93,0]
[17377907,65,10,5,15,49,119,26.437999999999999]
[17377908,59,0,4,17,47,104,26.86]
[17387592,0,0,0,0,2,36,0]
[17387608,36,0,11,57,371,959,13.9664]
[17387609,39,0,8,53,382,975,22.702500000000001]
[17387612,98,0,34,140,546,945,8.7937999999999992]
[17387613,172,0,32,144,449,796,10.4072]
[17387614,174,0,25,109,277,428,17.527200000000001]
[17387615,162,0,26,81,292,461,24.210799999999999]
[17387616,26,0,5,17,172,427,34.99]
[17387617,32,0,8,14,184,429,89.54]
[17387618,32,0,2,19,202,365,159.99]
[17387619,-2,0,5,30,188,402,83.352000000000004]
[17387620,-4,0,1,12,188,455,147.99]
[17387621,0,0,0,0,0,6,0]
[17387622,0,0,0,0,4,7,0]
[17387627,21,170,3,21,284,550,19.989999999999998]
[17387628,212,20,8,41,146,248,32.99]
[17387629,188,20,10,22,77,154,59.886000000000003]
[17387631,2,0,0,0,3,10,0]
[17397663,24,0,0,3,16,55,0]
[17397664,56,0,1,4,12,19,44.99]
[17398259,87,5,2,8,31,57,19.989999999999998]
[17398260,152,0,5,16,58,135,17.922000000000001]
[17398261,334,25,10,32,97,270,23.710999999999999]
[17398262,354,25,18,59,183,402,23.977799999999998]
[17398263,108,0,2,14,43,85,29.99]
[17398264,123,20,3,22,60,126,29.206700000000001]
[17407912,238,0,7,45,267,743,43.762900000000002]
[17407916,9,62,1,2,13,54,53.99]
[17407917,5,48,0,2,6,35,0]
[17407918,49,0,4,10,31,77,57.567500000000003]
[17412478,1,0,0,0,1,1,0]
[17412514,580,0,30,126,544,1685,794.57299999999998]
[17423176,212,75,13,46,178,342,19.707699999999999]
[17423177,286,30,9,41,133,329,19.912199999999999]
[17423178,15,0,0,3,27,59,0]
[17423179,1,0,0,1,1,19,0]
[17423180,124,90,10,43,159,341,19.407]
[17423181,287,30,17,53,165,322,12.2865]
[17423182,206,165,23,74,308,646,19.157800000000002]
[17423183,75,10,5,13,37,92,28.408000000000001]
[17424231,3,0,0,0,0,8,0]
[17425789,80,0,2,28,131,169,20.09]
[17428099,3,0,0,0,5,11,0]
[17452471,1,178,6,9,124,168,51.346699999999998]
[17452472,47,138,8,33,132,227,37.016199999999998]
[17452474,430,30,14,68,229,631,147.24289999999999]
[17452475,192,30,15,46,167,472,145.34]
[17452476,192,18,8,29,96,297,135.9212]
[17452477,23,42,0,1,6,56,0]
[17463316,0,2,-1,1,3,3,207]
[17483383,73,3,2,9,28,51,239.99]
[17483384,144,14,11,31,67,141,211.16820000000001]
[17483385,66,9,5,11,35,88,274.67399999999998]
[17483386,119,0,1,5,15,43,154.99]
[17483388,81,4,7,12,45,99,364.26569999999998]
[17483389,1,0,0,0,1,1,0]
[17483390,116,18,1,35,90,181,90.61]
[17483391,5,0,0,0,0,3,0]
[17483392,10,0,0,0,0,1,0]
[17497483,0,0,0,1,2,2,0]
[17497484,113,40,6,27,81,198,72.693299999999994]
[17497544,6,0,0,0,16,79,0]
[17503449,13,0,1,3,10,29,449.99]
[17505201,37,5,4,16,59,65,29.19]
[17505394,0,0,0,0,1,19,0]
[17688399,2,0,0,0,1,2,0]
[17693348,2,0,0,0,1,1,0]
[17693349,4,0,0,0,1,1,0]
[17693350,3,0,0,0,0,2,0]
[17693351,1,0,1,1,1,3,129.99]
[17693353,24,0,0,0,2,6,0]
[17693354,17,0,1,2,7,15,3.56]
[17693355,13,0,0,1,2,3,0]
[17693356,13,0,0,0,1,5,0]
[17693357,14,0,0,0,2,7,0]
[17693358,5,0,0,0,1,2,0]
[17693359,4,0,0,0,0,1,0]
[17693361,186,0,6,14,65,122,99.99]
[17697638,1,0,0,-1,1,1,0]
[17697639,0,0,0,0,0,1,0]
[17697640,3,0,1,1,2,6,1379.99]
[17697641,3,0,0,0,1,1,0]
[17703099,71,0,4,13,101,693,73.739999999999995]
[17703100,36,0,2,2,34,273,79.989999999999995]
[17703122,149,0,2,17,103,393,94.99]
[17703123,284,0,9,35,99,412,136.9256]
[17703124,281,0,8,27,105,404,124.2963]
[17703701,1,0,0,0,1,3,0]
[17703702,10,1,5,10,28,46,1799]
[17703703,0,0,0,0,0,3,0]
[17703705,8,2,0,0,6,17,0]
[17703707,10,0,1,1,13,47,1889]
[17703709,2,0,1,1,3,12,1489]
[17703710,18,2,2,4,16,35,1339]
[17703712,9,3,1,6,19,37,1489]
[17703714,28,7,3,8,37,89,1485.0567000000001]
[17703715,0,0,0,1,1,1,0]
[17703716,18,7,0,3,25,64,0]
[17703717,18,3,3,5,13,26,1582.5467000000001]
[17703719,8,2,2,5,12,27,1614]
[17703721,19,0,2,9,37,95,1614]
[17703723,41,6,10,17,54,134,1133.5]
[17703724,21,1,1,3,17,35,1139]
[17703726,8,3,2,3,13,42,1132.52]
[17703728,57,5,5,9,48,115,1223.664]
[17703836,12,0,0,0,0,0,0]
[17703972,0,0,0,0,0,1,0]
[17703976,1,0,0,0,0,0,0]
[17704044,0,0,0,0,0,8,0]
[17704045,0,0,0,0,0,1,0]
[17704046,0,0,0,0,0,1,0]
[17704494,0,0,0,0,0,0,0]
[17704495,0,0,0,0,0,0,0]
[17712725,135,31,3,28,144,364,489]
[17712726,135,22,7,39,134,351,470.36430000000001]
[17712727,75,1,11,26,83,240,483.02640000000002]
[17712728,56,0,6,18,50,165,467.37]
[17712729,59,11,3,13,69,167,585.99670000000003]
[17712730,51,0,2,5,32,85,589]
[17712731,33,5,3,7,31,72,579.54]
[17712732,13,0,0,4,21,48,0]
[17712733,22,0,0,3,17,43,0]
[17712734,5,0,0,0,4,8,0]
[17712735,4,0,0,3,3,15,0]
[17712736,8,0,-1,1,7,16,789]
[17712737,-1,0,2,3,9,11,559.125]
[17712739,0,0,0,0,0,1,0]
[17712740,0,0,0,0,0,1,0]
[17712741,0,0,0,1,2,13,0]
[17712745,1,0,0,0,2,3,0]
[17712752,-1,0,0,0,1,1,0]
[17712904,85,0,0,0,7,18,0]
[17738446,14,0,0,0,0,0,0]
[17738449,278,12,21,66,263,678,102.7757]
[17738450,227,175,62,181,511,1064,125.8034]
[17738452,449,200,39,209,640,1512,90.363600000000005]
[17739157,276,30,29,103,329,704,76.828999999999994]
[17739158,145,0,12,45,149,324,92.334199999999996]
[17739159,136,10,6,16,62,136,178.66]
[17739160,64,5,3,10,31,59,199]
[17739161,242,0,4,9,44,90,128.1575]
[17739162,138,0,4,6,13,37,149]
[17739163,58,0,0,4,20,44,0]
[17739164,81,0,4,14,45,108,93.305000000000007]
[17739168,8,0,0,1,68,201,0]
[17739169,1,0,1,6,26,62,789]
[17739170,0,0,1,2,17,50,964]
[17739171,-1,0,0,0,1,11,0]
[17739260,0,0,0,0,0,0,0]
[17739261,0,0,0,0,0,0,0]
[17753583,38,0,5,18,67,143,387.14600000000002]
[17753584,35,0,1,2,6,16,29.97]
[17754108,12,0,0,0,1,1,0]
[17754109,-6,0,0,2,4,42,0]
[17754110,1,0,0,0,2,67,0]
[17754111,3,0,0,2,4,94,0]
[17754112,1,0,1,1,2,48,1699.55]
[17754113,1,0,0,0,0,0,0]
[17754114,-2,0,0,0,0,36,0]
[17754115,15,0,0,8,46,111,0]
[17754116,2,0,0,0,13,28,0]
[17754117,26,0,0,2,17,54,0]
[17754118,21,0,0,2,18,64,0]
[17754119,35,0,0,7,48,129,0]
[17754120,28,0,1,3,14,56,2239.9699999999998]
[17754121,22,0,2,4,19,43,2639.97]
[17754122,9,0,0,4,24,62,0]
[17763590,299,112,14,43,142,384,94.35]
[17763591,128,16,0,11,44,130,0]
[17763592,1100,217,27,84,402,1250,31.8233]
[17819101,0,0,0,0,5,6,0]
[17819103,0,0,0,0,0,2,0]
[17819104,0,0,0,0,0,2,0]
[17819105,0,0,0,0,0,1,0]
[17819108,0,0,0,1,1,3,0]
[17819109,0,0,0,1,1,3,0]
[17819111,0,0,0,0,1,5,0]
[17819112,0,0,0,0,0,1,0]
[17819113,0,0,0,0,0,2,0]
[17824043,20,0,2,2,4,20,949.99]
[17824044,43,6,4,10,28,80,847.73500000000001]
[17824046,23,0,0,0,2,5,0]
[17824047,0,0,0,0,3,18,0]
[17829028,49,7,4,14,39,127,137.41]
[17848852,185,0,5,19,57,122,53.177999999999997]
[17848853,40,0,2,7,24,59,262.02]
[17913798,1,0,0,0,16,40,0]
[17913799,1,0,0,0,0,0,0]
[17913800,20,0,0,3,4,24,0]
[17913801,23,0,1,4,15,38,29.97]
[18023724,24,0,0,3,6,17,0]
[18023726,13,10,1,4,13,29,10.79]
[18338940,43,20,7,16,49,92,11.59]
[18358967,2,0,0,0,2,4,0]
[18373752,37,0,1,1,9,20,17.989999999999998]
[18373753,101,25,2,5,7,11,67.790000000000006]
[18373754,78,3,1,3,13,21,29.99]
[18373755,102,36,3,9,32,40,24.99]
[18373756,149,13,7,18,70,109,29.99]
[18373757,136,0,0,6,31,51,0]
[18373758,59,0,4,6,17,26,17.989999999999998]
[18373759,32,1,0,3,5,18,0]
[18373760,25,7,0,4,11,21,0]
[18373761,18,0,0,0,4,8,0]
[18373762,42,0,0,0,1,6,0]
[18373763,44,0,0,2,2,7,0]
[18373764,29,6,0,7,77,158,0]
[18373765,52,33,6,21,55,74,27.99]
[18373766,124,137,13,62,205,311,34.545400000000001]
[18373767,103,63,17,74,159,240,41.516500000000001]
[18373768,9,7,1,27,79,125,69.989999999999995]
[18373769,26,35,3,11,46,61,14.99]
[18373770,9,30,1,10,36,52,14.99]
[18373771,6,0,0,0,0,5,0]
[18373772,85,27,2,7,21,33,26.42]
[18373773,38,32,1,7,19,27,27.99]
[18373774,0,0,0,0,11,21,0]
[18373775,67,19,1,6,23,43,15.7]
[18373776,17,7,1,4,12,19,38.71]
[18373777,14,2,0,2,5,11,0]
[18373778,11,0,0,2,10,28,0]
[18664947,329,10,-1,8,28,60,159.99]
[18664948,155,0,0,4,9,19,0]
[18664949,287,30,9,33,114,236,158.37219999999999]
[18664950,211,0,2,7,23,64,159.99]
[18664951,234,80,15,96,384,748,47.544699999999999]
[18666300,41,0,4,26,79,198,671.10500000000002]
[18676297,12,0,0,0,27,681,0]
[18676299,2901,280,200,783,2802,5747,17.6113]
[18696461,462,94,38,162,489,1055,224.2595]
[18696462,140,34,17,38,141,345,224.17529999999999]
[18704119,125,20,3,11,40,118,324.94]
[18704120,323,70,6,19,47,132,18.318300000000001]
[18719000,512,0,0,7,60,124,0]
[18719001,236,28,3,20,139,358,137.32329999999999]
[18719002,405,200,24,99,328,1202,195.84829999999999]
[18729138,101,12,7,54,193,641,217.53710000000001]
[18732024,170,0,2,23,72,155,549.99]
[18732025,176,80,1,19,99,274,489.99]
[18732026,99,0,3,33,155,1666,198.32329999999999]
[18738904,0,0,0,0,2,94,0]
[18738905,-2,0,0,0,52,289,0]
[18738906,1,0,0,0,46,239,0]
[18739147,153,36,1,3,23,88,229]
[18739148,237,24,7,15,57,143,259.75290000000001]
[18823950,308,87,10,29,140,366,388.83100000000002]
[18823951,84,11,1,2,38,116,319.99]
[18823952,134,150,25,48,465,960,150.73240000000001]
[18823953,98,10,3,9,37,113,369.99]
[18823954,52,2,0,2,13,47,0]
[18823958,1,0,0,0,0,1,0]
[18831243,-1,0,0,0,4,12,0]
[18831268,224,0,8,14,43,180,43.052500000000002]
[18831269,115,0,3,7,15,70,104.4267]
[18831270,705,0,2,18,83,358,127.85]
[18831271,255,0,8,23,64,205,168.84870000000001]
[18833435,12,0,0,3,27,77,0]
[18833436,0,0,0,0,0,1,0]
[18833486,22,0,0,1,15,175,0]
[18833487,43,0,0,2,12,83,0]
[18838730,2,0,0,0,2,13,0]
[18838731,0,1,0,0,-1,15,0]
[18841001,147,0,10,46,179,548,150.88300000000001]
[18869962,2,0,0,6,56,168,0]
[18870177,376,0,8,27,92,586,198.1337]
[18893776,80,0,6,12,53,101,1920.28]
[18893777,48,0,2,10,46,123,1149.99]
[18893778,27,0,3,7,34,74,699.99]
[18894072,40,0,-1,9,47,141,3]
[18895138,19,0,4,15,19,43,18.245000000000001]
[18895139,17,0,0,0,0,1,0]
[18895140,1,10,1,5,15,22,14.99]
[18895141,2,30,1,20,90,169,16.010000000000002]
[18895142,-1,30,5,18,52,95,10.816000000000001]
[18895143,6,25,1,17,71,118,10.99]
[18895144,11,5,4,4,16,27,14.99]
[18895145,27,10,1,8,46,70,29.99]
[18895146,28,25,0,0,19,26,0]
[18895147,10,30,2,24,79,127,27.99]
[18895148,22,10,1,8,17,29,4.99]
[18895149,41,20,2,17,57,67,49.99]
[18895150,18,5,1,5,17,21,39.99]
[18895151,17,0,0,0,0,0,0]
[18895152,23,5,0,4,9,9,0]
[18895153,8,0,0,0,4,6,0]
[18895154,10,10,0,4,11,18,0]
[18895155,16,0,0,0,0,0,0]
[18897424,11,0,3,13,40,135,2498.66]
[18897425,20,0,4,9,30,82,3099.99]
[18898177,17,0,0,1,13,18,0]
[18898178,13,0,0,1,3,11,0]
[18898179,20,0,0,1,6,18,0]
[18898180,8,0,0,3,10,19,0]
[18898181,10,0,0,0,2,10,0]
[18898182,0,0,0,0,0,6,0]
[18898183,4,0,0,1,1,7,0]
[18898184,21,0,0,4,7,11,0]
[18898185,6,0,0,0,0,4,0]
[18898186,14,0,0,0,10,21,0]
[18898187,15,0,0,3,11,20,0]
[18898188,18,0,0,5,14,24,0]
[18898352,0,0,0,0,6,50,0]
[18899721,141,40,6,32,121,258,108.54]
[18899722,618,150,51,193,805,1741,24.481200000000001]
[18899723,126,30,8,27,170,384,67.041300000000007]
[18899724,84,15,2,26,104,206,168.505]
[18899725,271,24,8,39,125,322,151.73750000000001]
[18900096,232,0,10,25,102,339,222.99]
[18900097,219,0,1,4,15,78,219.99]
[18900100,205,0,1,8,36,89,179.99]
[18900101,109,0,1,2,9,19,172.81]
[18900130,127,20,7,42,135,330,365.00290000000001]
[18900131,1,0,0,0,0,0,0]
[18900132,56,8,7,16,57,145,397.85]
[18900133,0,0,0,0,0,1,0]
[18900134,115,21,17,60,217,500,326.28289999999998]
[18900135,55,8,5,18,70,179,396.99]
[18900136,2,0,0,0,1,2,0]
[18900137,2,0,0,0,0,0,0]
[18900138,1,3,2,2,3,3,199.99]
[18900139,2,0,0,0,0,0,0]
[18900140,0,0,0,0,0,12,0]
[18900141,41,2,5,17,48,114,181.99]
[18900143,75,4,7,19,81,180,1137.1329000000001]
[18900144,2,0,0,1,1,4,0]
[18900145,0,2,1,1,2,3,499.99]
[18904599,50,40,3,12,35,84,7.59]
[18904600,79,10,2,19,56,78,7.41]
[18905116,36,0,1,2,13,22,899.99]
[18914941,390,0,3,21,35,35,8.0299999999999994]
[18914942,380,0,15,97,213,213,16.114699999999999]
[18914943,461,0,11,46,103,103,24.99]
[18914944,351,64,46,189,449,449,17.767399999999999]
[18919305,15,0,0,8,14,62,0]
[18919306,14,0,0,-1,36,106,0]
[18924869,14,0,0,0,2,11,0]
[18924870,27,-1,0,2,7,21,0]
[18924871,0,0,0,0,1,2,0]
[18924872,1,0,0,0,0,0,0]
[18924873,18,0,0,3,16,41,0]
[18924874,95,0,7,24,106,348,1997.9485999999999]
[18924875,97,0,9,45,150,431,1331.6867]
[18924876,90,0,2,22,81,209,1179.99]
[18924877,79,0,5,19,49,108,879.99]
[18924878,-1,0,0,0,2,3,0]
[18924879,0,0,0,0,0,1,0]
[18924880,0,0,0,0,0,2,0]
[18924881,54,0,1,6,21,53,889.99]
[18924882,0,0,0,0,2,2,0]
[18924883,44,0,2,3,16,66,1579.99]
[18924884,69,15,1,9,40,129,1207]
[18924885,98,0,5,18,61,135,748.99]
[18924886,71,0,2,8,24,79,597.495]
[18924891,0,0,0,0,0,0,0]
[18924893,16,0,1,3,15,34,1779.99]
[18924894,125,30,8,25,71,234,776]
[18924895,167,36,14,35,154,358,572.50429999999994]
[18924896,363,0,19,90,359,761,398.6789]
[18924897,437,50,36,89,336,716,295.88780000000003]
[18924898,325,200,26,138,515,1058,283.23540000000003]
[18924899,579,180,48,164,550,1082,225.42959999999999]
[18928821,219,40,20,52,198,542,32.103999999999999]
[18928889,14,0,0,1,8,27,0]
[18928890,41,0,2,9,32,104,29.97]
[18928891,2,0,0,0,0,26,0]
[18928892,62,0,0,2,5,10,0]
[18928893,70,0,0,1,9,34,0]
[18928894,104,0,5,7,29,127,48.728000000000002]
[18928977,99,0,1,6,17,56,1699.99]
[18928978,150,0,3,12,50,179,799.99]
[18928979,141,0,12,34,115,343,439.62580000000003]
[18928981,98,0,2,10,40,109,539.99]
[18928982,166,0,4,14,64,172,452.80250000000001]
[18928983,161,0,6,37,102,196,348.94830000000002]
[18928984,139,0,0,0,0,0,0]
[18928985,279,0,0,0,0,0,0]
[18929185,315,61,99,273,1011,2198,283.93630000000002]
[18929186,43,24,52,106,340,620,281.73349999999999]
[18929187,215,111,134,338,1215,3921,285.89920000000001]
[18929188,20,11,8,23,51,242,284]
[18929189,0,0,0,0,0,1,0]
[18929190,129,42,29,68,412,1127,389.10789999999997]
[18929191,30,15,6,18,93,239,379]
[18929192,156,36,55,121,347,972,398.31869999999998]
[18929194,0,0,0,0,2,10,0]
[18929196,-1,0,0,0,6,8,0]
[18929197,0,0,0,0,2,11,0]
[18929198,0,0,1,3,4,12,489]
[18929199,0,0,0,0,1,1,0]
[18929200,0,0,0,0,0,1,0]
[18929201,0,0,0,0,3,9,0]
[18929202,0,1,0,1,2,2,0]
[18929204,1,0,0,0,1,1,0]
[18929209,30,0,7,43,189,592,419.32139999999998]
[18929210,10,0,0,3,121,406,0]
[18929211,19,0,1,7,72,296,439.97]
[18929212,-1,0,0,0,0,22,0]
[18929213,20,0,0,4,129,454,0]
[18929214,4,0,1,8,75,265,539.97]
[18929215,6,0,1,5,49,140,572.16999999999996]
[18929216,-2,0,0,0,1,12,0]
[18929217,12,0,-1,4,31,86,744.97]
[18929218,0,0,0,0,0,2,0]
[18929219,0,0,0,0,0,3,0]
[18929220,-1,0,0,0,1,1,0]
[18929225,-1,0,0,0,1,8,0]
[18929226,0,0,0,0,0,5,0]
[18929229,0,0,0,0,2,9,0]
[18929230,-1,0,0,0,0,6,0]
[18929233,0,0,0,0,0,1,0]
[18929237,7,0,0,0,0,0,0]
[18929241,0,0,0,0,0,6,0]
[18929245,-1,0,0,0,3,9,0]
[18929251,1,0,0,0,0,0,0]
[18929257,64,0,3,15,96,327,624.97]
[18929258,37,0,1,12,55,215,639.97]
[18929259,21,0,1,9,59,158,639.97]
[18929260,0,0,0,0,2,6,0]
[18929261,29,0,1,11,90,302,629]
[18929262,2,0,0,2,18,147,0]
[18929263,6,0,0,4,29,77,0]
[18929264,1,0,0,0,1,9,0]
[18929265,-1,0,0,0,0,1,0]
[18929266,0,0,0,0,1,6,0]
[18929267,-1,0,0,0,2,3,0]
[18929268,0,0,0,0,0,1,0]
[18929269,0,0,0,0,0,1,0]
[18929276,4,0,1,1,2,2,417.97]
[18929277,7,0,0,-1,0,0,0]
[18929282,7,0,0,0,0,0,0]
[18929285,40,0,7,18,62,158,244.79140000000001]
[18929286,46,9,5,14,41,89,319]
[18929324,24,0,4,8,82,261,1032.47]
[18929325,40,0,4,11,73,234,1035.1324999999999]
[18929326,-1,0,0,0,9,31,0]
[18929327,13,0,1,7,101,330,1299.96]
[18929328,0,0,0,0,1,24,0]
[18929329,0,0,0,0,0,8,0]
[18929330,0,0,0,0,0,6,0]
[18929331,0,0,0,0,0,7,0]
[18929332,22,0,3,14,185,689,769.97329999999999]
[18929333,6,0,0,14,196,670,0]
[18929334,3,0,1,19,192,515,839.97]
[18929335,23,0,2,11,220,1206,839.97]
[18929336,14,0,3,9,82,298,1039.97]
[18929337,20,0,1,12,94,252,1039.97]
[18929338,25,0,2,6,84,272,1039.97]
[18929339,8,0,3,10,198,680,1022.6367]
[18929340,0,0,0,0,1,11,0]
[18929341,0,0,0,0,0,7,0]
[18929342,0,0,0,0,1,16,0]
[18929343,0,0,0,0,2,21,0]
[18929344,6,0,0,0,1,1,0]
[18929345,0,0,0,0,1,26,0]
[18929346,0,0,0,0,3,12,0]
[18929347,0,0,0,0,0,11,0]
[18929348,0,0,0,0,1,25,0]
[18929349,6,0,0,0,1,1,0]
[18929350,6,0,0,0,1,1,0]
[18929992,625,40,44,170,627,1349,78.818200000000004]
[18929993,475,0,17,59,281,643,95.871200000000002]
[18929994,162,0,3,9,43,107,98.323300000000003]
[18929995,544,80,26,85,328,755,96.020399999999995]
[18929996,203,0,3,9,46,129,98.52]
[18929997,894,0,68,261,595,1440,45.692599999999999]
[18929998,975,120,72,390,1024,2242,48.061700000000002]
[18930341,0,0,0,0,0,0,0]
[18930402,56,0,7,23,130,1042,219.17859999999999]
[18930403,24,0,3,17,309,1056,244.85329999999999]
[18930404,184,0,39,134,354,717,297.07619999999997]
[18930405,218,0,27,106,308,668,335.29070000000002]
[18930406,62,0,11,75,169,467,445.28730000000002]
[18930407,55,0,6,20,44,130,770.83169999999996]
[18930955,11,35,0,8,19,35,0]
[18930956,9,0,4,11,21,33,599.99]
[18930957,19,0,5,19,37,67,343.01]
[18930958,41,2,3,8,20,54,449.99]
[18930959,92,5,1,8,35,107,549.99]
[18930960,74,15,4,14,45,156,397.28500000000003]
[18930962,114,20,7,23,72,261,197.0643]
[18930963,130,40,8,33,104,334,133.6062]
[18930964,26,2,2,7,11,35,136.155]
[18931464,65,12,1,1,1,1,84.99]
[18931465,63,15,2,6,6,6,83.57]
[18931467,101,12,2,3,3,3,59.42]
[18931468,98,12,3,5,6,6,58.1233]
[18931471,438,18,13,35,36,36,29.64]
[18931473,338,0,3,8,10,10,29.99]
[18931474,210,0,13,29,30,30,28.716899999999999]
[18933841,128,8,3,17,49,134,14.99]
[18933842,117,40,6,30,97,238,13.3233]
[18934388,202,0,14,58,178,547,70.232900000000001]
[18934389,259,0,8,48,235,748,132.67500000000001]
[18934392,78,0,2,12,43,185,199.495]
[18934393,9,0,0,1,24,213,0]
[18938954,270,51,8,54,271,615,108.935]
[18939367,508,350,63,170,464,937,114.90779999999999]
[18939368,296,200,55,246,665,1312,125.53440000000001]
[18939376,0,0,0,1,1,1,0]
[18939378,0,0,0,4,11,24,0]
[18939379,30,0,12,42,164,352,328.60329999999999]
[18939380,29,0,6,24,92,241,356.00170000000003]
[18939381,31,0,9,30,129,334,427.99]
[18939382,21,0,3,16,55,156,639.98329999999999]
[18939383,32,0,1,6,34,90,994.97]
[18939384,0,0,0,2,8,13,0]
[18939385,0,0,0,0,1,8,0]
[18939386,0,0,0,1,3,11,0]
[18939387,-1,0,0,0,1,3,0]
[18939388,56,0,6,39,92,240,624.98670000000004]
[18939389,0,0,0,0,0,11,0]
[18939390,0,0,0,1,1,3,0]
[18939391,13,0,0,7,36,109,0]
[18939392,25,0,0,6,54,131,0]
[18939393,35,0,2,5,43,105,1027.48]
[18939394,0,0,0,0,2,4,0]
[18939395,0,0,0,0,2,4,0]
[18939396,0,0,0,0,4,8,0]
[18939397,3,0,1,2,10,25,1479.99]
[18939398,0,0,0,0,1,9,0]
[18939400,1,0,0,0,0,2,0]
[18939401,0,0,0,0,1,3,0]
[18939403,29,0,0,2,17,64,0]
[18939404,1,0,0,0,0,10,0]
[18939405,13,0,0,0,15,29,0]
[18939407,0,0,0,1,1,6,0]
[18939408,0,0,0,0,0,2,0]
[18939409,0,0,0,0,0,2,0]
[18939412,0,0,0,0,1,1,0]
[18939414,1,0,0,1,1,5,0]
[18939415,1,0,0,1,2,7,0]
[18939416,0,0,0,1,4,7,0]
[18939417,0,0,0,0,0,2,0]
[18939418,0,0,0,0,0,2,0]
[18939419,0,0,0,0,1,5,0]
[18939420,0,0,0,1,1,4,0]
[18939421,0,3,1,1,3,5,1179.99]
[18939422,111,25,6,24,96,243,1379.1567]
[18939423,165,25,6,17,92,245,2178.8582999999999]
[18939424,1,0,0,0,4,7,0]
[18939425,1,0,0,0,1,8,0]
[18939426,18,0,0,3,46,85,0]
[18939428,1,0,0,0,2,9,0]
[18939429,0,0,0,0,4,14,0]
[18939430,57,0,2,6,40,88,885.75]
[18939431,0,0,2,2,3,13,989.99]
[18939432,0,0,0,2,4,15,0]
[18939433,39,0,2,8,26,52,1977.49]
[18939434,0,1,0,0,2,6,0]
[18944198,0,0,0,0,0,23,0]
[19093907,322,80,22,69,246,579,38.140900000000002]
[19093908,412,168,60,187,689,1574,29.364000000000001]
[19093909,124,50,26,61,199,538,68.535399999999996]
[19094544,37,22,4,8,33,96,255.99250000000001]
[19094545,20,33,1,5,33,75,249.99]
[19094546,22,42,2,7,25,96,312.49]
[19094547,54,6,2,7,36,108,354.99]
[19094549,11,0,0,1,9,24,0]
[19113274,35,0,2,4,17,67,49.97]
[19113278,49,0,0,2,24,92,0]
[19113279,49,0,-1,5,22,99,3]
[19113280,109,0,0,7,35,80,0]
[19113281,3,0,0,0,1,45,0]
[19113282,0,0,0,0,0,22,0]
[19113283,17,0,0,0,3,111,0]
[19113284,39,0,0,0,9,24,0]
[19113285,208,0,0,2,9,57,0]
[19113286,71,0,1,4,11,59,49.97]
[19113359,65,0,2,2,10,47,639.99]
[19113360,33,0,2,2,9,37,649.99]
[19113484,28,136,12,13,30,310,98.825000000000003]
[19113485,52,0,4,13,27,273,99.99]
[19114362,53,0,2,6,18,75,337.49]
[19114458,160,120,19,83,214,411,47.393700000000003]
[19114459,5,0,1,8,53,168,69.989999999999995]
[19173789,941,24,49,193,591,1189,94.343699999999998]
[19173790,422,0,19,56,183,351,96.044700000000006]
[19173791,279,0,8,24,77,184,99.962500000000006]
[19173792,395,136,29,134,418,850,177.48759999999999]
[19173793,466,14,21,84,217,474,144.0376]
[19173794,856,222,95,372,1047,1907,8.8270999999999997]
[19173795,674,870,117,482,1394,2826,12.794499999999999]
[19173796,25,0,0,0,2,7,0]
[19173798,334,0,4,19,73,137,121.24]
[19173800,20,0,0,0,0,0,0]
[19173803,280,25,14,40,142,368,154.92140000000001]
[19173804,6,0,0,0,2,3,0]
[19173805,151,10,4,13,49,122,157.53]
[19173806,213,4,10,28,83,251,279.12400000000002]
[19173807,44,4,1,6,21,82,300]
[19189772,0,0,0,0,4,28,0]
[19189773,0,0,0,3,5,46,0]
[19189953,235,45,8,32,135,299,101.77249999999999]
[19190947,863,92,48,164,589,1071,7.7130999999999998]
[19190948,2212,300,69,293,983,1850,10.6629]
[19190950,726,128,50,185,667,1315,33.514200000000002]
[19190951,1314,100,65,297,965,1699,11.3238]
[19190953,595,60,12,54,202,427,11.51]
[19190954,456,45,18,66,202,386,49.541699999999999]
[19190955,385,30,2,39,130,257,52.92]
[19190964,12,0,0,0,6,80,0]
[19190965,35,1,5,12,35,103,305.99]
[19190966,30,1,1,2,10,43,109.99]
[19190967,52,1,2,6,19,42,88.74]
[19190968,47,6,0,1,11,25,0]
[19190969,32,1,1,5,18,68,579]
[19190970,37,0,3,10,40,129,228.04669999999999]
[19190971,21,1,1,2,9,39,599]
[19190978,240,40,16,49,169,393,47.173099999999998]
[19190979,86,5,9,37,169,489,78.444400000000002]
[19190980,93,0,12,48,196,553,83.279200000000003]
[19190981,192,50,9,37,159,327,234.78110000000001]
[19190982,5,0,0,0,1,2,0]
[19190983,5,0,1,1,1,1,219]
[19190984,49,10,4,6,29,87,99]
[19190985,41,45,5,9,49,174,106.93600000000001]
[19190986,59,6,7,12,46,116,82.425700000000006]
[19190987,218,35,13,30,129,205,32.019199999999998]
[19191157,6,0,0,1,7,13,0]
[19191158,0,0,0,0,3,8,0]
[19191159,0,0,0,0,1,3,0]
[19191160,61,0,7,25,88,179,1093.9629]
[19191162,85,0,4,12,53,100,1031.9124999999999]
[19191164,0,0,0,0,1,3,0]
[19191166,87,0,2,13,65,106,118.65]
[19191167,3,0,0,1,7,16,0]
[19191168,8,0,0,1,5,16,0]
[19191169,38,0,4,8,15,36,179.99]
[19191170,16,0,2,3,28,40,219.54]
[19191171,0,0,0,1,1,2,0]
[19191172,0,0,0,0,0,2,0]
[19191173,0,0,0,0,0,1,0]
[19194846,243,48,16,76,266,722,343.5256]
[19194847,217,20,13,45,141,344,349.37380000000002]
[19198915,95,1,14,56,210,691,213.42429999999999]
[19198916,322,0,12,188,600,1573,476.74829999999997]
[19198917,80,0,33,86,217,434,474.12520000000001]
[19198918,41,0,1,19,84,175,989.99]
[19198919,16,0,1,1,17,127,187.49]
[19198920,260,0,45,95,324,568,353.29039999999998]
[19198921,15,0,1,3,30,305,745.27]
[19198922,22,110,1,35,89,203,1649.99]
[19198923,50,25,13,47,111,216,1774.7114999999999]
[19198924,11,30,0,24,45,95,0]
[19209512,682,0,31,147,597,1189,191.7568]
[19209513,621,0,22,87,304,696,190.7627]
[19209514,960,0,33,161,550,1271,143.09639999999999]
[19209515,543,4,12,55,223,650,141.3133]
[19210137,0,0,0,0,1,4,0]
[19210565,71,20,5,20,73,153,139.12799999999999]
[19210569,292,90,20,76,326,647,24.788]
[19210570,25,0,1,3,21,116,14.99]
[19210571,129,0,5,18,82,199,9.7919999999999998]
[19210572,21,2,1,4,12,23,149.99]
[19210955,11,0,0,2,6,115,0]
[19210956,18,0,0,2,9,95,0]
[19210958,37,0,-1,0,8,49,3]
[19211023,27,0,0,0,4,31,0]
[19211024,41,0,0,2,8,28,0]
[19211025,53,0,1,3,18,56,799.97]
[19211026,64,0,0,12,24,78,0]
[19211027,68,0,2,6,13,48,794.99]
[19211028,78,0,2,15,50,140,659.99]
[19211029,55,0,3,17,47,137,564.99]
[19211031,76,0,7,24,80,195,375.06139999999999]
[19211921,141,36,4,50,131,340,109.16249999999999]
[19212285,0,0,0,0,3,3,0]
[19212287,0,0,0,0,0,1,0]
[19212289,1,0,0,0,1,7,0]
[19212292,3,0,1,2,2,4,629.99]
[19212293,1,0,0,0,1,2,0]
[19212565,1,0,0,0,0,0,0]
[19213592,186,66,39,84,210,527,227.89259999999999]
[19214531,312,0,15,47,222,506,997.01400000000001]
[19219911,268,0,20,84,290,1288,341.81900000000002]
[19224373,36,0,1,4,19,196,429.99]
[19225463,291,257,65,201,745,1435,9.6820000000000004]
[19228806,51,6,0,0,46,143,0]
[19228807,102,0,6,35,172,431,1091.42]
[19228808,57,0,3,17,106,255,996.97]
[19228809,40,1,13,30,125,339,1455.2130999999999]
[19228810,32,0,3,18,63,117,1690.6567]
[19228811,38,0,3,11,67,210,1836.6567]
[19304112,67,30,18,69,213,470,248.40110000000001]
[19304525,58,0,0,0,1,7,0]
[19304526,0,0,0,0,0,11,0]
[19304527,40,0,1,2,9,37,22.69]
[19305008,1419,0,50,207,800,1696,53.634799999999998]
[19305009,518,360,42,203,677,1186,24.401399999999999]
[19305010,185,60,6,67,248,471,35.918300000000002]
[19305012,378,0,7,37,125,281,21.375699999999998]
[19305013,585,30,15,64,239,520,29.3993]
[19305014,501,40,28,100,335,724,22.5746]
[19305015,319,40,8,34,154,325,32.99]
[19305016,16944,0,118,532,1662,3059,6.9032]
[19305017,12720,0,298,1061,3535,6415,6.6692]
[19305018,6588,0,120,409,1472,2833,14.4687]
[19305019,977,80,39,165,529,955,14.4459]
[19305020,1268,80,35,127,486,1007,9.7637]
[19305021,1056,160,41,186,673,1385,9.3854000000000006]
[19305022,527,0,19,50,202,528,9.9446999999999992]
[19309368,81,0,7,22,266,691,586.18859999999995]
[19309376,12,0,0,1,13,45,0]
[19309377,0,0,0,0,1,3,0]
[19309380,0,0,0,0,0,1,0]
[19318856,0,0,0,0,0,4,0]
[19319067,522,72,18,97,309,519,12.95]
[19320378,14,0,3,9,28,49,348.30329999999998]
[19320888,281,528,27,118,878,1825,28.827400000000001]
[19324555,4,0,0,0,0,18,0]
[19324556,3,0,1,4,5,39,329]
[19324557,10,0,1,1,6,48,329]
[19324558,2,0,0,-1,1,20,0]
[19324559,5,0,0,0,0,20,0]
[19324560,1,0,1,0,3,21,329]
[19324561,2,0,0,0,0,11,0]
[19324562,5,0,0,0,2,10,0]
[19324563,3,0,0,0,0,15,0]
[19324564,1,0,0,0,0,4,0]
[19324565,0,0,0,0,4,26,0]
[19324566,3,0,0,3,4,29,0]
[19324567,3,0,0,0,0,18,0]
[19324568,4,0,0,1,5,28,0]
[19324569,6,0,0,0,5,23,0]
[19324570,4,0,0,0,4,9,0]
[19325473,21,0,4,6,62,146,2712.915]
[19325474,5,0,2,7,20,28,2239.9949999999999]
[19325928,177,30,14,36,133,277,534.61069999999995]
[19325929,57,24,4,14,39,104,42.752499999999998]
[19325930,80,0,4,7,33,87,6.51]
[19325931,80,0,3,13,41,96,32.606699999999996]
[19325932,78,0,-1,3,17,41,33.049999999999997]
[19325933,60,16,3,6,28,66,57.99]
[19329109,205,78,11,57,230,516,59.6355]
[19329110,342,0,19,74,221,441,68.099999999999994]
[19329111,724,126,47,203,619,1172,63.747]
[19329112,278,396,39,176,654,1862,62.256900000000002]
[19329113,434,234,24,113,532,1173,69.619600000000005]
[19329114,314,48,15,78,288,588,65.511300000000006]
[19330944,1,0,0,0,0,5,0]
[19330945,1,0,0,0,1,6,0]
[19331157,1171,610,348,1286,4357,8498,18.4633]
[19331222,9,0,0,4,11,83,0]
[19331223,12,0,0,0,2,19,0]
[19332391,717,90,50,209,687,1282,29.963000000000001]
[19332392,601,180,55,204,665,1261,39.211799999999997]
[19332393,583,0,19,99,339,580,49.3005]
[19332394,525,0,9,47,123,123,24.064399999999999]
[19332395,534,40,12,54,162,166,28.065799999999999]
[19332399,359,480,50,216,816,1480,34.651800000000001]
[19332401,952,90,26,136,493,875,43.5627]
[19332402,538,0,24,99,306,317,19.128799999999998]
[19332722,32,0,0,4,28,92,0]
[19332723,26,7,0,5,22,66,0]
[19332724,22,0,2,3,14,30,898.48500000000001]
[19339665,2368,293,406,1695,4949,7274,447.09969999999998]
[19339666,0,0,0,0,0,0,0]
[19339667,115,20,24,70,256,506,34.197499999999998]
[19339668,387,20,13,55,160,596,22.986899999999999]
[19339669,678,0,2,12,34,104,54.094999999999999]
[19339671,262,22,10,58,185,420,39.32]
[19339672,341,57,31,143,557,1374,86.618099999999998]
[19339673,351,29,6,47,156,883,99.353300000000004]
[19339677,0,0,0,0,0,1,0]
[19339678,480,100,75,293,920,1850,59.235700000000001]
[19339679,424,72,41,199,677,1311,77.977099999999993]
[19339680,137,0,7,55,185,497,65.154300000000006]
[19339681,158,35,14,57,197,513,77.997100000000003]
[19339682,22,0,0,0,10,52,0]
[19339683,173,0,3,12,36,107,34.99]
[19339684,311,113,16,79,277,1118,69.7119]
[19339685,359,49,13,34,122,740,76.337699999999998]
[19339686,502,0,8,34,119,454,75.592500000000001]
[19339707,0,0,0,0,1,2,0]
[19339708,0,0,0,0,0,2,0]
[19339709,0,0,0,0,0,2,0]
[19339710,0,0,0,0,0,2,0]
[19339712,0,0,0,0,0,1,0]
[19339713,0,0,0,0,0,1,0]
[19339714,0,0,0,0,0,0,0]
[19339717,0,0,0,0,0,1,0]
[19339718,0,0,0,0,0,1,0]
[19339719,0,0,0,0,0,1,0]
[19339720,0,0,0,0,0,1,0]
[19339723,0,0,0,0,0,2,0]
[19339724,0,0,0,0,0,3,0]
[19339725,0,0,0,0,0,1,0]
[19339726,0,0,0,0,0,1,0]
[19339727,0,0,0,0,0,2,0]
[19339728,0,0,0,0,0,1,0]
[19339730,0,0,0,0,0,0,0]
[19339733,0,0,0,0,0,1,0]
[19339734,0,0,0,0,0,1,0]
[19339737,0,0,0,0,0,1,0]
[19339738,0,0,0,0,0,1,0]
[19344762,7,0,0,0,0,0,0]
[19345171,630,150,49,185,629,1219,27.369]
[19345189,782,48,24,88,322,547,19.4117]
[19345190,-1,0,0,0,0,0,0]
[19345191,738,120,45,195,678,1246,83.928700000000006]
[19345192,944,132,38,166,523,880,12.714700000000001]
[19345193,554,132,59,188,556,1054,14.4529]
[19345194,657,324,54,271,674,674,19.339400000000001]
[19345196,536,24,22,105,267,473,34.754100000000001]
[19345198,210,168,42,204,552,730,22.607399999999998]
[19345199,188,60,28,92,139,155,15.225]
[19345200,561,0,19,108,355,712,17.865300000000001]
[19345201,45,0,0,1,3,3,0]
[19355246,193,0,6,20,85,141,1058.4016999999999]
[19355247,126,0,14,46,211,466,1794.6786]
[19355348,1,0,0,1,3,5,0]
[19355349,1,0,0,1,2,2,0]
[19370167,95,12,5,18,51,117,238.67599999999999]
[19370228,1,0,0,0,0,0,0]
[19370229,1,0,0,0,0,0,0]
[19370386,59,0,5,12,41,132,103.47199999999999]
[19374784,33,7,3,4,13,45,1263.79]
[19374786,23,2,0,3,5,14,0]
[19374839,12,57,0,4,33,78,0]
[19374840,43,24,5,18,50,106,70.69]
[19374843,466,0,19,58,267,512,57.69]
[19374844,775,48,25,96,330,615,19.526]
[19374922,65,0,7,26,120,249,749.27570000000003]
[19374923,91,0,0,6,49,106,0]
[19375328,10,300,0,4,8,279,0]
[19375416,18,0,4,9,32,46,1198.8175000000001]
[19375468,4,0,1,1,3,4,44.99]
[19375469,30,0,0,0,0,0,0]
[19375582,28,0,0,1,28,100,0]
[19375583,2,0,0,0,5,126,0]
[19375584,0,0,0,0,0,7,0]
[19375586,516,0,4,24,137,743,44.2575]
[19375587,154,0,2,4,22,115,49.195]
[19375588,66,0,0,2,9,453,0]
[19375589,48,0,0,2,14,137,0]
[19375590,20,0,0,2,49,221,0]
[19375592,3,0,0,0,6,29,0]
[19375593,54,0,2,10,15,29,26.395]
[19375615,65,58,0,11,26,33,0]
[19375616,39,1,3,7,26,29,13.3767]
[19375617,1,0,0,0,3,18,0]
[19375618,15,0,0,0,7,15,0]
[19375620,12,0,0,0,6,61,0]
[19375621,-12,0,0,0,4,12,0]
[19376088,174,16,3,6,31,80,77.09]
[19376089,131,0,1,12,41,108,64.989999999999995]
[19376091,15,0,4,13,92,172,1996.6075000000001]
[19379752,73,240,6,41,335,894,19.989999999999998]
[19379753,58,264,11,55,372,888,19.989999999999998]
[19379754,256,336,22,78,312,652,19.4636]
[19379755,311,192,24,101,337,673,24.478300000000001]
[19379756,419,72,28,109,325,566,24.430700000000002]
[19379757,139,312,13,54,388,775,12.68]
[19379758,164,48,4,38,131,325,27.6]
[19379759,364,144,18,134,498,1013,29.712199999999999]
[19379760,245,144,27,92,366,689,29.115200000000002]
[19379761,364,72,23,62,200,366,22.986999999999998]
[19379762,541,24,16,69,192,232,47.398699999999998]
[19380424,64,0,5,18,129,311,1743.556]
[19384747,63,0,4,17,96,283,999]
[19384748,64,0,8,34,116,277,1012.49]
[19384749,23,0,6,9,43,100,1642.1233]
[19385454,0,0,0,0,0,1,0]
[19385505,16,6,4,12,42,72,169.99]
[19390143,90,0,1,7,35,123,10.99]
[19394911,25,0,0,2,68,298,0]
[19395535,133,8,9,26,78,180,239.72329999999999]
[19395536,114,12,2,14,52,132,249]
[19396655,0,0,0,0,1,19,0]
[19400302,189,195,17,105,343,723,373.25470000000001]
[19401365,410,0,23,75,374,932,115.2704]
[19401366,290,0,37,128,386,770,146.28890000000001]
[19402085,27,8,1,3,9,25,499]
[19402086,38,0,2,4,10,19,497.49]
[19402087,11,0,1,5,12,34,499]
[19405448,6,0,0,-1,7,14,0]
[19407452,88,0,4,19,80,114,940.45]
[19407453,99,0,2,20,57,144,949.99]
[19410054,4,0,0,0,1,40,0]
[19410055,2,0,0,0,7,60,0]
[19410060,5,0,2,4,16,35,1613.25]
[19410061,39,0,3,14,52,165,1299]
[19410062,80,0,4,20,68,115,2049]
[19410063,44,0,5,16,59,121,1601.048]
[19411414,24,8,11,21,63,123,649.46180000000004]
[19411415,11,0,0,1,6,16,0]
[19411417,87,8,5,29,97,175,423.49599999999998]
[19415484,157,2,23,86,307,691,83.714799999999997]
[19415494,5,0,0,0,1,1,0]
[19416994,61,0,4,19,48,81,103.11499999999999]
[19416995,63,10,4,13,31,50,107.49]
[19416996,59,0,2,14,38,57,109.99]
[19416997,120,5,8,49,211,412,94.15]
[19416998,25,0,2,12,25,29,94.99]
[19416999,24,10,2,9,37,60,88.98]
[19417003,142,0,6,40,153,296,126.1083]
[19417004,60,5,4,19,40,44,125.0425]
[19417005,0,5,0,0,0,5,0]
[19417014,13,0,0,1,3,22,0]
[19417015,1,0,0,0,0,0,0]
[19417016,15,0,1,1,4,20,742.49]
[19417017,6,2,0,57,61,68,0]
[19417018,0,6,0,0,6,8,0]
[19417019,7,0,-1,3,18,25,1339.49]
[19417020,34,33,0,16,63,107,0]
[19417021,13,13,7,16,65,112,1766.5614]
[19417605,166,6,6,14,64,103,27.7683]
[19417606,90,3,2,10,29,41,22.844999999999999]
[19417607,56,69,8,23,108,216,17.004999999999999]
[19417608,61,78,10,48,129,178,24.969000000000001]
[19417609,184,39,10,57,165,259,12.441000000000001]
[19417610,22,4,0,6,30,58,0]
[19417611,73,3,0,4,18,37,0]
[19417612,32,0,0,0,27,37,0]
[19417613,56,15,1,7,38,71,24.44]
[19417614,47,0,0,5,17,30,0]
[19417615,21,0,0,3,6,20,0]
[19419458,27,0,6,54,403,5494,497.06670000000003]
[19420513,381,0,3,33,184,440,163.98330000000001]
[19420514,321,0,13,38,133,364,163.4931]
[19424944,411,272,52,217,564,1105,18.8581]
[19424945,343,148,28,92,270,774,23.665400000000002]
[19424947,219,0,3,12,40,139,164.99]
[19424950,558,0,10,57,141,347,27.408999999999999]
[19424952,149,32,8,35,123,340,29.934999999999999]
[19424953,152,32,6,25,105,293,34.6083]
[19424954,97,84,6,10,96,361,22.908300000000001]
[19424955,262,252,42,166,442,952,16.746700000000001]
[19424956,3,0,0,8,33,83,0]
[19426015,2,0,0,1,1,2,0]
[19426016,2,0,0,2,4,10,0]
[19426017,4,0,0,0,4,8,0]
[19426019,57,24,3,18,62,107,110.99]
[19426020,44,12,4,11,27,63,168.51]
[19426021,19,20,0,7,20,43,0]
[19428193,73,12,8,30,97,234,99.622500000000002]
[19428194,92,6,8,22,59,160,99.99]
[19428195,88,6,1,4,12,42,24.99]
[19428196,78,0,2,7,33,65,19.989999999999998]
[19434744,309,72,19,76,326,326,29.021100000000001]
[19434745,362,48,15,61,210,210,39.971299999999999]
[19434845,10,0,0,0,0,0,0]
[19437027,4,0,0,1,4,19,0]
[19437028,9,0,0,1,3,15,0]
[19437029,1,0,0,5,6,6,0]
[19437030,8,0,0,0,0,1,0]
[19437031,17,0,0,1,1,3,0]
[19437032,3,0,0,2,4,6,0]
[19437033,17,0,1,2,6,6,12.29]
[19437034,15,0,0,1,5,8,0]
[19437854,371,400,46,213,858,1959,115.815]
[19437855,772,208,138,456,1607,4737,98.311700000000002]
[19441244,46,25,10,26,60,115,781.04600000000005]
[19441775,0,0,0,0,13,40,0]
[19441776,17,0,0,7,19,57,0]
[19441777,5,0,8,8,13,34,9.9700000000000006]
[19442314,48,0,1,10,21,39,1849.99]
[19442500,132,0,1,12,63,182,29.97]
[19442501,34,0,0,7,41,146,0]
[19442502,175,0,3,15,58,176,39.3033]
[19442503,70,0,0,2,26,157,0]
[19442504,21,0,0,2,13,182,0]
[19442505,33,0,0,6,32,339,0]
[19442506,144,0,1,6,20,64,44.99]
[19442507,48,0,2,3,18,83,69.989999999999995]
[19442508,195,0,0,0,8,40,0]
[19449896,48,10,2,12,47,99,99]
[19450778,46,66,4,25,60,126,56.604999999999997]
[19450928,9,0,0,1,7,29,0]
[19451968,111,114,5,61,173,277,267.71199999999999]
[19451969,162,340,23,144,601,1220,102.42959999999999]
[19451970,20,0,2,12,45,127,569.99]
[19451971,85,0,12,39,63,213,1196.48]
[19451972,136,0,1,16,40,230,1199.99]
[19455230,294,20,2,17,64,258,41.59]
[19455231,210,12,1,14,52,150,47.38]
[19455232,250,96,13,44,143,357,24.886900000000001]
[19455233,222,24,9,33,104,272,156.76779999999999]
[19455234,155,52,22,66,244,535,49.943600000000004]
[19455235,177,0,10,56,128,354,70.346999999999994]
[19455236,195,0,9,30,143,485,63.431100000000001]
[19455237,391,32,13,70,262,769,34.513800000000003]
[19455238,88,8,3,5,42,143,33.526699999999998]
[19455241,110,0,3,10,81,217,59.473300000000002]
[19455242,57,0,2,8,22,85,59.604999999999997]
[19455992,4,0,0,0,4,6,0]
[19455993,38,44,0,17,43,94,0]
[19455994,0,0,0,0,2,8,0]
[19455995,35,8,1,2,11,39,89.99]
[19455996,22,0,2,7,43,110,59.99]
[19456374,9,0,0,2,3,6,0]
[19456375,8,0,1,1,7,8,64.25]
[19456376,4,0,1,1,3,8,104.99]
[19456377,4,0,0,1,4,9,0]
[19456378,3,0,0,2,3,4,0]
[19456450,1,0,0,1,3,5,0]
[19456451,20,0,2,3,9,11,359.99]
[19456452,33,0,2,12,20,41,57.12]
[19456453,25,16,1,27,52,113,59.99]
[19456454,19,0,0,4,12,22,0]
[19456455,45,0,2,20,44,83,111.2]
[19456456,89,32,0,5,19,55,0]
[19456457,4,0,0,1,5,8,0]
[19456458,0,0,0,1,2,4,0]
[19456459,49,0,2,8,15,34,137.995]
[19456460,33,0,1,4,14,29,142.99]
[19457624,207,3,7,23,113,209,299.65570000000002]
[19457749,96,0,-1,14,34,107,524.25]
[19457755,22,0,0,0,2,7,0]
[19457858,271,42,6,28,73,221,39.99]
[19459299,-78,0,0,0,0,78,0]
[19459300,-170,0,0,0,0,170,0]
[19459301,0,0,0,0,0,156,0]
[19459313,6,0,0,0,0,0,0]
[19459314,6,0,0,0,0,0,0]
[19459315,6,0,0,0,0,0,0]
[19459316,6,0,0,0,0,0,0]
[19459317,5,0,0,0,1,1,0]
[19459318,6,0,0,0,0,0,0]
[19459319,6,0,0,0,0,0,0]
[19459320,6,0,0,0,0,0,0]
[19459321,6,0,0,0,0,0,0]
[19459322,6,0,0,0,0,0,0]
[19459323,6,0,0,0,0,0,0]
[19459967,11,0,0,2,19,33,0]
[19469871,15,0,3,7,32,144,934.1567]
[19469872,43,0,10,22,54,241,1046.1600000000001]
[19469873,2,0,0,1,20,113,0]
[19469874,2,0,0,0,10,86,0]
[19469877,0,0,0,0,2,7,0]
[19469879,0,0,0,0,0,2,0]
[19469881,0,0,0,0,0,1,0]
[19474926,2,0,0,0,2,4,0]
[19474927,-1493,0,0,0,0,0,0]
[19474931,56,0,2,18,60,250,57.655000000000001]
[19479760,185,84,16,91,281,672,32.823099999999997]
[19479761,217,48,9,39,166,389,33.549999999999997]
[19479762,91,30,13,40,123,273,53.153799999999997]
[19479763,39,30,8,19,74,158,54.996299999999998]
[19479764,96,42,3,42,125,297,49.99]
[19479765,155,48,22,62,230,546,54.151400000000002]
[19479766,113,50,11,51,222,493,47.031799999999997]
[19479768,43,45,6,35,143,388,46.106699999999996]
[19479769,128,0,1,4,25,89,198]
[19479770,230,30,8,22,62,171,104.5962]
[19479771,253,30,6,29,113,309,105.66670000000001]
[19479772,169,12,0,17,75,206,0]
[19479773,92,0,1,4,23,63,99]
[19479774,32,20,6,25,98,185,211.1883]
[19480151,7,0,1,1,2,8,109.99]
[19480152,80,25,21,30,52,216,194.50479999999999]
[19480154,-1,0,0,0,0,0,0]
[19481037,23,60,3,17,39,98,626.6567]
[19481038,5,6,3,5,12,20,3248.3233]
[19481039,40,80,9,67,182,398,201.64330000000001]
[19481263,191,105,23,69,200,483,24.916499999999999]
[19481264,17,0,0,2,44,121,0]
[19481265,76,0,7,35,112,237,29.1386]
[19481266,74,5,1,6,33,108,34.99]
[19481267,63,0,1,1,10,52,27.99]
[19481268,84,5,2,9,21,81,22.49]
[19481465,17,0,3,11,51,202,896.6567]
[19481471,10,0,4,7,52,370,444.24]
[19481472,34,0,2,5,91,607,327.49]
[19481473,8,0,0,0,85,641,0]
[19481474,23,0,1,10,83,617,137.99]
[19482152,141,0,10,29,75,158,1319]
[19482726,104,0,1,1,16,31,126.03]
[19482727,259,0,2,10,66,130,149.99]
[19483785,106,24,8,28,100,210,66.108800000000002]
[19485131,40,6,5,29,87,221,64.11]
[19485132,54,6,6,60,223,620,62.545000000000002]
[19485133,176,36,24,79,220,576,63.86]
[19485134,37,6,2,26,69,173,64.989999999999995]
[19487067,67,0,6,27,92,173,1042.9232999999999]
[19487250,51,12,2,16,50,109,114.99]
[19487251,54,24,9,27,57,131,168.15219999999999]
[19487252,263,128,26,88,287,667,48.892299999999999]
[19487253,223,80,16,40,133,365,46.080599999999997]
[19487254,185,120,15,73,203,574,48.630699999999997]
[19487255,300,120,18,60,287,727,48.1006]
[19487256,61,10,4,9,9,9,193.34]
[19487257,38,30,8,27,68,139,158.84129999999999]
[19487517,20,0,0,3,27,200,0]
[19488445,575,0,33,99,253,506,1296.2718]
[19488447,479,0,15,54,168,343,1078.2713000000001]
[19488577,30,4,0,1,18,46,0]
[19488579,45,12,5,11,47,77,343.72800000000001]
[19489196,2,0,0,0,1,1,0]
[19489197,0,0,0,0,0,1,0]
[19489198,9,1,0,1,9,15,0]
[19489199,2,0,0,1,6,16,0]
[19489201,6,0,7,17,96,234,159]
[19489227,143,0,15,142,305,693,248.74600000000001]
[19489681,44,4,4,10,19,36,134]
[19489682,25,0,0,5,21,50,0]
[19489683,47,12,4,9,27,64,87.75]
[19491259,138,48,7,40,176,290,11.99]
[19491260,193,72,16,71,192,330,15.6487]
[19491261,96,72,19,77,214,346,23.048400000000001]
[19491262,140,40,9,28,107,193,32.434399999999997]
[19491263,176,0,3,9,43,68,27.99]
[19491264,140,0,1,3,24,47,64.989999999999995]
[19491265,154,0,0,0,4,14,0]
[19491266,124,12,0,1,2,24,0]
[19491569,32,25,3,21,92,201,46.333300000000001]
[19496232,128,0,4,26,81,157,1445.2874999999999]
[19496886,58,0,0,0,9,37,0]
[19496888,22,4,0,2,12,24,0]
[19497383,68,36,8,38,112,244,68.013800000000003]
[19497384,69,40,6,34,97,186,69.989999999999995]
[19497385,110,4,5,17,59,177,54.39]
[19497386,104,28,10,33,119,270,67.5]
[19497390,214,16,10,59,159,437,19.401]
[19497391,124,104,13,45,201,600,19.989999999999998]
[19497393,52,0,3,7,57,155,76.58]
[19498779,252,157,38,134,373,858,29.6403]
[19498780,271,109,19,89,294,706,37.601100000000002]
[19498781,179,45,9,37,139,306,29.97]
[19498782,202,65,11,48,153,302,28.144500000000001]
[19500299,178,0,7,35,85,629,29.178599999999999]
[19500301,20,0,1,5,15,121,29.99]
[19500302,84,0,4,14,45,174,29.99]
[19500303,437,0,2,10,47,210,47.725000000000001]
[19500304,158,0,1,5,13,48,35.51]
[19500305,38,0,0,2,10,68,0]
[19500306,10,0,0,0,0,57,0]
[19500307,147,0,0,10,22,48,0]
[19500394,14,0,0,2,57,213,0]
[19500779,39,0,1,5,35,570,247.99]
[19500780,5,0,4,9,66,712,282.47500000000002]
[19500781,9,0,1,4,23,282,349.97]
[19500782,60,0,4,11,50,186,648.73]
[19500783,3,0,1,2,12,176,249.99]
[19500784,10,0,1,1,14,190,447.99]
[19500785,14,0,1,1,10,168,592.99]
[19502558,0,0,0,0,4,19,0]
[19504982,75,0,21,52,153,554,112.08329999999999]
[19504983,205,0,30,81,182,449,160.13900000000001]
[19504984,271,0,19,57,145,223,211.04259999999999]
[19505158,178,0,7,8,28,75,345.0086]
[19505159,7,0,1,1,2,3,444.49]
[19505160,33,10,8,24,85,172,279.05619999999999]
[19505161,11,0,1,4,6,24,246.05]
[19505162,79,0,3,17,62,135,289]
[19505163,12,0,0,0,6,17,0]
[19505164,6,0,0,0,2,3,0]
[19505165,9,0,0,0,0,1,0]
[19505166,7,0,0,1,1,3,0]
[19505167,48,0,6,20,44,98,557.93830000000003]
[19505214,169,0,5,18,87,207,109.164]
[19505215,107,0,2,23,159,239,164.99]
[19506113,58,24,1,2,16,61,75.84]
[19506114,50,0,0,1,6,21,0]
[19506115,132,16,5,25,91,242,16.989999999999998]
[19506116,87,0,2,12,44,100,28.99]
[19506117,4,0,0,0,3,6,0]
[19506118,229,16,4,17,52,130,80.724999999999994]
[19506275,58,0,1,21,61,86,1499.99]
[19509872,268,36,10,37,113,239,57.49]
[19509873,201,16,8,55,162,315,59.695]
[19511808,65,6,3,10,43,132,140.82329999999999]
[19511810,144,0,6,6,18,904,93.196700000000007]
[19516007,20,0,4,5,21,86,34.14]
[19516008,60,0,2,12,47,233,34.99]
[19516009,1,0,0,0,6,57,0]
[19519782,50,24,4,14,64,155,146.8125]
[19519783,54,25,4,16,60,132,352.935]
[19519784,48,15,1,6,39,92,379.99]
[19519785,392,24,7,26,179,750,16.928599999999999]
[19519786,508,80,12,55,216,683,16.405799999999999]
[19519787,308,132,12,42,182,672,12.496700000000001]
[19519788,182,24,2,17,60,307,33.204999999999998]
[19519789,305,16,4,13,60,209,34.99]
[19519790,215,56,0,10,78,262,0]
[19519791,207,48,1,13,63,268,12.99]
[19520924,18,2,-1,2,9,23,274.99]
[19520925,49,2,1,3,9,18,179.99]
[19520926,2,0,0,0,0,342,0]
[19521483,1,0,0,1,19,361,0]
[19521484,438,24,45,183,510,731,9.8088999999999995]
[19521485,555,0,29,137,413,570,23.46]
[19521488,20,96,0,5,102,187,0]
[19525149,16,0,0,4,32,568,0]
[19525651,0,0,0,2,2,46,0]
[19525652,15,0,1,5,14,224,69.989999999999995]
[19525653,5,0,0,0,1,27,0]
[19525654,27,0,0,5,15,102,0]
[19525655,96,0,0,2,7,11,0]
[19525656,73,0,4,12,52,245,29.99]
[19525657,185,0,3,14,49,237,24.8]
[19525658,124,0,5,9,46,213,29.99]
[19525659,77,0,-1,3,10,27,49.99]
[19525661,182,0,2,5,12,110,84.99]
[19525662,90,0,0,0,4,22,0]
[19525663,634,0,9,24,135,1103,66.371099999999998]
[19525664,250,0,0,4,18,190,0]
[19525665,30,0,0,3,23,343,0]
[19525666,16,0,2,17,50,98,42.49]
[19525667,60,0,0,1,6,20,0]
[19525668,118,0,5,8,56,154,59.99]
[19525669,110,0,1,5,42,159,59.99]
[19525671,38,0,0,12,37,81,0]
[19525672,97,0,0,0,7,23,0]
[19525673,53,0,0,2,13,36,0]
[19525674,58,0,1,3,32,165,49.99]
[19529962,94,0,1,9,24,56,42.65]
[19530386,3,0,0,1,20,41,0]
[19530387,67,0,1,3,15,28,5.99]
[19530388,79,0,1,2,5,14,5.99]
[19530389,73,0,1,10,29,66,6.99]
[19530628,114,230,32,125,293,388,264.03870000000001]
[19530793,325,60,17,65,301,640,239.1824]
[19530794,163,24,9,29,83,195,245.81440000000001]
[19530795,166,36,10,34,121,241,246.34]
[19530796,239,12,1,12,78,209,269]
[19530797,236,12,5,20,76,211,242.53200000000001]
[19530798,292,42,14,56,213,575,386.55709999999999]
[19530799,101,12,8,26,77,220,400.8175]
[19530800,98,24,11,34,68,153,398.15550000000002]
[19530801,109,12,6,18,59,153,396.32330000000002]
[19530802,183,12,1,15,65,231,409]
[19530803,155,18,12,36,134,353,107.24250000000001]
[19530804,115,12,1,10,57,163,110.6]
[19530805,6,0,0,1,10,17,0]
[19530806,91,6,1,12,34,106,115]
[19530807,3,0,0,1,3,9,0]
[19530810,46,0,1,7,39,196,117.99]
[19530811,-137,0,3,19,85,274,139.4967]
[19531211,312,0,7,63,115,1209,72.075699999999998]
[19531212,123,0,0,19,34,188,0]
[19531213,35,0,0,2,14,36,0]
[19531270,7,0,0,0,0,0,0]
[19535682,102,80,7,51,225,379,1250.5671]
[19535683,99,315,18,86,232,474,946.21559999999999]
[19535685,117,0,26,74,356,867,172.83349999999999]
[19535686,73,0,21,94,365,1016,147.41569999999999]
[19537395,170,170,15,103,380,706,17.921299999999999]
[19537396,76,5,2,17,41,63,22]
[19537397,106,20,6,35,117,265,20.045000000000002]
[19537398,85,0,4,17,54,99,18.3675]
[19537399,75,5,3,9,39,75,22]
[19537400,82,5,1,8,33,72,21.42]
[19537401,157,55,13,56,204,402,15.950799999999999]
[19537402,81,5,5,13,40,59,17.065999999999999]
[19537403,78,0,1,13,48,99,16.829999999999998]
[19537404,70,5,0,15,52,84,0]
[19537405,18,0,1,4,31,83,18]
[19537406,75,25,2,16,67,149,17.010000000000002]
[19537407,74,5,3,10,42,73,16.5]
[19537408,149,15,2,9,46,66,10.5]
[19537409,291,30,17,55,163,285,11.9176]
[19537410,166,5,3,10,32,44,10.406700000000001]
[19537411,137,5,7,19,61,87,11.8986]
[19537642,8,0,1,1,2,2,219.99]
[19538736,9,0,0,0,4,17,0]
[19539930,159,0,9,31,111,239,1900.99]
[19539974,774,0,21,112,325,325,12.308999999999999]
[19540570,61,10,4,11,38,100,163.85499999999999]
[19540571,164,40,11,36,115,247,138.3227]
[19540572,179,104,27,69,225,478,91.680400000000006]
[19540573,70,0,2,12,66,140,221.37]
[19541000,89,150,4,11,162,785,424.45499999999998]
[19541889,17,7,1,5,22,22,349.99]
[19554746,1,0,0,3,6,10,0]
[19554747,6,0,1,2,6,9,1479.99]
[19554748,16,0,0,1,4,11,0]
[19554749,12,0,0,0,1,7,0]
[19555232,1,30,7,22,89,199,4.9629000000000003]
[19575805,109,0,7,14,35,91,451.41860000000003]
[19575889,3689,0,41,227,806,2364,66.874399999999994]
[19575890,561,0,18,68,314,1505,56.866700000000002]
[19576402,11,0,0,7,29,145,0]
[19576403,75,0,2,8,35,158,59.104999999999997]
[19589819,31,10,1,19,34,78,858.08]
[19600537,67,0,6,18,40,51,2599.9899999999998]
[19600827,40,0,7,22,75,129,1629.7043000000001]
[19600828,28,0,14,18,42,118,1981.29]
[19609891,56,24,2,19,29,29,282.2]
[19616044,97,8,5,23,58,131,26.847999999999999]
[19616045,112,0,0,3,28,144,0]
[19616046,136,0,2,3,16,52,19.989999999999998]
[19620212,64,15,5,17,60,114,119.99]
[19620213,59,10,3,14,54,109,199.99]
[19620214,6,0,1,7,20,38,199.99]
[19620215,19,0,3,5,21,48,166.98330000000001]
[19620216,27,0,0,5,17,45,0]
[19626848,15,0,0,0,0,0,0]
[19630542,92,0,1,1,6,23,34.99]
[19630543,70,0,2,4,14,50,54.99]
[19630545,32,0,0,4,22,81,0]
[19630546,39,0,8,23,111,443,77.444999999999993]
[19630549,46,14,7,28,91,164,203.5829]
[19630550,5,0,2,13,94,421,76.55]
[19630551,14,0,1,7,80,453,79.989999999999995]
[19631066,-15,0,0,3,8,172,0]
[19631067,-19,0,0,0,0,83,0]
[19631215,2388,593,346,1424,5172,8942,230.65020000000001]
[19631216,133,34,25,97,275,602,242.27799999999999]
[19631217,149,43,18,72,239,626,240.19669999999999]
[19631218,-1,0,0,0,0,29,0]
[19631219,213,34,33,103,363,763,275.01729999999998]
[19631220,200,21,35,81,247,643,303.70310000000001]
[19631221,81,26,60,104,236,555,310.18400000000003]
[19631222,45,2,23,41,101,268,308.28960000000001]
[19631223,113,10,31,49,153,514,315.38389999999998]
[19631224,258,17,54,116,370,1036,343.56670000000003]
[19631225,66,14,22,47,101,243,328.63679999999999]
[19631226,67,0,6,14,48,246,364.20170000000002]
[19631227,114,9,22,47,145,488,351.62090000000001]
[19631228,80,18,10,30,101,206,705.02700000000004]
[19631230,55,4,11,26,95,216,695.37549999999999]
[19631231,-1,0,0,1,10,20,0]
[19631232,1,0,0,0,5,21,0]
[19631234,51,10,9,23,88,200,720.66669999999999]
[19631235,42,0,16,23,80,202,704.1712]
[19631236,90,10,17,28,119,292,714.58820000000003]
[19631237,0,0,0,0,0,1,0]
[19631238,-1,0,0,0,2,4,0]
[19631239,-2,0,0,0,14,29,0]
[19631645,77,15,4,9,17,55,6.49]
[19631646,67,5,4,14,62,138,5.8425000000000002]
[19631787,67,0,9,55,233,420,1331.1211000000001]
[19631788,129,0,7,10,21,170,1120.9943000000001]
[19632303,1,1,0,0,0,0,0]
[19632305,-1,0,0,0,0,0,0]
[19632309,1,0,0,0,0,0,0]
[19632312,0,0,0,0,0,0,0]
[19632313,2,1,0,0,0,0,0]
[19634991,467,50,27,94,305,556,185.88040000000001]
[19634992,430,10,3,50,185,346,186.96]
[19634993,108,10,4,19,69,145,183.73]
[19634994,357,30,7,33,145,281,187.26]
[19635015,85,20,8,22,38,69,93.747500000000002]
[19635016,69,9,0,12,31,67,0]
[19635017,66,10,2,5,18,49,324.11500000000001]
[19635018,62,6,0,2,10,18,0]
[19635019,68,0,0,1,28,54,0]
[19635689,60,24,2,18,72,162,194.99]
[19635690,42,6,1,15,42,89,199.99]
[19635691,18,18,0,6,24,42,0]
[19637662,3,0,0,1,3,9,0]
[19637663,3,0,1,3,6,14,1374.99]
[19637664,6,0,1,2,2,9,1079.99]
[19638286,157,0,2,4,19,61,59.99]
[19638576,138,21,5,32,79,147,37.765999999999998]
[19638895,665,48,42,160,314,314,9.8897999999999993]
[19638896,529,0,29,118,230,230,9.8731000000000009]
[19638897,561,24,20,100,229,229,4.9615]
[19638898,428,112,58,222,476,476,7.7403000000000004]
[19638899,783,56,57,226,522,522,14.1304]
[19638900,398,32,23,87,197,197,14.1061]
[19638901,504,16,23,86,159,159,14.798299999999999]
[19640970,10,0,1,15,38,117,9.49]
[19641922,291,44,26,118,359,605,137.08690000000001]
[19641923,260,20,18,62,151,269,145.97499999999999]
[19644046,54,1,3,7,28,40,1069.33]
[19644048,52,2,5,11,31,68,1199.3979999999999]
[19644049,0,0,0,0,0,1,0]
[19644110,9,0,0,0,0,0,0]
[19644397,0,0,0,0,1,2,0]
[19645152,212,0,43,136,167,834,68.640900000000002]
[19645153,303,0,4,31,105,655,69.767499999999998]
[19645154,83,0,6,14,69,241,47.1967]
[19645155,40,0,1,11,31,282,69.989999999999995]
[19645156,318,0,11,31,106,680,66.3536]
[19645157,413,0,14,37,102,386,57.5807]
[19645158,614,0,17,67,284,284,68.035300000000007]
[19645208,96,60,3,31,93,189,1478.3233]
[19645210,113,0,3,9,33,142,144.99]
[19646557,175,0,24,71,187,407,156.4538]
[19650397,104,0,8,38,159,308,187.75]
[19650398,130,100,8,39,128,261,232.7088]
[19650399,83,0,4,41,205,501,108.58750000000001]
[19650400,210,0,8,27,114,297,233.93]
[19650401,82,0,7,12,15,15,318.02569999999997]
[19651439,201,0,28,124,289,771,595.69320000000005]
[19651440,89,0,17,46,154,154,968.21820000000002]
[19653462,78,0,23,91,175,175,629.79480000000001]
[19654335,106,0,7,21,69,133,47.678600000000003]
[19654336,90,0,3,19,49,86,40.833300000000001]
[19654337,135,0,4,11,37,65,49.375]
[19654338,134,0,4,8,26,51,53.837499999999999]
[19654339,39,0,4,24,93,234,49.29]
[19654340,14,0,5,12,63,92,106.95]
[19654341,73,0,5,20,87,165,69.406000000000006]
[19654342,32,0,6,20,81,224,62.291699999999999]
[19654343,73,0,2,7,27,42,73.234999999999999]
[19654344,69,0,3,11,55,168,51.82]
[19654345,72,0,2,9,24,44,63.9]
[19654346,71,0,3,9,29,53,73.333299999999994]
[19663345,967,144,93,389,750,750,5.8147000000000002]
[19663346,79,208,12,64,239,239,7.7832999999999997]
[19663546,121,15,6,14,41,49,435.49329999999998]
[19663547,28,15,7,14,40,64,466.90289999999999]
[19663548,23,5,0,2,25,35,0]
[19663549,37,8,-1,5,18,35,68.06]
[19663550,11,64,5,12,27,61,7.49]
[19671760,93,0,2,13,54,130,24.375]
[19671761,157,0,2,5,27,68,14.53]
[19672286,127,0,16,57,109,109,844.0575]
[19673819,43,15,5,44,167,244,488.678]
[19676698,21,5,1,16,60,105,79]
[19676699,25,10,10,23,70,129,501.96899999999999]
[19681317,42,0,1,7,23,147,44.99]
[19681318,16,0,0,4,42,168,0]
[19681319,7,0,0,1,17,167,0]
[19681320,20,0,0,3,21,152,0]
[19691516,74,0,3,7,20,23,35.24]
[19691517,32,0,2,7,37,42,214.99]
[19691518,88,0,2,11,39,53,190.435]
[19691519,22,0,0,2,21,30,0]
[19691520,122,0,2,3,27,27,159.99]
[19691531,0,0,0,0,0,1,0]
[19691532,0,0,1,1,3,5,2099]
[19691533,-1,0,1,1,2,2,1499]
[19691534,0,0,1,0,5,9,1124.98]
[19691537,0,0,0,0,2,5,0]
[19691538,0,0,2,5,5,10,1699]
[19691539,1,0,0,0,1,7,0]
[19691540,0,0,0,0,2,6,0]
[19691541,48,3,5,10,49,120,1235.7619999999999]
[19691542,79,7,6,24,102,267,1172.375]
[19691543,1,0,0,0,0,0,0]
[19691544,0,0,0,1,1,3,0]
[19691545,42,0,3,9,40,113,1399]
[19691546,51,4,6,17,77,195,1407.5550000000001]
[19691547,1,0,0,1,5,10,0]
[19691552,1,0,0,0,0,0,0]
[19691553,54,0,4,10,46,112,899]
[19691554,94,10,9,30,129,273,924.55560000000003]
[19691557,35,1,4,13,27,74,1142.9349999999999]
[19691558,51,5,7,13,66,126,1095.7828999999999]
[19691567,0,0,0,0,0,1,0]
[19691574,1,0,0,1,1,1,0]
[19691576,-1,0,0,0,1,1,0]
[19691579,6,0,0,1,100,268,0]
[19691580,16,0,1,4,90,210,1259.0999999999999]
[19691581,86,20,25,42,136,335,1529.6324]
[19691582,1,1,3,3,5,17,1565.6667]
[19691583,16,19,7,18,83,123,1726.1729]
[19691584,1,0,0,0,9,17,0]
[19696294,12,0,1,2,8,13,165.34]
[19696295,6,0,0,0,0,0,0]
[19697391,44,0,1,7,7,7,346.49]
[19697443,13,5,4,10,45,95,659.99]
[19697444,13,4,2,12,22,35,569.99]
[19697445,27,10,3,18,46,81,179.99]
[19701553,237,0,0,3,18,63,0]
[19701554,18,0,2,4,15,103,39.99]
[19701555,139,0,4,12,76,261,38.465000000000003]
[19701556,72,0,0,3,13,48,0]
[19701557,-7,0,0,0,0,194,0]
[19703812,11,0,0,0,0,0,0]
[19706280,31,0,3,15,102,211,206.6567]
[19706661,7,0,2,2,9,14,479.99]
[19707311,1,0,0,0,0,0,0]
[19707314,236,0,34,126,830,1846,429.17970000000003]
[19707315,23,0,15,65,563,1357,379.15929999999997]
[19707962,17,15,4,22,69,118,39.99]
[19708455,77,16,10,26,73,111,115.81399999999999]
[19708456,35,4,2,7,47,51,118.31]
[19708457,61,8,2,13,44,57,127.84]
[19708458,24,4,1,3,4,4,111.98]
[19708655,478,0,7,7,7,7,7.99]
[19708656,412,0,11,13,13,13,9.99]
[19708657,319,0,4,6,6,6,17.8]
[19716740,9,0,0,0,2,51,0]
[19716741,19,0,0,0,9,41,0]
[19716742,11,0,3,3,9,49,197.99]
[19716743,10,0,0,0,6,50,0]
[19716744,19,0,0,0,8,40,0]
[19716745,17,0,0,0,11,42,0]
[19716746,3,0,0,0,8,72,0]
[19716747,25,0,3,6,14,50,42.973300000000002]
[19716748,48,0,0,1,7,26,0]
[19716749,40,0,1,3,6,34,38.99]
[19716750,17,0,0,2,16,58,0]
[19716751,48,0,1,3,8,27,28.99]
[19716752,22,0,0,1,7,53,0]
[19716753,39,0,1,2,15,36,36.29]
[19716762,10,0,0,0,0,0,0]
[19717433,147,12,8,46,118,118,29.99]
[19717437,24,204,0,0,0,0,0]
[19717442,142,18,12,40,126,126,64.989999999999995]
[19717595,0,0,0,0,0,1,0]
[19717596,0,0,0,0,0,1,0]
[19718270,0,0,0,1,1,1,0]
[19728660,152,0,1,6,25,26,54.99]
[19732838,52,0,19,70,137,264,66.272599999999997]
[19738290,896,24,44,145,343,343,34.307000000000002]
[19742248,17,0,-1,7,104,231,1160.53]
[19752891,230,72,32,118,354,529,48.558100000000003]
[19763932,31,6,1,12,28,32,349.99]
[19763973,178,24,17,50,176,241,19.3841]
[19764203,0,0,0,0,0,1,0]
[19764204,0,0,0,0,0,1,0]
[19764205,15,0,0,0,0,0,0]
[19768569,202,0,10,60,217,309,67.989999999999995]
[19768570,448,16,78,266,2124,2124,58.159700000000001]
[19769843,111,252,14,86,86,86,570.9479]
[19769844,177,300,23,95,112,112,520.64520000000005]
[19776234,112,160,13,40,40,40,72.627700000000004]
[19776235,274,200,37,185,315,315,74.232399999999998]
[19776236,172,12,20,74,160,160,71.201999999999998]
[19776237,60,140,11,36,55,55,73.627300000000005]
[19776239,259,200,29,95,141,141,74.094499999999996]
[19776240,73,60,16,91,182,182,79.09]
[19776241,99,124,6,31,52,52,79.989999999999995]
[19776254,3,0,0,7,167,167,0]
[19778743,137,0,14,54,171,171,68.582899999999995]
[19778744,473,0,23,98,497,497,67.1083]
[19778745,66,0,0,3,29,29,0]
[19783053,485,0,4,12,67,67,64.989999999999995]
[19783054,95,0,6,11,29,29,31.811699999999998]
[19783055,72,0,4,14,50,50,38.28]
[19783056,59,0,9,33,88,88,38.353299999999997]
[19783057,100,0,2,8,48,48,38.75]
[19783058,121,0,2,5,19,19,34.99]
[19783275,593,90,16,78,162,166,241.92439999999999]
[19784246,0,0,0,0,0,1,0]
[19784268,133,18,9,34,153,169,443.3356]
[19809515,-1,12,0,0,2,2,0]
[19809517,32,252,12,61,169,169,779.66]
[19813241,52,40,11,46,124,124,34.337299999999999]
[19814239,0,0,0,0,0,1,0]
[19815925,28,30,1,9,42,42,31.99]
[19815926,45,34,1,7,28,28,62.99]
[19815927,71,48,3,12,19,19,37.99]
[19815928,17,0,2,6,19,19,37.99]
[19815929,40,14,2,3,11,11,30.99]
[19815930,18,0,1,3,14,14,39.99]
[19815931,17,9,7,19,49,49,37.275700000000001]
[19815932,26,27,3,10,28,28,17.989999999999998]
[19815933,21,0,0,1,9,9,0]
[19815934,16,3,0,0,14,14,0]
[19815935,24,4,0,1,6,6,0]
[19815936,34,33,1,6,24,24,26.99]
[19815937,16,11,1,10,14,14,26.99]
[19815938,15,2,3,10,12,12,26.99]
[19815939,20,17,1,8,17,17,26.99]
[19815940,14,1,1,10,16,16,23.96]
[19815941,12,2,3,6,17,17,26.1633]
[19815942,20,1,0,-1,10,10,0]
[19815943,33,4,3,6,30,31,9.99]
[19815944,84,12,1,2,23,24,16.989999999999998]
[19815945,21,4,0,3,15,15,0]
[19815946,5,1,0,0,0,0,0]
[19816710,0,12,0,0,0,1,0]
[19817147,10,0,0,0,0,0,0]
[19827835,0,12,0,0,1,1,0]
[19843626,15,0,0,0,1,1,0]
[19843627,287,-1,19,41,47,47,87.421099999999996]
[19843628,704,40,30,116,202,202,105.9783]
[19843629,33,1,1,11,22,22,499]
[19843630,80,0,1,7,26,26,379]
[19845414,18,0,1,2,2,2,9]
[19845415,18,0,0,0,2,2,0]
[19845417,21,30,13,25,47,47,54.985399999999998]
[19849171,0,0,0,0,1,1,0]
[19858638,475,0,27,141,515,515,98.857799999999997]
[19859764,86,0,1,3,10,10,34.99]
[19859765,82,0,6,34,85,85,68.888300000000001]
[19859766,186,0,2,11,22,22,69.989999999999995]
[19859767,75,0,3,10,21,21,29.99]
[19859768,31,0,7,47,148,148,64.298599999999993]
[19859769,90,0,1,6,6,6,54.99]
[19859770,64,0,7,25,31,31,49.905700000000003]
[19859771,143,0,9,27,36,36,37.897799999999997]
[19859772,291,0,1,8,9,9,39.99]
[19859773,50,0,19,46,46,46,56.031599999999997]
[19859774,188,0,26,98,98,98,56.372700000000002]
[19860712,367,0,18,78,241,241,84.726100000000002]
[19860713,76,200,8,71,178,178,82.997500000000002]
[19860714,12,0,2,20,52,52,84.99]
[19860715,119,100,24,104,196,196,83.514600000000002]
[19860908,528,100,69,237,711,711,28.603000000000002]
[19860909,312,50,35,142,363,363,96.683999999999997]
[19864632,12,0,0,0,0,0,0]
[19866465,325,0,9,54,116,116,48.24]
[19866620,17,0,1,7,23,23,20.65]
[19866621,26,0,3,4,14,14,23.543299999999999]
[19866622,9,0,1,9,31,31,24.99]
[19878682,-3,0,1,1,3,3,15]
[19878683,-1,0,0,1,1,1,0]
[19878983,47,0,1,1,1,1,179]
[19878984,65,0,3,7,7,7,174]
[19878985,3,0,1,1,1,1,279]
[19878986,67,0,1,3,3,3,279]
[19879391,-4,0,1,4,4,4,44]
[19879483,363,180,5,7,7,7,20]
[19879484,199,0,5,5,5,5,82.396000000000001]
[19879485,180,40,7,8,8,8,114.6357]
[19879486,325,40,0,0,0,0,0]
[19879487,190,92,2,2,2,2,219]
[19879887,0,0,0,0,0,0,0]
[19883738,279,0,6,41,128,128,42.433300000000003]
[19884068,272,0,6,47,117,117,118.2867]
[19884069,170,0,1,23,50,50,124.21]
[19885091,20,0,0,0,0,0,0]
[19885092,0,0,0,0,0,0,0]
[19885094,19,0,1,1,1,1,179]
[19885095,0,0,0,0,0,0,0]
[19894756,59,0,5,12,40,40,34.938000000000002]
[19894757,18,0,5,37,81,81,33.729999999999997]
[19894758,22,0,7,18,55,55,34.655700000000003]
[19898584,5,0,0,0,0,0,0]
[19902915,9,0,0,0,3,3,0]
[19902916,7,0,0,2,5,5,0]
[19902917,12,0,0,0,0,0,0]
[19902918,3,0,0,2,9,9,0]
[19902919,7,0,1,1,1,1,19.989999999999998]
[19902920,4,0,0,0,4,4,0]
[19902921,0,0,1,3,12,12,6.39]
[19902922,3,0,0,1,5,5,0]
[19903777,611,0,29,90,150,150,245.64859999999999]
[19903780,116,30,12,43,55,55,290.36579999999998]
[19903781,54,0,1,1,1,1,299]
[19903884,50,0,0,0,0,0,0]
[19904036,0,110,4,23,38,38,345.25]
[19904056,161,0,12,45,127,127,83.3767]
[19904246,241,40,33,355,355,355,59.130600000000001]
[19904247,460,0,27,116,246,246,78.234800000000007]
[19906075,454,136,5,6,6,6,345.928]
[19906076,347,0,2,2,2,2,399]
[19906077,91,85,1,1,1,1,524.22]
[19906078,150,87,0,0,0,0,0]
[19906079,41,26,0,0,0,0,0]
[19906080,318,40,0,0,0,0,0]
[19906591,222,33,43,110,205,205,984.77419999999995]
[19906592,56,5,14,64,102,102,979.08429999999998]
[19906593,70,4,13,60,102,102,1014.3085]
[19906594,36,20,7,30,62,62,999]
[19906595,144,9,16,53,83,83,1220.4081000000001]
[19906596,64,11,5,16,24,24,1269]
[19906597,61,12,9,25,36,36,1167.3178]
[19906598,77,0,7,14,28,28,1190.6329000000001]
[19906599,51,0,2,19,29,29,1349]
[19906600,35,5,0,1,6,6,0]
[19906601,44,3,4,10,16,16,1449]
[19906602,44,0,5,10,16,16,1379]
[19906603,189,24,15,64,114,114,1174.1986999999999]
[19906604,51,20,5,12,31,31,1209]
[19906605,65,11,9,22,34,34,1164.4844000000001]
[19906606,93,2,2,16,34,34,1149]
[19906607,73,4,9,34,53,53,1396.2221999999999]
[19906608,55,5,-1,11,18,18,1499]
[19906609,33,3,2,4,12,12,1424]
[19906610,37,1,2,6,8,8,1349]
[19906611,27,0,2,7,8,8,1624]
[19906612,26,2,3,16,20,20,1540.6667]
[19906613,29,0,3,7,9,9,1649]
[19906614,32,1,8,21,36,36,1601.54]
[19906615,0,0,0,0,1,1,0]
[19906617,38,6,6,13,18,18,1997.3333]
[19906618,56,10,16,39,57,57,1985.2462]
[19906619,22,8,3,6,10,10,2395.91]
[19906620,18,17,3,7,8,8,2395.7267000000002]
[19906622,0,0,2,2,2,2,2599]
[19906623,25,4,2,8,8,8,1899]
[19906624,50,9,12,26,32,32,1914.8333]
[19906627,0,0,3,4,4,4,4199]
[19906628,0,0,2,2,2,2,4199]
[19906629,36,7,7,15,21,21,2486.9985999999999]
[19906630,32,11,10,25,34,34,2492]
[19906631,17,6,2,6,9,9,2899]
[19906632,26,0,5,17,23,23,2898]
[19906633,6,0,4,18,49,49,596.59500000000003]
[19906634,7,0,-1,6,40,40,599]
[19906635,103,0,4,28,68,68,594]
[19906636,27,0,0,14,49,49,0]
[19906637,2,0,0,16,62,62,0]
[19906638,4,0,0,25,61,61,0]
[19906639,1,0,0,3,50,50,0]
[19906640,16,0,11,49,107,107,694.54449999999997]
[19906647,0,0,0,1,2,2,0]
[19907215,50,87,0,0,0,0,0]
[19907216,0,140,0,0,0,0,0]
[19907217,18,81,0,0,0,0,0]
[19907233,0,40,0,0,0,0,0]
[19907234,0,40,0,0,0,0,0]
[19907894,54,3,3,6,6,6,250.9967]
[19907895,68,0,2,2,2,2,139.495]
[19913019,446,24,40,117,126,126,45.561999999999998]
[19913020,24,0,0,0,0,0,0]
[19913021,279,26,7,29,29,29,370.21]
[19913023,117,0,8,17,18,18,398.46879999999999]
[19913024,168,0,5,16,18,18,168.17599999999999]
[19913027,625,0,19,108,120,120,83.2774]
[19932929,38,0,3,15,72,72,15]
[19938116,33,0,0,1,1,1,0]
[19939549,12,60,0,0,0,0,0]
[19939550,506,0,19,29,29,29,64.718900000000005]
[19939899,114,31,17,48,74,74,529.27880000000005]
[19939900,115,20,18,44,74,74,510.11110000000002]
[19939901,79,20,16,32,42,42,523.96810000000005]
[19939902,24,9,7,22,31,31,519.45140000000004]
[19939903,52,24,14,35,60,60,633.16210000000001]
[19939904,87,30,10,28,54,54,609.62599999999998]
[19939905,42,13,15,27,51,51,617.09529999999995]
[19939906,19,10,5,18,29,29,635.28]
[19939907,35,5,3,4,11,11,865.66669999999999]
[19939908,35,9,2,5,9,9,849]
[19939909,3,0,1,3,3,3,899]
[19939910,2,1,1,2,3,3,799]
[19939931,76,15,10,21,42,42,707.16300000000001]
[19939932,24,8,3,11,16,16,685.36]
[19939933,79,19,15,24,34,34,752.56730000000005]
[19939934,40,21,8,16,32,32,711.01869999999997]
[19939935,41,15,4,16,28,28,774.9]
[19939936,11,1,8,19,24,24,822.38630000000001]
[19939937,58,37,10,30,49,49,828.5]
[19939938,25,1,3,11,22,22,865.66669999999999]
[19939939,10,1,1,3,4,4,999]
[19939940,2,1,0,1,1,1,0]
[19939941,16,0,2,8,15,15,1026.625]
[19939942,3,0,0,0,0,0,0]
[19940505,110,16,1,1,1,1,599]
[19940506,102,6,0,1,1,1,0]
[19940507,71,6,0,0,0,0,0]
[19940508,23,50,0,0,0,0,0]
[19940509,94,0,1,1,1,1,879]
[19940510,77,12,0,0,0,0,0]
[19940511,72,0,0,0,0,0,0]
[19940512,66,10,0,0,0,0,0]
[19940513,30,12,0,0,0,0,0]
[19940514,20,30,0,0,0,0,0]
[19940516,16,21,0,0,0,0,0]
[19940517,15,31,0,0,0,0,0]
[19940518,2,25,0,0,0,0,0]
[19940800,36,15,3,4,4,4,2295.2800000000002]
[19941100,3,18,0,0,0,0,0]
[19941101,5,16,0,0,0,0,0]
[19941102,5,16,0,0,0,0,0]
[19941111,93,0,3,7,7,7,184]
[19941624,288,0,5,23,23,23,64.305999999999997]
[19941633,10,5,1,1,1,1,69.989999999999995]
[19942202,33,1,5,14,16,16,530.524]
[19942203,118,1,22,93,111,111,532.7568]
[19942204,118,0,15,49,57,57,544.49800000000005]
[19942205,34,1,13,34,36,36,541.30769999999995]
[19942206,31,1,3,17,19,19,510.6533]
[19942802,0,0,0,0,10,10,0]
[19952841,1,0,0,0,0,0,0]
[19960414,1,0,0,0,0,0,0]
[19961729,305,0,0,0,0,0,0]
[19978120,1,1,0,1,1,1,0]
[19983153,0,0,0,20,20,20,0]
[19983154,0,0,30,30,30,30,449.1]
[19988602,156,0,3,4,4,4,28.3233]
[19988606,15,81,0,0,0,0,0]
[20007998,262,240,37,76,76,76,516.77760000000001]
[20014451,1,0,0,0,0,0,0]
[20015077,2,2,0,0,0,0,0]
[20018114,25,2,1,2,2,2,1599]
[20018115,0,0,0,0,0,0,0]
[20038341,180,0,0,0,0,0,0]
[20038342,190,320,2,2,2,2,85.394999999999996]
[20038344,99,144,5,5,5,5,26]
[20038811,6,0,0,0,0,0,0]
[20038812,112,184,0,0,0,0,0]
[20038813,110,192,2,2,2,2,89]
[20072918,1,1,1,1,1,1,854.99]
[20072943,0,0,1,1,1,1,899]
[2115744,2,0,0,0,0,-1,0]
[2115745,2,0,0,1,1,0,0]
[2115776,-51,0,0,0,5,4,0]
[2115777,-30,0,-1,0,6,21,899]
[2115778,-15,0,1,3,9,15,2999]
[2115783,-3,0,12,30,71,129,429.83330000000001]
[2115800,-12,0,0,0,1,8,0]
[2115802,-3,0,1,1,1,5,10]
[2115804,-15,0,0,1,5,13,0]
[2115805,-4,0,0,0,-1,-2,0]
[2115807,-16,0,0,1,2,3,0]
[4215736,84,0,0,0,2,3,0]
[439648,3,0,0,0,0,0,0]
[497646,0,0,0,0,1,1,0]
[5116426,0,0,0,0,0,0,0]
[5207257,1,5,2,11,18,29,14.99]
[5281364,0,0,0,0,0,0,0]
[529138,11,15,3,4,19,55,4.99]
[529139,20,0,0,1,9,11,0]
[5307977,0,0,0,0,0,0,0]
[5483183,0,0,0,0,0,0,0]
[5709479,0,0,0,0,0,0,0]
[5816940,236,60,7,50,191,406,23.275700000000001]
[5898886,84,0,9,14,53,103,7.5067000000000004]
[5943294,850,138,94,342,1160,2527,16.311800000000002]
[6029409,0,0,0,0,0,0,0]
[6086947,11,0,4,8,20,47,23.727499999999999]
[6086949,4,0,1,10,22,59,19.989999999999998]
[6102918,0,0,0,0,0,0,0]
[6164561,0,0,0,0,0,0,0]
[6184152,0,0,0,0,0,0,0]
[6184804,0,0,0,0,0,0,0]
[6297631,7,0,0,0,0,1,0]
[6300078,0,0,0,0,0,0,0]
[6354196,0,0,0,0,0,0,0]
[6379229,11,0,0,0,1,4,0]
[6500298,0,0,0,0,0,0,0]
[6527621,0,0,0,0,0,0,0]
[6540968,0,0,0,0,0,0,0]
[6546944,0,0,0,0,0,0,0]
[6551995,0,0,0,0,0,0,0]
[6588232,31,0,0,0,1,3,0]
[6588275,17,0,0,1,1,5,0]
[6588298,14,0,0,1,2,6,0]
[6590196,0,0,0,0,0,0,0]
[660199,12,10,0,5,27,47,0]
[660200,4,10,3,14,40,73,12.99]
[6691481,0,0,0,0,0,0,0]
[6691510,0,0,0,0,0,0,0]
[6714906,0,0,0,0,0,0,0]
[6714986,0,0,0,0,0,0,0]
[6737863,0,0,0,0,0,0,0]
[6777856,0,0,0,0,0,0,0]
[6794491,0,0,0,0,0,0,0]
[6828430,0,0,0,0,0,0,0]
[6832207,0,0,0,0,0,0,0]
[6832964,-1,0,0,0,0,0,0]
[6833105,0,0,0,0,0,0,0]
[6841548,0,0,0,0,0,0,0]
[6842342,0,0,0,0,0,0,0]
[6910308,0,0,0,0,0,0,0]
[6924413,0,0,0,0,0,0,0]
[6928248,0,0,0,0,0,0,0]
[6929528,0,0,0,0,0,0,0]
[6929552,0,0,0,0,0,0,0]
[7004345,1,0,0,0,0,0,0]
[7016706,689,0,123,412,1457,3014,4.9713000000000003]
[7019977,0,0,0,0,0,0,0]
[7077587,0,0,0,0,0,0,0]
[7101561,0,0,0,0,0,0,0]
[7102102,0,0,0,0,0,0,0]
[7105054,6,0,0,0,5,79,0]
[7124899,-8,0,0,1,4,7,0]
[7125649,0,0,0,0,0,0,0]
[7152351,0,0,0,0,0,0,0]
[7171089,0,0,0,0,0,0,0]
[7220888,42,25,2,10,54,121,5.7050000000000001]
[7226652,0,0,0,0,0,0,0]
[7226704,55,0,3,3,16,29,5.97]
[7228649,1,0,0,0,-1,-1,0]
[7253291,0,0,0,0,0,0,0]
[7278053,0,0,0,0,0,0,0]
[7284479,17,0,0,2,5,11,0]
[7284484,15,0,0,1,3,8,0]
[7311434,16,0,0,0,0,0,0]
[7324938,0,0,0,0,0,0,0]
[7361117,0,0,0,0,0,0,0]
[7363161,0,0,0,0,0,0,0]
[7376198,0,0,0,0,0,0,0]
[7383668,109,0,2,14,45,189,9.99]
[7383669,8,0,0,0,2,11,0]
[7387047,17,0,1,1,4,6,390.95]
[7388345,205,48,22,74,255,535,33.905500000000004]
[7399832,0,0,0,0,0,0,0]
[7417109,0,0,0,0,0,0,0]
[7417154,0,0,0,0,0,0,0]
[7457400,0,0,0,0,0,0,0]
[7478556,0,0,0,0,0,0,0]
[7496729,0,0,0,0,0,0,0]
[7505907,12,15,1,8,21,42,21.85]
[7505915,10,10,0,5,26,49,0]
[7571802,0,0,0,0,0,0,0]
[7615738,0,0,0,0,0,0,0]
[7623075,0,0,0,0,0,0,0]
[7627753,0,0,0,0,0,0,0]
[7637356,9,0,0,0,1,4,0]
[7640406,18,0,1,1,4,7,949.97]
[7693345,0,0,0,0,0,0,0]
[7693415,0,0,0,0,0,0,0]
[7699549,0,0,0,0,0,0,0]
[7708680,152,4,4,5,24,51,54.99]
[7725824,1,0,0,0,0,0,0]
[7754676,12,0,2,3,6,10,5.49]
[7784748,0,0,0,0,0,0,0]
[7825725,0,0,0,0,0,0,0]
[7826115,636,40,40,131,513,1062,14.9407]
[7831920,0,0,0,0,0,0,0]
[7831985,0,0,0,0,0,0,0]
[7867103,0,0,0,0,0,0,0]
[7869382,-10,0,0,0,0,0,0]
[7894793,0,0,0,0,0,0,0]
[7902698,0,0,0,0,0,0,0]
[7903546,0,0,0,0,0,0,0]
[7915422,0,0,0,0,0,0,0]
[7934817,0,0,0,0,0,0,0]
[7940507,0,0,0,0,0,0,0]
[7973391,4,0,0,0,0,0,0]
[7982182,0,0,0,0,0,0,0]
[7993071,0,0,0,0,0,0,0]
[8031088,0,0,0,0,0,0,0]
[8050765,115,98,4,19,66,116,47.395000000000003]
[8065690,0,0,0,0,0,0,0]
[8067972,0,0,0,0,0,0,0]
[8072231,0,0,0,0,0,0,0]
[8072596,0,0,0,0,0,0,0]
[8073017,0,0,0,0,0,0,0]
[8073132,0,0,0,0,0,0,0]
[8073294,0,0,0,0,0,0,0]
[8075079,0,0,0,0,0,0,0]
[8095753,0,0,0,0,0,0,0]
[8097406,0,0,0,0,0,0,0]
[8097424,0,0,0,0,0,0,0]
[8098064,0,0,0,0,0,0,0]
[8098177,0,0,0,0,0,0,0]
[8102382,0,0,0,0,0,0,0]
[8105377,0,0,0,0,0,0,0]
[8115794,0,0,0,0,0,0,0]
[8116126,0,0,0,0,0,0,0]
[8119528,0,0,0,0,0,0,0]
[8124406,0,0,0,0,0,0,0]
[8160841,0,0,0,0,0,0,0]
[8161035,0,0,0,0,0,0,0]
[8172179,0,0,0,0,0,0,0]
[8184675,0,0,0,0,0,0,0]
[8194822,0,0,0,0,0,0,0]
[8211074,0,0,0,0,0,0,0]
[8233908,12,0,0,0,0,3,0]
[8251567,0,0,0,0,0,0,0]
[8262717,1,2,0,0,0,0,0]
[8269587,0,0,0,0,0,0,0]
[8269617,0,0,0,0,0,0,0]
[8269662,0,0,0,0,0,0,0]
[8277815,0,0,0,0,0,0,0]
[8279693,-2,0,0,0,0,3,0]
[8295126,0,0,0,0,0,0,0]
[8295526,0,0,0,0,0,0,0]
[8296454,0,0,0,0,0,0,0]
[8299560,0,0,0,0,0,0,0]
[8316145,0,0,0,0,0,0,0]
[8316330,0,0,0,0,0,0,0]
[8316748,0,0,0,0,0,0,0]
[8322433,0,0,0,0,0,0,0]
[8332799,0,0,0,0,0,0,0]
[8337726,0,0,0,0,0,0,0]
[8337761,0,0,0,0,0,0,0]
[8337769,0,0,0,0,0,0,0]
[8344337,0,0,0,0,0,0,0]
[8352617,0,0,0,0,0,0,0]
[8353271,0,0,0,0,0,0,0]
[8374633,0,0,0,0,0,0,0]
[8376757,0,0,0,0,0,0,0]
[8377827,0,0,0,0,0,0,0]
[8386316,0,0,0,0,0,0,0]
[8394670,58,24,1,7,26,59,29.99]
[8401651,9,0,0,0,0,0,0]
[8401727,0,0,0,0,0,0,0]
[8401814,2394,230,107,491,1628,3167,18.046199999999999]
[8413417,0,0,0,0,0,0,0]
[8422184,0,0,0,0,0,0,0]
[8426683,0,0,0,0,0,0,0]
[8427327,0,0,0,0,0,0,0]
[8454544,0,0,0,0,0,0,0]
[8454886,0,0,0,0,0,0,0]
[8454927,0,0,0,0,0,0,0]
[8455665,0,0,0,0,0,0,0]
[8455669,1195,0,14,64,155,389,48.180700000000002]
[8455678,0,0,0,0,0,0,0]
[8466057,21,0,1,4,11,24,14.99]
[8473651,18,0,0,0,1,3,0]
[8473682,15,0,0,0,5,6,0]
[8507639,0,0,0,0,0,0,0]
[8548145,0,0,0,0,0,0,0]
[8557116,0,0,0,0,0,0,0]
[856029,0,0,0,0,0,0,0]
[8588513,0,0,0,0,0,0,0]
[8596811,0,0,0,0,0,0,0]
[8599343,0,0,0,0,0,0,0]
[8602834,0,0,0,0,0,0,0]
[8621583,1,0,0,0,0,0,0]
[8625115,0,0,0,0,0,0,0]
[8626090,0,0,0,0,0,0,0]
[8627185,0,0,0,0,0,0,0]
[8637923,0,0,0,0,0,0,0]
[8649616,0,0,0,0,0,0,0]
[8651722,0,0,0,0,0,0,0]
[8658508,0,0,0,0,0,0,0]
[8659531,19,20,7,22,70,119,5.9470999999999998]
[8669029,0,0,0,0,0,0,0]
[8671107,0,0,0,0,0,0,0]
[8674146,0,0,0,0,0,0,0]
[8674334,0,0,0,0,0,0,0]
[8674684,0,0,0,0,0,0,0]
[8676044,0,0,0,0,0,0,0]
[8676048,0,0,0,0,0,0,0]
[8680969,0,0,0,0,0,0,0]
[8683417,0,0,0,0,0,0,0]
[8695017,0,0,0,0,0,0,0]
[8703189,0,0,0,0,0,0,0]
[8706072,0,0,0,0,0,0,0]
[8733940,0,0,0,0,0,0,0]
[8734256,0,0,0,0,0,0,0]
[8736319,0,0,0,0,0,0,0]
[8743160,0,0,0,0,0,0,0]
[8752045,0,0,0,0,0,0,0]
[8772922,0,0,0,0,0,0,0]
[8772932,0,0,0,0,0,0,0]
[8775826,0,0,0,0,0,0,0]
[8776095,0,0,0,0,0,0,0]
[8795063,0,0,0,0,0,0,0]
[8798021,0,0,0,0,0,0,0]
[8826777,0,0,0,0,0,0,0]
[8826791,0,0,0,0,0,0,0]
[8843899,0,0,0,0,0,0,0]
[8847892,0,0,0,0,0,0,0]
[8868634,22,0,2,8,35,108,15.574999999999999]
[8868664,0,0,0,0,0,0,0]
[8871062,0,0,0,0,0,0,0]
[8871063,0,0,0,0,0,0,0]
[8880835,0,0,0,0,0,0,0]
[8890110,0,0,0,0,0,0,0]
[8897512,0,0,0,0,0,0,0]
[8897513,0,0,0,0,0,0,0]
[8897515,0,0,0,0,0,0,0]
[8897518,0,0,0,0,0,0,0]
[8897522,0,0,0,0,0,0,0]
[8901659,0,0,0,0,0,0,0]
[8902085,0,0,0,0,0,0,0]
[8907973,0,0,0,0,1,11,0]
[8908055,134,6,4,13,61,162,25.572500000000002]
[8909897,31,12,2,8,28,65,39.450000000000003]
[8910739,1,0,0,0,0,0,0]
[8911425,43,0,1,4,16,45,29]
[8964198,0,0,0,0,0,0,0]
[8965806,0,0,0,0,0,0,0]
[8965905,0,0,0,0,0,0,0]
[8968128,11,10,1,10,26,44,5.03]
[8969783,0,0,0,0,0,0,0]
[8977102,0,0,0,0,0,0,0]
[8978088,0,0,0,0,0,0,0]
[8995256,0,0,0,0,0,0,0]
[9023737,0,0,0,0,0,0,0]
[9039175,0,0,0,0,0,0,0]
[9053910,0,0,0,0,0,0,0]
[9060273,0,0,0,0,0,0,0]
[9067064,6,0,0,1,0,3,0]
[906895,1,0,0,0,1,1,0]
[907053,19,0,0,0,3,12,0]
[9093960,0,0,0,0,0,0,0]
[9094114,0,0,0,0,0,0,0]
[9095880,0,0,0,0,0,0,0]
[9101012,0,0,0,0,0,0,0]
[9119434,0,0,0,0,0,0,0]
[9127618,0,0,0,0,0,0,0]
[9128067,0,0,0,0,0,0,0]
[9129464,0,0,0,0,0,0,0]
[9129469,0,0,0,0,0,0,0]
[9136724,0,0,0,0,0,0,0]
[9151702,0,0,0,0,0,0,0]
[9151726,0,0,0,0,0,0,0]
[9155850,0,0,0,0,0,0,0]
[9157246,0,0,0,0,0,0,0]
[9160014,0,0,0,0,0,0,0]
[9181897,0,0,0,0,0,0,0]
[9183201,46,25,2,16,36,89,24.99]
[9189735,0,0,0,0,0,0,0]
[9189737,0,0,0,0,0,0,0]
[9194261,0,0,0,0,0,0,0]
[9203491,0,0,0,0,0,0,0]
[9206239,0,0,0,0,0,0,0]
[9207466,0,0,0,0,0,0,0]
[9214519,5,0,0,2,2,5,0]
[9243929,0,0,0,0,0,0,0]
[9246362,0,0,0,0,0,0,0]
[9263534,0,0,0,0,0,0,0]
[9271871,0,0,0,0,0,0,0]
[9274218,0,0,0,0,0,0,0]
[9274220,0,0,0,0,0,0,0]
[9274221,0,0,0,0,0,0,0]
[9274223,0,0,0,0,0,0,0]
[9274224,0,0,0,0,0,0,0]
[9274228,0,0,0,0,0,0,0]
[9274229,0,0,0,0,0,0,0]
[9274231,0,0,0,0,0,0,0]
[9274234,0,0,0,0,0,0,0]
[9274237,0,0,0,0,0,0,0]
[9274238,0,0,0,0,0,0,0]
[9274239,0,0,0,0,0,0,0]
[9274242,0,0,0,0,0,0,0]
[9274243,0,0,0,0,0,0,0]
[9274249,0,0,0,0,0,0,0]
[9274251,0,0,0,0,0,0,0]
[9274254,0,0,0,0,0,0,0]
[9274256,0,0,0,0,0,0,0]
[9274260,0,0,0,0,0,0,0]
[9274261,0,0,0,0,0,0,0]
[9274262,0,0,0,0,0,0,0]
[9274266,0,0,0,0,0,0,0]
[9275364,0,0,0,0,0,0,0]
[9275395,0,0,0,0,0,0,0]
[9282870,0,0,0,0,0,0,0]
[9282926,0,0,0,0,0,0,0]
[9284484,0,0,0,0,0,0,0]
[9284532,0,0,0,0,0,0,0]
[9302473,0,0,0,0,0,0,0]
[9310340,50,0,0,3,10,25,0]
[9314532,0,0,0,0,0,0,0]
[9325567,0,0,0,0,0,0,0]
[9325568,0,0,0,0,0,0,0]
[9325569,0,0,0,0,0,0,0]
[9325573,0,0,0,0,0,0,0]
[9325576,0,0,0,0,0,0,0]
[9325578,0,0,0,0,0,0,0]
[9325593,0,0,0,0,0,0,0]
[9325594,0,0,0,0,0,0,0]
[9325596,0,0,0,0,0,0,0]
[9325597,0,0,0,0,0,0,0]
[9325599,0,0,0,0,0,0,0]
[9325603,0,0,0,0,0,0,0]
[9325606,0,0,0,0,0,0,0]
[9325607,0,0,0,0,0,0,0]
[9325614,0,0,0,0,0,0,0]
[9325617,0,0,0,0,0,0,0]
[9325618,0,0,0,0,0,0,0]
[9325621,0,0,0,0,0,0,0]
[9325627,0,0,0,0,0,0,0]
[9325629,0,0,0,0,0,0,0]
[9325632,0,0,0,0,0,0,0]
[9325634,0,0,0,0,0,0,0]
[9325636,0,0,0,0,0,0,0]
[9325638,0,0,0,0,0,0,0]
[9325646,0,0,0,0,0,0,0]
[9325648,0,0,0,0,0,0,0]
[9325650,0,0,0,0,0,0,0]
[9325652,0,0,0,0,0,0,0]
[9325653,0,0,0,0,0,0,0]
[9325662,0,0,0,0,0,0,0]
[9325665,0,0,0,0,0,0,0]
[9325666,0,0,0,0,0,0,0]
[9325668,0,0,0,0,0,0,0]
[9325672,0,0,0,0,0,0,0]
[9325673,0,0,0,0,0,0,0]
[9325676,0,0,0,0,0,0,0]
[9325678,0,0,0,0,0,0,0]
[9325679,0,0,0,0,0,0,0]
[9325681,0,0,0,0,0,0,0]
[9325682,0,0,0,0,0,0,0]
[9325684,0,0,0,0,0,0,0]
[9325685,0,0,0,0,0,0,0]
[9325693,0,0,0,0,0,0,0]
[9325694,0,0,0,0,0,0,0]
[9336672,0,0,0,0,0,0,0]
[9340499,0,0,0,0,0,0,0]
[9351402,0,0,0,0,0,0,0]
[9355801,0,0,0,0,0,0,0]
[9369031,0,0,0,0,0,0,0]
[9374981,0,0,0,0,0,0,0]
[9375322,0,0,0,0,0,0,0]
[9375412,0,0,0,0,0,0,0]
[9386872,0,0,0,0,0,0,0]
[9393098,0,0,0,0,0,0,0]
[9393273,0,0,0,0,0,0,0]
[9393347,0,0,0,0,0,0,0]
[9393513,0,0,0,0,0,0,0]
[9395286,0,0,0,0,0,0,0]
[9411799,0,0,0,0,0,0,0]
[9415789,0,0,0,0,0,0,0]
[9424027,0,0,0,0,0,0,0]
[9426159,0,0,0,0,0,0,0]
[9427169,0,0,0,0,0,0,0]
[9427295,0,0,0,0,0,0,0]
[9437776,0,0,0,0,0,0,0]
[9442119,0,0,0,0,0,0,0]
[9452135,0,0,0,0,0,0,0]
[9454813,22,0,0,0,1,8,0]
[9464127,0,0,0,0,0,0,0]
[9472177,0,0,0,0,0,0,0]
[9473574,0,0,0,0,0,0,0]
[9475645,282,42,29,107,466,944,29.287199999999999]
[9475647,242,21,22,70,263,556,33.474499999999999]
[9494898,0,0,0,0,0,0,0]
[9497392,0,0,0,0,0,0,0]
[9499846,0,0,0,0,0,0,0]
[9509786,0,0,0,0,0,0,0]
[9510984,0,0,0,0,0,0,0]
[9516715,114,5,4,9,54,96,13.99]
[9516717,145,10,8,26,115,148,9.99]
[9526375,0,0,0,0,0,0,0]
[9530258,0,0,0,0,0,0,0]
[9542078,504,36,7,28,120,232,46.067100000000003]
[9542090,415,56,14,76,281,591,17.822900000000001]
[959528,25,0,0,0,1,2,0]
[9670673,0,0,0,0,0,0,0]
[9670729,0,0,0,0,0,0,0]
[9671020,0,0,0,0,0,0,0]
[9681301,0,0,0,0,0,0,0]
[9683054,0,0,0,0,0,0,0]
[9683787,1004,324,59,219,749,1425,9.4563000000000006]
[9684589,0,0,0,0,0,0,0]
[9684601,0,0,0,0,0,0,0]
[9686559,0,0,0,0,0,0,0]
[9687466,446,16,7,43,135,320,17.989999999999998]
[9687866,586,70,71,312,1091,3239,21.530799999999999]
[9702769,0,0,0,0,0,0,0]
[9714749,0,0,0,0,0,0,0]
[9716698,3,0,0,0,2,7,0]
[9723627,0,0,0,0,0,0,0]
[9724855,0,0,0,0,0,0,0]
[9726642,0,0,0,0,0,0,0]
[9734909,0,0,0,0,0,0,0]
[9737970,0,0,0,0,0,0,0]
[9758850,0,0,0,0,0,0,0]
[9760304,0,0,0,0,0,0,0]
[9762305,0,0,0,0,0,0,0]
[9768882,0,0,0,0,0,0,0]
[9784573,0,0,0,0,0,0,0]
[9788547,0,0,0,0,0,0,0]
[9788575,0,0,0,0,0,0,0]
[9806009,0,0,0,0,0,0,0]
[9806818,0,0,0,0,0,0,0]
[9822974,-1,0,0,0,1,2,0]
[9828476,45,6,0,4,8,15,0]
[9846605,711,30,33,130,461,948,18.5779]
[9848861,0,0,0,0,0,0,0]
[9860043,0,0,0,0,0,1,0]
[9864928,1,0,0,2,7,16,0]
[9864929,4,0,0,0,9,17,0]
[9879848,0,0,0,0,0,0,0]
[9882005,0,0,0,0,0,0,0]
[9910457,0,0,0,0,0,0,0]
[9923850,0,0,0,0,0,0,0]
[9923876,0,0,0,0,0,0,0]
[9923976,0,0,0,0,0,0,0]
[9924154,0,0,0,0,0,0,0]
[9924165,0,0,0,0,0,0,0]
[9924199,0,0,0,0,0,0,0]
[9929728,0,0,0,0,0,0,0]
[9939428,0,0,0,0,0,0,0]
[9944346,0,0,0,0,0,0,0]
[9963403,0,0,0,0,0,0,0]
[9978631,0,0,0,0,0,0,0]
[9997116,0,0,0,0,0,0,0]
[9999953,0,0,0,0,0,0,0]

{"sheet":"Location Lists","index":8,"n_rows":1,"n_cols":3,"rows_kept":1,"cut":false,"hidden":false,"merged":[]}
["Location List","Description","Total Locations"]

{"sheet":"BrandList","index":9,"n_rows":1,"n_cols":2,"rows_kept":1,"cut":false,"hidden":false,"merged":[]}
["Brand","Category"]